{"text_format":"1","workbook":"xlsx","n_sheets":5,"sheets":["Infoblad","Logblad","Eigen QTH LOc","Controls","Punten"],"not_rendered":{"charts":0,"images":2,"macros":1,"external_links":0,"defined_names":0,"comments":0,"pivot_tables":0},"unopened":[],"bounds":{"document_bytes":16777216,"sheet_cells":100000,"rows_first":2000,"rows_last":500,"rows_between":2000,"halvings":0,"cell_chars":16384,"cell_head_chars":4096},"cells_cut":0,"cells_raw":0,"read":"whole","date_system":"1900"}

{"sheet":"Infoblad","index":0,"n_rows":90,"n_cols":10,"rows_kept":90,"cut":false,"hidden":false,"merged":[[84,0,88,10],[76,6,76,9],[73,7,73,8],[71,7,71,8],[26,5,26,6],[42,2,42,6],[70,4,70,5],[61,1,61,8],[67,7,67,8],[69,7,69,8],[26,7,26,8],[63,4,63,6],[65,4,65,6],[55,2,55,6],[53,7,53,10],[55,7,55,10],[1,1,1,9],[83,0,83,10],[7,2,7,7],[17,7,17,8],[19,2,19,8],[51,8,51,9],[42,7,42,10],[40,7,40,10],[63,7,63,8],[65,7,65,8],[38,2,38,6],[36,2,36,6],[34,1,34,9],[47,1,47,9],[49,2,49,6],[38,8,38,9],[51,2,51,6],[3,2,3,3],[5,2,5,3],[26,2,26,3],[13,3,13,8],[17,5,17,6],[20,2,20,8],[23,2,23,4],[23,6,23,8],[21,3,21,8],[9,2,9,7],[15,2,15,6],[11,2,11,8],[17,2,17,3]]}
[]
[null,"VRA ACTIVITY DAY 2023"]
[]
[null,"CALL",null,null," gebruikt tijdens de Activity Day"]
[]
[null,"LOCATOR",null,null," van de Activity Day locatie"]
[]
[null,"Naam"]
[]
[null,"Voornaam"]
[]
[null,"Adres"]
[]
[null,"Woonplaats"]
[]
[null,"E-mail"]
[]
[null,"Afdeling/Sectie",null,null,null,"Vereniging"]
[]
[null,"Field Locatie"]
[]
[]
[]
[null,"Coördinaten",null,null,null," NB",null,null,null," OL"]
[null,null,"breedtegraad in graden(°), min ('), sec (\")",null,null,null,"lengtegraad in graden(°), min ('), sec (\")"]
[]
[null,"Datum","2023-10-21",null,null,"Categorie"]
[null,null,null,null,null,"Categorie A = HAREC vergunninghouders"]
[null,"UTC= -uu:mm:ss","02:00:00",null,null,"Categorie B = NOVICE vergunninghouders"]
[null,null,null,null,null,"Categorie C = BASIS vergunninghouders"]
[null,null,null,null,null,"Categorie D = LUISTERAMATEURS"]
[]
[]
[]
[null,"werkcondities voor 2 m"]
[]
[null,"TRX",null,null,null,null,null,"Output",null,"W"]
[]
[null,"Antenne",null,null,null,null,null,"H/V"]
[]
[null,"Hoogte",null,"m ASL",null,null,null,"H=horizontale polarisatie"]
[]
[null,"PA",null,null,null,null,null,"V=vertikale polarisatie"]
[]
[null,"ERP",null,"W"]
[]
[]
[null,"werkcondities voor 70 cm"]
[]
[null,"TRX ",null,null,null,null,null,"Output",null,"W"]
[]
[null,"Antenne",null,null,null,null,null,"H/V"]
[]
[null,"Hoogte",null,"m ASL",null,null,null,"H=horizontale polarisatie"]
[]
[null,"PA",null,null,null,null,null,"V=vertikale polarisatie"]
[]
[null,"ERP",null,"W"]
[]
[]
[]
[null,"RESULTAAT VAN DE CONTEST"]
[]
[null,"#  QSO's 2 m",{"$f":"Logblad!B514","v":0},null,"# km 2 m",null,null,{"$f":"Logblad!O514","v":0}]
[]
[null,"# QSO's 70 cm",{"$f":"Logblad!B515","v":0},null,"# km 70 cm",null,null,{"$f":"Logblad!O515","v":0}]
[]
[null,"# Aantal QSO's",{"$f":"Logblad!B516","v":0},null,"# Aantal kilometers",null,null,{"$f":"IF(Logblad!O516>0,Logblad!O516,0)","v":0},null,"km"]
[]
[null,"- dubbele qso's",{"$f":"Logblad!B517","v":0},null,"- dubbele kilometers",null,null,{"$f":"IF(Logblad!O517>0,Logblad!O517,0)","v":0},null,"km"]
[]
[null,"=Netto # QSO's",{"$f":"C68-C70","v":0},null,"= Netto kilometers",null,null,{"$f":"H68-H70","v":0},null,"km"]
[]
[null,"Verste QSO",{"$f":"Logblad!O520","v":0},"km","x Netto vermenigvuld.",null,null,{"$f":"Logblad!M516-Logblad!M517","v":0},null,"pt"]
[]
[null,"Kortste QSO",{"$f":"Logblad!O521","v":0},"km"]
[null,null,null,null,"= EINDSCORE",null,{"$f":"H72*H74","v":0}]
[]
[]
["Ik verklaar te hebben deelgenomen aan de VRA ACTIVITY DAY met respect voor"]
["de wetten en reglementeringen van het radioamateurisme in het land en met"]
["inachtneming van de reglementering van deze contest die wij aanvaarden."]
[]
["Handtekening"]
[]
[]
[]
[]
[]
["© ON7GZ, VRA vzw, 2019"]

{"sheet":"Logblad","index":1,"n_rows":521,"n_cols":38,"rows_kept":521,"cut":false,"hidden":false,"merged":[[2,2,2,3],[4,2,4,3],[6,2,6,3],[0,1,0,14],[9,4,9,5],[2,4,2,5],[4,4,4,5],[6,4,6,5],[2,6,2,11],[6,6,6,7],[6,11,6,12],[9,11,9,12],[4,6,4,11],[9,7,9,9],[11,15,11,16],[477,15,477,16],[478,15,478,16],[479,15,479,16],[480,15,480,16],[27,15,27,16],[28,15,28,16],[29,15,29,16],[30,15,30,16],[31,15,31,16],[32,15,32,16],[33,15,33,16],[34,15,34,16],[35,15,35,16],[36,15,36,16],[37,15,37,16],[43,15,43,16],[44,15,44,16],[45,15,45,16],[46,15,46,16],[47,15,47,16],[38,15,38,16],[39,15,39,16],[40,15,40,16],[486,15,486,16],[487,15,487,16],[488,15,488,16],[489,15,489,16],[490,15,490,16],[481,15,481,16],[482,15,482,16],[483,15,483,16],[484,15,484,16],[485,15,485,16],[504,15,504,16],[505,15,505,16],[496,15,496,16],[497,15,497,16],[498,15,498,16],[499,15,499,16],[500,15,500,16],[491,15,491,16],[492,15,492,16],[493,15,493,16],[494,15,494,16],[495,15,495,16],[511,15,511,16],[12,15,12,16],[13,15,13,16],[14,15,14,16],[15,15,15,16],[16,15,16,16],[17,15,17,16],[18,15,18,16],[19,15,19,16],[20,15,20,16],[21,15,21,16],[22,15,22,16],[23,15,23,16],[24,15,24,16],[25,15,25,16],[26,15,26,16],[506,15,506,16],[507,15,507,16],[508,15,508,16],[509,15,509,16],[510,15,510,16],[501,15,501,16],[502,15,502,16],[503,15,503,16],[41,15,41,16],[42,15,42,16],[53,15,53,16],[54,15,54,16],[55,15,55,16],[56,15,56,16],[57,15,57,16],[48,15,48,16],[49,15,49,16],[50,15,50,16],[51,15,51,16],[52,15,52,16],[63,15,63,16],[64,15,64,16],[65,15,65,16],[66,15,66,16],[67,15,67,16],[58,15,58,16],[59,15,59,16],[60,15,60,16],[61,15,61,16],[62,15,62,16],[73,15,73,16],[74,15,74,16],[75,15,75,16],[76,15,76,16],[77,15,77,16],[68,15,68,16],[69,15,69,16],[70,15,70,16],[71,15,71,16],[72,15,72,16],[83,15,83,16],[84,15,84,16],[85,15,85,16],[86,15,86,16],[87,15,87,16],[78,15,78,16],[79,15,79,16],[80,15,80,16],[81,15,81,16],[82,15,82,16],[93,15,93,16],[94,15,94,16],[95,15,95,16],[96,15,96,16],[97,15,97,16],[88,15,88,16],[89,15,89,16],[90,15,90,16],[91,15,91,16],[92,15,92,16],[103,15,103,16],[104,15,104,16],[105,15,105,16],[106,15,106,16],[107,15,107,16],[98,15,98,16],[99,15,99,16],[100,15,100,16],[101,15,101,16],[102,15,102,16],[113,15,113,16],[114,15,114,16],[115,15,115,16],[116,15,116,16],[117,15,117,16],[108,15,108,16],[109,15,109,16],[110,15,110,16],[111,15,111,16],[112,15,112,16],[123,15,123,16],[124,15,124,16],[125,15,125,16],[126,15,126,16],[127,15,127,16],[118,15,118,16],[119,15,119,16],[120,15,120,16],[121,15,121,16],[122,15,122,16],[133,15,133,16],[134,15,134,16],[135,15,135,16],[136,15,136,16],[137,15,137,16],[128,15,128,16],[129,15,129,16],[130,15,130,16],[131,15,131,16],[132,15,132,16],[143,15,143,16],[144,15,144,16],[145,15,145,16],[146,15,146,16],[147,15,147,16],[138,15,138,16],[139,15,139,16],[140,15,140,16],[141,15,141,16],[142,15,142,16],[153,15,153,16],[154,15,154,16],[155,15,155,16],[156,15,156,16],[157,15,157,16],[148,15,148,16],[149,15,149,16],[150,15,150,16],[151,15,151,16],[152,15,152,16],[163,15,163,16],[164,15,164,16],[165,15,165,16],[166,15,166,16],[167,15,167,16],[158,15,158,16],[159,15,159,16],[160,15,160,16],[161,15,161,16],[162,15,162,16],[173,15,173,16],[174,15,174,16],[175,15,175,16],[176,15,176,16],[177,15,177,16],[168,15,168,16],[169,15,169,16],[170,15,170,16],[171,15,171,16],[172,15,172,16],[183,15,183,16],[184,15,184,16],[185,15,185,16],[186,15,186,16],[187,15,187,16],[178,15,178,16],[179,15,179,16],[180,15,180,16],[181,15,181,16],[182,15,182,16],[193,15,193,16],[194,15,194,16],[195,15,195,16],[196,15,196,16],[197,15,197,16],[188,15,188,16],[189,15,189,16],[190,15,190,16],[191,15,191,16],[192,15,192,16],[203,15,203,16],[204,15,204,16],[205,15,205,16],[206,15,206,16],[207,15,207,16],[198,15,198,16],[199,15,199,16],[200,15,200,16],[201,15,201,16],[202,15,202,16],[213,15,213,16],[214,15,214,16],[215,15,215,16],[216,15,216,16],[217,15,217,16],[208,15,208,16],[209,15,209,16],[210,15,210,16],[211,15,211,16],[212,15,212,16],[223,15,223,16],[224,15,224,16],[225,15,225,16],[226,15,226,16],[227,15,227,16],[218,15,218,16],[219,15,219,16],[220,15,220,16],[221,15,221,16],[222,15,222,16],[233,15,233,16],[234,15,234,16],[235,15,235,16],[236,15,236,16],[237,15,237,16],[228,15,228,16],[229,15,229,16],[230,15,230,16],[231,15,231,16],[232,15,232,16],[243,15,243,16],[244,15,244,16],[245,15,245,16],[246,15,246,16],[247,15,247,16],[238,15,238,16],[239,15,239,16],[240,15,240,16],[241,15,241,16],[242,15,242,16],[253,15,253,16],[254,15,254,16],[255,15,255,16],[256,15,256,16],[257,15,257,16],[248,15,248,16],[249,15,249,16],[250,15,250,16],[251,15,251,16],[252,15,252,16],[263,15,263,16],[264,15,264,16],[265,15,265,16],[266,15,266,16],[267,15,267,16],[258,15,258,16],[259,15,259,16],[260,15,260,16],[261,15,261,16],[262,15,262,16],[273,15,273,16],[274,15,274,16],[275,15,275,16],[276,15,276,16],[277,15,277,16],[268,15,268,16],[269,15,269,16],[270,15,270,16],[271,15,271,16],[272,15,272,16],[283,15,283,16],[284,15,284,16],[285,15,285,16],[286,15,286,16],[287,15,287,16],[278,15,278,16],[279,15,279,16],[280,15,280,16],[281,15,281,16],[282,15,282,16],[293,15,293,16],[294,15,294,16],[295,15,295,16],[296,15,296,16],[297,15,297,16],[288,15,288,16],[289,15,289,16],[290,15,290,16],[291,15,291,16],[292,15,292,16],[303,15,303,16],[304,15,304,16],[305,15,305,16],[306,15,306,16],[307,15,307,16],[298,15,298,16],[299,15,299,16],[300,15,300,16],[301,15,301,16],[302,15,302,16],[313,15,313,16],[314,15,314,16],[315,15,315,16],[316,15,316,16],[317,15,317,16],[308,15,308,16],[309,15,309,16],[310,15,310,16],[311,15,311,16],[312,15,312,16],[323,15,323,16],[324,15,324,16],[325,15,325,16],[326,15,326,16],[327,15,327,16],[318,15,318,16],[319,15,319,16],[320,15,320,16],[321,15,321,16],[322,15,322,16],[333,15,333,16],[334,15,334,16],[335,15,335,16],[336,15,336,16],[337,15,337,16],[328,15,328,16],[329,15,329,16],[330,15,330,16],[331,15,331,16],[332,15,332,16],[343,15,343,16],[344,15,344,16],[345,15,345,16],[346,15,346,16],[347,15,347,16],[338,15,338,16],[339,15,339,16],[340,15,340,16],[341,15,341,16],[342,15,342,16],[353,15,353,16],[354,15,354,16],[355,15,355,16],[356,15,356,16],[357,15,357,16],[348,15,348,16],[349,15,349,16],[350,15,350,16],[351,15,351,16],[352,15,352,16],[363,15,363,16],[364,15,364,16],[365,15,365,16],[366,15,366,16],[367,15,367,16],[358,15,358,16],[359,15,359,16],[360,15,360,16],[361,15,361,16],[362,15,362,16],[373,15,373,16],[374,15,374,16],[375,15,375,16],[376,15,376,16],[377,15,377,16],[368,15,368,16],[369,15,369,16],[370,15,370,16],[371,15,371,16],[372,15,372,16],[383,15,383,16],[384,15,384,16],[385,15,385,16],[386,15,386,16],[387,15,387,16],[378,15,378,16],[379,15,379,16],[380,15,380,16],[381,15,381,16],[382,15,382,16],[393,15,393,16],[394,15,394,16],[395,15,395,16],[396,15,396,16],[397,15,397,16],[388,15,388,16],[389,15,389,16],[390,15,390,16],[391,15,391,16],[392,15,392,16],[403,15,403,16],[404,15,404,16],[405,15,405,16],[406,15,406,16],[407,15,407,16],[398,15,398,16],[399,15,399,16],[400,15,400,16],[401,15,401,16],[402,15,402,16],[413,15,413,16],[414,15,414,16],[415,15,415,16],[416,15,416,16],[417,15,417,16],[408,15,408,16],[409,15,409,16],[410,15,410,16],[411,15,411,16],[412,15,412,16],[423,15,423,16],[424,15,424,16],[425,15,425,16],[426,15,426,16],[427,15,427,16],[418,15,418,16],[419,15,419,16],[420,15,420,16],[421,15,421,16],[422,15,422,16],[433,15,433,16],[434,15,434,16],[435,15,435,16],[436,15,436,16],[437,15,437,16],[428,15,428,16],[429,15,429,16],[430,15,430,16],[431,15,431,16],[432,15,432,16],[443,15,443,16],[444,15,444,16],[445,15,445,16],[446,15,446,16],[447,15,447,16],[438,15,438,16],[439,15,439,16],[440,15,440,16],[441,15,441,16],[442,15,442,16],[453,15,453,16],[454,15,454,16],[455,15,455,16],[456,15,456,16],[457,15,457,16],[448,15,448,16],[449,15,449,16],[450,15,450,16],[451,15,451,16],[452,15,452,16],[463,15,463,16],[464,15,464,16],[465,15,465,16],[466,15,466,16],[467,15,467,16],[458,15,458,16],[459,15,459,16],[460,15,460,16],[461,15,461,16],[462,15,462,16],[473,15,473,16],[474,15,474,16],[475,15,475,16],[476,15,476,16],[468,15,468,16],[469,15,469,16],[470,15,470,16],[471,15,471,16],[472,15,472,16]]}
[null,"VRA ACTIVITY DAY 2023"]
[]
[null,"CALL ",{"$f":"Infoblad!C4","v":0},null,"NAAM ",null,{"$f":"Infoblad!C8","v":0},null,null,null,null,null,null,"Muliplier = Call + Mode+ Band"]
[]
[null,"LOCATOR ",{"$f":"Infoblad!C6","v":0},null,"VOORNAAM ",null,{"$f":"Infoblad!C10","v":0}]
[]
[null,"DATUM ",{"$f":"Infoblad!C27","v":"2023-10-21"},null,"AFDELING ",null,{"$f":"Infoblad!C18","v":0},null,null,null,"VERENIGING ",{"$f":"Infoblad!H18","v":0},null,"CATEGORIE ",{"$f":"Infoblad!H27","v":0}]
[]
[]
[null,"NETTO: km",{"$f":"O516-O517","v":0},"NETTO QSO's: ",{"$f":"B518","v":0},null,"Dubbele",{"$f":"B517","v":0},null,null,"Netto pt",{"$f":"M516-M517","v":0},null,"Verste (in km):",{"$f":"IF(O518>0,ROUND(O520,2),0)","v":0},"Kortste (in km)",{"$f":"O521","v":0}]
[]
[null,"CALL","DATUM","TIJD (in UTC)","RST\nGegeven","Nr.","RST\nOntvangen","Volgnr\nontvang.","Mode","Band","Locator","Afdeling","Punten","TegenStation\n(enkel SWL)","Afstand Km = punten","Naam, gemeente, nota, …",null,null,null,null,null,null,null,null,"Br.",null,null,"Ln",null,null,"Radialen\nBreedte","Radialen\nLengte","T","Angle"]
[null,null,{"$f":"IF(B13>0,$C$7,\" \")","v":" "},{"$f":"IF(B13>0,VASTETIJD(C13)-Infoblad!$C$29,\" \")","v":" "},{"$f":"IF(B13>0,\"59\",\" \")","v":" "},1,{"$f":"IF(B13>0,\"59\",\" \")","v":" "},null,null,null,null,null,{"$f":"IF(L13>0,VLOOKUP(L13,Punten!$B$3:$C$109,2,FALSE),\" \")","v":" "},null,{"$f":"IF(K13>0,AK13,\" \")","v":" "},null,null,null,{"$f":"MID(K13,1,1)","v":""},{"$f":"MID(K13,2,1)","v":""},{"$f":"MID(K13,3,1)","v":""},{"$f":"MID(K13,4,1)","v":""},{"$f":"MID(K13,5,1)","v":""},{"$f":"MID(K13,6,1)","v":""},{"$f":"SEARCH(T13,'Eigen QTH LOc'!$I$1)*10-100+V13","v":{"$error":"#VALUE!"}},{"$f":"TRUNC(ROUND((SEARCH(X13,'Eigen QTH LOc'!$I$1)-0.5)*2.5,2))","v":1},{"$f":"IF(Z13>0,(MOD(ROUND((SEARCH(X13,'Eigen QTH LOc'!$I$1)-0.5)*2.5,2),TRUNC(Z13)))*60,0)","v":15},{"$f":"SEARCH(S13,'Eigen QTH LOc'!$I$1)*20-200+U13*2","v":{"$error":"#VALUE!"}},{"$f":"TRUNC((SEARCH(W13,'Eigen QTH LOc'!$I$1)-0.5)*5)","v":2},{"$f":"IF(AC13>0,(MOD((SEARCH(W13,'Eigen QTH LOc'!$I$1)-0.5)*5,TRUNC(AC13)))*60,0)","v":30},{"$f":"(Y13+(Z13/60)+(AA13/3600))*PI()/180","v":{"$error":"#VALUE!"}},{"$f":"(AB13+(AC13/60)+(AD13/100/60))*PI()/180","v":{"$error":"#VALUE!"}},{"$f":"COS('Eigen QTH LOc'!$G$4-AF13)*SIN(PI()/2-AE13)*SIN(PI()/2-'Eigen QTH LOc'!$G$3)+COS(PI()/2-AE13)*COS(PI()/2-'Eigen QTH LOc'!$G$3)","v":{"$error":"#VALUE!"}},{"$f":"-ATAN(AG13/SQRT(1-AG13*AG13))+PI()/2","v":{"$error":"#VALUE!"}},"ABCDEFGHIJKLMNOPQRSTUVWXABCDEFGHIJKLMNOPQRSTUVWX","\"0123456789\"",{"$f":"IF(B13>0,IF(K13=Infoblad!$C$6,0.5,0.5+AH13*40076.59/2/PI()),\" \")","v":" "},{"$f":"CONCATENATE(B13,I13,J13)","v":""}]
[null,null,{"$f":"IF(B14>0,$C$7,\" \")","v":" "},{"$f":"IF(B14>0,VASTETIJD(C14)-Infoblad!$C$29,\" \")","v":" "},{"$f":"IF(B14>0,\"59\",\" \")","v":" "},2,{"$f":"IF(B14>0,\"59\",\" \")","v":" "},null,null,null,null,null,{"$f":"IF(L14>0,VLOOKUP(L14,Punten!$B$3:$C$109,2,FALSE),\" \")","v":" "},null,{"$f":"IF(K14>0,AK14,\" \")","v":" "},null,null,null,"","","","","","",{"$f":"SEARCH(T14,'Eigen QTH LOc'!$I$1)*10-100+V14","v":{"$error":"#VALUE!"}},{"$f":"TRUNC(ROUND((SEARCH(X14,'Eigen QTH LOc'!$I$1)-0.5)*2.5,2))","v":1},{"$f":"IF(Z14>0,(MOD(ROUND((SEARCH(X14,'Eigen QTH LOc'!$I$1)-0.5)*2.5,2),TRUNC(Z14)))*60,0)","v":15},{"$f":"SEARCH(S14,'Eigen QTH LOc'!$I$1)*20-200+U14*2","v":{"$error":"#VALUE!"}},{"$f":"TRUNC((SEARCH(W14,'Eigen QTH LOc'!$I$1)-0.5)*5)","v":2},{"$f":"IF(AC14>0,(MOD((SEARCH(W14,'Eigen QTH LOc'!$I$1)-0.5)*5,TRUNC(AC14)))*60,0)","v":30},{"$f":"(Y14+(Z14/60)+(AA14/3600))*PI()/180","v":{"$error":"#VALUE!"}},{"$f":"(AB14+(AC14/60)+(AD14/100/60))*PI()/180","v":{"$error":"#VALUE!"}},{"$f":"COS('Eigen QTH LOc'!$G$4-AF14)*SIN(PI()/2-AE14)*SIN(PI()/2-'Eigen QTH LOc'!$G$3)+COS(PI()/2-AE14)*COS(PI()/2-'Eigen QTH LOc'!$G$3)","v":{"$error":"#VALUE!"}},{"$f":"-ATAN($AG14/SQRT(1-$AG14*$AG14))+PI()/2","v":{"$error":"#VALUE!"}},"ABCDEFGHIJKLMNOPQRSTUVWXABCDEFGHIJKLMNOPQRSTUVWX","\"0123456789\"",{"$f":"IF(B14>0,IF(K14=Infoblad!$C$6,0.5,0.5+AH14*40076.59/2/PI()),\" \")","v":" "},{"$f":"CONCATENATE(B14,I14,J14)","v":""}]
[null,null," ",{"$f":"IF(B15>0,VASTETIJD(C15)-Infoblad!$C$29,\" \")","v":" "}," ",3," ",null,null,null,null,null,{"$f":"IF(L15>0,VLOOKUP(L15,Punten!$B$3:$C$109,2,FALSE),\" \")","v":" "},null," ",null,null,null,"","","","","","",{"$f":"SEARCH(T15,'Eigen QTH LOc'!$I$1)*10-100+V15","v":{"$error":"#VALUE!"}},{"$f":"TRUNC(ROUND((SEARCH(X15,'Eigen QTH LOc'!$I$1)-0.5)*2.5,2))","v":1},{"$f":"IF(Z15>0,(MOD(ROUND((SEARCH(X15,'Eigen QTH LOc'!$I$1)-0.5)*2.5,2),TRUNC(Z15)))*60,0)","v":15},{"$f":"SEARCH(S15,'Eigen QTH LOc'!$I$1)*20-200+U15*2","v":{"$error":"#VALUE!"}},{"$f":"TRUNC((SEARCH(W15,'Eigen QTH LOc'!$I$1)-0.5)*5)","v":2},{"$f":"IF(AC15>0,(MOD((SEARCH(W15,'Eigen QTH LOc'!$I$1)-0.5)*5,TRUNC(AC15)))*60,0)","v":30},{"$error":"#VALUE!"},{"$error":"#VALUE!"},{"$f":"COS('Eigen QTH LOc'!$G$4-AF15)*SIN(PI()/2-AE15)*SIN(PI()/2-'Eigen QTH LOc'!$G$3)+COS(PI()/2-AE15)*COS(PI()/2-'Eigen QTH LOc'!$G$3)","v":{"$error":"#VALUE!"}},{"$error":"#VALUE!"},"ABCDEFGHIJKLMNOPQRSTUVWXABCDEFGHIJKLMNOPQRSTUVWX","\"0123456789\"",{"$f":"IF(B15>0,IF(K15=Infoblad!$C$6,0.5,0.5+AH15*40076.59/2/PI()),\" \")","v":" "},""]
[null,null," ",{"$f":"IF(B16>0,VASTETIJD(C16)-Infoblad!$C$29,\" \")","v":" "}," ",4," ",null,null,null,null,null,{"$f":"IF(L16>0,VLOOKUP(L16,Punten!$B$3:$C$109,2,FALSE),\" \")","v":" "},null," ",null,null,null,"","","","","","",{"$f":"SEARCH(T16,'Eigen QTH LOc'!$I$1)*10-100+V16","v":{"$error":"#VALUE!"}},{"$f":"TRUNC(ROUND((SEARCH(X16,'Eigen QTH LOc'!$I$1)-0.5)*2.5,2))","v":1},{"$f":"IF(Z16>0,(MOD(ROUND((SEARCH(X16,'Eigen QTH LOc'!$I$1)-0.5)*2.5,2),TRUNC(Z16)))*60,0)","v":15},{"$f":"SEARCH(S16,'Eigen QTH LOc'!$I$1)*20-200+U16*2","v":{"$error":"#VALUE!"}},{"$f":"TRUNC((SEARCH(W16,'Eigen QTH LOc'!$I$1)-0.5)*5)","v":2},{"$f":"IF(AC16>0,(MOD((SEARCH(W16,'Eigen QTH LOc'!$I$1)-0.5)*5,TRUNC(AC16)))*60,0)","v":30},{"$error":"#VALUE!"},{"$error":"#VALUE!"},{"$f":"COS('Eigen QTH LOc'!$G$4-AF16)*SIN(PI()/2-AE16)*SIN(PI()/2-'Eigen QTH LOc'!$G$3)+COS(PI()/2-AE16)*COS(PI()/2-'Eigen QTH LOc'!$G$3)","v":{"$error":"#VALUE!"}},{"$error":"#VALUE!"},"ABCDEFGHIJKLMNOPQRSTUVWXABCDEFGHIJKLMNOPQRSTUVWX","\"0123456789\"",{"$f":"IF(B16>0,IF(K16=Infoblad!$C$6,0.5,0.5+AH16*40076.59/2/PI()),\" \")","v":" "},""]
[null,null," ",{"$f":"IF(B17>0,VASTETIJD(C17)-Infoblad!$C$29,\" \")","v":" "}," ",5," ",null,null,null,null,null,{"$f":"IF(L17>0,VLOOKUP(L17,Punten!$B$3:$C$109,2,FALSE),\" \")","v":" "},null," ",null,null,null,"","","","","","",{"$f":"SEARCH(T17,'Eigen QTH LOc'!$I$1)*10-100+V17","v":{"$error":"#VALUE!"}},{"$f":"TRUNC(ROUND((SEARCH(X17,'Eigen QTH LOc'!$I$1)-0.5)*2.5,2))","v":1},{"$f":"IF(Z17>0,(MOD(ROUND((SEARCH(X17,'Eigen QTH LOc'!$I$1)-0.5)*2.5,2),TRUNC(Z17)))*60,0)","v":15},{"$f":"SEARCH(S17,'Eigen QTH LOc'!$I$1)*20-200+U17*2","v":{"$error":"#VALUE!"}},{"$f":"TRUNC((SEARCH(W17,'Eigen QTH LOc'!$I$1)-0.5)*5)","v":2},{"$f":"IF(AC17>0,(MOD((SEARCH(W17,'Eigen QTH LOc'!$I$1)-0.5)*5,TRUNC(AC17)))*60,0)","v":30},{"$error":"#VALUE!"},{"$error":"#VALUE!"},{"$f":"COS('Eigen QTH LOc'!$G$4-AF17)*SIN(PI()/2-AE17)*SIN(PI()/2-'Eigen QTH LOc'!$G$3)+COS(PI()/2-AE17)*COS(PI()/2-'Eigen QTH LOc'!$G$3)","v":{"$error":"#VALUE!"}},{"$error":"#VALUE!"},"ABCDEFGHIJKLMNOPQRSTUVWXABCDEFGHIJKLMNOPQRSTUVWX","\"0123456789\"",{"$f":"IF(B17>0,IF(K17=Infoblad!$C$6,0.5,0.5+AH17*40076.59/2/PI()),\" \")","v":" "},""]
[null,null," ",{"$f":"IF(B18>0,VASTETIJD(C18)-Infoblad!$C$29,\" \")","v":" "}," ",6," ",null,null,null,null,null,{"$f":"IF(L18>0,VLOOKUP(L18,Punten!$B$3:$C$109,2,FALSE),\" \")","v":" "},null," ",null,null,null,"","","","","","",{"$f":"SEARCH(T18,'Eigen QTH LOc'!$I$1)*10-100+V18","v":{"$error":"#VALUE!"}},{"$f":"TRUNC(ROUND((SEARCH(X18,'Eigen QTH LOc'!$I$1)-0.5)*2.5,2))","v":1},{"$f":"IF(Z18>0,(MOD(ROUND((SEARCH(X18,'Eigen QTH LOc'!$I$1)-0.5)*2.5,2),TRUNC(Z18)))*60,0)","v":15},{"$f":"SEARCH(S18,'Eigen QTH LOc'!$I$1)*20-200+U18*2","v":{"$error":"#VALUE!"}},{"$f":"TRUNC((SEARCH(W18,'Eigen QTH LOc'!$I$1)-0.5)*5)","v":2},{"$f":"IF(AC18>0,(MOD((SEARCH(W18,'Eigen QTH LOc'!$I$1)-0.5)*5,TRUNC(AC18)))*60,0)","v":30},{"$error":"#VALUE!"},{"$error":"#VALUE!"},{"$f":"COS('Eigen QTH LOc'!$G$4-AF18)*SIN(PI()/2-AE18)*SIN(PI()/2-'Eigen QTH LOc'!$G$3)+COS(PI()/2-AE18)*COS(PI()/2-'Eigen QTH LOc'!$G$3)","v":{"$error":"#VALUE!"}},{"$error":"#VALUE!"},"ABCDEFGHIJKLMNOPQRSTUVWXABCDEFGHIJKLMNOPQRSTUVWX","\"0123456789\"",{"$f":"IF(B18>0,IF(K18=Infoblad!$C$6,0.5,0.5+AH18*40076.59/2/PI()),\" \")","v":" "},""]
[null,null," ",{"$f":"IF(B19>0,VASTETIJD(C19)-Infoblad!$C$29,\" \")","v":" "}," ",7," ",null,null,null,null,null,{"$f":"IF(L19>0,VLOOKUP(L19,Punten!$B$3:$C$109,2,FALSE),\" \")","v":" "},null," ",null,null,null,"","","","","","",{"$f":"SEARCH(T19,'Eigen QTH LOc'!$I$1)*10-100+V19","v":{"$error":"#VALUE!"}},{"$f":"TRUNC(ROUND((SEARCH(X19,'Eigen QTH LOc'!$I$1)-0.5)*2.5,2))","v":1},{"$f":"IF(Z19>0,(MOD(ROUND((SEARCH(X19,'Eigen QTH LOc'!$I$1)-0.5)*2.5,2),TRUNC(Z19)))*60,0)","v":15},{"$f":"SEARCH(S19,'Eigen QTH LOc'!$I$1)*20-200+U19*2","v":{"$error":"#VALUE!"}},{"$f":"TRUNC((SEARCH(W19,'Eigen QTH LOc'!$I$1)-0.5)*5)","v":2},{"$f":"IF(AC19>0,(MOD((SEARCH(W19,'Eigen QTH LOc'!$I$1)-0.5)*5,TRUNC(AC19)))*60,0)","v":30},{"$error":"#VALUE!"},{"$error":"#VALUE!"},{"$f":"COS('Eigen QTH LOc'!$G$4-AF19)*SIN(PI()/2-AE19)*SIN(PI()/2-'Eigen QTH LOc'!$G$3)+COS(PI()/2-AE19)*COS(PI()/2-'Eigen QTH LOc'!$G$3)","v":{"$error":"#VALUE!"}},{"$error":"#VALUE!"},"ABCDEFGHIJKLMNOPQRSTUVWXABCDEFGHIJKLMNOPQRSTUVWX","\"0123456789\"",{"$f":"IF(B19>0,IF(K19=Infoblad!$C$6,0.5,0.5+AH19*40076.59/2/PI()),\" \")","v":" "},""]
[null,null," ",{"$f":"IF(B20>0,VASTETIJD(C20)-Infoblad!$C$29,\" \")","v":" "}," ",8," ",null,null,null,null,null,{"$f":"IF(L20>0,VLOOKUP(L20,Punten!$B$3:$C$109,2,FALSE),\" \")","v":" "},null," ",null,null,null,"","","","","","",{"$f":"SEARCH(T20,'Eigen QTH LOc'!$I$1)*10-100+V20","v":{"$error":"#VALUE!"}},{"$f":"TRUNC(ROUND((SEARCH(X20,'Eigen QTH LOc'!$I$1)-0.5)*2.5,2))","v":1},{"$f":"IF(Z20>0,(MOD(ROUND((SEARCH(X20,'Eigen QTH LOc'!$I$1)-0.5)*2.5,2),TRUNC(Z20)))*60,0)","v":15},{"$f":"SEARCH(S20,'Eigen QTH LOc'!$I$1)*20-200+U20*2","v":{"$error":"#VALUE!"}},{"$f":"TRUNC((SEARCH(W20,'Eigen QTH LOc'!$I$1)-0.5)*5)","v":2},{"$f":"IF(AC20>0,(MOD((SEARCH(W20,'Eigen QTH LOc'!$I$1)-0.5)*5,TRUNC(AC20)))*60,0)","v":30},{"$error":"#VALUE!"},{"$error":"#VALUE!"},{"$f":"COS('Eigen QTH LOc'!$G$4-AF20)*SIN(PI()/2-AE20)*SIN(PI()/2-'Eigen QTH LOc'!$G$3)+COS(PI()/2-AE20)*COS(PI()/2-'Eigen QTH LOc'!$G$3)","v":{"$error":"#VALUE!"}},{"$error":"#VALUE!"},"ABCDEFGHIJKLMNOPQRSTUVWXABCDEFGHIJKLMNOPQRSTUVWX","\"0123456789\"",{"$f":"IF(B20>0,IF(K20=Infoblad!$C$6,0.5,0.5+AH20*40076.59/2/PI()),\" \")","v":" "},""]
[null,null," ",{"$f":"IF(B21>0,VASTETIJD(C21)-Infoblad!$C$29,\" \")","v":" "}," ",9," ",null,null,null,null,null,{"$f":"IF(L21>0,VLOOKUP(L21,Punten!$B$3:$C$109,2,FALSE),\" \")","v":" "},null," ",null,null,null,"","","","","","",{"$f":"SEARCH(T21,'Eigen QTH LOc'!$I$1)*10-100+V21","v":{"$error":"#VALUE!"}},{"$f":"TRUNC(ROUND((SEARCH(X21,'Eigen QTH LOc'!$I$1)-0.5)*2.5,2))","v":1},{"$f":"IF(Z21>0,(MOD(ROUND((SEARCH(X21,'Eigen QTH LOc'!$I$1)-0.5)*2.5,2),TRUNC(Z21)))*60,0)","v":15},{"$f":"SEARCH(S21,'Eigen QTH LOc'!$I$1)*20-200+U21*2","v":{"$error":"#VALUE!"}},{"$f":"TRUNC((SEARCH(W21,'Eigen QTH LOc'!$I$1)-0.5)*5)","v":2},{"$f":"IF(AC21>0,(MOD((SEARCH(W21,'Eigen QTH LOc'!$I$1)-0.5)*5,TRUNC(AC21)))*60,0)","v":30},{"$error":"#VALUE!"},{"$error":"#VALUE!"},{"$f":"COS('Eigen QTH LOc'!$G$4-AF21)*SIN(PI()/2-AE21)*SIN(PI()/2-'Eigen QTH LOc'!$G$3)+COS(PI()/2-AE21)*COS(PI()/2-'Eigen QTH LOc'!$G$3)","v":{"$error":"#VALUE!"}},{"$error":"#VALUE!"},"ABCDEFGHIJKLMNOPQRSTUVWXABCDEFGHIJKLMNOPQRSTUVWX","\"0123456789\"",{"$f":"IF(B21>0,IF(K21=Infoblad!$C$6,0.5,0.5+AH21*40076.59/2/PI()),\" \")","v":" "},""]
[null,null," ",{"$f":"IF(B22>0,VASTETIJD(C22)-Infoblad!$C$29,\" \")","v":" "}," ",10," ",null,null,null,null,null,{"$f":"IF(L22>0,VLOOKUP(L22,Punten!$B$3:$C$109,2,FALSE),\" \")","v":" "},null," ",null,null,null,"","","","","","",{"$f":"SEARCH(T22,'Eigen QTH LOc'!$I$1)*10-100+V22","v":{"$error":"#VALUE!"}},{"$f":"TRUNC(ROUND((SEARCH(X22,'Eigen QTH LOc'!$I$1)-0.5)*2.5,2))","v":1},{"$f":"IF(Z22>0,(MOD(ROUND((SEARCH(X22,'Eigen QTH LOc'!$I$1)-0.5)*2.5,2),TRUNC(Z22)))*60,0)","v":15},{"$f":"SEARCH(S22,'Eigen QTH LOc'!$I$1)*20-200+U22*2","v":{"$error":"#VALUE!"}},{"$f":"TRUNC((SEARCH(W22,'Eigen QTH LOc'!$I$1)-0.5)*5)","v":2},{"$f":"IF(AC22>0,(MOD((SEARCH(W22,'Eigen QTH LOc'!$I$1)-0.5)*5,TRUNC(AC22)))*60,0)","v":30},{"$error":"#VALUE!"},{"$error":"#VALUE!"},{"$f":"COS('Eigen QTH LOc'!$G$4-AF22)*SIN(PI()/2-AE22)*SIN(PI()/2-'Eigen QTH LOc'!$G$3)+COS(PI()/2-AE22)*COS(PI()/2-'Eigen QTH LOc'!$G$3)","v":{"$error":"#VALUE!"}},{"$error":"#VALUE!"},"ABCDEFGHIJKLMNOPQRSTUVWXABCDEFGHIJKLMNOPQRSTUVWX","\"0123456789\"",{"$f":"IF(B22>0,IF(K22=Infoblad!$C$6,0.5,0.5+AH22*40076.59/2/PI()),\" \")","v":" "},""]
[null,null," ",{"$f":"IF(B23>0,VASTETIJD(C23)-Infoblad!$C$29,\" \")","v":" "}," ",11," ",null,null,null,null,null,{"$f":"IF(L23>0,VLOOKUP(L23,Punten!$B$3:$C$109,2,FALSE),\" \")","v":" "},null," ",null,null,null,"","","","","","",{"$f":"SEARCH(T23,'Eigen QTH LOc'!$I$1)*10-100+V23","v":{"$error":"#VALUE!"}},{"$f":"TRUNC(ROUND((SEARCH(X23,'Eigen QTH LOc'!$I$1)-0.5)*2.5,2))","v":1},{"$f":"IF(Z23>0,(MOD(ROUND((SEARCH(X23,'Eigen QTH LOc'!$I$1)-0.5)*2.5,2),TRUNC(Z23)))*60,0)","v":15},{"$f":"SEARCH(S23,'Eigen QTH LOc'!$I$1)*20-200+U23*2","v":{"$error":"#VALUE!"}},{"$f":"TRUNC((SEARCH(W23,'Eigen QTH LOc'!$I$1)-0.5)*5)","v":2},{"$f":"IF(AC23>0,(MOD((SEARCH(W23,'Eigen QTH LOc'!$I$1)-0.5)*5,TRUNC(AC23)))*60,0)","v":30},{"$error":"#VALUE!"},{"$error":"#VALUE!"},{"$f":"COS('Eigen QTH LOc'!$G$4-AF23)*SIN(PI()/2-AE23)*SIN(PI()/2-'Eigen QTH LOc'!$G$3)+COS(PI()/2-AE23)*COS(PI()/2-'Eigen QTH LOc'!$G$3)","v":{"$error":"#VALUE!"}},{"$error":"#VALUE!"},"ABCDEFGHIJKLMNOPQRSTUVWXABCDEFGHIJKLMNOPQRSTUVWX","\"0123456789\"",{"$f":"IF(B23>0,IF(K23=Infoblad!$C$6,0.5,0.5+AH23*40076.59/2/PI()),\" \")","v":" "},""]
[null,null," ",{"$f":"IF(B24>0,VASTETIJD(C24)-Infoblad!$C$29,\" \")","v":" "}," ",12," ",null,null,null,null,null,{"$f":"IF(L24>0,VLOOKUP(L24,Punten!$B$3:$C$109,2,FALSE),\" \")","v":" "},null," ",null,null,null,"","","","","","",{"$f":"SEARCH(T24,'Eigen QTH LOc'!$I$1)*10-100+V24","v":{"$error":"#VALUE!"}},{"$f":"TRUNC(ROUND((SEARCH(X24,'Eigen QTH LOc'!$I$1)-0.5)*2.5,2))","v":1},{"$f":"IF(Z24>0,(MOD(ROUND((SEARCH(X24,'Eigen QTH LOc'!$I$1)-0.5)*2.5,2),TRUNC(Z24)))*60,0)","v":15},{"$f":"SEARCH(S24,'Eigen QTH LOc'!$I$1)*20-200+U24*2","v":{"$error":"#VALUE!"}},{"$f":"TRUNC((SEARCH(W24,'Eigen QTH LOc'!$I$1)-0.5)*5)","v":2},{"$f":"IF(AC24>0,(MOD((SEARCH(W24,'Eigen QTH LOc'!$I$1)-0.5)*5,TRUNC(AC24)))*60,0)","v":30},{"$error":"#VALUE!"},{"$error":"#VALUE!"},{"$f":"COS('Eigen QTH LOc'!$G$4-AF24)*SIN(PI()/2-AE24)*SIN(PI()/2-'Eigen QTH LOc'!$G$3)+COS(PI()/2-AE24)*COS(PI()/2-'Eigen QTH LOc'!$G$3)","v":{"$error":"#VALUE!"}},{"$error":"#VALUE!"},"ABCDEFGHIJKLMNOPQRSTUVWXABCDEFGHIJKLMNOPQRSTUVWX","\"0123456789\"",{"$f":"IF(B24>0,IF(K24=Infoblad!$C$6,0.5,0.5+AH24*40076.59/2/PI()),\" \")","v":" "},""]
[null,null," ",{"$f":"IF(B25>0,VASTETIJD(C25)-Infoblad!$C$29,\" \")","v":" "}," ",13," ",null,null,null,null,null,{"$f":"IF(L25>0,VLOOKUP(L25,Punten!$B$3:$C$109,2,FALSE),\" \")","v":" "},null," ",null,null,null,{"$f":"MID(K25,1,1)","v":""},{"$f":"MID(K25,2,1)","v":""},{"$f":"MID(K25,3,1)","v":""},{"$f":"MID(K25,4,1)","v":""},{"$f":"MID(K25,5,1)","v":""},{"$f":"MID(K25,6,1)","v":""},{"$f":"SEARCH(T25,'Eigen QTH LOc'!$I$1)*10-100+V25","v":{"$error":"#VALUE!"}},{"$f":"TRUNC(ROUND((SEARCH(X25,'Eigen QTH LOc'!$I$1)-0.5)*2.5,2))","v":1},{"$f":"IF(Z25>0,(MOD(ROUND((SEARCH(X25,'Eigen QTH LOc'!$I$1)-0.5)*2.5,2),TRUNC(Z25)))*60,0)","v":15},{"$f":"SEARCH(S25,'Eigen QTH LOc'!$I$1)*20-200+U25*2","v":{"$error":"#VALUE!"}},{"$f":"TRUNC((SEARCH(W25,'Eigen QTH LOc'!$I$1)-0.5)*5)","v":2},{"$f":"IF(AC25>0,(MOD((SEARCH(W25,'Eigen QTH LOc'!$I$1)-0.5)*5,TRUNC(AC25)))*60,0)","v":30},{"$f":"(Y25+(Z25/60)+(AA25/3600))*PI()/180","v":{"$error":"#VALUE!"}},{"$f":"(AB25+(AC25/60)+(AD25/100/60))*PI()/180","v":{"$error":"#VALUE!"}},{"$f":"COS('Eigen QTH LOc'!$G$4-AF25)*SIN(PI()/2-AE25)*SIN(PI()/2-'Eigen QTH LOc'!$G$3)+COS(PI()/2-AE25)*COS(PI()/2-'Eigen QTH LOc'!$G$3)","v":{"$error":"#VALUE!"}},{"$error":"#VALUE!"},"ABCDEFGHIJKLMNOPQRSTUVWXABCDEFGHIJKLMNOPQRSTUVWX","\"0123456789\"",{"$f":"IF(B25>0,IF(K25=Infoblad!$C$6,0.5,0.5+AH25*40076.59/2/PI()),\" \")","v":" "},""]
[null,null," ",{"$f":"IF(B26>0,VASTETIJD(C26)-Infoblad!$C$29,\" \")","v":" "}," ",14," ",null,null,null,null,null,{"$f":"IF(L26>0,VLOOKUP(L26,Punten!$B$3:$C$109,2,FALSE),\" \")","v":" "},null," ",null,null,null,"","","","","","",{"$f":"SEARCH(T26,'Eigen QTH LOc'!$I$1)*10-100+V26","v":{"$error":"#VALUE!"}},{"$f":"TRUNC(ROUND((SEARCH(X26,'Eigen QTH LOc'!$I$1)-0.5)*2.5,2))","v":1},{"$f":"IF(Z26>0,(MOD(ROUND((SEARCH(X26,'Eigen QTH LOc'!$I$1)-0.5)*2.5,2),TRUNC(Z26)))*60,0)","v":15},{"$f":"SEARCH(S26,'Eigen QTH LOc'!$I$1)*20-200+U26*2","v":{"$error":"#VALUE!"}},{"$f":"TRUNC((SEARCH(W26,'Eigen QTH LOc'!$I$1)-0.5)*5)","v":2},{"$f":"IF(AC26>0,(MOD((SEARCH(W26,'Eigen QTH LOc'!$I$1)-0.5)*5,TRUNC(AC26)))*60,0)","v":30},{"$error":"#VALUE!"},{"$error":"#VALUE!"},{"$f":"COS('Eigen QTH LOc'!$G$4-AF26)*SIN(PI()/2-AE26)*SIN(PI()/2-'Eigen QTH LOc'!$G$3)+COS(PI()/2-AE26)*COS(PI()/2-'Eigen QTH LOc'!$G$3)","v":{"$error":"#VALUE!"}},{"$error":"#VALUE!"},"ABCDEFGHIJKLMNOPQRSTUVWXABCDEFGHIJKLMNOPQRSTUVWX","\"0123456789\"",{"$f":"IF(B26>0,IF(K26=Infoblad!$C$6,0.5,0.5+AH26*40076.59/2/PI()),\" \")","v":" "},""]
[null,null," ",{"$f":"IF(B27>0,VASTETIJD(C27)-Infoblad!$C$29,\" \")","v":" "}," ",15," ",null,null,null,null,null,{"$f":"IF(L27>0,VLOOKUP(L27,Punten!$B$3:$C$109,2,FALSE),\" \")","v":" "},null," ",null,null,null,"","","","","","",{"$f":"SEARCH(T27,'Eigen QTH LOc'!$I$1)*10-100+V27","v":{"$error":"#VALUE!"}},{"$f":"TRUNC(ROUND((SEARCH(X27,'Eigen QTH LOc'!$I$1)-0.5)*2.5,2))","v":1},{"$f":"IF(Z27>0,(MOD(ROUND((SEARCH(X27,'Eigen QTH LOc'!$I$1)-0.5)*2.5,2),TRUNC(Z27)))*60,0)","v":15},{"$f":"SEARCH(S27,'Eigen QTH LOc'!$I$1)*20-200+U27*2","v":{"$error":"#VALUE!"}},{"$f":"TRUNC((SEARCH(W27,'Eigen QTH LOc'!$I$1)-0.5)*5)","v":2},{"$f":"IF(AC27>0,(MOD((SEARCH(W27,'Eigen QTH LOc'!$I$1)-0.5)*5,TRUNC(AC27)))*60,0)","v":30},{"$error":"#VALUE!"},{"$error":"#VALUE!"},{"$f":"COS('Eigen QTH LOc'!$G$4-AF27)*SIN(PI()/2-AE27)*SIN(PI()/2-'Eigen QTH LOc'!$G$3)+COS(PI()/2-AE27)*COS(PI()/2-'Eigen QTH LOc'!$G$3)","v":{"$error":"#VALUE!"}},{"$error":"#VALUE!"},"ABCDEFGHIJKLMNOPQRSTUVWXABCDEFGHIJKLMNOPQRSTUVWX","\"0123456789\"",{"$f":"IF(B27>0,IF(K27=Infoblad!$C$6,0.5,0.5+AH27*40076.59/2/PI()),\" \")","v":" "},""]
[null,null," ",{"$f":"IF(B28>0,VASTETIJD(C28)-Infoblad!$C$29,\" \")","v":" "}," ",16," ",null,null,null,null,null,{"$f":"IF(L28>0,VLOOKUP(L28,Punten!$B$3:$C$109,2,FALSE),\" \")","v":" "},null," ",null,null,null,"","","","","","",{"$f":"SEARCH(T28,'Eigen QTH LOc'!$I$1)*10-100+V28","v":{"$error":"#VALUE!"}},{"$f":"TRUNC(ROUND((SEARCH(X28,'Eigen QTH LOc'!$I$1)-0.5)*2.5,2))","v":1},{"$f":"IF(Z28>0,(MOD(ROUND((SEARCH(X28,'Eigen QTH LOc'!$I$1)-0.5)*2.5,2),TRUNC(Z28)))*60,0)","v":15},{"$f":"SEARCH(S28,'Eigen QTH LOc'!$I$1)*20-200+U28*2","v":{"$error":"#VALUE!"}},{"$f":"TRUNC((SEARCH(W28,'Eigen QTH LOc'!$I$1)-0.5)*5)","v":2},{"$f":"IF(AC28>0,(MOD((SEARCH(W28,'Eigen QTH LOc'!$I$1)-0.5)*5,TRUNC(AC28)))*60,0)","v":30},{"$error":"#VALUE!"},{"$error":"#VALUE!"},{"$f":"COS('Eigen QTH LOc'!$G$4-AF28)*SIN(PI()/2-AE28)*SIN(PI()/2-'Eigen QTH LOc'!$G$3)+COS(PI()/2-AE28)*COS(PI()/2-'Eigen QTH LOc'!$G$3)","v":{"$error":"#VALUE!"}},{"$error":"#VALUE!"},"ABCDEFGHIJKLMNOPQRSTUVWXABCDEFGHIJKLMNOPQRSTUVWX","\"0123456789\"",{"$f":"IF(B28>0,IF(K28=Infoblad!$C$6,0.5,0.5+AH28*40076.59/2/PI()),\" \")","v":" "},""]
[null,null," ",{"$f":"IF(B29>0,VASTETIJD(C29)-Infoblad!$C$29,\" \")","v":" "}," ",17," ",null,null,null,null,null,{"$f":"IF(L29>0,VLOOKUP(L29,Punten!$B$3:$C$109,2,FALSE),\" \")","v":" "},null," ",null,null,null,"","","","","","",{"$f":"SEARCH(T29,'Eigen QTH LOc'!$I$1)*10-100+V29","v":{"$error":"#VALUE!"}},{"$f":"TRUNC(ROUND((SEARCH(X29,'Eigen QTH LOc'!$I$1)-0.5)*2.5,2))","v":1},{"$f":"IF(Z29>0,(MOD(ROUND((SEARCH(X29,'Eigen QTH LOc'!$I$1)-0.5)*2.5,2),TRUNC(Z29)))*60,0)","v":15},{"$f":"SEARCH(S29,'Eigen QTH LOc'!$I$1)*20-200+U29*2","v":{"$error":"#VALUE!"}},{"$f":"TRUNC((SEARCH(W29,'Eigen QTH LOc'!$I$1)-0.5)*5)","v":2},{"$f":"IF(AC29>0,(MOD((SEARCH(W29,'Eigen QTH LOc'!$I$1)-0.5)*5,TRUNC(AC29)))*60,0)","v":30},{"$error":"#VALUE!"},{"$error":"#VALUE!"},{"$f":"COS('Eigen QTH LOc'!$G$4-AF29)*SIN(PI()/2-AE29)*SIN(PI()/2-'Eigen QTH LOc'!$G$3)+COS(PI()/2-AE29)*COS(PI()/2-'Eigen QTH LOc'!$G$3)","v":{"$error":"#VALUE!"}},{"$error":"#VALUE!"},"ABCDEFGHIJKLMNOPQRSTUVWXABCDEFGHIJKLMNOPQRSTUVWX","\"0123456789\"",{"$f":"IF(B29>0,IF(K29=Infoblad!$C$6,0.5,0.5+AH29*40076.59/2/PI()),\" \")","v":" "},""]
[null,null," ",{"$f":"IF(B30>0,VASTETIJD(C30)-Infoblad!$C$29,\" \")","v":" "}," ",18," ",null,null,null,null,null,{"$f":"IF(L30>0,VLOOKUP(L30,Punten!$B$3:$C$109,2,FALSE),\" \")","v":" "},null," ",null,null,null,"","","","","","",{"$f":"SEARCH(T30,'Eigen QTH LOc'!$I$1)*10-100+V30","v":{"$error":"#VALUE!"}},{"$f":"TRUNC(ROUND((SEARCH(X30,'Eigen QTH LOc'!$I$1)-0.5)*2.5,2))","v":1},{"$f":"IF(Z30>0,(MOD(ROUND((SEARCH(X30,'Eigen QTH LOc'!$I$1)-0.5)*2.5,2),TRUNC(Z30)))*60,0)","v":15},{"$f":"SEARCH(S30,'Eigen QTH LOc'!$I$1)*20-200+U30*2","v":{"$error":"#VALUE!"}},{"$f":"TRUNC((SEARCH(W30,'Eigen QTH LOc'!$I$1)-0.5)*5)","v":2},{"$f":"IF(AC30>0,(MOD((SEARCH(W30,'Eigen QTH LOc'!$I$1)-0.5)*5,TRUNC(AC30)))*60,0)","v":30},{"$error":"#VALUE!"},{"$error":"#VALUE!"},{"$f":"COS('Eigen QTH LOc'!$G$4-AF30)*SIN(PI()/2-AE30)*SIN(PI()/2-'Eigen QTH LOc'!$G$3)+COS(PI()/2-AE30)*COS(PI()/2-'Eigen QTH LOc'!$G$3)","v":{"$error":"#VALUE!"}},{"$error":"#VALUE!"},"ABCDEFGHIJKLMNOPQRSTUVWXABCDEFGHIJKLMNOPQRSTUVWX","\"0123456789\"",{"$f":"IF(B30>0,IF(K30=Infoblad!$C$6,0.5,0.5+AH30*40076.59/2/PI()),\" \")","v":" "},""]
[null,null," ",{"$f":"IF(B31>0,VASTETIJD(C31)-Infoblad!$C$29,\" \")","v":" "}," ",19," ",null,null,null,null,null,{"$f":"IF(L31>0,VLOOKUP(L31,Punten!$B$3:$C$109,2,FALSE),\" \")","v":" "},null," ",null,null,null,"","","","","","",{"$f":"SEARCH(T31,'Eigen QTH LOc'!$I$1)*10-100+V31","v":{"$error":"#VALUE!"}},{"$f":"TRUNC(ROUND((SEARCH(X31,'Eigen QTH LOc'!$I$1)-0.5)*2.5,2))","v":1},{"$f":"IF(Z31>0,(MOD(ROUND((SEARCH(X31,'Eigen QTH LOc'!$I$1)-0.5)*2.5,2),TRUNC(Z31)))*60,0)","v":15},{"$f":"SEARCH(S31,'Eigen QTH LOc'!$I$1)*20-200+U31*2","v":{"$error":"#VALUE!"}},{"$f":"TRUNC((SEARCH(W31,'Eigen QTH LOc'!$I$1)-0.5)*5)","v":2},{"$f":"IF(AC31>0,(MOD((SEARCH(W31,'Eigen QTH LOc'!$I$1)-0.5)*5,TRUNC(AC31)))*60,0)","v":30},{"$error":"#VALUE!"},{"$error":"#VALUE!"},{"$f":"COS('Eigen QTH LOc'!$G$4-AF31)*SIN(PI()/2-AE31)*SIN(PI()/2-'Eigen QTH LOc'!$G$3)+COS(PI()/2-AE31)*COS(PI()/2-'Eigen QTH LOc'!$G$3)","v":{"$error":"#VALUE!"}},{"$error":"#VALUE!"},"ABCDEFGHIJKLMNOPQRSTUVWXABCDEFGHIJKLMNOPQRSTUVWX","\"0123456789\"",{"$f":"IF(B31>0,IF(K31=Infoblad!$C$6,0.5,0.5+AH31*40076.59/2/PI()),\" \")","v":" "},""]
[null,null," ",{"$f":"IF(B32>0,VASTETIJD(C32)-Infoblad!$C$29,\" \")","v":" "}," ",20," ",null,null,null,null,null,{"$f":"IF(L32>0,VLOOKUP(L32,Punten!$B$3:$C$109,2,FALSE),\" \")","v":" "},null," ",null,null,null,"","","","","","",{"$f":"SEARCH(T32,'Eigen QTH LOc'!$I$1)*10-100+V32","v":{"$error":"#VALUE!"}},{"$f":"TRUNC(ROUND((SEARCH(X32,'Eigen QTH LOc'!$I$1)-0.5)*2.5,2))","v":1},{"$f":"IF(Z32>0,(MOD(ROUND((SEARCH(X32,'Eigen QTH LOc'!$I$1)-0.5)*2.5,2),TRUNC(Z32)))*60,0)","v":15},{"$f":"SEARCH(S32,'Eigen QTH LOc'!$I$1)*20-200+U32*2","v":{"$error":"#VALUE!"}},{"$f":"TRUNC((SEARCH(W32,'Eigen QTH LOc'!$I$1)-0.5)*5)","v":2},{"$f":"IF(AC32>0,(MOD((SEARCH(W32,'Eigen QTH LOc'!$I$1)-0.5)*5,TRUNC(AC32)))*60,0)","v":30},{"$error":"#VALUE!"},{"$error":"#VALUE!"},{"$f":"COS('Eigen QTH LOc'!$G$4-AF32)*SIN(PI()/2-AE32)*SIN(PI()/2-'Eigen QTH LOc'!$G$3)+COS(PI()/2-AE32)*COS(PI()/2-'Eigen QTH LOc'!$G$3)","v":{"$error":"#VALUE!"}},{"$error":"#VALUE!"},"ABCDEFGHIJKLMNOPQRSTUVWXABCDEFGHIJKLMNOPQRSTUVWX","\"0123456789\"",{"$f":"IF(B32>0,IF(K32=Infoblad!$C$6,0.5,0.5+AH32*40076.59/2/PI()),\" \")","v":" "},""]
[null,null," ",{"$f":"IF(B33>0,VASTETIJD(C33)-Infoblad!$C$29,\" \")","v":" "}," ",21," ",null,null,null,null,null,{"$f":"IF(L33>0,VLOOKUP(L33,Punten!$B$3:$C$109,2,FALSE),\" \")","v":" "},null," ",null,null,null,"","","","","","",{"$f":"SEARCH(T33,'Eigen QTH LOc'!$I$1)*10-100+V33","v":{"$error":"#VALUE!"}},{"$f":"TRUNC(ROUND((SEARCH(X33,'Eigen QTH LOc'!$I$1)-0.5)*2.5,2))","v":1},{"$f":"IF(Z33>0,(MOD(ROUND((SEARCH(X33,'Eigen QTH LOc'!$I$1)-0.5)*2.5,2),TRUNC(Z33)))*60,0)","v":15},{"$f":"SEARCH(S33,'Eigen QTH LOc'!$I$1)*20-200+U33*2","v":{"$error":"#VALUE!"}},{"$f":"TRUNC((SEARCH(W33,'Eigen QTH LOc'!$I$1)-0.5)*5)","v":2},{"$f":"IF(AC33>0,(MOD((SEARCH(W33,'Eigen QTH LOc'!$I$1)-0.5)*5,TRUNC(AC33)))*60,0)","v":30},{"$error":"#VALUE!"},{"$error":"#VALUE!"},{"$f":"COS('Eigen QTH LOc'!$G$4-AF33)*SIN(PI()/2-AE33)*SIN(PI()/2-'Eigen QTH LOc'!$G$3)+COS(PI()/2-AE33)*COS(PI()/2-'Eigen QTH LOc'!$G$3)","v":{"$error":"#VALUE!"}},{"$error":"#VALUE!"},"ABCDEFGHIJKLMNOPQRSTUVWXABCDEFGHIJKLMNOPQRSTUVWX","\"0123456789\"",{"$f":"IF(B33>0,IF(K33=Infoblad!$C$6,0.5,0.5+AH33*40076.59/2/PI()),\" \")","v":" "},""]
[null,null," ",{"$f":"IF(B34>0,VASTETIJD(C34)-Infoblad!$C$29,\" \")","v":" "}," ",22," ",null,null,null,null,null,{"$f":"IF(L34>0,VLOOKUP(L34,Punten!$B$3:$C$109,2,FALSE),\" \")","v":" "},null," ",null,null,null,"","","","","","",{"$f":"SEARCH(T34,'Eigen QTH LOc'!$I$1)*10-100+V34","v":{"$error":"#VALUE!"}},{"$f":"TRUNC(ROUND((SEARCH(X34,'Eigen QTH LOc'!$I$1)-0.5)*2.5,2))","v":1},{"$f":"IF(Z34>0,(MOD(ROUND((SEARCH(X34,'Eigen QTH LOc'!$I$1)-0.5)*2.5,2),TRUNC(Z34)))*60,0)","v":15},{"$f":"SEARCH(S34,'Eigen QTH LOc'!$I$1)*20-200+U34*2","v":{"$error":"#VALUE!"}},{"$f":"TRUNC((SEARCH(W34,'Eigen QTH LOc'!$I$1)-0.5)*5)","v":2},{"$f":"IF(AC34>0,(MOD((SEARCH(W34,'Eigen QTH LOc'!$I$1)-0.5)*5,TRUNC(AC34)))*60,0)","v":30},{"$error":"#VALUE!"},{"$error":"#VALUE!"},{"$f":"COS('Eigen QTH LOc'!$G$4-AF34)*SIN(PI()/2-AE34)*SIN(PI()/2-'Eigen QTH LOc'!$G$3)+COS(PI()/2-AE34)*COS(PI()/2-'Eigen QTH LOc'!$G$3)","v":{"$error":"#VALUE!"}},{"$error":"#VALUE!"},"ABCDEFGHIJKLMNOPQRSTUVWXABCDEFGHIJKLMNOPQRSTUVWX","\"0123456789\"",{"$f":"IF(B34>0,IF(K34=Infoblad!$C$6,0.5,0.5+AH34*40076.59/2/PI()),\" \")","v":" "},""]
[null,null," ",{"$f":"IF(B35>0,VASTETIJD(C35)-Infoblad!$C$29,\" \")","v":" "}," ",23," ",null,null,null,null,null,{"$f":"IF(L35>0,VLOOKUP(L35,Punten!$B$3:$C$109,2,FALSE),\" \")","v":" "},null," ",null,null,null,"","","","","","",{"$f":"SEARCH(T35,'Eigen QTH LOc'!$I$1)*10-100+V35","v":{"$error":"#VALUE!"}},{"$f":"TRUNC(ROUND((SEARCH(X35,'Eigen QTH LOc'!$I$1)-0.5)*2.5,2))","v":1},{"$f":"IF(Z35>0,(MOD(ROUND((SEARCH(X35,'Eigen QTH LOc'!$I$1)-0.5)*2.5,2),TRUNC(Z35)))*60,0)","v":15},{"$f":"SEARCH(S35,'Eigen QTH LOc'!$I$1)*20-200+U35*2","v":{"$error":"#VALUE!"}},{"$f":"TRUNC((SEARCH(W35,'Eigen QTH LOc'!$I$1)-0.5)*5)","v":2},{"$f":"IF(AC35>0,(MOD((SEARCH(W35,'Eigen QTH LOc'!$I$1)-0.5)*5,TRUNC(AC35)))*60,0)","v":30},{"$error":"#VALUE!"},{"$error":"#VALUE!"},{"$f":"COS('Eigen QTH LOc'!$G$4-AF35)*SIN(PI()/2-AE35)*SIN(PI()/2-'Eigen QTH LOc'!$G$3)+COS(PI()/2-AE35)*COS(PI()/2-'Eigen QTH LOc'!$G$3)","v":{"$error":"#VALUE!"}},{"$error":"#VALUE!"},"ABCDEFGHIJKLMNOPQRSTUVWXABCDEFGHIJKLMNOPQRSTUVWX","\"0123456789\"",{"$f":"IF(B35>0,IF(K35=Infoblad!$C$6,0.5,0.5+AH35*40076.59/2/PI()),\" \")","v":" "},""]
[null,null," ",{"$f":"IF(B36>0,VASTETIJD(C36)-Infoblad!$C$29,\" \")","v":" "}," ",24," ",null,null,null,null,null,{"$f":"IF(L36>0,VLOOKUP(L36,Punten!$B$3:$C$109,2,FALSE),\" \")","v":" "},null," ",null,null,null,"","","","","","",{"$f":"SEARCH(T36,'Eigen QTH LOc'!$I$1)*10-100+V36","v":{"$error":"#VALUE!"}},{"$f":"TRUNC(ROUND((SEARCH(X36,'Eigen QTH LOc'!$I$1)-0.5)*2.5,2))","v":1},{"$f":"IF(Z36>0,(MOD(ROUND((SEARCH(X36,'Eigen QTH LOc'!$I$1)-0.5)*2.5,2),TRUNC(Z36)))*60,0)","v":15},{"$f":"SEARCH(S36,'Eigen QTH LOc'!$I$1)*20-200+U36*2","v":{"$error":"#VALUE!"}},{"$f":"TRUNC((SEARCH(W36,'Eigen QTH LOc'!$I$1)-0.5)*5)","v":2},{"$f":"IF(AC36>0,(MOD((SEARCH(W36,'Eigen QTH LOc'!$I$1)-0.5)*5,TRUNC(AC36)))*60,0)","v":30},{"$error":"#VALUE!"},{"$error":"#VALUE!"},{"$f":"COS('Eigen QTH LOc'!$G$4-AF36)*SIN(PI()/2-AE36)*SIN(PI()/2-'Eigen QTH LOc'!$G$3)+COS(PI()/2-AE36)*COS(PI()/2-'Eigen QTH LOc'!$G$3)","v":{"$error":"#VALUE!"}},{"$error":"#VALUE!"},"ABCDEFGHIJKLMNOPQRSTUVWXABCDEFGHIJKLMNOPQRSTUVWX","\"0123456789\"",{"$f":"IF(B36>0,IF(K36=Infoblad!$C$6,0.5,0.5+AH36*40076.59/2/PI()),\" \")","v":" "},""]
[null,null," ",{"$f":"IF(B37>0,VASTETIJD(C37)-Infoblad!$C$29,\" \")","v":" "}," ",25," ",null,null,null,null,null,{"$f":"IF(L37>0,VLOOKUP(L37,Punten!$B$3:$C$109,2,FALSE),\" \")","v":" "},null," ",null,null,null,"","","","","","",{"$f":"SEARCH(T37,'Eigen QTH LOc'!$I$1)*10-100+V37","v":{"$error":"#VALUE!"}},{"$f":"TRUNC(ROUND((SEARCH(X37,'Eigen QTH LOc'!$I$1)-0.5)*2.5,2))","v":1},{"$f":"IF(Z37>0,(MOD(ROUND((SEARCH(X37,'Eigen QTH LOc'!$I$1)-0.5)*2.5,2),TRUNC(Z37)))*60,0)","v":15},{"$f":"SEARCH(S37,'Eigen QTH LOc'!$I$1)*20-200+U37*2","v":{"$error":"#VALUE!"}},{"$f":"TRUNC((SEARCH(W37,'Eigen QTH LOc'!$I$1)-0.5)*5)","v":2},{"$f":"IF(AC37>0,(MOD((SEARCH(W37,'Eigen QTH LOc'!$I$1)-0.5)*5,TRUNC(AC37)))*60,0)","v":30},{"$error":"#VALUE!"},{"$error":"#VALUE!"},{"$f":"COS('Eigen QTH LOc'!$G$4-AF37)*SIN(PI()/2-AE37)*SIN(PI()/2-'Eigen QTH LOc'!$G$3)+COS(PI()/2-AE37)*COS(PI()/2-'Eigen QTH LOc'!$G$3)","v":{"$error":"#VALUE!"}},{"$error":"#VALUE!"},"ABCDEFGHIJKLMNOPQRSTUVWXABCDEFGHIJKLMNOPQRSTUVWX","\"0123456789\"",{"$f":"IF(B37>0,IF(K37=Infoblad!$C$6,0.5,0.5+AH37*40076.59/2/PI()),\" \")","v":" "},""]
[null,null," ",{"$f":"IF(B38>0,VASTETIJD(C38)-Infoblad!$C$29,\" \")","v":" "}," ",26," ",null,null,null,null,null,{"$f":"IF(L38>0,VLOOKUP(L38,Punten!$B$3:$C$109,2,FALSE),\" \")","v":" "},null," ",null,null,null,"","","","","","",{"$f":"SEARCH(T38,'Eigen QTH LOc'!$I$1)*10-100+V38","v":{"$error":"#VALUE!"}},{"$f":"TRUNC(ROUND((SEARCH(X38,'Eigen QTH LOc'!$I$1)-0.5)*2.5,2))","v":1},{"$f":"IF(Z38>0,(MOD(ROUND((SEARCH(X38,'Eigen QTH LOc'!$I$1)-0.5)*2.5,2),TRUNC(Z38)))*60,0)","v":15},{"$f":"SEARCH(S38,'Eigen QTH LOc'!$I$1)*20-200+U38*2","v":{"$error":"#VALUE!"}},{"$f":"TRUNC((SEARCH(W38,'Eigen QTH LOc'!$I$1)-0.5)*5)","v":2},{"$f":"IF(AC38>0,(MOD((SEARCH(W38,'Eigen QTH LOc'!$I$1)-0.5)*5,TRUNC(AC38)))*60,0)","v":30},{"$error":"#VALUE!"},{"$error":"#VALUE!"},{"$f":"COS('Eigen QTH LOc'!$G$4-AF38)*SIN(PI()/2-AE38)*SIN(PI()/2-'Eigen QTH LOc'!$G$3)+COS(PI()/2-AE38)*COS(PI()/2-'Eigen QTH LOc'!$G$3)","v":{"$error":"#VALUE!"}},{"$error":"#VALUE!"},"ABCDEFGHIJKLMNOPQRSTUVWXABCDEFGHIJKLMNOPQRSTUVWX","\"0123456789\"",{"$f":"IF(B38>0,IF(K38=Infoblad!$C$6,0.5,0.5+AH38*40076.59/2/PI()),\" \")","v":" "},""]
[null,null," ",{"$f":"IF(B39>0,VASTETIJD(C39)-Infoblad!$C$29,\" \")","v":" "}," ",27," ",null,null,null,null,null,{"$f":"IF(L39>0,VLOOKUP(L39,Punten!$B$3:$C$109,2,FALSE),\" \")","v":" "},null," ",null,null,null,"","","","","","",{"$f":"SEARCH(T39,'Eigen QTH LOc'!$I$1)*10-100+V39","v":{"$error":"#VALUE!"}},{"$f":"TRUNC(ROUND((SEARCH(X39,'Eigen QTH LOc'!$I$1)-0.5)*2.5,2))","v":1},{"$f":"IF(Z39>0,(MOD(ROUND((SEARCH(X39,'Eigen QTH LOc'!$I$1)-0.5)*2.5,2),TRUNC(Z39)))*60,0)","v":15},{"$f":"SEARCH(S39,'Eigen QTH LOc'!$I$1)*20-200+U39*2","v":{"$error":"#VALUE!"}},{"$f":"TRUNC((SEARCH(W39,'Eigen QTH LOc'!$I$1)-0.5)*5)","v":2},{"$f":"IF(AC39>0,(MOD((SEARCH(W39,'Eigen QTH LOc'!$I$1)-0.5)*5,TRUNC(AC39)))*60,0)","v":30},{"$error":"#VALUE!"},{"$error":"#VALUE!"},{"$f":"COS('Eigen QTH LOc'!$G$4-AF39)*SIN(PI()/2-AE39)*SIN(PI()/2-'Eigen QTH LOc'!$G$3)+COS(PI()/2-AE39)*COS(PI()/2-'Eigen QTH LOc'!$G$3)","v":{"$error":"#VALUE!"}},{"$error":"#VALUE!"},"ABCDEFGHIJKLMNOPQRSTUVWXABCDEFGHIJKLMNOPQRSTUVWX","\"0123456789\"",{"$f":"IF(B39>0,IF(K39=Infoblad!$C$6,0.5,0.5+AH39*40076.59/2/PI()),\" \")","v":" "},""]
[null,null," ",{"$f":"IF(B40>0,VASTETIJD(C40)-Infoblad!$C$29,\" \")","v":" "}," ",28," ",null,null,null,null,null,{"$f":"IF(L40>0,VLOOKUP(L40,Punten!$B$3:$C$109,2,FALSE),\" \")","v":" "},null," ",null,null,null,"","","","","","",{"$f":"SEARCH(T40,'Eigen QTH LOc'!$I$1)*10-100+V40","v":{"$error":"#VALUE!"}},{"$f":"TRUNC(ROUND((SEARCH(X40,'Eigen QTH LOc'!$I$1)-0.5)*2.5,2))","v":1},{"$f":"IF(Z40>0,(MOD(ROUND((SEARCH(X40,'Eigen QTH LOc'!$I$1)-0.5)*2.5,2),TRUNC(Z40)))*60,0)","v":15},{"$f":"SEARCH(S40,'Eigen QTH LOc'!$I$1)*20-200+U40*2","v":{"$error":"#VALUE!"}},{"$f":"TRUNC((SEARCH(W40,'Eigen QTH LOc'!$I$1)-0.5)*5)","v":2},{"$f":"IF(AC40>0,(MOD((SEARCH(W40,'Eigen QTH LOc'!$I$1)-0.5)*5,TRUNC(AC40)))*60,0)","v":30},{"$error":"#VALUE!"},{"$error":"#VALUE!"},{"$f":"COS('Eigen QTH LOc'!$G$4-AF40)*SIN(PI()/2-AE40)*SIN(PI()/2-'Eigen QTH LOc'!$G$3)+COS(PI()/2-AE40)*COS(PI()/2-'Eigen QTH LOc'!$G$3)","v":{"$error":"#VALUE!"}},{"$error":"#VALUE!"},"ABCDEFGHIJKLMNOPQRSTUVWXABCDEFGHIJKLMNOPQRSTUVWX","\"0123456789\"",{"$f":"IF(B40>0,IF(K40=Infoblad!$C$6,0.5,0.5+AH40*40076.59/2/PI()),\" \")","v":" "},""]
[null,null," ",{"$f":"IF(B41>0,VASTETIJD(C41)-Infoblad!$C$29,\" \")","v":" "}," ",29," ",null,null,null,null,null,{"$f":"IF(L41>0,VLOOKUP(L41,Punten!$B$3:$C$109,2,FALSE),\" \")","v":" "},null," ",null,null,null,"","","","","","",{"$f":"SEARCH(T41,'Eigen QTH LOc'!$I$1)*10-100+V41","v":{"$error":"#VALUE!"}},{"$f":"TRUNC(ROUND((SEARCH(X41,'Eigen QTH LOc'!$I$1)-0.5)*2.5,2))","v":1},{"$f":"IF(Z41>0,(MOD(ROUND((SEARCH(X41,'Eigen QTH LOc'!$I$1)-0.5)*2.5,2),TRUNC(Z41)))*60,0)","v":15},{"$f":"SEARCH(S41,'Eigen QTH LOc'!$I$1)*20-200+U41*2","v":{"$error":"#VALUE!"}},{"$f":"TRUNC((SEARCH(W41,'Eigen QTH LOc'!$I$1)-0.5)*5)","v":2},{"$f":"IF(AC41>0,(MOD((SEARCH(W41,'Eigen QTH LOc'!$I$1)-0.5)*5,TRUNC(AC41)))*60,0)","v":30},{"$error":"#VALUE!"},{"$error":"#VALUE!"},{"$f":"COS('Eigen QTH LOc'!$G$4-AF41)*SIN(PI()/2-AE41)*SIN(PI()/2-'Eigen QTH LOc'!$G$3)+COS(PI()/2-AE41)*COS(PI()/2-'Eigen QTH LOc'!$G$3)","v":{"$error":"#VALUE!"}},{"$error":"#VALUE!"},"ABCDEFGHIJKLMNOPQRSTUVWXABCDEFGHIJKLMNOPQRSTUVWX","\"0123456789\"",{"$f":"IF(B41>0,IF(K41=Infoblad!$C$6,0.5,0.5+AH41*40076.59/2/PI()),\" \")","v":" "},""]
[null,null," ",{"$f":"IF(B42>0,VASTETIJD(C42)-Infoblad!$C$29,\" \")","v":" "}," ",30," ",null,null,null,null,null,{"$f":"IF(L42>0,VLOOKUP(L42,Punten!$B$3:$C$109,2,FALSE),\" \")","v":" "},null," ",null,null,null,"","","","","","",{"$f":"SEARCH(T42,'Eigen QTH LOc'!$I$1)*10-100+V42","v":{"$error":"#VALUE!"}},{"$f":"TRUNC(ROUND((SEARCH(X42,'Eigen QTH LOc'!$I$1)-0.5)*2.5,2))","v":1},{"$f":"IF(Z42>0,(MOD(ROUND((SEARCH(X42,'Eigen QTH LOc'!$I$1)-0.5)*2.5,2),TRUNC(Z42)))*60,0)","v":15},{"$f":"SEARCH(S42,'Eigen QTH LOc'!$I$1)*20-200+U42*2","v":{"$error":"#VALUE!"}},{"$f":"TRUNC((SEARCH(W42,'Eigen QTH LOc'!$I$1)-0.5)*5)","v":2},{"$f":"IF(AC42>0,(MOD((SEARCH(W42,'Eigen QTH LOc'!$I$1)-0.5)*5,TRUNC(AC42)))*60,0)","v":30},{"$error":"#VALUE!"},{"$error":"#VALUE!"},{"$f":"COS('Eigen QTH LOc'!$G$4-AF42)*SIN(PI()/2-AE42)*SIN(PI()/2-'Eigen QTH LOc'!$G$3)+COS(PI()/2-AE42)*COS(PI()/2-'Eigen QTH LOc'!$G$3)","v":{"$error":"#VALUE!"}},{"$error":"#VALUE!"},"ABCDEFGHIJKLMNOPQRSTUVWXABCDEFGHIJKLMNOPQRSTUVWX","\"0123456789\"",{"$f":"IF(B42>0,IF(K42=Infoblad!$C$6,0.5,0.5+AH42*40076.59/2/PI()),\" \")","v":" "},""]
[null,null," ",{"$f":"IF(B43>0,VASTETIJD(C43)-Infoblad!$C$29,\" \")","v":" "}," ",31," ",null,null,null,null,null,{"$f":"IF(L43>0,VLOOKUP(L43,Punten!$B$3:$C$109,2,FALSE),\" \")","v":" "},null," ",null,null,null,"","","","","","",{"$f":"SEARCH(T43,'Eigen QTH LOc'!$I$1)*10-100+V43","v":{"$error":"#VALUE!"}},{"$f":"TRUNC(ROUND((SEARCH(X43,'Eigen QTH LOc'!$I$1)-0.5)*2.5,2))","v":1},{"$f":"IF(Z43>0,(MOD(ROUND((SEARCH(X43,'Eigen QTH LOc'!$I$1)-0.5)*2.5,2),TRUNC(Z43)))*60,0)","v":15},{"$f":"SEARCH(S43,'Eigen QTH LOc'!$I$1)*20-200+U43*2","v":{"$error":"#VALUE!"}},{"$f":"TRUNC((SEARCH(W43,'Eigen QTH LOc'!$I$1)-0.5)*5)","v":2},{"$f":"IF(AC43>0,(MOD((SEARCH(W43,'Eigen QTH LOc'!$I$1)-0.5)*5,TRUNC(AC43)))*60,0)","v":30},{"$error":"#VALUE!"},{"$error":"#VALUE!"},{"$f":"COS('Eigen QTH LOc'!$G$4-AF43)*SIN(PI()/2-AE43)*SIN(PI()/2-'Eigen QTH LOc'!$G$3)+COS(PI()/2-AE43)*COS(PI()/2-'Eigen QTH LOc'!$G$3)","v":{"$error":"#VALUE!"}},{"$error":"#VALUE!"},"ABCDEFGHIJKLMNOPQRSTUVWXABCDEFGHIJKLMNOPQRSTUVWX","\"0123456789\"",{"$f":"IF(B43>0,IF(K43=Infoblad!$C$6,0.5,0.5+AH43*40076.59/2/PI()),\" \")","v":" "},""]
[null,null," ",{"$f":"IF(B44>0,VASTETIJD(C44)-Infoblad!$C$29,\" \")","v":" "}," ",32," ",null,null,null,null,null,{"$f":"IF(L44>0,VLOOKUP(L44,Punten!$B$3:$C$109,2,FALSE),\" \")","v":" "},null," ",null,null,null,"","","","","","",{"$f":"SEARCH(T44,'Eigen QTH LOc'!$I$1)*10-100+V44","v":{"$error":"#VALUE!"}},{"$f":"TRUNC(ROUND((SEARCH(X44,'Eigen QTH LOc'!$I$1)-0.5)*2.5,2))","v":1},{"$f":"IF(Z44>0,(MOD(ROUND((SEARCH(X44,'Eigen QTH LOc'!$I$1)-0.5)*2.5,2),TRUNC(Z44)))*60,0)","v":15},{"$f":"SEARCH(S44,'Eigen QTH LOc'!$I$1)*20-200+U44*2","v":{"$error":"#VALUE!"}},{"$f":"TRUNC((SEARCH(W44,'Eigen QTH LOc'!$I$1)-0.5)*5)","v":2},{"$f":"IF(AC44>0,(MOD((SEARCH(W44,'Eigen QTH LOc'!$I$1)-0.5)*5,TRUNC(AC44)))*60,0)","v":30},{"$error":"#VALUE!"},{"$error":"#VALUE!"},{"$f":"COS('Eigen QTH LOc'!$G$4-AF44)*SIN(PI()/2-AE44)*SIN(PI()/2-'Eigen QTH LOc'!$G$3)+COS(PI()/2-AE44)*COS(PI()/2-'Eigen QTH LOc'!$G$3)","v":{"$error":"#VALUE!"}},{"$error":"#VALUE!"},"ABCDEFGHIJKLMNOPQRSTUVWXABCDEFGHIJKLMNOPQRSTUVWX","\"0123456789\"",{"$f":"IF(B44>0,IF(K44=Infoblad!$C$6,0.5,0.5+AH44*40076.59/2/PI()),\" \")","v":" "},""]
[null,null," ",{"$f":"IF(B45>0,VASTETIJD(C45)-Infoblad!$C$29,\" \")","v":" "}," ",33," ",null,null,null,null,null,{"$f":"IF(L45>0,VLOOKUP(L45,Punten!$B$3:$C$109,2,FALSE),\" \")","v":" "},null," ",null,null,null,"","","","","","",{"$f":"SEARCH(T45,'Eigen QTH LOc'!$I$1)*10-100+V45","v":{"$error":"#VALUE!"}},{"$f":"TRUNC(ROUND((SEARCH(X45,'Eigen QTH LOc'!$I$1)-0.5)*2.5,2))","v":1},{"$f":"IF(Z45>0,(MOD(ROUND((SEARCH(X45,'Eigen QTH LOc'!$I$1)-0.5)*2.5,2),TRUNC(Z45)))*60,0)","v":15},{"$f":"SEARCH(S45,'Eigen QTH LOc'!$I$1)*20-200+U45*2","v":{"$error":"#VALUE!"}},{"$f":"TRUNC((SEARCH(W45,'Eigen QTH LOc'!$I$1)-0.5)*5)","v":2},{"$f":"IF(AC45>0,(MOD((SEARCH(W45,'Eigen QTH LOc'!$I$1)-0.5)*5,TRUNC(AC45)))*60,0)","v":30},{"$error":"#VALUE!"},{"$error":"#VALUE!"},{"$f":"COS('Eigen QTH LOc'!$G$4-AF45)*SIN(PI()/2-AE45)*SIN(PI()/2-'Eigen QTH LOc'!$G$3)+COS(PI()/2-AE45)*COS(PI()/2-'Eigen QTH LOc'!$G$3)","v":{"$error":"#VALUE!"}},{"$error":"#VALUE!"},"ABCDEFGHIJKLMNOPQRSTUVWXABCDEFGHIJKLMNOPQRSTUVWX","\"0123456789\"",{"$f":"IF(B45>0,IF(K45=Infoblad!$C$6,0.5,0.5+AH45*40076.59/2/PI()),\" \")","v":" "},""]
[null,null," ",{"$f":"IF(B46>0,VASTETIJD(C46)-Infoblad!$C$29,\" \")","v":" "}," ",34," ",null,null,null,null,null,{"$f":"IF(L46>0,VLOOKUP(L46,Punten!$B$3:$C$109,2,FALSE),\" \")","v":" "},null," ",null,null,null,"","","","","","",{"$f":"SEARCH(T46,'Eigen QTH LOc'!$I$1)*10-100+V46","v":{"$error":"#VALUE!"}},{"$f":"TRUNC(ROUND((SEARCH(X46,'Eigen QTH LOc'!$I$1)-0.5)*2.5,2))","v":1},{"$f":"IF(Z46>0,(MOD(ROUND((SEARCH(X46,'Eigen QTH LOc'!$I$1)-0.5)*2.5,2),TRUNC(Z46)))*60,0)","v":15},{"$f":"SEARCH(S46,'Eigen QTH LOc'!$I$1)*20-200+U46*2","v":{"$error":"#VALUE!"}},{"$f":"TRUNC((SEARCH(W46,'Eigen QTH LOc'!$I$1)-0.5)*5)","v":2},{"$f":"IF(AC46>0,(MOD((SEARCH(W46,'Eigen QTH LOc'!$I$1)-0.5)*5,TRUNC(AC46)))*60,0)","v":30},{"$error":"#VALUE!"},{"$error":"#VALUE!"},{"$f":"COS('Eigen QTH LOc'!$G$4-AF46)*SIN(PI()/2-AE46)*SIN(PI()/2-'Eigen QTH LOc'!$G$3)+COS(PI()/2-AE46)*COS(PI()/2-'Eigen QTH LOc'!$G$3)","v":{"$error":"#VALUE!"}},{"$f":"-ATAN($AG46/SQRT(1-$AG46*$AG46))+PI()/2","v":{"$error":"#VALUE!"}},"ABCDEFGHIJKLMNOPQRSTUVWXABCDEFGHIJKLMNOPQRSTUVWX","\"0123456789\"",{"$f":"IF(B46>0,IF(K46=Infoblad!$C$6,0.5,0.5+AH46*40076.59/2/PI()),\" \")","v":" "},""]
[null,null," ",{"$f":"IF(B47>0,VASTETIJD(C47)-Infoblad!$C$29,\" \")","v":" "}," ",35," ",null,null,null,null,null,{"$f":"IF(L47>0,VLOOKUP(L47,Punten!$B$3:$C$109,2,FALSE),\" \")","v":" "},null," ",null,null,null,"","","","","","",{"$f":"SEARCH(T47,'Eigen QTH LOc'!$I$1)*10-100+V47","v":{"$error":"#VALUE!"}},{"$f":"TRUNC(ROUND((SEARCH(X47,'Eigen QTH LOc'!$I$1)-0.5)*2.5,2))","v":1},{"$f":"IF(Z47>0,(MOD(ROUND((SEARCH(X47,'Eigen QTH LOc'!$I$1)-0.5)*2.5,2),TRUNC(Z47)))*60,0)","v":15},{"$f":"SEARCH(S47,'Eigen QTH LOc'!$I$1)*20-200+U47*2","v":{"$error":"#VALUE!"}},{"$f":"TRUNC((SEARCH(W47,'Eigen QTH LOc'!$I$1)-0.5)*5)","v":2},{"$f":"IF(AC47>0,(MOD((SEARCH(W47,'Eigen QTH LOc'!$I$1)-0.5)*5,TRUNC(AC47)))*60,0)","v":30},{"$error":"#VALUE!"},{"$error":"#VALUE!"},{"$f":"COS('Eigen QTH LOc'!$G$4-AF47)*SIN(PI()/2-AE47)*SIN(PI()/2-'Eigen QTH LOc'!$G$3)+COS(PI()/2-AE47)*COS(PI()/2-'Eigen QTH LOc'!$G$3)","v":{"$error":"#VALUE!"}},{"$error":"#VALUE!"},"ABCDEFGHIJKLMNOPQRSTUVWXABCDEFGHIJKLMNOPQRSTUVWX","\"0123456789\"",{"$f":"IF(B47>0,IF(K47=Infoblad!$C$6,0.5,0.5+AH47*40076.59/2/PI()),\" \")","v":" "},""]
[null,null," ",{"$f":"IF(B48>0,VASTETIJD(C48)-Infoblad!$C$29,\" \")","v":" "}," ",36," ",null,null,null,null,null,{"$f":"IF(L48>0,VLOOKUP(L48,Punten!$B$3:$C$109,2,FALSE),\" \")","v":" "},null," ",null,null,null,"","","","","","",{"$f":"SEARCH(T48,'Eigen QTH LOc'!$I$1)*10-100+V48","v":{"$error":"#VALUE!"}},{"$f":"TRUNC(ROUND((SEARCH(X48,'Eigen QTH LOc'!$I$1)-0.5)*2.5,2))","v":1},{"$f":"IF(Z48>0,(MOD(ROUND((SEARCH(X48,'Eigen QTH LOc'!$I$1)-0.5)*2.5,2),TRUNC(Z48)))*60,0)","v":15},{"$f":"SEARCH(S48,'Eigen QTH LOc'!$I$1)*20-200+U48*2","v":{"$error":"#VALUE!"}},{"$f":"TRUNC((SEARCH(W48,'Eigen QTH LOc'!$I$1)-0.5)*5)","v":2},{"$f":"IF(AC48>0,(MOD((SEARCH(W48,'Eigen QTH LOc'!$I$1)-0.5)*5,TRUNC(AC48)))*60,0)","v":30},{"$error":"#VALUE!"},{"$error":"#VALUE!"},{"$f":"COS('Eigen QTH LOc'!$G$4-AF48)*SIN(PI()/2-AE48)*SIN(PI()/2-'Eigen QTH LOc'!$G$3)+COS(PI()/2-AE48)*COS(PI()/2-'Eigen QTH LOc'!$G$3)","v":{"$error":"#VALUE!"}},{"$error":"#VALUE!"},"ABCDEFGHIJKLMNOPQRSTUVWXABCDEFGHIJKLMNOPQRSTUVWX","\"0123456789\"",{"$f":"IF(B48>0,IF(K48=Infoblad!$C$6,0.5,0.5+AH48*40076.59/2/PI()),\" \")","v":" "},""]
[null,null," ",{"$f":"IF(B49>0,VASTETIJD(C49)-Infoblad!$C$29,\" \")","v":" "}," ",37," ",null,null,null,null,null,{"$f":"IF(L49>0,VLOOKUP(L49,Punten!$B$3:$C$109,2,FALSE),\" \")","v":" "},null," ",null,null,null,"","","","","","",{"$f":"SEARCH(T49,'Eigen QTH LOc'!$I$1)*10-100+V49","v":{"$error":"#VALUE!"}},{"$f":"TRUNC(ROUND((SEARCH(X49,'Eigen QTH LOc'!$I$1)-0.5)*2.5,2))","v":1},{"$f":"IF(Z49>0,(MOD(ROUND((SEARCH(X49,'Eigen QTH LOc'!$I$1)-0.5)*2.5,2),TRUNC(Z49)))*60,0)","v":15},{"$f":"SEARCH(S49,'Eigen QTH LOc'!$I$1)*20-200+U49*2","v":{"$error":"#VALUE!"}},{"$f":"TRUNC((SEARCH(W49,'Eigen QTH LOc'!$I$1)-0.5)*5)","v":2},{"$f":"IF(AC49>0,(MOD((SEARCH(W49,'Eigen QTH LOc'!$I$1)-0.5)*5,TRUNC(AC49)))*60,0)","v":30},{"$error":"#VALUE!"},{"$error":"#VALUE!"},{"$f":"COS('Eigen QTH LOc'!$G$4-AF49)*SIN(PI()/2-AE49)*SIN(PI()/2-'Eigen QTH LOc'!$G$3)+COS(PI()/2-AE49)*COS(PI()/2-'Eigen QTH LOc'!$G$3)","v":{"$error":"#VALUE!"}},{"$error":"#VALUE!"},"ABCDEFGHIJKLMNOPQRSTUVWXABCDEFGHIJKLMNOPQRSTUVWX","\"0123456789\"",{"$f":"IF(B49>0,IF(K49=Infoblad!$C$6,0.5,0.5+AH49*40076.59/2/PI()),\" \")","v":" "},""]
[null,null," ",{"$f":"IF(B50>0,VASTETIJD(C50)-Infoblad!$C$29,\" \")","v":" "}," ",38," ",null,null,null,null,null,{"$f":"IF(L50>0,VLOOKUP(L50,Punten!$B$3:$C$109,2,FALSE),\" \")","v":" "},null," ",null,null,null,"","","","","","",{"$f":"SEARCH(T50,'Eigen QTH LOc'!$I$1)*10-100+V50","v":{"$error":"#VALUE!"}},{"$f":"TRUNC(ROUND((SEARCH(X50,'Eigen QTH LOc'!$I$1)-0.5)*2.5,2))","v":1},{"$f":"IF(Z50>0,(MOD(ROUND((SEARCH(X50,'Eigen QTH LOc'!$I$1)-0.5)*2.5,2),TRUNC(Z50)))*60,0)","v":15},{"$f":"SEARCH(S50,'Eigen QTH LOc'!$I$1)*20-200+U50*2","v":{"$error":"#VALUE!"}},{"$f":"TRUNC((SEARCH(W50,'Eigen QTH LOc'!$I$1)-0.5)*5)","v":2},{"$f":"IF(AC50>0,(MOD((SEARCH(W50,'Eigen QTH LOc'!$I$1)-0.5)*5,TRUNC(AC50)))*60,0)","v":30},{"$error":"#VALUE!"},{"$error":"#VALUE!"},{"$f":"COS('Eigen QTH LOc'!$G$4-AF50)*SIN(PI()/2-AE50)*SIN(PI()/2-'Eigen QTH LOc'!$G$3)+COS(PI()/2-AE50)*COS(PI()/2-'Eigen QTH LOc'!$G$3)","v":{"$error":"#VALUE!"}},{"$error":"#VALUE!"},"ABCDEFGHIJKLMNOPQRSTUVWXABCDEFGHIJKLMNOPQRSTUVWX","\"0123456789\"",{"$f":"IF(B50>0,IF(K50=Infoblad!$C$6,0.5,0.5+AH50*40076.59/2/PI()),\" \")","v":" "},""]
[null,null," ",{"$f":"IF(B51>0,VASTETIJD(C51)-Infoblad!$C$29,\" \")","v":" "}," ",39," ",null,null,null,null,null,{"$f":"IF(L51>0,VLOOKUP(L51,Punten!$B$3:$C$109,2,FALSE),\" \")","v":" "},null," ",null,null,null,"","","","","","",{"$f":"SEARCH(T51,'Eigen QTH LOc'!$I$1)*10-100+V51","v":{"$error":"#VALUE!"}},{"$f":"TRUNC(ROUND((SEARCH(X51,'Eigen QTH LOc'!$I$1)-0.5)*2.5,2))","v":1},{"$f":"IF(Z51>0,(MOD(ROUND((SEARCH(X51,'Eigen QTH LOc'!$I$1)-0.5)*2.5,2),TRUNC(Z51)))*60,0)","v":15},{"$f":"SEARCH(S51,'Eigen QTH LOc'!$I$1)*20-200+U51*2","v":{"$error":"#VALUE!"}},{"$f":"TRUNC((SEARCH(W51,'Eigen QTH LOc'!$I$1)-0.5)*5)","v":2},{"$f":"IF(AC51>0,(MOD((SEARCH(W51,'Eigen QTH LOc'!$I$1)-0.5)*5,TRUNC(AC51)))*60,0)","v":30},{"$error":"#VALUE!"},{"$error":"#VALUE!"},{"$f":"COS('Eigen QTH LOc'!$G$4-AF51)*SIN(PI()/2-AE51)*SIN(PI()/2-'Eigen QTH LOc'!$G$3)+COS(PI()/2-AE51)*COS(PI()/2-'Eigen QTH LOc'!$G$3)","v":{"$error":"#VALUE!"}},{"$error":"#VALUE!"},"ABCDEFGHIJKLMNOPQRSTUVWXABCDEFGHIJKLMNOPQRSTUVWX","\"0123456789\"",{"$f":"IF(B51>0,IF(K51=Infoblad!$C$6,0.5,0.5+AH51*40076.59/2/PI()),\" \")","v":" "},""]
[null,null," ",{"$f":"IF(B52>0,VASTETIJD(C52)-Infoblad!$C$29,\" \")","v":" "}," ",40," ",null,null,null,null,null,{"$f":"IF(L52>0,VLOOKUP(L52,Punten!$B$3:$C$109,2,FALSE),\" \")","v":" "},null," ",null,null,null,"","","","","","",{"$f":"SEARCH(T52,'Eigen QTH LOc'!$I$1)*10-100+V52","v":{"$error":"#VALUE!"}},{"$f":"TRUNC(ROUND((SEARCH(X52,'Eigen QTH LOc'!$I$1)-0.5)*2.5,2))","v":1},{"$f":"IF(Z52>0,(MOD(ROUND((SEARCH(X52,'Eigen QTH LOc'!$I$1)-0.5)*2.5,2),TRUNC(Z52)))*60,0)","v":15},{"$f":"SEARCH(S52,'Eigen QTH LOc'!$I$1)*20-200+U52*2","v":{"$error":"#VALUE!"}},{"$f":"TRUNC((SEARCH(W52,'Eigen QTH LOc'!$I$1)-0.5)*5)","v":2},{"$f":"IF(AC52>0,(MOD((SEARCH(W52,'Eigen QTH LOc'!$I$1)-0.5)*5,TRUNC(AC52)))*60,0)","v":30},{"$error":"#VALUE!"},{"$error":"#VALUE!"},{"$f":"COS('Eigen QTH LOc'!$G$4-AF52)*SIN(PI()/2-AE52)*SIN(PI()/2-'Eigen QTH LOc'!$G$3)+COS(PI()/2-AE52)*COS(PI()/2-'Eigen QTH LOc'!$G$3)","v":{"$error":"#VALUE!"}},{"$error":"#VALUE!"},"ABCDEFGHIJKLMNOPQRSTUVWXABCDEFGHIJKLMNOPQRSTUVWX","\"0123456789\"",{"$f":"IF(B52>0,IF(K52=Infoblad!$C$6,0.5,0.5+AH52*40076.59/2/PI()),\" \")","v":" "},""]
[null,null," ",{"$f":"IF(B53>0,VASTETIJD(C53)-Infoblad!$C$29,\" \")","v":" "}," ",41," ",null,null,null,null,null,{"$f":"IF(L53>0,VLOOKUP(L53,Punten!$B$3:$C$109,2,FALSE),\" \")","v":" "},null," ",null,null,null,"","","","","","",{"$f":"SEARCH(T53,'Eigen QTH LOc'!$I$1)*10-100+V53","v":{"$error":"#VALUE!"}},{"$f":"TRUNC(ROUND((SEARCH(X53,'Eigen QTH LOc'!$I$1)-0.5)*2.5,2))","v":1},{"$f":"IF(Z53>0,(MOD(ROUND((SEARCH(X53,'Eigen QTH LOc'!$I$1)-0.5)*2.5,2),TRUNC(Z53)))*60,0)","v":15},{"$f":"SEARCH(S53,'Eigen QTH LOc'!$I$1)*20-200+U53*2","v":{"$error":"#VALUE!"}},{"$f":"TRUNC((SEARCH(W53,'Eigen QTH LOc'!$I$1)-0.5)*5)","v":2},{"$f":"IF(AC53>0,(MOD((SEARCH(W53,'Eigen QTH LOc'!$I$1)-0.5)*5,TRUNC(AC53)))*60,0)","v":30},{"$error":"#VALUE!"},{"$error":"#VALUE!"},{"$f":"COS('Eigen QTH LOc'!$G$4-AF53)*SIN(PI()/2-AE53)*SIN(PI()/2-'Eigen QTH LOc'!$G$3)+COS(PI()/2-AE53)*COS(PI()/2-'Eigen QTH LOc'!$G$3)","v":{"$error":"#VALUE!"}},{"$error":"#VALUE!"},"ABCDEFGHIJKLMNOPQRSTUVWXABCDEFGHIJKLMNOPQRSTUVWX","\"0123456789\"",{"$f":"IF(B53>0,IF(K53=Infoblad!$C$6,0.5,0.5+AH53*40076.59/2/PI()),\" \")","v":" "},""]
[null,null," ",{"$f":"IF(B54>0,VASTETIJD(C54)-Infoblad!$C$29,\" \")","v":" "}," ",42," ",null,null,null,null,null,{"$f":"IF(L54>0,VLOOKUP(L54,Punten!$B$3:$C$109,2,FALSE),\" \")","v":" "},null," ",null,null,null,"","","","","","",{"$f":"SEARCH(T54,'Eigen QTH LOc'!$I$1)*10-100+V54","v":{"$error":"#VALUE!"}},{"$f":"TRUNC(ROUND((SEARCH(X54,'Eigen QTH LOc'!$I$1)-0.5)*2.5,2))","v":1},{"$f":"IF(Z54>0,(MOD(ROUND((SEARCH(X54,'Eigen QTH LOc'!$I$1)-0.5)*2.5,2),TRUNC(Z54)))*60,0)","v":15},{"$f":"SEARCH(S54,'Eigen QTH LOc'!$I$1)*20-200+U54*2","v":{"$error":"#VALUE!"}},{"$f":"TRUNC((SEARCH(W54,'Eigen QTH LOc'!$I$1)-0.5)*5)","v":2},{"$f":"IF(AC54>0,(MOD((SEARCH(W54,'Eigen QTH LOc'!$I$1)-0.5)*5,TRUNC(AC54)))*60,0)","v":30},{"$error":"#VALUE!"},{"$error":"#VALUE!"},{"$f":"COS('Eigen QTH LOc'!$G$4-AF54)*SIN(PI()/2-AE54)*SIN(PI()/2-'Eigen QTH LOc'!$G$3)+COS(PI()/2-AE54)*COS(PI()/2-'Eigen QTH LOc'!$G$3)","v":{"$error":"#VALUE!"}},{"$error":"#VALUE!"},"ABCDEFGHIJKLMNOPQRSTUVWXABCDEFGHIJKLMNOPQRSTUVWX","\"0123456789\"",{"$f":"IF(B54>0,IF(K54=Infoblad!$C$6,0.5,0.5+AH54*40076.59/2/PI()),\" \")","v":" "},""]
[null,null," ",{"$f":"IF(B55>0,VASTETIJD(C55)-Infoblad!$C$29,\" \")","v":" "}," ",43," ",null,null,null,null,null,{"$f":"IF(L55>0,VLOOKUP(L55,Punten!$B$3:$C$109,2,FALSE),\" \")","v":" "},null," ",null,null,null,"","","","","","",{"$f":"SEARCH(T55,'Eigen QTH LOc'!$I$1)*10-100+V55","v":{"$error":"#VALUE!"}},{"$f":"TRUNC(ROUND((SEARCH(X55,'Eigen QTH LOc'!$I$1)-0.5)*2.5,2))","v":1},{"$f":"IF(Z55>0,(MOD(ROUND((SEARCH(X55,'Eigen QTH LOc'!$I$1)-0.5)*2.5,2),TRUNC(Z55)))*60,0)","v":15},{"$f":"SEARCH(S55,'Eigen QTH LOc'!$I$1)*20-200+U55*2","v":{"$error":"#VALUE!"}},{"$f":"TRUNC((SEARCH(W55,'Eigen QTH LOc'!$I$1)-0.5)*5)","v":2},{"$f":"IF(AC55>0,(MOD((SEARCH(W55,'Eigen QTH LOc'!$I$1)-0.5)*5,TRUNC(AC55)))*60,0)","v":30},{"$error":"#VALUE!"},{"$error":"#VALUE!"},{"$f":"COS('Eigen QTH LOc'!$G$4-AF55)*SIN(PI()/2-AE55)*SIN(PI()/2-'Eigen QTH LOc'!$G$3)+COS(PI()/2-AE55)*COS(PI()/2-'Eigen QTH LOc'!$G$3)","v":{"$error":"#VALUE!"}},{"$error":"#VALUE!"},"ABCDEFGHIJKLMNOPQRSTUVWXABCDEFGHIJKLMNOPQRSTUVWX","\"0123456789\"",{"$f":"IF(B55>0,IF(K55=Infoblad!$C$6,0.5,0.5+AH55*40076.59/2/PI()),\" \")","v":" "},""]
[null,null," ",{"$f":"IF(B56>0,VASTETIJD(C56)-Infoblad!$C$29,\" \")","v":" "}," ",44," ",null,null,null,null,null,{"$f":"IF(L56>0,VLOOKUP(L56,Punten!$B$3:$C$109,2,FALSE),\" \")","v":" "},null," ",null,null,null,"","","","","","",{"$f":"SEARCH(T56,'Eigen QTH LOc'!$I$1)*10-100+V56","v":{"$error":"#VALUE!"}},{"$f":"TRUNC(ROUND((SEARCH(X56,'Eigen QTH LOc'!$I$1)-0.5)*2.5,2))","v":1},{"$f":"IF(Z56>0,(MOD(ROUND((SEARCH(X56,'Eigen QTH LOc'!$I$1)-0.5)*2.5,2),TRUNC(Z56)))*60,0)","v":15},{"$f":"SEARCH(S56,'Eigen QTH LOc'!$I$1)*20-200+U56*2","v":{"$error":"#VALUE!"}},{"$f":"TRUNC((SEARCH(W56,'Eigen QTH LOc'!$I$1)-0.5)*5)","v":2},{"$f":"IF(AC56>0,(MOD((SEARCH(W56,'Eigen QTH LOc'!$I$1)-0.5)*5,TRUNC(AC56)))*60,0)","v":30},{"$error":"#VALUE!"},{"$error":"#VALUE!"},{"$f":"COS('Eigen QTH LOc'!$G$4-AF56)*SIN(PI()/2-AE56)*SIN(PI()/2-'Eigen QTH LOc'!$G$3)+COS(PI()/2-AE56)*COS(PI()/2-'Eigen QTH LOc'!$G$3)","v":{"$error":"#VALUE!"}},{"$error":"#VALUE!"},"ABCDEFGHIJKLMNOPQRSTUVWXABCDEFGHIJKLMNOPQRSTUVWX","\"0123456789\"",{"$f":"IF(B56>0,IF(K56=Infoblad!$C$6,0.5,0.5+AH56*40076.59/2/PI()),\" \")","v":" "},""]
[null,null," ",{"$f":"IF(B57>0,VASTETIJD(C57)-Infoblad!$C$29,\" \")","v":" "}," ",45," ",null,null,null,null,null,{"$f":"IF(L57>0,VLOOKUP(L57,Punten!$B$3:$C$109,2,FALSE),\" \")","v":" "},null," ",null,null,null,"","","","","","",{"$f":"SEARCH(T57,'Eigen QTH LOc'!$I$1)*10-100+V57","v":{"$error":"#VALUE!"}},{"$f":"TRUNC(ROUND((SEARCH(X57,'Eigen QTH LOc'!$I$1)-0.5)*2.5,2))","v":1},{"$f":"IF(Z57>0,(MOD(ROUND((SEARCH(X57,'Eigen QTH LOc'!$I$1)-0.5)*2.5,2),TRUNC(Z57)))*60,0)","v":15},{"$f":"SEARCH(S57,'Eigen QTH LOc'!$I$1)*20-200+U57*2","v":{"$error":"#VALUE!"}},{"$f":"TRUNC((SEARCH(W57,'Eigen QTH LOc'!$I$1)-0.5)*5)","v":2},{"$f":"IF(AC57>0,(MOD((SEARCH(W57,'Eigen QTH LOc'!$I$1)-0.5)*5,TRUNC(AC57)))*60,0)","v":30},{"$error":"#VALUE!"},{"$error":"#VALUE!"},{"$f":"COS('Eigen QTH LOc'!$G$4-AF57)*SIN(PI()/2-AE57)*SIN(PI()/2-'Eigen QTH LOc'!$G$3)+COS(PI()/2-AE57)*COS(PI()/2-'Eigen QTH LOc'!$G$3)","v":{"$error":"#VALUE!"}},{"$error":"#VALUE!"},"ABCDEFGHIJKLMNOPQRSTUVWXABCDEFGHIJKLMNOPQRSTUVWX","\"0123456789\"",{"$f":"IF(B57>0,IF(K57=Infoblad!$C$6,0.5,0.5+AH57*40076.59/2/PI()),\" \")","v":" "},""]
[null,null," ",{"$f":"IF(B58>0,VASTETIJD(C58)-Infoblad!$C$29,\" \")","v":" "}," ",46," ",null,null,null,null,null,{"$f":"IF(L58>0,VLOOKUP(L58,Punten!$B$3:$C$109,2,FALSE),\" \")","v":" "},null," ",null,null,null,"","","","","","",{"$f":"SEARCH(T58,'Eigen QTH LOc'!$I$1)*10-100+V58","v":{"$error":"#VALUE!"}},{"$f":"TRUNC(ROUND((SEARCH(X58,'Eigen QTH LOc'!$I$1)-0.5)*2.5,2))","v":1},{"$f":"IF(Z58>0,(MOD(ROUND((SEARCH(X58,'Eigen QTH LOc'!$I$1)-0.5)*2.5,2),TRUNC(Z58)))*60,0)","v":15},{"$f":"SEARCH(S58,'Eigen QTH LOc'!$I$1)*20-200+U58*2","v":{"$error":"#VALUE!"}},{"$f":"TRUNC((SEARCH(W58,'Eigen QTH LOc'!$I$1)-0.5)*5)","v":2},{"$f":"IF(AC58>0,(MOD((SEARCH(W58,'Eigen QTH LOc'!$I$1)-0.5)*5,TRUNC(AC58)))*60,0)","v":30},{"$error":"#VALUE!"},{"$error":"#VALUE!"},{"$f":"COS('Eigen QTH LOc'!$G$4-AF58)*SIN(PI()/2-AE58)*SIN(PI()/2-'Eigen QTH LOc'!$G$3)+COS(PI()/2-AE58)*COS(PI()/2-'Eigen QTH LOc'!$G$3)","v":{"$error":"#VALUE!"}},{"$error":"#VALUE!"},"ABCDEFGHIJKLMNOPQRSTUVWXABCDEFGHIJKLMNOPQRSTUVWX","\"0123456789\"",{"$f":"IF(B58>0,IF(K58=Infoblad!$C$6,0.5,0.5+AH58*40076.59/2/PI()),\" \")","v":" "},""]
[null,null," ",{"$f":"IF(B59>0,VASTETIJD(C59)-Infoblad!$C$29,\" \")","v":" "}," ",47," ",null,null,null,null,null,{"$f":"IF(L59>0,VLOOKUP(L59,Punten!$B$3:$C$109,2,FALSE),\" \")","v":" "},null," ",null,null,null,"","","","","","",{"$f":"SEARCH(T59,'Eigen QTH LOc'!$I$1)*10-100+V59","v":{"$error":"#VALUE!"}},{"$f":"TRUNC(ROUND((SEARCH(X59,'Eigen QTH LOc'!$I$1)-0.5)*2.5,2))","v":1},{"$f":"IF(Z59>0,(MOD(ROUND((SEARCH(X59,'Eigen QTH LOc'!$I$1)-0.5)*2.5,2),TRUNC(Z59)))*60,0)","v":15},{"$f":"SEARCH(S59,'Eigen QTH LOc'!$I$1)*20-200+U59*2","v":{"$error":"#VALUE!"}},{"$f":"TRUNC((SEARCH(W59,'Eigen QTH LOc'!$I$1)-0.5)*5)","v":2},{"$f":"IF(AC59>0,(MOD((SEARCH(W59,'Eigen QTH LOc'!$I$1)-0.5)*5,TRUNC(AC59)))*60,0)","v":30},{"$error":"#VALUE!"},{"$error":"#VALUE!"},{"$f":"COS('Eigen QTH LOc'!$G$4-AF59)*SIN(PI()/2-AE59)*SIN(PI()/2-'Eigen QTH LOc'!$G$3)+COS(PI()/2-AE59)*COS(PI()/2-'Eigen QTH LOc'!$G$3)","v":{"$error":"#VALUE!"}},{"$error":"#VALUE!"},"ABCDEFGHIJKLMNOPQRSTUVWXABCDEFGHIJKLMNOPQRSTUVWX","\"0123456789\"",{"$f":"IF(B59>0,IF(K59=Infoblad!$C$6,0.5,0.5+AH59*40076.59/2/PI()),\" \")","v":" "},""]
[null,null," ",{"$f":"IF(B60>0,VASTETIJD(C60)-Infoblad!$C$29,\" \")","v":" "}," ",48," ",null,null,null,null,null,{"$f":"IF(L60>0,VLOOKUP(L60,Punten!$B$3:$C$109,2,FALSE),\" \")","v":" "},null," ",null,null,null,"","","","","","",{"$f":"SEARCH(T60,'Eigen QTH LOc'!$I$1)*10-100+V60","v":{"$error":"#VALUE!"}},{"$f":"TRUNC(ROUND((SEARCH(X60,'Eigen QTH LOc'!$I$1)-0.5)*2.5,2))","v":1},{"$f":"IF(Z60>0,(MOD(ROUND((SEARCH(X60,'Eigen QTH LOc'!$I$1)-0.5)*2.5,2),TRUNC(Z60)))*60,0)","v":15},{"$f":"SEARCH(S60,'Eigen QTH LOc'!$I$1)*20-200+U60*2","v":{"$error":"#VALUE!"}},{"$f":"TRUNC((SEARCH(W60,'Eigen QTH LOc'!$I$1)-0.5)*5)","v":2},{"$f":"IF(AC60>0,(MOD((SEARCH(W60,'Eigen QTH LOc'!$I$1)-0.5)*5,TRUNC(AC60)))*60,0)","v":30},{"$error":"#VALUE!"},{"$error":"#VALUE!"},{"$f":"COS('Eigen QTH LOc'!$G$4-AF60)*SIN(PI()/2-AE60)*SIN(PI()/2-'Eigen QTH LOc'!$G$3)+COS(PI()/2-AE60)*COS(PI()/2-'Eigen QTH LOc'!$G$3)","v":{"$error":"#VALUE!"}},{"$error":"#VALUE!"},"ABCDEFGHIJKLMNOPQRSTUVWXABCDEFGHIJKLMNOPQRSTUVWX","\"0123456789\"",{"$f":"IF(B60>0,IF(K60=Infoblad!$C$6,0.5,0.5+AH60*40076.59/2/PI()),\" \")","v":" "},""]
[null,null," ",{"$f":"IF(B61>0,VASTETIJD(C61)-Infoblad!$C$29,\" \")","v":" "}," ",49," ",null,null,null,null,null,{"$f":"IF(L61>0,VLOOKUP(L61,Punten!$B$3:$C$109,2,FALSE),\" \")","v":" "},null," ",null,null,null,"","","","","","",{"$f":"SEARCH(T61,'Eigen QTH LOc'!$I$1)*10-100+V61","v":{"$error":"#VALUE!"}},{"$f":"TRUNC(ROUND((SEARCH(X61,'Eigen QTH LOc'!$I$1)-0.5)*2.5,2))","v":1},{"$f":"IF(Z61>0,(MOD(ROUND((SEARCH(X61,'Eigen QTH LOc'!$I$1)-0.5)*2.5,2),TRUNC(Z61)))*60,0)","v":15},{"$f":"SEARCH(S61,'Eigen QTH LOc'!$I$1)*20-200+U61*2","v":{"$error":"#VALUE!"}},{"$f":"TRUNC((SEARCH(W61,'Eigen QTH LOc'!$I$1)-0.5)*5)","v":2},{"$f":"IF(AC61>0,(MOD((SEARCH(W61,'Eigen QTH LOc'!$I$1)-0.5)*5,TRUNC(AC61)))*60,0)","v":30},{"$error":"#VALUE!"},{"$error":"#VALUE!"},{"$f":"COS('Eigen QTH LOc'!$G$4-AF61)*SIN(PI()/2-AE61)*SIN(PI()/2-'Eigen QTH LOc'!$G$3)+COS(PI()/2-AE61)*COS(PI()/2-'Eigen QTH LOc'!$G$3)","v":{"$error":"#VALUE!"}},{"$error":"#VALUE!"},"ABCDEFGHIJKLMNOPQRSTUVWXABCDEFGHIJKLMNOPQRSTUVWX","\"0123456789\"",{"$f":"IF(B61>0,IF(K61=Infoblad!$C$6,0.5,0.5+AH61*40076.59/2/PI()),\" \")","v":" "},""]
[null,null," ",{"$f":"IF(B62>0,VASTETIJD(C62)-Infoblad!$C$29,\" \")","v":" "}," ",50," ",null,null,null,null,null,{"$f":"IF(L62>0,VLOOKUP(L62,Punten!$B$3:$C$109,2,FALSE),\" \")","v":" "},null," ",null,null,null,"","","","","","",{"$f":"SEARCH(T62,'Eigen QTH LOc'!$I$1)*10-100+V62","v":{"$error":"#VALUE!"}},{"$f":"TRUNC(ROUND((SEARCH(X62,'Eigen QTH LOc'!$I$1)-0.5)*2.5,2))","v":1},{"$f":"IF(Z62>0,(MOD(ROUND((SEARCH(X62,'Eigen QTH LOc'!$I$1)-0.5)*2.5,2),TRUNC(Z62)))*60,0)","v":15},{"$f":"SEARCH(S62,'Eigen QTH LOc'!$I$1)*20-200+U62*2","v":{"$error":"#VALUE!"}},{"$f":"TRUNC((SEARCH(W62,'Eigen QTH LOc'!$I$1)-0.5)*5)","v":2},{"$f":"IF(AC62>0,(MOD((SEARCH(W62,'Eigen QTH LOc'!$I$1)-0.5)*5,TRUNC(AC62)))*60,0)","v":30},{"$error":"#VALUE!"},{"$error":"#VALUE!"},{"$f":"COS('Eigen QTH LOc'!$G$4-AF62)*SIN(PI()/2-AE62)*SIN(PI()/2-'Eigen QTH LOc'!$G$3)+COS(PI()/2-AE62)*COS(PI()/2-'Eigen QTH LOc'!$G$3)","v":{"$error":"#VALUE!"}},{"$error":"#VALUE!"},"ABCDEFGHIJKLMNOPQRSTUVWXABCDEFGHIJKLMNOPQRSTUVWX","\"0123456789\"",{"$f":"IF(B62>0,IF(K62=Infoblad!$C$6,0.5,0.5+AH62*40076.59/2/PI()),\" \")","v":" "},""]
[null,null," ",{"$f":"IF(B63>0,VASTETIJD(C63)-Infoblad!$C$29,\" \")","v":" "}," ",51," ",null,null,null,null,null,{"$f":"IF(L63>0,VLOOKUP(L63,Punten!$B$3:$C$109,2,FALSE),\" \")","v":" "},null," ",null,null,null,"","","","","","",{"$f":"SEARCH(T63,'Eigen QTH LOc'!$I$1)*10-100+V63","v":{"$error":"#VALUE!"}},{"$f":"TRUNC(ROUND((SEARCH(X63,'Eigen QTH LOc'!$I$1)-0.5)*2.5,2))","v":1},{"$f":"IF(Z63>0,(MOD(ROUND((SEARCH(X63,'Eigen QTH LOc'!$I$1)-0.5)*2.5,2),TRUNC(Z63)))*60,0)","v":15},{"$f":"SEARCH(S63,'Eigen QTH LOc'!$I$1)*20-200+U63*2","v":{"$error":"#VALUE!"}},{"$f":"TRUNC((SEARCH(W63,'Eigen QTH LOc'!$I$1)-0.5)*5)","v":2},{"$f":"IF(AC63>0,(MOD((SEARCH(W63,'Eigen QTH LOc'!$I$1)-0.5)*5,TRUNC(AC63)))*60,0)","v":30},{"$error":"#VALUE!"},{"$error":"#VALUE!"},{"$f":"COS('Eigen QTH LOc'!$G$4-AF63)*SIN(PI()/2-AE63)*SIN(PI()/2-'Eigen QTH LOc'!$G$3)+COS(PI()/2-AE63)*COS(PI()/2-'Eigen QTH LOc'!$G$3)","v":{"$error":"#VALUE!"}},{"$error":"#VALUE!"},"ABCDEFGHIJKLMNOPQRSTUVWXABCDEFGHIJKLMNOPQRSTUVWX","\"0123456789\"",{"$f":"IF(B63>0,IF(K63=Infoblad!$C$6,0.5,0.5+AH63*40076.59/2/PI()),\" \")","v":" "},""]
[null,null," ",{"$f":"IF(B64>0,VASTETIJD(C64)-Infoblad!$C$29,\" \")","v":" "}," ",52," ",null,null,null,null,null,{"$f":"IF(L64>0,VLOOKUP(L64,Punten!$B$3:$C$109,2,FALSE),\" \")","v":" "},null," ",null,null,null,"","","","","","",{"$f":"SEARCH(T64,'Eigen QTH LOc'!$I$1)*10-100+V64","v":{"$error":"#VALUE!"}},{"$f":"TRUNC(ROUND((SEARCH(X64,'Eigen QTH LOc'!$I$1)-0.5)*2.5,2))","v":1},{"$f":"IF(Z64>0,(MOD(ROUND((SEARCH(X64,'Eigen QTH LOc'!$I$1)-0.5)*2.5,2),TRUNC(Z64)))*60,0)","v":15},{"$f":"SEARCH(S64,'Eigen QTH LOc'!$I$1)*20-200+U64*2","v":{"$error":"#VALUE!"}},{"$f":"TRUNC((SEARCH(W64,'Eigen QTH LOc'!$I$1)-0.5)*5)","v":2},{"$f":"IF(AC64>0,(MOD((SEARCH(W64,'Eigen QTH LOc'!$I$1)-0.5)*5,TRUNC(AC64)))*60,0)","v":30},{"$error":"#VALUE!"},{"$error":"#VALUE!"},{"$f":"COS('Eigen QTH LOc'!$G$4-AF64)*SIN(PI()/2-AE64)*SIN(PI()/2-'Eigen QTH LOc'!$G$3)+COS(PI()/2-AE64)*COS(PI()/2-'Eigen QTH LOc'!$G$3)","v":{"$error":"#VALUE!"}},{"$error":"#VALUE!"},"ABCDEFGHIJKLMNOPQRSTUVWXABCDEFGHIJKLMNOPQRSTUVWX","\"0123456789\"",{"$f":"IF(B64>0,IF(K64=Infoblad!$C$6,0.5,0.5+AH64*40076.59/2/PI()),\" \")","v":" "},""]
[null,null," ",{"$f":"IF(B65>0,VASTETIJD(C65)-Infoblad!$C$29,\" \")","v":" "}," ",53," ",null,null,null,null,null,{"$f":"IF(L65>0,VLOOKUP(L65,Punten!$B$3:$C$109,2,FALSE),\" \")","v":" "},null," ",null,null,null,"","","","","","",{"$f":"SEARCH(T65,'Eigen QTH LOc'!$I$1)*10-100+V65","v":{"$error":"#VALUE!"}},{"$f":"TRUNC(ROUND((SEARCH(X65,'Eigen QTH LOc'!$I$1)-0.5)*2.5,2))","v":1},{"$f":"IF(Z65>0,(MOD(ROUND((SEARCH(X65,'Eigen QTH LOc'!$I$1)-0.5)*2.5,2),TRUNC(Z65)))*60,0)","v":15},{"$f":"SEARCH(S65,'Eigen QTH LOc'!$I$1)*20-200+U65*2","v":{"$error":"#VALUE!"}},{"$f":"TRUNC((SEARCH(W65,'Eigen QTH LOc'!$I$1)-0.5)*5)","v":2},{"$f":"IF(AC65>0,(MOD((SEARCH(W65,'Eigen QTH LOc'!$I$1)-0.5)*5,TRUNC(AC65)))*60,0)","v":30},{"$error":"#VALUE!"},{"$error":"#VALUE!"},{"$f":"COS('Eigen QTH LOc'!$G$4-AF65)*SIN(PI()/2-AE65)*SIN(PI()/2-'Eigen QTH LOc'!$G$3)+COS(PI()/2-AE65)*COS(PI()/2-'Eigen QTH LOc'!$G$3)","v":{"$error":"#VALUE!"}},{"$error":"#VALUE!"},"ABCDEFGHIJKLMNOPQRSTUVWXABCDEFGHIJKLMNOPQRSTUVWX","\"0123456789\"",{"$f":"IF(B65>0,IF(K65=Infoblad!$C$6,0.5,0.5+AH65*40076.59/2/PI()),\" \")","v":" "},""]
[null,null," ",{"$f":"IF(B66>0,VASTETIJD(C66)-Infoblad!$C$29,\" \")","v":" "}," ",54," ",null,null,null,null,null,{"$f":"IF(L66>0,VLOOKUP(L66,Punten!$B$3:$C$109,2,FALSE),\" \")","v":" "},null," ",null,null,null,"","","","","","",{"$f":"SEARCH(T66,'Eigen QTH LOc'!$I$1)*10-100+V66","v":{"$error":"#VALUE!"}},{"$f":"TRUNC(ROUND((SEARCH(X66,'Eigen QTH LOc'!$I$1)-0.5)*2.5,2))","v":1},{"$f":"IF(Z66>0,(MOD(ROUND((SEARCH(X66,'Eigen QTH LOc'!$I$1)-0.5)*2.5,2),TRUNC(Z66)))*60,0)","v":15},{"$f":"SEARCH(S66,'Eigen QTH LOc'!$I$1)*20-200+U66*2","v":{"$error":"#VALUE!"}},{"$f":"TRUNC((SEARCH(W66,'Eigen QTH LOc'!$I$1)-0.5)*5)","v":2},{"$f":"IF(AC66>0,(MOD((SEARCH(W66,'Eigen QTH LOc'!$I$1)-0.5)*5,TRUNC(AC66)))*60,0)","v":30},{"$error":"#VALUE!"},{"$error":"#VALUE!"},{"$f":"COS('Eigen QTH LOc'!$G$4-AF66)*SIN(PI()/2-AE66)*SIN(PI()/2-'Eigen QTH LOc'!$G$3)+COS(PI()/2-AE66)*COS(PI()/2-'Eigen QTH LOc'!$G$3)","v":{"$error":"#VALUE!"}},{"$error":"#VALUE!"},"ABCDEFGHIJKLMNOPQRSTUVWXABCDEFGHIJKLMNOPQRSTUVWX","\"0123456789\"",{"$f":"IF(B66>0,IF(K66=Infoblad!$C$6,0.5,0.5+AH66*40076.59/2/PI()),\" \")","v":" "},""]
[null,null," ",{"$f":"IF(B67>0,VASTETIJD(C67)-Infoblad!$C$29,\" \")","v":" "}," ",55," ",null,null,null,null,null,{"$f":"IF(L67>0,VLOOKUP(L67,Punten!$B$3:$C$109,2,FALSE),\" \")","v":" "},null," ",null,null,null,"","","","","","",{"$f":"SEARCH(T67,'Eigen QTH LOc'!$I$1)*10-100+V67","v":{"$error":"#VALUE!"}},{"$f":"TRUNC(ROUND((SEARCH(X67,'Eigen QTH LOc'!$I$1)-0.5)*2.5,2))","v":1},{"$f":"IF(Z67>0,(MOD(ROUND((SEARCH(X67,'Eigen QTH LOc'!$I$1)-0.5)*2.5,2),TRUNC(Z67)))*60,0)","v":15},{"$f":"SEARCH(S67,'Eigen QTH LOc'!$I$1)*20-200+U67*2","v":{"$error":"#VALUE!"}},{"$f":"TRUNC((SEARCH(W67,'Eigen QTH LOc'!$I$1)-0.5)*5)","v":2},{"$f":"IF(AC67>0,(MOD((SEARCH(W67,'Eigen QTH LOc'!$I$1)-0.5)*5,TRUNC(AC67)))*60,0)","v":30},{"$error":"#VALUE!"},{"$error":"#VALUE!"},{"$f":"COS('Eigen QTH LOc'!$G$4-AF67)*SIN(PI()/2-AE67)*SIN(PI()/2-'Eigen QTH LOc'!$G$3)+COS(PI()/2-AE67)*COS(PI()/2-'Eigen QTH LOc'!$G$3)","v":{"$error":"#VALUE!"}},{"$error":"#VALUE!"},"ABCDEFGHIJKLMNOPQRSTUVWXABCDEFGHIJKLMNOPQRSTUVWX","\"0123456789\"",{"$f":"IF(B67>0,IF(K67=Infoblad!$C$6,0.5,0.5+AH67*40076.59/2/PI()),\" \")","v":" "},""]
[null,null," ",{"$f":"IF(B68>0,VASTETIJD(C68)-Infoblad!$C$29,\" \")","v":" "}," ",56," ",null,null,null,null,null,{"$f":"IF(L68>0,VLOOKUP(L68,Punten!$B$3:$C$109,2,FALSE),\" \")","v":" "},null," ",null,null,null,"","","","","","",{"$f":"SEARCH(T68,'Eigen QTH LOc'!$I$1)*10-100+V68","v":{"$error":"#VALUE!"}},{"$f":"TRUNC(ROUND((SEARCH(X68,'Eigen QTH LOc'!$I$1)-0.5)*2.5,2))","v":1},{"$f":"IF(Z68>0,(MOD(ROUND((SEARCH(X68,'Eigen QTH LOc'!$I$1)-0.5)*2.5,2),TRUNC(Z68)))*60,0)","v":15},{"$f":"SEARCH(S68,'Eigen QTH LOc'!$I$1)*20-200+U68*2","v":{"$error":"#VALUE!"}},{"$f":"TRUNC((SEARCH(W68,'Eigen QTH LOc'!$I$1)-0.5)*5)","v":2},{"$f":"IF(AC68>0,(MOD((SEARCH(W68,'Eigen QTH LOc'!$I$1)-0.5)*5,TRUNC(AC68)))*60,0)","v":30},{"$error":"#VALUE!"},{"$error":"#VALUE!"},{"$f":"COS('Eigen QTH LOc'!$G$4-AF68)*SIN(PI()/2-AE68)*SIN(PI()/2-'Eigen QTH LOc'!$G$3)+COS(PI()/2-AE68)*COS(PI()/2-'Eigen QTH LOc'!$G$3)","v":{"$error":"#VALUE!"}},{"$error":"#VALUE!"},"ABCDEFGHIJKLMNOPQRSTUVWXABCDEFGHIJKLMNOPQRSTUVWX","\"0123456789\"",{"$f":"IF(B68>0,IF(K68=Infoblad!$C$6,0.5,0.5+AH68*40076.59/2/PI()),\" \")","v":" "},""]
[null,null," ",{"$f":"IF(B69>0,VASTETIJD(C69)-Infoblad!$C$29,\" \")","v":" "}," ",57," ",null,null,null,null,null,{"$f":"IF(L69>0,VLOOKUP(L69,Punten!$B$3:$C$109,2,FALSE),\" \")","v":" "},null," ",null,null,null,"","","","","","",{"$f":"SEARCH(T69,'Eigen QTH LOc'!$I$1)*10-100+V69","v":{"$error":"#VALUE!"}},{"$f":"TRUNC(ROUND((SEARCH(X69,'Eigen QTH LOc'!$I$1)-0.5)*2.5,2))","v":1},{"$f":"IF(Z69>0,(MOD(ROUND((SEARCH(X69,'Eigen QTH LOc'!$I$1)-0.5)*2.5,2),TRUNC(Z69)))*60,0)","v":15},{"$f":"SEARCH(S69,'Eigen QTH LOc'!$I$1)*20-200+U69*2","v":{"$error":"#VALUE!"}},{"$f":"TRUNC((SEARCH(W69,'Eigen QTH LOc'!$I$1)-0.5)*5)","v":2},{"$f":"IF(AC69>0,(MOD((SEARCH(W69,'Eigen QTH LOc'!$I$1)-0.5)*5,TRUNC(AC69)))*60,0)","v":30},{"$error":"#VALUE!"},{"$error":"#VALUE!"},{"$f":"COS('Eigen QTH LOc'!$G$4-AF69)*SIN(PI()/2-AE69)*SIN(PI()/2-'Eigen QTH LOc'!$G$3)+COS(PI()/2-AE69)*COS(PI()/2-'Eigen QTH LOc'!$G$3)","v":{"$error":"#VALUE!"}},{"$error":"#VALUE!"},"ABCDEFGHIJKLMNOPQRSTUVWXABCDEFGHIJKLMNOPQRSTUVWX","\"0123456789\"",{"$f":"IF(B69>0,IF(K69=Infoblad!$C$6,0.5,0.5+AH69*40076.59/2/PI()),\" \")","v":" "},""]
[null,null," ",{"$f":"IF(B70>0,VASTETIJD(C70)-Infoblad!$C$29,\" \")","v":" "}," ",58," ",null,null,null,null,null,{"$f":"IF(L70>0,VLOOKUP(L70,Punten!$B$3:$C$109,2,FALSE),\" \")","v":" "},null," ",null,null,null,"","","","","","",{"$f":"SEARCH(T70,'Eigen QTH LOc'!$I$1)*10-100+V70","v":{"$error":"#VALUE!"}},{"$f":"TRUNC(ROUND((SEARCH(X70,'Eigen QTH LOc'!$I$1)-0.5)*2.5,2))","v":1},{"$f":"IF(Z70>0,(MOD(ROUND((SEARCH(X70,'Eigen QTH LOc'!$I$1)-0.5)*2.5,2),TRUNC(Z70)))*60,0)","v":15},{"$f":"SEARCH(S70,'Eigen QTH LOc'!$I$1)*20-200+U70*2","v":{"$error":"#VALUE!"}},{"$f":"TRUNC((SEARCH(W70,'Eigen QTH LOc'!$I$1)-0.5)*5)","v":2},{"$f":"IF(AC70>0,(MOD((SEARCH(W70,'Eigen QTH LOc'!$I$1)-0.5)*5,TRUNC(AC70)))*60,0)","v":30},{"$error":"#VALUE!"},{"$error":"#VALUE!"},{"$f":"COS('Eigen QTH LOc'!$G$4-AF70)*SIN(PI()/2-AE70)*SIN(PI()/2-'Eigen QTH LOc'!$G$3)+COS(PI()/2-AE70)*COS(PI()/2-'Eigen QTH LOc'!$G$3)","v":{"$error":"#VALUE!"}},{"$error":"#VALUE!"},"ABCDEFGHIJKLMNOPQRSTUVWXABCDEFGHIJKLMNOPQRSTUVWX","\"0123456789\"",{"$f":"IF(B70>0,IF(K70=Infoblad!$C$6,0.5,0.5+AH70*40076.59/2/PI()),\" \")","v":" "},""]
[null,null," ",{"$f":"IF(B71>0,VASTETIJD(C71)-Infoblad!$C$29,\" \")","v":" "}," ",59," ",null,null,null,null,null,{"$f":"IF(L71>0,VLOOKUP(L71,Punten!$B$3:$C$109,2,FALSE),\" \")","v":" "},null," ",null,null,null,"","","","","","",{"$f":"SEARCH(T71,'Eigen QTH LOc'!$I$1)*10-100+V71","v":{"$error":"#VALUE!"}},{"$f":"TRUNC(ROUND((SEARCH(X71,'Eigen QTH LOc'!$I$1)-0.5)*2.5,2))","v":1},{"$f":"IF(Z71>0,(MOD(ROUND((SEARCH(X71,'Eigen QTH LOc'!$I$1)-0.5)*2.5,2),TRUNC(Z71)))*60,0)","v":15},{"$f":"SEARCH(S71,'Eigen QTH LOc'!$I$1)*20-200+U71*2","v":{"$error":"#VALUE!"}},{"$f":"TRUNC((SEARCH(W71,'Eigen QTH LOc'!$I$1)-0.5)*5)","v":2},{"$f":"IF(AC71>0,(MOD((SEARCH(W71,'Eigen QTH LOc'!$I$1)-0.5)*5,TRUNC(AC71)))*60,0)","v":30},{"$error":"#VALUE!"},{"$error":"#VALUE!"},{"$f":"COS('Eigen QTH LOc'!$G$4-AF71)*SIN(PI()/2-AE71)*SIN(PI()/2-'Eigen QTH LOc'!$G$3)+COS(PI()/2-AE71)*COS(PI()/2-'Eigen QTH LOc'!$G$3)","v":{"$error":"#VALUE!"}},{"$error":"#VALUE!"},"ABCDEFGHIJKLMNOPQRSTUVWXABCDEFGHIJKLMNOPQRSTUVWX","\"0123456789\"",{"$f":"IF(B71>0,IF(K71=Infoblad!$C$6,0.5,0.5+AH71*40076.59/2/PI()),\" \")","v":" "},""]
[null,null," ",{"$f":"IF(B72>0,VASTETIJD(C72)-Infoblad!$C$29,\" \")","v":" "}," ",60," ",null,null,null,null,null,{"$f":"IF(L72>0,VLOOKUP(L72,Punten!$B$3:$C$109,2,FALSE),\" \")","v":" "},null," ",null,null,null,"","","","","","",{"$f":"SEARCH(T72,'Eigen QTH LOc'!$I$1)*10-100+V72","v":{"$error":"#VALUE!"}},{"$f":"TRUNC(ROUND((SEARCH(X72,'Eigen QTH LOc'!$I$1)-0.5)*2.5,2))","v":1},{"$f":"IF(Z72>0,(MOD(ROUND((SEARCH(X72,'Eigen QTH LOc'!$I$1)-0.5)*2.5,2),TRUNC(Z72)))*60,0)","v":15},{"$f":"SEARCH(S72,'Eigen QTH LOc'!$I$1)*20-200+U72*2","v":{"$error":"#VALUE!"}},{"$f":"TRUNC((SEARCH(W72,'Eigen QTH LOc'!$I$1)-0.5)*5)","v":2},{"$f":"IF(AC72>0,(MOD((SEARCH(W72,'Eigen QTH LOc'!$I$1)-0.5)*5,TRUNC(AC72)))*60,0)","v":30},{"$error":"#VALUE!"},{"$error":"#VALUE!"},{"$f":"COS('Eigen QTH LOc'!$G$4-AF72)*SIN(PI()/2-AE72)*SIN(PI()/2-'Eigen QTH LOc'!$G$3)+COS(PI()/2-AE72)*COS(PI()/2-'Eigen QTH LOc'!$G$3)","v":{"$error":"#VALUE!"}},{"$error":"#VALUE!"},"ABCDEFGHIJKLMNOPQRSTUVWXABCDEFGHIJKLMNOPQRSTUVWX","\"0123456789\"",{"$f":"IF(B72>0,IF(K72=Infoblad!$C$6,0.5,0.5+AH72*40076.59/2/PI()),\" \")","v":" "},""]
[null,null," ",{"$f":"IF(B73>0,VASTETIJD(C73)-Infoblad!$C$29,\" \")","v":" "}," ",61," ",null,null,null,null,null,{"$f":"IF(L73>0,VLOOKUP(L73,Punten!$B$3:$C$109,2,FALSE),\" \")","v":" "},null," ",null,null,null,"","","","","","",{"$f":"SEARCH(T73,'Eigen QTH LOc'!$I$1)*10-100+V73","v":{"$error":"#VALUE!"}},{"$f":"TRUNC(ROUND((SEARCH(X73,'Eigen QTH LOc'!$I$1)-0.5)*2.5,2))","v":1},{"$f":"IF(Z73>0,(MOD(ROUND((SEARCH(X73,'Eigen QTH LOc'!$I$1)-0.5)*2.5,2),TRUNC(Z73)))*60,0)","v":15},{"$f":"SEARCH(S73,'Eigen QTH LOc'!$I$1)*20-200+U73*2","v":{"$error":"#VALUE!"}},{"$f":"TRUNC((SEARCH(W73,'Eigen QTH LOc'!$I$1)-0.5)*5)","v":2},{"$f":"IF(AC73>0,(MOD((SEARCH(W73,'Eigen QTH LOc'!$I$1)-0.5)*5,TRUNC(AC73)))*60,0)","v":30},{"$error":"#VALUE!"},{"$error":"#VALUE!"},{"$f":"COS('Eigen QTH LOc'!$G$4-AF73)*SIN(PI()/2-AE73)*SIN(PI()/2-'Eigen QTH LOc'!$G$3)+COS(PI()/2-AE73)*COS(PI()/2-'Eigen QTH LOc'!$G$3)","v":{"$error":"#VALUE!"}},{"$error":"#VALUE!"},"ABCDEFGHIJKLMNOPQRSTUVWXABCDEFGHIJKLMNOPQRSTUVWX","\"0123456789\"",{"$f":"IF(B73>0,IF(K73=Infoblad!$C$6,0.5,0.5+AH73*40076.59/2/PI()),\" \")","v":" "},""]
[null,null," ",{"$f":"IF(B74>0,VASTETIJD(C74)-Infoblad!$C$29,\" \")","v":" "}," ",62," ",null,null,null,null,null,{"$f":"IF(L74>0,VLOOKUP(L74,Punten!$B$3:$C$109,2,FALSE),\" \")","v":" "},null," ",null,null,null,"","","","","","",{"$f":"SEARCH(T74,'Eigen QTH LOc'!$I$1)*10-100+V74","v":{"$error":"#VALUE!"}},{"$f":"TRUNC(ROUND((SEARCH(X74,'Eigen QTH LOc'!$I$1)-0.5)*2.5,2))","v":1},{"$f":"IF(Z74>0,(MOD(ROUND((SEARCH(X74,'Eigen QTH LOc'!$I$1)-0.5)*2.5,2),TRUNC(Z74)))*60,0)","v":15},{"$f":"SEARCH(S74,'Eigen QTH LOc'!$I$1)*20-200+U74*2","v":{"$error":"#VALUE!"}},{"$f":"TRUNC((SEARCH(W74,'Eigen QTH LOc'!$I$1)-0.5)*5)","v":2},{"$f":"IF(AC74>0,(MOD((SEARCH(W74,'Eigen QTH LOc'!$I$1)-0.5)*5,TRUNC(AC74)))*60,0)","v":30},{"$error":"#VALUE!"},{"$error":"#VALUE!"},{"$f":"COS('Eigen QTH LOc'!$G$4-AF74)*SIN(PI()/2-AE74)*SIN(PI()/2-'Eigen QTH LOc'!$G$3)+COS(PI()/2-AE74)*COS(PI()/2-'Eigen QTH LOc'!$G$3)","v":{"$error":"#VALUE!"}},{"$error":"#VALUE!"},"ABCDEFGHIJKLMNOPQRSTUVWXABCDEFGHIJKLMNOPQRSTUVWX","\"0123456789\"",{"$f":"IF(B74>0,IF(K74=Infoblad!$C$6,0.5,0.5+AH74*40076.59/2/PI()),\" \")","v":" "},""]
[null,null," ",{"$f":"IF(B75>0,VASTETIJD(C75)-Infoblad!$C$29,\" \")","v":" "}," ",63," ",null,null,null,null,null,{"$f":"IF(L75>0,VLOOKUP(L75,Punten!$B$3:$C$109,2,FALSE),\" \")","v":" "},null," ",null,null,null,"","","","","","",{"$f":"SEARCH(T75,'Eigen QTH LOc'!$I$1)*10-100+V75","v":{"$error":"#VALUE!"}},{"$f":"TRUNC(ROUND((SEARCH(X75,'Eigen QTH LOc'!$I$1)-0.5)*2.5,2))","v":1},{"$f":"IF(Z75>0,(MOD(ROUND((SEARCH(X75,'Eigen QTH LOc'!$I$1)-0.5)*2.5,2),TRUNC(Z75)))*60,0)","v":15},{"$f":"SEARCH(S75,'Eigen QTH LOc'!$I$1)*20-200+U75*2","v":{"$error":"#VALUE!"}},{"$f":"TRUNC((SEARCH(W75,'Eigen QTH LOc'!$I$1)-0.5)*5)","v":2},{"$f":"IF(AC75>0,(MOD((SEARCH(W75,'Eigen QTH LOc'!$I$1)-0.5)*5,TRUNC(AC75)))*60,0)","v":30},{"$error":"#VALUE!"},{"$error":"#VALUE!"},{"$f":"COS('Eigen QTH LOc'!$G$4-AF75)*SIN(PI()/2-AE75)*SIN(PI()/2-'Eigen QTH LOc'!$G$3)+COS(PI()/2-AE75)*COS(PI()/2-'Eigen QTH LOc'!$G$3)","v":{"$error":"#VALUE!"}},{"$error":"#VALUE!"},"ABCDEFGHIJKLMNOPQRSTUVWXABCDEFGHIJKLMNOPQRSTUVWX","\"0123456789\"",{"$f":"IF(B75>0,IF(K75=Infoblad!$C$6,0.5,0.5+AH75*40076.59/2/PI()),\" \")","v":" "},""]
[null,null," ",{"$f":"IF(B76>0,VASTETIJD(C76)-Infoblad!$C$29,\" \")","v":" "}," ",64," ",null,null,null,null,null,{"$f":"IF(L76>0,VLOOKUP(L76,Punten!$B$3:$C$109,2,FALSE),\" \")","v":" "},null," ",null,null,null,"","","","","","",{"$f":"SEARCH(T76,'Eigen QTH LOc'!$I$1)*10-100+V76","v":{"$error":"#VALUE!"}},{"$f":"TRUNC(ROUND((SEARCH(X76,'Eigen QTH LOc'!$I$1)-0.5)*2.5,2))","v":1},{"$f":"IF(Z76>0,(MOD(ROUND((SEARCH(X76,'Eigen QTH LOc'!$I$1)-0.5)*2.5,2),TRUNC(Z76)))*60,0)","v":15},{"$f":"SEARCH(S76,'Eigen QTH LOc'!$I$1)*20-200+U76*2","v":{"$error":"#VALUE!"}},{"$f":"TRUNC((SEARCH(W76,'Eigen QTH LOc'!$I$1)-0.5)*5)","v":2},{"$f":"IF(AC76>0,(MOD((SEARCH(W76,'Eigen QTH LOc'!$I$1)-0.5)*5,TRUNC(AC76)))*60,0)","v":30},{"$error":"#VALUE!"},{"$error":"#VALUE!"},{"$f":"COS('Eigen QTH LOc'!$G$4-AF76)*SIN(PI()/2-AE76)*SIN(PI()/2-'Eigen QTH LOc'!$G$3)+COS(PI()/2-AE76)*COS(PI()/2-'Eigen QTH LOc'!$G$3)","v":{"$error":"#VALUE!"}},{"$error":"#VALUE!"},"ABCDEFGHIJKLMNOPQRSTUVWXABCDEFGHIJKLMNOPQRSTUVWX","\"0123456789\"",{"$f":"IF(B76>0,IF(K76=Infoblad!$C$6,0.5,0.5+AH76*40076.59/2/PI()),\" \")","v":" "},""]
[null,null," ",{"$f":"IF(B77>0,VASTETIJD(C77)-Infoblad!$C$29,\" \")","v":" "}," ",65," ",null,null,null,null,null,{"$f":"IF(L77>0,VLOOKUP(L77,Punten!$B$3:$C$109,2,FALSE),\" \")","v":" "},null," ",null,null,null,"","","","","","",{"$f":"SEARCH(T77,'Eigen QTH LOc'!$I$1)*10-100+V77","v":{"$error":"#VALUE!"}},{"$f":"TRUNC(ROUND((SEARCH(X77,'Eigen QTH LOc'!$I$1)-0.5)*2.5,2))","v":1},{"$f":"IF(Z77>0,(MOD(ROUND((SEARCH(X77,'Eigen QTH LOc'!$I$1)-0.5)*2.5,2),TRUNC(Z77)))*60,0)","v":15},{"$f":"SEARCH(S77,'Eigen QTH LOc'!$I$1)*20-200+U77*2","v":{"$error":"#VALUE!"}},{"$f":"TRUNC((SEARCH(W77,'Eigen QTH LOc'!$I$1)-0.5)*5)","v":2},{"$f":"IF(AC77>0,(MOD((SEARCH(W77,'Eigen QTH LOc'!$I$1)-0.5)*5,TRUNC(AC77)))*60,0)","v":30},{"$error":"#VALUE!"},{"$error":"#VALUE!"},{"$f":"COS('Eigen QTH LOc'!$G$4-AF77)*SIN(PI()/2-AE77)*SIN(PI()/2-'Eigen QTH LOc'!$G$3)+COS(PI()/2-AE77)*COS(PI()/2-'Eigen QTH LOc'!$G$3)","v":{"$error":"#VALUE!"}},{"$error":"#VALUE!"},"ABCDEFGHIJKLMNOPQRSTUVWXABCDEFGHIJKLMNOPQRSTUVWX","\"0123456789\"",{"$f":"IF(B77>0,IF(K77=Infoblad!$C$6,0.5,0.5+AH77*40076.59/2/PI()),\" \")","v":" "},""]
[null,null,{"$f":"IF(B78>0,$C$7,\" \")","v":" "},{"$f":"IF(B78>0,VASTETIJD(C78)-Infoblad!$C$29,\" \")","v":" "},{"$f":"IF(B78>0,\"59\",\" \")","v":" "},66,{"$f":"IF(B78>0,\"59\",\" \")","v":" "},null,null,null,null,null,{"$f":"IF(L78>0,VLOOKUP(L78,Punten!$B$3:$C$109,2,FALSE),\" \")","v":" "},null,{"$f":"IF(K78>0,AK78,\" \")","v":" "},null,null,null,"","","","","","",{"$f":"SEARCH(T78,'Eigen QTH LOc'!$I$1)*10-100+V78","v":{"$error":"#VALUE!"}},{"$f":"TRUNC(ROUND((SEARCH(X78,'Eigen QTH LOc'!$I$1)-0.5)*2.5,2))","v":1},{"$f":"IF(Z78>0,(MOD(ROUND((SEARCH(X78,'Eigen QTH LOc'!$I$1)-0.5)*2.5,2),TRUNC(Z78)))*60,0)","v":15},{"$f":"SEARCH(S78,'Eigen QTH LOc'!$I$1)*20-200+U78*2","v":{"$error":"#VALUE!"}},{"$f":"TRUNC((SEARCH(W78,'Eigen QTH LOc'!$I$1)-0.5)*5)","v":2},{"$f":"IF(AC78>0,(MOD((SEARCH(W78,'Eigen QTH LOc'!$I$1)-0.5)*5,TRUNC(AC78)))*60,0)","v":30},{"$error":"#VALUE!"},{"$error":"#VALUE!"},{"$f":"COS('Eigen QTH LOc'!$G$4-AF78)*SIN(PI()/2-AE78)*SIN(PI()/2-'Eigen QTH LOc'!$G$3)+COS(PI()/2-AE78)*COS(PI()/2-'Eigen QTH LOc'!$G$3)","v":{"$error":"#VALUE!"}},{"$f":"-ATAN($AG78/SQRT(1-$AG78*$AG78))+PI()/2","v":{"$error":"#VALUE!"}},"ABCDEFGHIJKLMNOPQRSTUVWXABCDEFGHIJKLMNOPQRSTUVWX","\"0123456789\"",{"$f":"IF(B78>0,IF(K78=Infoblad!$C$6,0.5,0.5+AH78*40076.59/2/PI()),\" \")","v":" "},{"$f":"CONCATENATE(B78,I78,J78)","v":""}]
[null,null," ",{"$f":"IF(B79>0,VASTETIJD(C79)-Infoblad!$C$29,\" \")","v":" "}," ",67," ",null,null,null,null,null,{"$f":"IF(L79>0,VLOOKUP(L79,Punten!$B$3:$C$109,2,FALSE),\" \")","v":" "},null," ",null,null,null,"","","","","","",{"$f":"SEARCH(T79,'Eigen QTH LOc'!$I$1)*10-100+V79","v":{"$error":"#VALUE!"}},{"$f":"TRUNC(ROUND((SEARCH(X79,'Eigen QTH LOc'!$I$1)-0.5)*2.5,2))","v":1},{"$f":"IF(Z79>0,(MOD(ROUND((SEARCH(X79,'Eigen QTH LOc'!$I$1)-0.5)*2.5,2),TRUNC(Z79)))*60,0)","v":15},{"$f":"SEARCH(S79,'Eigen QTH LOc'!$I$1)*20-200+U79*2","v":{"$error":"#VALUE!"}},{"$f":"TRUNC((SEARCH(W79,'Eigen QTH LOc'!$I$1)-0.5)*5)","v":2},{"$f":"IF(AC79>0,(MOD((SEARCH(W79,'Eigen QTH LOc'!$I$1)-0.5)*5,TRUNC(AC79)))*60,0)","v":30},{"$error":"#VALUE!"},{"$error":"#VALUE!"},{"$f":"COS('Eigen QTH LOc'!$G$4-AF79)*SIN(PI()/2-AE79)*SIN(PI()/2-'Eigen QTH LOc'!$G$3)+COS(PI()/2-AE79)*COS(PI()/2-'Eigen QTH LOc'!$G$3)","v":{"$error":"#VALUE!"}},{"$error":"#VALUE!"},"ABCDEFGHIJKLMNOPQRSTUVWXABCDEFGHIJKLMNOPQRSTUVWX","\"0123456789\"",{"$f":"IF(B79>0,IF(K79=Infoblad!$C$6,0.5,0.5+AH79*40076.59/2/PI()),\" \")","v":" "},""]
[null,null," ",{"$f":"IF(B80>0,VASTETIJD(C80)-Infoblad!$C$29,\" \")","v":" "}," ",68," ",null,null,null,null,null,{"$f":"IF(L80>0,VLOOKUP(L80,Punten!$B$3:$C$109,2,FALSE),\" \")","v":" "},null," ",null,null,null,"","","","","","",{"$f":"SEARCH(T80,'Eigen QTH LOc'!$I$1)*10-100+V80","v":{"$error":"#VALUE!"}},{"$f":"TRUNC(ROUND((SEARCH(X80,'Eigen QTH LOc'!$I$1)-0.5)*2.5,2))","v":1},{"$f":"IF(Z80>0,(MOD(ROUND((SEARCH(X80,'Eigen QTH LOc'!$I$1)-0.5)*2.5,2),TRUNC(Z80)))*60,0)","v":15},{"$f":"SEARCH(S80,'Eigen QTH LOc'!$I$1)*20-200+U80*2","v":{"$error":"#VALUE!"}},{"$f":"TRUNC((SEARCH(W80,'Eigen QTH LOc'!$I$1)-0.5)*5)","v":2},{"$f":"IF(AC80>0,(MOD((SEARCH(W80,'Eigen QTH LOc'!$I$1)-0.5)*5,TRUNC(AC80)))*60,0)","v":30},{"$error":"#VALUE!"},{"$error":"#VALUE!"},{"$f":"COS('Eigen QTH LOc'!$G$4-AF80)*SIN(PI()/2-AE80)*SIN(PI()/2-'Eigen QTH LOc'!$G$3)+COS(PI()/2-AE80)*COS(PI()/2-'Eigen QTH LOc'!$G$3)","v":{"$error":"#VALUE!"}},{"$error":"#VALUE!"},"ABCDEFGHIJKLMNOPQRSTUVWXABCDEFGHIJKLMNOPQRSTUVWX","\"0123456789\"",{"$f":"IF(B80>0,IF(K80=Infoblad!$C$6,0.5,0.5+AH80*40076.59/2/PI()),\" \")","v":" "},""]
[null,null," ",{"$f":"IF(B81>0,VASTETIJD(C81)-Infoblad!$C$29,\" \")","v":" "}," ",69," ",null,null,null,null,null,{"$f":"IF(L81>0,VLOOKUP(L81,Punten!$B$3:$C$109,2,FALSE),\" \")","v":" "},null," ",null,null,null,"","","","","","",{"$f":"SEARCH(T81,'Eigen QTH LOc'!$I$1)*10-100+V81","v":{"$error":"#VALUE!"}},{"$f":"TRUNC(ROUND((SEARCH(X81,'Eigen QTH LOc'!$I$1)-0.5)*2.5,2))","v":1},{"$f":"IF(Z81>0,(MOD(ROUND((SEARCH(X81,'Eigen QTH LOc'!$I$1)-0.5)*2.5,2),TRUNC(Z81)))*60,0)","v":15},{"$f":"SEARCH(S81,'Eigen QTH LOc'!$I$1)*20-200+U81*2","v":{"$error":"#VALUE!"}},{"$f":"TRUNC((SEARCH(W81,'Eigen QTH LOc'!$I$1)-0.5)*5)","v":2},{"$f":"IF(AC81>0,(MOD((SEARCH(W81,'Eigen QTH LOc'!$I$1)-0.5)*5,TRUNC(AC81)))*60,0)","v":30},{"$error":"#VALUE!"},{"$error":"#VALUE!"},{"$f":"COS('Eigen QTH LOc'!$G$4-AF81)*SIN(PI()/2-AE81)*SIN(PI()/2-'Eigen QTH LOc'!$G$3)+COS(PI()/2-AE81)*COS(PI()/2-'Eigen QTH LOc'!$G$3)","v":{"$error":"#VALUE!"}},{"$error":"#VALUE!"},"ABCDEFGHIJKLMNOPQRSTUVWXABCDEFGHIJKLMNOPQRSTUVWX","\"0123456789\"",{"$f":"IF(B81>0,IF(K81=Infoblad!$C$6,0.5,0.5+AH81*40076.59/2/PI()),\" \")","v":" "},""]
[null,null," ",{"$f":"IF(B82>0,VASTETIJD(C82)-Infoblad!$C$29,\" \")","v":" "}," ",70," ",null,null,null,null,null,{"$f":"IF(L82>0,VLOOKUP(L82,Punten!$B$3:$C$109,2,FALSE),\" \")","v":" "},null," ",null,null,null,"","","","","","",{"$f":"SEARCH(T82,'Eigen QTH LOc'!$I$1)*10-100+V82","v":{"$error":"#VALUE!"}},{"$f":"TRUNC(ROUND((SEARCH(X82,'Eigen QTH LOc'!$I$1)-0.5)*2.5,2))","v":1},{"$f":"IF(Z82>0,(MOD(ROUND((SEARCH(X82,'Eigen QTH LOc'!$I$1)-0.5)*2.5,2),TRUNC(Z82)))*60,0)","v":15},{"$f":"SEARCH(S82,'Eigen QTH LOc'!$I$1)*20-200+U82*2","v":{"$error":"#VALUE!"}},{"$f":"TRUNC((SEARCH(W82,'Eigen QTH LOc'!$I$1)-0.5)*5)","v":2},{"$f":"IF(AC82>0,(MOD((SEARCH(W82,'Eigen QTH LOc'!$I$1)-0.5)*5,TRUNC(AC82)))*60,0)","v":30},{"$error":"#VALUE!"},{"$error":"#VALUE!"},{"$f":"COS('Eigen QTH LOc'!$G$4-AF82)*SIN(PI()/2-AE82)*SIN(PI()/2-'Eigen QTH LOc'!$G$3)+COS(PI()/2-AE82)*COS(PI()/2-'Eigen QTH LOc'!$G$3)","v":{"$error":"#VALUE!"}},{"$error":"#VALUE!"},"ABCDEFGHIJKLMNOPQRSTUVWXABCDEFGHIJKLMNOPQRSTUVWX","\"0123456789\"",{"$f":"IF(B82>0,IF(K82=Infoblad!$C$6,0.5,0.5+AH82*40076.59/2/PI()),\" \")","v":" "},""]
[null,null," ",{"$f":"IF(B83>0,VASTETIJD(C83)-Infoblad!$C$29,\" \")","v":" "}," ",71," ",null,null,null,null,null,{"$f":"IF(L83>0,VLOOKUP(L83,Punten!$B$3:$C$109,2,FALSE),\" \")","v":" "},null," ",null,null,null,"","","","","","",{"$f":"SEARCH(T83,'Eigen QTH LOc'!$I$1)*10-100+V83","v":{"$error":"#VALUE!"}},{"$f":"TRUNC(ROUND((SEARCH(X83,'Eigen QTH LOc'!$I$1)-0.5)*2.5,2))","v":1},{"$f":"IF(Z83>0,(MOD(ROUND((SEARCH(X83,'Eigen QTH LOc'!$I$1)-0.5)*2.5,2),TRUNC(Z83)))*60,0)","v":15},{"$f":"SEARCH(S83,'Eigen QTH LOc'!$I$1)*20-200+U83*2","v":{"$error":"#VALUE!"}},{"$f":"TRUNC((SEARCH(W83,'Eigen QTH LOc'!$I$1)-0.5)*5)","v":2},{"$f":"IF(AC83>0,(MOD((SEARCH(W83,'Eigen QTH LOc'!$I$1)-0.5)*5,TRUNC(AC83)))*60,0)","v":30},{"$error":"#VALUE!"},{"$error":"#VALUE!"},{"$f":"COS('Eigen QTH LOc'!$G$4-AF83)*SIN(PI()/2-AE83)*SIN(PI()/2-'Eigen QTH LOc'!$G$3)+COS(PI()/2-AE83)*COS(PI()/2-'Eigen QTH LOc'!$G$3)","v":{"$error":"#VALUE!"}},{"$error":"#VALUE!"},"ABCDEFGHIJKLMNOPQRSTUVWXABCDEFGHIJKLMNOPQRSTUVWX","\"0123456789\"",{"$f":"IF(B83>0,IF(K83=Infoblad!$C$6,0.5,0.5+AH83*40076.59/2/PI()),\" \")","v":" "},""]
[null,null," ",{"$f":"IF(B84>0,VASTETIJD(C84)-Infoblad!$C$29,\" \")","v":" "}," ",72," ",null,null,null,null,null,{"$f":"IF(L84>0,VLOOKUP(L84,Punten!$B$3:$C$109,2,FALSE),\" \")","v":" "},null," ",null,null,null,"","","","","","",{"$f":"SEARCH(T84,'Eigen QTH LOc'!$I$1)*10-100+V84","v":{"$error":"#VALUE!"}},{"$f":"TRUNC(ROUND((SEARCH(X84,'Eigen QTH LOc'!$I$1)-0.5)*2.5,2))","v":1},{"$f":"IF(Z84>0,(MOD(ROUND((SEARCH(X84,'Eigen QTH LOc'!$I$1)-0.5)*2.5,2),TRUNC(Z84)))*60,0)","v":15},{"$f":"SEARCH(S84,'Eigen QTH LOc'!$I$1)*20-200+U84*2","v":{"$error":"#VALUE!"}},{"$f":"TRUNC((SEARCH(W84,'Eigen QTH LOc'!$I$1)-0.5)*5)","v":2},{"$f":"IF(AC84>0,(MOD((SEARCH(W84,'Eigen QTH LOc'!$I$1)-0.5)*5,TRUNC(AC84)))*60,0)","v":30},{"$error":"#VALUE!"},{"$error":"#VALUE!"},{"$f":"COS('Eigen QTH LOc'!$G$4-AF84)*SIN(PI()/2-AE84)*SIN(PI()/2-'Eigen QTH LOc'!$G$3)+COS(PI()/2-AE84)*COS(PI()/2-'Eigen QTH LOc'!$G$3)","v":{"$error":"#VALUE!"}},{"$error":"#VALUE!"},"ABCDEFGHIJKLMNOPQRSTUVWXABCDEFGHIJKLMNOPQRSTUVWX","\"0123456789\"",{"$f":"IF(B84>0,IF(K84=Infoblad!$C$6,0.5,0.5+AH84*40076.59/2/PI()),\" \")","v":" "},""]
[null,null," ",{"$f":"IF(B85>0,VASTETIJD(C85)-Infoblad!$C$29,\" \")","v":" "}," ",73," ",null,null,null,null,null,{"$f":"IF(L85>0,VLOOKUP(L85,Punten!$B$3:$C$109,2,FALSE),\" \")","v":" "},null," ",null,null,null,"","","","","","",{"$f":"SEARCH(T85,'Eigen QTH LOc'!$I$1)*10-100+V85","v":{"$error":"#VALUE!"}},{"$f":"TRUNC(ROUND((SEARCH(X85,'Eigen QTH LOc'!$I$1)-0.5)*2.5,2))","v":1},{"$f":"IF(Z85>0,(MOD(ROUND((SEARCH(X85,'Eigen QTH LOc'!$I$1)-0.5)*2.5,2),TRUNC(Z85)))*60,0)","v":15},{"$f":"SEARCH(S85,'Eigen QTH LOc'!$I$1)*20-200+U85*2","v":{"$error":"#VALUE!"}},{"$f":"TRUNC((SEARCH(W85,'Eigen QTH LOc'!$I$1)-0.5)*5)","v":2},{"$f":"IF(AC85>0,(MOD((SEARCH(W85,'Eigen QTH LOc'!$I$1)-0.5)*5,TRUNC(AC85)))*60,0)","v":30},{"$error":"#VALUE!"},{"$error":"#VALUE!"},{"$f":"COS('Eigen QTH LOc'!$G$4-AF85)*SIN(PI()/2-AE85)*SIN(PI()/2-'Eigen QTH LOc'!$G$3)+COS(PI()/2-AE85)*COS(PI()/2-'Eigen QTH LOc'!$G$3)","v":{"$error":"#VALUE!"}},{"$error":"#VALUE!"},"ABCDEFGHIJKLMNOPQRSTUVWXABCDEFGHIJKLMNOPQRSTUVWX","\"0123456789\"",{"$f":"IF(B85>0,IF(K85=Infoblad!$C$6,0.5,0.5+AH85*40076.59/2/PI()),\" \")","v":" "},""]
[null,null," ",{"$f":"IF(B86>0,VASTETIJD(C86)-Infoblad!$C$29,\" \")","v":" "}," ",74," ",null,null,null,null,null,{"$f":"IF(L86>0,VLOOKUP(L86,Punten!$B$3:$C$109,2,FALSE),\" \")","v":" "},null," ",null,null,null,"","","","","","",{"$f":"SEARCH(T86,'Eigen QTH LOc'!$I$1)*10-100+V86","v":{"$error":"#VALUE!"}},{"$f":"TRUNC(ROUND((SEARCH(X86,'Eigen QTH LOc'!$I$1)-0.5)*2.5,2))","v":1},{"$f":"IF(Z86>0,(MOD(ROUND((SEARCH(X86,'Eigen QTH LOc'!$I$1)-0.5)*2.5,2),TRUNC(Z86)))*60,0)","v":15},{"$f":"SEARCH(S86,'Eigen QTH LOc'!$I$1)*20-200+U86*2","v":{"$error":"#VALUE!"}},{"$f":"TRUNC((SEARCH(W86,'Eigen QTH LOc'!$I$1)-0.5)*5)","v":2},{"$f":"IF(AC86>0,(MOD((SEARCH(W86,'Eigen QTH LOc'!$I$1)-0.5)*5,TRUNC(AC86)))*60,0)","v":30},{"$error":"#VALUE!"},{"$error":"#VALUE!"},{"$f":"COS('Eigen QTH LOc'!$G$4-AF86)*SIN(PI()/2-AE86)*SIN(PI()/2-'Eigen QTH LOc'!$G$3)+COS(PI()/2-AE86)*COS(PI()/2-'Eigen QTH LOc'!$G$3)","v":{"$error":"#VALUE!"}},{"$error":"#VALUE!"},"ABCDEFGHIJKLMNOPQRSTUVWXABCDEFGHIJKLMNOPQRSTUVWX","\"0123456789\"",{"$f":"IF(B86>0,IF(K86=Infoblad!$C$6,0.5,0.5+AH86*40076.59/2/PI()),\" \")","v":" "},""]
[null,null," ",{"$f":"IF(B87>0,VASTETIJD(C87)-Infoblad!$C$29,\" \")","v":" "}," ",75," ",null,null,null,null,null,{"$f":"IF(L87>0,VLOOKUP(L87,Punten!$B$3:$C$109,2,FALSE),\" \")","v":" "},null," ",null,null,null,"","","","","","",{"$f":"SEARCH(T87,'Eigen QTH LOc'!$I$1)*10-100+V87","v":{"$error":"#VALUE!"}},{"$f":"TRUNC(ROUND((SEARCH(X87,'Eigen QTH LOc'!$I$1)-0.5)*2.5,2))","v":1},{"$f":"IF(Z87>0,(MOD(ROUND((SEARCH(X87,'Eigen QTH LOc'!$I$1)-0.5)*2.5,2),TRUNC(Z87)))*60,0)","v":15},{"$f":"SEARCH(S87,'Eigen QTH LOc'!$I$1)*20-200+U87*2","v":{"$error":"#VALUE!"}},{"$f":"TRUNC((SEARCH(W87,'Eigen QTH LOc'!$I$1)-0.5)*5)","v":2},{"$f":"IF(AC87>0,(MOD((SEARCH(W87,'Eigen QTH LOc'!$I$1)-0.5)*5,TRUNC(AC87)))*60,0)","v":30},{"$error":"#VALUE!"},{"$error":"#VALUE!"},{"$f":"COS('Eigen QTH LOc'!$G$4-AF87)*SIN(PI()/2-AE87)*SIN(PI()/2-'Eigen QTH LOc'!$G$3)+COS(PI()/2-AE87)*COS(PI()/2-'Eigen QTH LOc'!$G$3)","v":{"$error":"#VALUE!"}},{"$error":"#VALUE!"},"ABCDEFGHIJKLMNOPQRSTUVWXABCDEFGHIJKLMNOPQRSTUVWX","\"0123456789\"",{"$f":"IF(B87>0,IF(K87=Infoblad!$C$6,0.5,0.5+AH87*40076.59/2/PI()),\" \")","v":" "},""]
[null,null," ",{"$f":"IF(B88>0,VASTETIJD(C88)-Infoblad!$C$29,\" \")","v":" "}," ",76," ",null,null,null,null,null,{"$f":"IF(L88>0,VLOOKUP(L88,Punten!$B$3:$C$109,2,FALSE),\" \")","v":" "},null," ",null,null,null,"","","","","","",{"$f":"SEARCH(T88,'Eigen QTH LOc'!$I$1)*10-100+V88","v":{"$error":"#VALUE!"}},{"$f":"TRUNC(ROUND((SEARCH(X88,'Eigen QTH LOc'!$I$1)-0.5)*2.5,2))","v":1},{"$f":"IF(Z88>0,(MOD(ROUND((SEARCH(X88,'Eigen QTH LOc'!$I$1)-0.5)*2.5,2),TRUNC(Z88)))*60,0)","v":15},{"$f":"SEARCH(S88,'Eigen QTH LOc'!$I$1)*20-200+U88*2","v":{"$error":"#VALUE!"}},{"$f":"TRUNC((SEARCH(W88,'Eigen QTH LOc'!$I$1)-0.5)*5)","v":2},{"$f":"IF(AC88>0,(MOD((SEARCH(W88,'Eigen QTH LOc'!$I$1)-0.5)*5,TRUNC(AC88)))*60,0)","v":30},{"$error":"#VALUE!"},{"$error":"#VALUE!"},{"$f":"COS('Eigen QTH LOc'!$G$4-AF88)*SIN(PI()/2-AE88)*SIN(PI()/2-'Eigen QTH LOc'!$G$3)+COS(PI()/2-AE88)*COS(PI()/2-'Eigen QTH LOc'!$G$3)","v":{"$error":"#VALUE!"}},{"$error":"#VALUE!"},"ABCDEFGHIJKLMNOPQRSTUVWXABCDEFGHIJKLMNOPQRSTUVWX","\"0123456789\"",{"$f":"IF(B88>0,IF(K88=Infoblad!$C$6,0.5,0.5+AH88*40076.59/2/PI()),\" \")","v":" "},""]
[null,null," ",{"$f":"IF(B89>0,VASTETIJD(C89)-Infoblad!$C$29,\" \")","v":" "}," ",77," ",null,null,null,null,null,{"$f":"IF(L89>0,VLOOKUP(L89,Punten!$B$3:$C$109,2,FALSE),\" \")","v":" "},null," ",null,null,null,{"$f":"MID(K89,1,1)","v":""},{"$f":"MID(K89,2,1)","v":""},{"$f":"MID(K89,3,1)","v":""},{"$f":"MID(K89,4,1)","v":""},{"$f":"MID(K89,5,1)","v":""},{"$f":"MID(K89,6,1)","v":""},{"$f":"SEARCH(T89,'Eigen QTH LOc'!$I$1)*10-100+V89","v":{"$error":"#VALUE!"}},{"$f":"TRUNC(ROUND((SEARCH(X89,'Eigen QTH LOc'!$I$1)-0.5)*2.5,2))","v":1},{"$f":"IF(Z89>0,(MOD(ROUND((SEARCH(X89,'Eigen QTH LOc'!$I$1)-0.5)*2.5,2),TRUNC(Z89)))*60,0)","v":15},{"$f":"SEARCH(S89,'Eigen QTH LOc'!$I$1)*20-200+U89*2","v":{"$error":"#VALUE!"}},{"$f":"TRUNC((SEARCH(W89,'Eigen QTH LOc'!$I$1)-0.5)*5)","v":2},{"$f":"IF(AC89>0,(MOD((SEARCH(W89,'Eigen QTH LOc'!$I$1)-0.5)*5,TRUNC(AC89)))*60,0)","v":30},{"$f":"(Y89+(Z89/60)+(AA89/3600))*PI()/180","v":{"$error":"#VALUE!"}},{"$f":"(AB89+(AC89/60)+(AD89/100/60))*PI()/180","v":{"$error":"#VALUE!"}},{"$f":"COS('Eigen QTH LOc'!$G$4-AF89)*SIN(PI()/2-AE89)*SIN(PI()/2-'Eigen QTH LOc'!$G$3)+COS(PI()/2-AE89)*COS(PI()/2-'Eigen QTH LOc'!$G$3)","v":{"$error":"#VALUE!"}},{"$error":"#VALUE!"},"ABCDEFGHIJKLMNOPQRSTUVWXABCDEFGHIJKLMNOPQRSTUVWX","\"0123456789\"",{"$f":"IF(B89>0,IF(K89=Infoblad!$C$6,0.5,0.5+AH89*40076.59/2/PI()),\" \")","v":" "},""]
[null,null," ",{"$f":"IF(B90>0,VASTETIJD(C90)-Infoblad!$C$29,\" \")","v":" "}," ",78," ",null,null,null,null,null,{"$f":"IF(L90>0,VLOOKUP(L90,Punten!$B$3:$C$109,2,FALSE),\" \")","v":" "},null," ",null,null,null,"","","","","","",{"$f":"SEARCH(T90,'Eigen QTH LOc'!$I$1)*10-100+V90","v":{"$error":"#VALUE!"}},{"$f":"TRUNC(ROUND((SEARCH(X90,'Eigen QTH LOc'!$I$1)-0.5)*2.5,2))","v":1},{"$f":"IF(Z90>0,(MOD(ROUND((SEARCH(X90,'Eigen QTH LOc'!$I$1)-0.5)*2.5,2),TRUNC(Z90)))*60,0)","v":15},{"$f":"SEARCH(S90,'Eigen QTH LOc'!$I$1)*20-200+U90*2","v":{"$error":"#VALUE!"}},{"$f":"TRUNC((SEARCH(W90,'Eigen QTH LOc'!$I$1)-0.5)*5)","v":2},{"$f":"IF(AC90>0,(MOD((SEARCH(W90,'Eigen QTH LOc'!$I$1)-0.5)*5,TRUNC(AC90)))*60,0)","v":30},{"$error":"#VALUE!"},{"$error":"#VALUE!"},{"$f":"COS('Eigen QTH LOc'!$G$4-AF90)*SIN(PI()/2-AE90)*SIN(PI()/2-'Eigen QTH LOc'!$G$3)+COS(PI()/2-AE90)*COS(PI()/2-'Eigen QTH LOc'!$G$3)","v":{"$error":"#VALUE!"}},{"$error":"#VALUE!"},"ABCDEFGHIJKLMNOPQRSTUVWXABCDEFGHIJKLMNOPQRSTUVWX","\"0123456789\"",{"$f":"IF(B90>0,IF(K90=Infoblad!$C$6,0.5,0.5+AH90*40076.59/2/PI()),\" \")","v":" "},""]
[null,null," ",{"$f":"IF(B91>0,VASTETIJD(C91)-Infoblad!$C$29,\" \")","v":" "}," ",79," ",null,null,null,null,null,{"$f":"IF(L91>0,VLOOKUP(L91,Punten!$B$3:$C$109,2,FALSE),\" \")","v":" "},null," ",null,null,null,"","","","","","",{"$f":"SEARCH(T91,'Eigen QTH LOc'!$I$1)*10-100+V91","v":{"$error":"#VALUE!"}},{"$f":"TRUNC(ROUND((SEARCH(X91,'Eigen QTH LOc'!$I$1)-0.5)*2.5,2))","v":1},{"$f":"IF(Z91>0,(MOD(ROUND((SEARCH(X91,'Eigen QTH LOc'!$I$1)-0.5)*2.5,2),TRUNC(Z91)))*60,0)","v":15},{"$f":"SEARCH(S91,'Eigen QTH LOc'!$I$1)*20-200+U91*2","v":{"$error":"#VALUE!"}},{"$f":"TRUNC((SEARCH(W91,'Eigen QTH LOc'!$I$1)-0.5)*5)","v":2},{"$f":"IF(AC91>0,(MOD((SEARCH(W91,'Eigen QTH LOc'!$I$1)-0.5)*5,TRUNC(AC91)))*60,0)","v":30},{"$error":"#VALUE!"},{"$error":"#VALUE!"},{"$f":"COS('Eigen QTH LOc'!$G$4-AF91)*SIN(PI()/2-AE91)*SIN(PI()/2-'Eigen QTH LOc'!$G$3)+COS(PI()/2-AE91)*COS(PI()/2-'Eigen QTH LOc'!$G$3)","v":{"$error":"#VALUE!"}},{"$error":"#VALUE!"},"ABCDEFGHIJKLMNOPQRSTUVWXABCDEFGHIJKLMNOPQRSTUVWX","\"0123456789\"",{"$f":"IF(B91>0,IF(K91=Infoblad!$C$6,0.5,0.5+AH91*40076.59/2/PI()),\" \")","v":" "},""]
[null,null," ",{"$f":"IF(B92>0,VASTETIJD(C92)-Infoblad!$C$29,\" \")","v":" "}," ",80," ",null,null,null,null,null,{"$f":"IF(L92>0,VLOOKUP(L92,Punten!$B$3:$C$109,2,FALSE),\" \")","v":" "},null," ",null,null,null,"","","","","","",{"$f":"SEARCH(T92,'Eigen QTH LOc'!$I$1)*10-100+V92","v":{"$error":"#VALUE!"}},{"$f":"TRUNC(ROUND((SEARCH(X92,'Eigen QTH LOc'!$I$1)-0.5)*2.5,2))","v":1},{"$f":"IF(Z92>0,(MOD(ROUND((SEARCH(X92,'Eigen QTH LOc'!$I$1)-0.5)*2.5,2),TRUNC(Z92)))*60,0)","v":15},{"$f":"SEARCH(S92,'Eigen QTH LOc'!$I$1)*20-200+U92*2","v":{"$error":"#VALUE!"}},{"$f":"TRUNC((SEARCH(W92,'Eigen QTH LOc'!$I$1)-0.5)*5)","v":2},{"$f":"IF(AC92>0,(MOD((SEARCH(W92,'Eigen QTH LOc'!$I$1)-0.5)*5,TRUNC(AC92)))*60,0)","v":30},{"$error":"#VALUE!"},{"$error":"#VALUE!"},{"$f":"COS('Eigen QTH LOc'!$G$4-AF92)*SIN(PI()/2-AE92)*SIN(PI()/2-'Eigen QTH LOc'!$G$3)+COS(PI()/2-AE92)*COS(PI()/2-'Eigen QTH LOc'!$G$3)","v":{"$error":"#VALUE!"}},{"$error":"#VALUE!"},"ABCDEFGHIJKLMNOPQRSTUVWXABCDEFGHIJKLMNOPQRSTUVWX","\"0123456789\"",{"$f":"IF(B92>0,IF(K92=Infoblad!$C$6,0.5,0.5+AH92*40076.59/2/PI()),\" \")","v":" "},""]
[null,null," ",{"$f":"IF(B93>0,VASTETIJD(C93)-Infoblad!$C$29,\" \")","v":" "}," ",81," ",null,null,null,null,null,{"$f":"IF(L93>0,VLOOKUP(L93,Punten!$B$3:$C$109,2,FALSE),\" \")","v":" "},null," ",null,null,null,"","","","","","",{"$f":"SEARCH(T93,'Eigen QTH LOc'!$I$1)*10-100+V93","v":{"$error":"#VALUE!"}},{"$f":"TRUNC(ROUND((SEARCH(X93,'Eigen QTH LOc'!$I$1)-0.5)*2.5,2))","v":1},{"$f":"IF(Z93>0,(MOD(ROUND((SEARCH(X93,'Eigen QTH LOc'!$I$1)-0.5)*2.5,2),TRUNC(Z93)))*60,0)","v":15},{"$f":"SEARCH(S93,'Eigen QTH LOc'!$I$1)*20-200+U93*2","v":{"$error":"#VALUE!"}},{"$f":"TRUNC((SEARCH(W93,'Eigen QTH LOc'!$I$1)-0.5)*5)","v":2},{"$f":"IF(AC93>0,(MOD((SEARCH(W93,'Eigen QTH LOc'!$I$1)-0.5)*5,TRUNC(AC93)))*60,0)","v":30},{"$error":"#VALUE!"},{"$error":"#VALUE!"},{"$f":"COS('Eigen QTH LOc'!$G$4-AF93)*SIN(PI()/2-AE93)*SIN(PI()/2-'Eigen QTH LOc'!$G$3)+COS(PI()/2-AE93)*COS(PI()/2-'Eigen QTH LOc'!$G$3)","v":{"$error":"#VALUE!"}},{"$error":"#VALUE!"},"ABCDEFGHIJKLMNOPQRSTUVWXABCDEFGHIJKLMNOPQRSTUVWX","\"0123456789\"",{"$f":"IF(B93>0,IF(K93=Infoblad!$C$6,0.5,0.5+AH93*40076.59/2/PI()),\" \")","v":" "},""]
[null,null," ",{"$f":"IF(B94>0,VASTETIJD(C94)-Infoblad!$C$29,\" \")","v":" "}," ",82," ",null,null,null,null,null,{"$f":"IF(L94>0,VLOOKUP(L94,Punten!$B$3:$C$109,2,FALSE),\" \")","v":" "},null," ",null,null,null,"","","","","","",{"$f":"SEARCH(T94,'Eigen QTH LOc'!$I$1)*10-100+V94","v":{"$error":"#VALUE!"}},{"$f":"TRUNC(ROUND((SEARCH(X94,'Eigen QTH LOc'!$I$1)-0.5)*2.5,2))","v":1},{"$f":"IF(Z94>0,(MOD(ROUND((SEARCH(X94,'Eigen QTH LOc'!$I$1)-0.5)*2.5,2),TRUNC(Z94)))*60,0)","v":15},{"$f":"SEARCH(S94,'Eigen QTH LOc'!$I$1)*20-200+U94*2","v":{"$error":"#VALUE!"}},{"$f":"TRUNC((SEARCH(W94,'Eigen QTH LOc'!$I$1)-0.5)*5)","v":2},{"$f":"IF(AC94>0,(MOD((SEARCH(W94,'Eigen QTH LOc'!$I$1)-0.5)*5,TRUNC(AC94)))*60,0)","v":30},{"$error":"#VALUE!"},{"$error":"#VALUE!"},{"$f":"COS('Eigen QTH LOc'!$G$4-AF94)*SIN(PI()/2-AE94)*SIN(PI()/2-'Eigen QTH LOc'!$G$3)+COS(PI()/2-AE94)*COS(PI()/2-'Eigen QTH LOc'!$G$3)","v":{"$error":"#VALUE!"}},{"$error":"#VALUE!"},"ABCDEFGHIJKLMNOPQRSTUVWXABCDEFGHIJKLMNOPQRSTUVWX","\"0123456789\"",{"$f":"IF(B94>0,IF(K94=Infoblad!$C$6,0.5,0.5+AH94*40076.59/2/PI()),\" \")","v":" "},""]
[null,null," ",{"$f":"IF(B95>0,VASTETIJD(C95)-Infoblad!$C$29,\" \")","v":" "}," ",83," ",null,null,null,null,null,{"$f":"IF(L95>0,VLOOKUP(L95,Punten!$B$3:$C$109,2,FALSE),\" \")","v":" "},null," ",null,null,null,"","","","","","",{"$f":"SEARCH(T95,'Eigen QTH LOc'!$I$1)*10-100+V95","v":{"$error":"#VALUE!"}},{"$f":"TRUNC(ROUND((SEARCH(X95,'Eigen QTH LOc'!$I$1)-0.5)*2.5,2))","v":1},{"$f":"IF(Z95>0,(MOD(ROUND((SEARCH(X95,'Eigen QTH LOc'!$I$1)-0.5)*2.5,2),TRUNC(Z95)))*60,0)","v":15},{"$f":"SEARCH(S95,'Eigen QTH LOc'!$I$1)*20-200+U95*2","v":{"$error":"#VALUE!"}},{"$f":"TRUNC((SEARCH(W95,'Eigen QTH LOc'!$I$1)-0.5)*5)","v":2},{"$f":"IF(AC95>0,(MOD((SEARCH(W95,'Eigen QTH LOc'!$I$1)-0.5)*5,TRUNC(AC95)))*60,0)","v":30},{"$error":"#VALUE!"},{"$error":"#VALUE!"},{"$f":"COS('Eigen QTH LOc'!$G$4-AF95)*SIN(PI()/2-AE95)*SIN(PI()/2-'Eigen QTH LOc'!$G$3)+COS(PI()/2-AE95)*COS(PI()/2-'Eigen QTH LOc'!$G$3)","v":{"$error":"#VALUE!"}},{"$error":"#VALUE!"},"ABCDEFGHIJKLMNOPQRSTUVWXABCDEFGHIJKLMNOPQRSTUVWX","\"0123456789\"",{"$f":"IF(B95>0,IF(K95=Infoblad!$C$6,0.5,0.5+AH95*40076.59/2/PI()),\" \")","v":" "},""]
[null,null," ",{"$f":"IF(B96>0,VASTETIJD(C96)-Infoblad!$C$29,\" \")","v":" "}," ",84," ",null,null,null,null,null,{"$f":"IF(L96>0,VLOOKUP(L96,Punten!$B$3:$C$109,2,FALSE),\" \")","v":" "},null," ",null,null,null,"","","","","","",{"$f":"SEARCH(T96,'Eigen QTH LOc'!$I$1)*10-100+V96","v":{"$error":"#VALUE!"}},{"$f":"TRUNC(ROUND((SEARCH(X96,'Eigen QTH LOc'!$I$1)-0.5)*2.5,2))","v":1},{"$f":"IF(Z96>0,(MOD(ROUND((SEARCH(X96,'Eigen QTH LOc'!$I$1)-0.5)*2.5,2),TRUNC(Z96)))*60,0)","v":15},{"$f":"SEARCH(S96,'Eigen QTH LOc'!$I$1)*20-200+U96*2","v":{"$error":"#VALUE!"}},{"$f":"TRUNC((SEARCH(W96,'Eigen QTH LOc'!$I$1)-0.5)*5)","v":2},{"$f":"IF(AC96>0,(MOD((SEARCH(W96,'Eigen QTH LOc'!$I$1)-0.5)*5,TRUNC(AC96)))*60,0)","v":30},{"$error":"#VALUE!"},{"$error":"#VALUE!"},{"$f":"COS('Eigen QTH LOc'!$G$4-AF96)*SIN(PI()/2-AE96)*SIN(PI()/2-'Eigen QTH LOc'!$G$3)+COS(PI()/2-AE96)*COS(PI()/2-'Eigen QTH LOc'!$G$3)","v":{"$error":"#VALUE!"}},{"$error":"#VALUE!"},"ABCDEFGHIJKLMNOPQRSTUVWXABCDEFGHIJKLMNOPQRSTUVWX","\"0123456789\"",{"$f":"IF(B96>0,IF(K96=Infoblad!$C$6,0.5,0.5+AH96*40076.59/2/PI()),\" \")","v":" "},""]
[null,null," ",{"$f":"IF(B97>0,VASTETIJD(C97)-Infoblad!$C$29,\" \")","v":" "}," ",85," ",null,null,null,null,null,{"$f":"IF(L97>0,VLOOKUP(L97,Punten!$B$3:$C$109,2,FALSE),\" \")","v":" "},null," ",null,null,null,"","","","","","",{"$f":"SEARCH(T97,'Eigen QTH LOc'!$I$1)*10-100+V97","v":{"$error":"#VALUE!"}},{"$f":"TRUNC(ROUND((SEARCH(X97,'Eigen QTH LOc'!$I$1)-0.5)*2.5,2))","v":1},{"$f":"IF(Z97>0,(MOD(ROUND((SEARCH(X97,'Eigen QTH LOc'!$I$1)-0.5)*2.5,2),TRUNC(Z97)))*60,0)","v":15},{"$f":"SEARCH(S97,'Eigen QTH LOc'!$I$1)*20-200+U97*2","v":{"$error":"#VALUE!"}},{"$f":"TRUNC((SEARCH(W97,'Eigen QTH LOc'!$I$1)-0.5)*5)","v":2},{"$f":"IF(AC97>0,(MOD((SEARCH(W97,'Eigen QTH LOc'!$I$1)-0.5)*5,TRUNC(AC97)))*60,0)","v":30},{"$error":"#VALUE!"},{"$error":"#VALUE!"},{"$f":"COS('Eigen QTH LOc'!$G$4-AF97)*SIN(PI()/2-AE97)*SIN(PI()/2-'Eigen QTH LOc'!$G$3)+COS(PI()/2-AE97)*COS(PI()/2-'Eigen QTH LOc'!$G$3)","v":{"$error":"#VALUE!"}},{"$error":"#VALUE!"},"ABCDEFGHIJKLMNOPQRSTUVWXABCDEFGHIJKLMNOPQRSTUVWX","\"0123456789\"",{"$f":"IF(B97>0,IF(K97=Infoblad!$C$6,0.5,0.5+AH97*40076.59/2/PI()),\" \")","v":" "},""]
[null,null," ",{"$f":"IF(B98>0,VASTETIJD(C98)-Infoblad!$C$29,\" \")","v":" "}," ",86," ",null,null,null,null,null,{"$f":"IF(L98>0,VLOOKUP(L98,Punten!$B$3:$C$109,2,FALSE),\" \")","v":" "},null," ",null,null,null,"","","","","","",{"$f":"SEARCH(T98,'Eigen QTH LOc'!$I$1)*10-100+V98","v":{"$error":"#VALUE!"}},{"$f":"TRUNC(ROUND((SEARCH(X98,'Eigen QTH LOc'!$I$1)-0.5)*2.5,2))","v":1},{"$f":"IF(Z98>0,(MOD(ROUND((SEARCH(X98,'Eigen QTH LOc'!$I$1)-0.5)*2.5,2),TRUNC(Z98)))*60,0)","v":15},{"$f":"SEARCH(S98,'Eigen QTH LOc'!$I$1)*20-200+U98*2","v":{"$error":"#VALUE!"}},{"$f":"TRUNC((SEARCH(W98,'Eigen QTH LOc'!$I$1)-0.5)*5)","v":2},{"$f":"IF(AC98>0,(MOD((SEARCH(W98,'Eigen QTH LOc'!$I$1)-0.5)*5,TRUNC(AC98)))*60,0)","v":30},{"$error":"#VALUE!"},{"$error":"#VALUE!"},{"$f":"COS('Eigen QTH LOc'!$G$4-AF98)*SIN(PI()/2-AE98)*SIN(PI()/2-'Eigen QTH LOc'!$G$3)+COS(PI()/2-AE98)*COS(PI()/2-'Eigen QTH LOc'!$G$3)","v":{"$error":"#VALUE!"}},{"$error":"#VALUE!"},"ABCDEFGHIJKLMNOPQRSTUVWXABCDEFGHIJKLMNOPQRSTUVWX","\"0123456789\"",{"$f":"IF(B98>0,IF(K98=Infoblad!$C$6,0.5,0.5+AH98*40076.59/2/PI()),\" \")","v":" "},""]
[null,null," ",{"$f":"IF(B99>0,VASTETIJD(C99)-Infoblad!$C$29,\" \")","v":" "}," ",87," ",null,null,null,null,null,{"$f":"IF(L99>0,VLOOKUP(L99,Punten!$B$3:$C$109,2,FALSE),\" \")","v":" "},null," ",null,null,null,"","","","","","",{"$f":"SEARCH(T99,'Eigen QTH LOc'!$I$1)*10-100+V99","v":{"$error":"#VALUE!"}},{"$f":"TRUNC(ROUND((SEARCH(X99,'Eigen QTH LOc'!$I$1)-0.5)*2.5,2))","v":1},{"$f":"IF(Z99>0,(MOD(ROUND((SEARCH(X99,'Eigen QTH LOc'!$I$1)-0.5)*2.5,2),TRUNC(Z99)))*60,0)","v":15},{"$f":"SEARCH(S99,'Eigen QTH LOc'!$I$1)*20-200+U99*2","v":{"$error":"#VALUE!"}},{"$f":"TRUNC((SEARCH(W99,'Eigen QTH LOc'!$I$1)-0.5)*5)","v":2},{"$f":"IF(AC99>0,(MOD((SEARCH(W99,'Eigen QTH LOc'!$I$1)-0.5)*5,TRUNC(AC99)))*60,0)","v":30},{"$error":"#VALUE!"},{"$error":"#VALUE!"},{"$f":"COS('Eigen QTH LOc'!$G$4-AF99)*SIN(PI()/2-AE99)*SIN(PI()/2-'Eigen QTH LOc'!$G$3)+COS(PI()/2-AE99)*COS(PI()/2-'Eigen QTH LOc'!$G$3)","v":{"$error":"#VALUE!"}},{"$error":"#VALUE!"},"ABCDEFGHIJKLMNOPQRSTUVWXABCDEFGHIJKLMNOPQRSTUVWX","\"0123456789\"",{"$f":"IF(B99>0,IF(K99=Infoblad!$C$6,0.5,0.5+AH99*40076.59/2/PI()),\" \")","v":" "},""]
[null,null," ",{"$f":"IF(B100>0,VASTETIJD(C100)-Infoblad!$C$29,\" \")","v":" "}," ",88," ",null,null,null,null,null,{"$f":"IF(L100>0,VLOOKUP(L100,Punten!$B$3:$C$109,2,FALSE),\" \")","v":" "},null," ",null,null,null,"","","","","","",{"$f":"SEARCH(T100,'Eigen QTH LOc'!$I$1)*10-100+V100","v":{"$error":"#VALUE!"}},{"$f":"TRUNC(ROUND((SEARCH(X100,'Eigen QTH LOc'!$I$1)-0.5)*2.5,2))","v":1},{"$f":"IF(Z100>0,(MOD(ROUND((SEARCH(X100,'Eigen QTH LOc'!$I$1)-0.5)*2.5,2),TRUNC(Z100)))*60,0)","v":15},{"$f":"SEARCH(S100,'Eigen QTH LOc'!$I$1)*20-200+U100*2","v":{"$error":"#VALUE!"}},{"$f":"TRUNC((SEARCH(W100,'Eigen QTH LOc'!$I$1)-0.5)*5)","v":2},{"$f":"IF(AC100>0,(MOD((SEARCH(W100,'Eigen QTH LOc'!$I$1)-0.5)*5,TRUNC(AC100)))*60,0)","v":30},{"$error":"#VALUE!"},{"$error":"#VALUE!"},{"$f":"COS('Eigen QTH LOc'!$G$4-AF100)*SIN(PI()/2-AE100)*SIN(PI()/2-'Eigen QTH LOc'!$G$3)+COS(PI()/2-AE100)*COS(PI()/2-'Eigen QTH LOc'!$G$3)","v":{"$error":"#VALUE!"}},{"$error":"#VALUE!"},"ABCDEFGHIJKLMNOPQRSTUVWXABCDEFGHIJKLMNOPQRSTUVWX","\"0123456789\"",{"$f":"IF(B100>0,IF(K100=Infoblad!$C$6,0.5,0.5+AH100*40076.59/2/PI()),\" \")","v":" "},""]
[null,null," ",{"$f":"IF(B101>0,VASTETIJD(C101)-Infoblad!$C$29,\" \")","v":" "}," ",89," ",null,null,null,null,null,{"$f":"IF(L101>0,VLOOKUP(L101,Punten!$B$3:$C$109,2,FALSE),\" \")","v":" "},null," ",null,null,null,"","","","","","",{"$f":"SEARCH(T101,'Eigen QTH LOc'!$I$1)*10-100+V101","v":{"$error":"#VALUE!"}},{"$f":"TRUNC(ROUND((SEARCH(X101,'Eigen QTH LOc'!$I$1)-0.5)*2.5,2))","v":1},{"$f":"IF(Z101>0,(MOD(ROUND((SEARCH(X101,'Eigen QTH LOc'!$I$1)-0.5)*2.5,2),TRUNC(Z101)))*60,0)","v":15},{"$f":"SEARCH(S101,'Eigen QTH LOc'!$I$1)*20-200+U101*2","v":{"$error":"#VALUE!"}},{"$f":"TRUNC((SEARCH(W101,'Eigen QTH LOc'!$I$1)-0.5)*5)","v":2},{"$f":"IF(AC101>0,(MOD((SEARCH(W101,'Eigen QTH LOc'!$I$1)-0.5)*5,TRUNC(AC101)))*60,0)","v":30},{"$error":"#VALUE!"},{"$error":"#VALUE!"},{"$f":"COS('Eigen QTH LOc'!$G$4-AF101)*SIN(PI()/2-AE101)*SIN(PI()/2-'Eigen QTH LOc'!$G$3)+COS(PI()/2-AE101)*COS(PI()/2-'Eigen QTH LOc'!$G$3)","v":{"$error":"#VALUE!"}},{"$error":"#VALUE!"},"ABCDEFGHIJKLMNOPQRSTUVWXABCDEFGHIJKLMNOPQRSTUVWX","\"0123456789\"",{"$f":"IF(B101>0,IF(K101=Infoblad!$C$6,0.5,0.5+AH101*40076.59/2/PI()),\" \")","v":" "},""]
[null,null," ",{"$f":"IF(B102>0,VASTETIJD(C102)-Infoblad!$C$29,\" \")","v":" "}," ",90," ",null,null,null,null,null,{"$f":"IF(L102>0,VLOOKUP(L102,Punten!$B$3:$C$109,2,FALSE),\" \")","v":" "},null," ",null,null,null,"","","","","","",{"$f":"SEARCH(T102,'Eigen QTH LOc'!$I$1)*10-100+V102","v":{"$error":"#VALUE!"}},{"$f":"TRUNC(ROUND((SEARCH(X102,'Eigen QTH LOc'!$I$1)-0.5)*2.5,2))","v":1},{"$f":"IF(Z102>0,(MOD(ROUND((SEARCH(X102,'Eigen QTH LOc'!$I$1)-0.5)*2.5,2),TRUNC(Z102)))*60,0)","v":15},{"$f":"SEARCH(S102,'Eigen QTH LOc'!$I$1)*20-200+U102*2","v":{"$error":"#VALUE!"}},{"$f":"TRUNC((SEARCH(W102,'Eigen QTH LOc'!$I$1)-0.5)*5)","v":2},{"$f":"IF(AC102>0,(MOD((SEARCH(W102,'Eigen QTH LOc'!$I$1)-0.5)*5,TRUNC(AC102)))*60,0)","v":30},{"$error":"#VALUE!"},{"$error":"#VALUE!"},{"$f":"COS('Eigen QTH LOc'!$G$4-AF102)*SIN(PI()/2-AE102)*SIN(PI()/2-'Eigen QTH LOc'!$G$3)+COS(PI()/2-AE102)*COS(PI()/2-'Eigen QTH LOc'!$G$3)","v":{"$error":"#VALUE!"}},{"$error":"#VALUE!"},"ABCDEFGHIJKLMNOPQRSTUVWXABCDEFGHIJKLMNOPQRSTUVWX","\"0123456789\"",{"$f":"IF(B102>0,IF(K102=Infoblad!$C$6,0.5,0.5+AH102*40076.59/2/PI()),\" \")","v":" "},""]
[null,null," ",{"$f":"IF(B103>0,VASTETIJD(C103)-Infoblad!$C$29,\" \")","v":" "}," ",91," ",null,null,null,null,null,{"$f":"IF(L103>0,VLOOKUP(L103,Punten!$B$3:$C$109,2,FALSE),\" \")","v":" "},null," ",null,null,null,"","","","","","",{"$f":"SEARCH(T103,'Eigen QTH LOc'!$I$1)*10-100+V103","v":{"$error":"#VALUE!"}},{"$f":"TRUNC(ROUND((SEARCH(X103,'Eigen QTH LOc'!$I$1)-0.5)*2.5,2))","v":1},{"$f":"IF(Z103>0,(MOD(ROUND((SEARCH(X103,'Eigen QTH LOc'!$I$1)-0.5)*2.5,2),TRUNC(Z103)))*60,0)","v":15},{"$f":"SEARCH(S103,'Eigen QTH LOc'!$I$1)*20-200+U103*2","v":{"$error":"#VALUE!"}},{"$f":"TRUNC((SEARCH(W103,'Eigen QTH LOc'!$I$1)-0.5)*5)","v":2},{"$f":"IF(AC103>0,(MOD((SEARCH(W103,'Eigen QTH LOc'!$I$1)-0.5)*5,TRUNC(AC103)))*60,0)","v":30},{"$error":"#VALUE!"},{"$error":"#VALUE!"},{"$f":"COS('Eigen QTH LOc'!$G$4-AF103)*SIN(PI()/2-AE103)*SIN(PI()/2-'Eigen QTH LOc'!$G$3)+COS(PI()/2-AE103)*COS(PI()/2-'Eigen QTH LOc'!$G$3)","v":{"$error":"#VALUE!"}},{"$error":"#VALUE!"},"ABCDEFGHIJKLMNOPQRSTUVWXABCDEFGHIJKLMNOPQRSTUVWX","\"0123456789\"",{"$f":"IF(B103>0,IF(K103=Infoblad!$C$6,0.5,0.5+AH103*40076.59/2/PI()),\" \")","v":" "},""]
[null,null," ",{"$f":"IF(B104>0,VASTETIJD(C104)-Infoblad!$C$29,\" \")","v":" "}," ",92," ",null,null,null,null,null,{"$f":"IF(L104>0,VLOOKUP(L104,Punten!$B$3:$C$109,2,FALSE),\" \")","v":" "},null," ",null,null,null,"","","","","","",{"$f":"SEARCH(T104,'Eigen QTH LOc'!$I$1)*10-100+V104","v":{"$error":"#VALUE!"}},{"$f":"TRUNC(ROUND((SEARCH(X104,'Eigen QTH LOc'!$I$1)-0.5)*2.5,2))","v":1},{"$f":"IF(Z104>0,(MOD(ROUND((SEARCH(X104,'Eigen QTH LOc'!$I$1)-0.5)*2.5,2),TRUNC(Z104)))*60,0)","v":15},{"$f":"SEARCH(S104,'Eigen QTH LOc'!$I$1)*20-200+U104*2","v":{"$error":"#VALUE!"}},{"$f":"TRUNC((SEARCH(W104,'Eigen QTH LOc'!$I$1)-0.5)*5)","v":2},{"$f":"IF(AC104>0,(MOD((SEARCH(W104,'Eigen QTH LOc'!$I$1)-0.5)*5,TRUNC(AC104)))*60,0)","v":30},{"$error":"#VALUE!"},{"$error":"#VALUE!"},{"$f":"COS('Eigen QTH LOc'!$G$4-AF104)*SIN(PI()/2-AE104)*SIN(PI()/2-'Eigen QTH LOc'!$G$3)+COS(PI()/2-AE104)*COS(PI()/2-'Eigen QTH LOc'!$G$3)","v":{"$error":"#VALUE!"}},{"$error":"#VALUE!"},"ABCDEFGHIJKLMNOPQRSTUVWXABCDEFGHIJKLMNOPQRSTUVWX","\"0123456789\"",{"$f":"IF(B104>0,IF(K104=Infoblad!$C$6,0.5,0.5+AH104*40076.59/2/PI()),\" \")","v":" "},""]
[null,null," ",{"$f":"IF(B105>0,VASTETIJD(C105)-Infoblad!$C$29,\" \")","v":" "}," ",93," ",null,null,null,null,null,{"$f":"IF(L105>0,VLOOKUP(L105,Punten!$B$3:$C$109,2,FALSE),\" \")","v":" "},null," ",null,null,null,"","","","","","",{"$f":"SEARCH(T105,'Eigen QTH LOc'!$I$1)*10-100+V105","v":{"$error":"#VALUE!"}},{"$f":"TRUNC(ROUND((SEARCH(X105,'Eigen QTH LOc'!$I$1)-0.5)*2.5,2))","v":1},{"$f":"IF(Z105>0,(MOD(ROUND((SEARCH(X105,'Eigen QTH LOc'!$I$1)-0.5)*2.5,2),TRUNC(Z105)))*60,0)","v":15},{"$f":"SEARCH(S105,'Eigen QTH LOc'!$I$1)*20-200+U105*2","v":{"$error":"#VALUE!"}},{"$f":"TRUNC((SEARCH(W105,'Eigen QTH LOc'!$I$1)-0.5)*5)","v":2},{"$f":"IF(AC105>0,(MOD((SEARCH(W105,'Eigen QTH LOc'!$I$1)-0.5)*5,TRUNC(AC105)))*60,0)","v":30},{"$error":"#VALUE!"},{"$error":"#VALUE!"},{"$f":"COS('Eigen QTH LOc'!$G$4-AF105)*SIN(PI()/2-AE105)*SIN(PI()/2-'Eigen QTH LOc'!$G$3)+COS(PI()/2-AE105)*COS(PI()/2-'Eigen QTH LOc'!$G$3)","v":{"$error":"#VALUE!"}},{"$error":"#VALUE!"},"ABCDEFGHIJKLMNOPQRSTUVWXABCDEFGHIJKLMNOPQRSTUVWX","\"0123456789\"",{"$f":"IF(B105>0,IF(K105=Infoblad!$C$6,0.5,0.5+AH105*40076.59/2/PI()),\" \")","v":" "},""]
[null,null," ",{"$f":"IF(B106>0,VASTETIJD(C106)-Infoblad!$C$29,\" \")","v":" "}," ",94," ",null,null,null,null,null,{"$f":"IF(L106>0,VLOOKUP(L106,Punten!$B$3:$C$109,2,FALSE),\" \")","v":" "},null," ",null,null,null,"","","","","","",{"$f":"SEARCH(T106,'Eigen QTH LOc'!$I$1)*10-100+V106","v":{"$error":"#VALUE!"}},{"$f":"TRUNC(ROUND((SEARCH(X106,'Eigen QTH LOc'!$I$1)-0.5)*2.5,2))","v":1},{"$f":"IF(Z106>0,(MOD(ROUND((SEARCH(X106,'Eigen QTH LOc'!$I$1)-0.5)*2.5,2),TRUNC(Z106)))*60,0)","v":15},{"$f":"SEARCH(S106,'Eigen QTH LOc'!$I$1)*20-200+U106*2","v":{"$error":"#VALUE!"}},{"$f":"TRUNC((SEARCH(W106,'Eigen QTH LOc'!$I$1)-0.5)*5)","v":2},{"$f":"IF(AC106>0,(MOD((SEARCH(W106,'Eigen QTH LOc'!$I$1)-0.5)*5,TRUNC(AC106)))*60,0)","v":30},{"$error":"#VALUE!"},{"$error":"#VALUE!"},{"$f":"COS('Eigen QTH LOc'!$G$4-AF106)*SIN(PI()/2-AE106)*SIN(PI()/2-'Eigen QTH LOc'!$G$3)+COS(PI()/2-AE106)*COS(PI()/2-'Eigen QTH LOc'!$G$3)","v":{"$error":"#VALUE!"}},{"$error":"#VALUE!"},"ABCDEFGHIJKLMNOPQRSTUVWXABCDEFGHIJKLMNOPQRSTUVWX","\"0123456789\"",{"$f":"IF(B106>0,IF(K106=Infoblad!$C$6,0.5,0.5+AH106*40076.59/2/PI()),\" \")","v":" "},""]
[null,null," ",{"$f":"IF(B107>0,VASTETIJD(C107)-Infoblad!$C$29,\" \")","v":" "}," ",95," ",null,null,null,null,null,{"$f":"IF(L107>0,VLOOKUP(L107,Punten!$B$3:$C$109,2,FALSE),\" \")","v":" "},null," ",null,null,null,"","","","","","",{"$f":"SEARCH(T107,'Eigen QTH LOc'!$I$1)*10-100+V107","v":{"$error":"#VALUE!"}},{"$f":"TRUNC(ROUND((SEARCH(X107,'Eigen QTH LOc'!$I$1)-0.5)*2.5,2))","v":1},{"$f":"IF(Z107>0,(MOD(ROUND((SEARCH(X107,'Eigen QTH LOc'!$I$1)-0.5)*2.5,2),TRUNC(Z107)))*60,0)","v":15},{"$f":"SEARCH(S107,'Eigen QTH LOc'!$I$1)*20-200+U107*2","v":{"$error":"#VALUE!"}},{"$f":"TRUNC((SEARCH(W107,'Eigen QTH LOc'!$I$1)-0.5)*5)","v":2},{"$f":"IF(AC107>0,(MOD((SEARCH(W107,'Eigen QTH LOc'!$I$1)-0.5)*5,TRUNC(AC107)))*60,0)","v":30},{"$error":"#VALUE!"},{"$error":"#VALUE!"},{"$f":"COS('Eigen QTH LOc'!$G$4-AF107)*SIN(PI()/2-AE107)*SIN(PI()/2-'Eigen QTH LOc'!$G$3)+COS(PI()/2-AE107)*COS(PI()/2-'Eigen QTH LOc'!$G$3)","v":{"$error":"#VALUE!"}},{"$error":"#VALUE!"},"ABCDEFGHIJKLMNOPQRSTUVWXABCDEFGHIJKLMNOPQRSTUVWX","\"0123456789\"",{"$f":"IF(B107>0,IF(K107=Infoblad!$C$6,0.5,0.5+AH107*40076.59/2/PI()),\" \")","v":" "},""]
[null,null," ",{"$f":"IF(B108>0,VASTETIJD(C108)-Infoblad!$C$29,\" \")","v":" "}," ",96," ",null,null,null,null,null,{"$f":"IF(L108>0,VLOOKUP(L108,Punten!$B$3:$C$109,2,FALSE),\" \")","v":" "},null," ",null,null,null,"","","","","","",{"$f":"SEARCH(T108,'Eigen QTH LOc'!$I$1)*10-100+V108","v":{"$error":"#VALUE!"}},{"$f":"TRUNC(ROUND((SEARCH(X108,'Eigen QTH LOc'!$I$1)-0.5)*2.5,2))","v":1},{"$f":"IF(Z108>0,(MOD(ROUND((SEARCH(X108,'Eigen QTH LOc'!$I$1)-0.5)*2.5,2),TRUNC(Z108)))*60,0)","v":15},{"$f":"SEARCH(S108,'Eigen QTH LOc'!$I$1)*20-200+U108*2","v":{"$error":"#VALUE!"}},{"$f":"TRUNC((SEARCH(W108,'Eigen QTH LOc'!$I$1)-0.5)*5)","v":2},{"$f":"IF(AC108>0,(MOD((SEARCH(W108,'Eigen QTH LOc'!$I$1)-0.5)*5,TRUNC(AC108)))*60,0)","v":30},{"$error":"#VALUE!"},{"$error":"#VALUE!"},{"$f":"COS('Eigen QTH LOc'!$G$4-AF108)*SIN(PI()/2-AE108)*SIN(PI()/2-'Eigen QTH LOc'!$G$3)+COS(PI()/2-AE108)*COS(PI()/2-'Eigen QTH LOc'!$G$3)","v":{"$error":"#VALUE!"}},{"$error":"#VALUE!"},"ABCDEFGHIJKLMNOPQRSTUVWXABCDEFGHIJKLMNOPQRSTUVWX","\"0123456789\"",{"$f":"IF(B108>0,IF(K108=Infoblad!$C$6,0.5,0.5+AH108*40076.59/2/PI()),\" \")","v":" "},""]
[null,null," ",{"$f":"IF(B109>0,VASTETIJD(C109)-Infoblad!$C$29,\" \")","v":" "}," ",97," ",null,null,null,null,null,{"$f":"IF(L109>0,VLOOKUP(L109,Punten!$B$3:$C$109,2,FALSE),\" \")","v":" "},null," ",null,null,null,"","","","","","",{"$f":"SEARCH(T109,'Eigen QTH LOc'!$I$1)*10-100+V109","v":{"$error":"#VALUE!"}},{"$f":"TRUNC(ROUND((SEARCH(X109,'Eigen QTH LOc'!$I$1)-0.5)*2.5,2))","v":1},{"$f":"IF(Z109>0,(MOD(ROUND((SEARCH(X109,'Eigen QTH LOc'!$I$1)-0.5)*2.5,2),TRUNC(Z109)))*60,0)","v":15},{"$f":"SEARCH(S109,'Eigen QTH LOc'!$I$1)*20-200+U109*2","v":{"$error":"#VALUE!"}},{"$f":"TRUNC((SEARCH(W109,'Eigen QTH LOc'!$I$1)-0.5)*5)","v":2},{"$f":"IF(AC109>0,(MOD((SEARCH(W109,'Eigen QTH LOc'!$I$1)-0.5)*5,TRUNC(AC109)))*60,0)","v":30},{"$error":"#VALUE!"},{"$error":"#VALUE!"},{"$f":"COS('Eigen QTH LOc'!$G$4-AF109)*SIN(PI()/2-AE109)*SIN(PI()/2-'Eigen QTH LOc'!$G$3)+COS(PI()/2-AE109)*COS(PI()/2-'Eigen QTH LOc'!$G$3)","v":{"$error":"#VALUE!"}},{"$error":"#VALUE!"},"ABCDEFGHIJKLMNOPQRSTUVWXABCDEFGHIJKLMNOPQRSTUVWX","\"0123456789\"",{"$f":"IF(B109>0,IF(K109=Infoblad!$C$6,0.5,0.5+AH109*40076.59/2/PI()),\" \")","v":" "},""]
[null,null," ",{"$f":"IF(B110>0,VASTETIJD(C110)-Infoblad!$C$29,\" \")","v":" "}," ",98," ",null,null,null,null,null,{"$f":"IF(L110>0,VLOOKUP(L110,Punten!$B$3:$C$109,2,FALSE),\" \")","v":" "},null," ",null,null,null,"","","","","","",{"$f":"SEARCH(T110,'Eigen QTH LOc'!$I$1)*10-100+V110","v":{"$error":"#VALUE!"}},{"$f":"TRUNC(ROUND((SEARCH(X110,'Eigen QTH LOc'!$I$1)-0.5)*2.5,2))","v":1},{"$f":"IF(Z110>0,(MOD(ROUND((SEARCH(X110,'Eigen QTH LOc'!$I$1)-0.5)*2.5,2),TRUNC(Z110)))*60,0)","v":15},{"$f":"SEARCH(S110,'Eigen QTH LOc'!$I$1)*20-200+U110*2","v":{"$error":"#VALUE!"}},{"$f":"TRUNC((SEARCH(W110,'Eigen QTH LOc'!$I$1)-0.5)*5)","v":2},{"$f":"IF(AC110>0,(MOD((SEARCH(W110,'Eigen QTH LOc'!$I$1)-0.5)*5,TRUNC(AC110)))*60,0)","v":30},{"$error":"#VALUE!"},{"$error":"#VALUE!"},{"$f":"COS('Eigen QTH LOc'!$G$4-AF110)*SIN(PI()/2-AE110)*SIN(PI()/2-'Eigen QTH LOc'!$G$3)+COS(PI()/2-AE110)*COS(PI()/2-'Eigen QTH LOc'!$G$3)","v":{"$error":"#VALUE!"}},{"$error":"#VALUE!"},"ABCDEFGHIJKLMNOPQRSTUVWXABCDEFGHIJKLMNOPQRSTUVWX","\"0123456789\"",{"$f":"IF(B110>0,IF(K110=Infoblad!$C$6,0.5,0.5+AH110*40076.59/2/PI()),\" \")","v":" "},""]
[null,null," ",{"$f":"IF(B111>0,VASTETIJD(C111)-Infoblad!$C$29,\" \")","v":" "}," ",99," ",null,null,null,null,null,{"$f":"IF(L111>0,VLOOKUP(L111,Punten!$B$3:$C$109,2,FALSE),\" \")","v":" "},null," ",null,null,null,"","","","","","",{"$f":"SEARCH(T111,'Eigen QTH LOc'!$I$1)*10-100+V111","v":{"$error":"#VALUE!"}},{"$f":"TRUNC(ROUND((SEARCH(X111,'Eigen QTH LOc'!$I$1)-0.5)*2.5,2))","v":1},{"$f":"IF(Z111>0,(MOD(ROUND((SEARCH(X111,'Eigen QTH LOc'!$I$1)-0.5)*2.5,2),TRUNC(Z111)))*60,0)","v":15},{"$f":"SEARCH(S111,'Eigen QTH LOc'!$I$1)*20-200+U111*2","v":{"$error":"#VALUE!"}},{"$f":"TRUNC((SEARCH(W111,'Eigen QTH LOc'!$I$1)-0.5)*5)","v":2},{"$f":"IF(AC111>0,(MOD((SEARCH(W111,'Eigen QTH LOc'!$I$1)-0.5)*5,TRUNC(AC111)))*60,0)","v":30},{"$error":"#VALUE!"},{"$error":"#VALUE!"},{"$f":"COS('Eigen QTH LOc'!$G$4-AF111)*SIN(PI()/2-AE111)*SIN(PI()/2-'Eigen QTH LOc'!$G$3)+COS(PI()/2-AE111)*COS(PI()/2-'Eigen QTH LOc'!$G$3)","v":{"$error":"#VALUE!"}},{"$error":"#VALUE!"},"ABCDEFGHIJKLMNOPQRSTUVWXABCDEFGHIJKLMNOPQRSTUVWX","\"0123456789\"",{"$f":"IF(B111>0,IF(K111=Infoblad!$C$6,0.5,0.5+AH111*40076.59/2/PI()),\" \")","v":" "},""]
[null,null," ",{"$f":"IF(B112>0,VASTETIJD(C112)-Infoblad!$C$29,\" \")","v":" "}," ",100," ",null,null,null,null,null,{"$f":"IF(L112>0,VLOOKUP(L112,Punten!$B$3:$C$109,2,FALSE),\" \")","v":" "},null," ",null,null,null,"","","","","","",{"$f":"SEARCH(T112,'Eigen QTH LOc'!$I$1)*10-100+V112","v":{"$error":"#VALUE!"}},{"$f":"TRUNC(ROUND((SEARCH(X112,'Eigen QTH LOc'!$I$1)-0.5)*2.5,2))","v":1},{"$f":"IF(Z112>0,(MOD(ROUND((SEARCH(X112,'Eigen QTH LOc'!$I$1)-0.5)*2.5,2),TRUNC(Z112)))*60,0)","v":15},{"$f":"SEARCH(S112,'Eigen QTH LOc'!$I$1)*20-200+U112*2","v":{"$error":"#VALUE!"}},{"$f":"TRUNC((SEARCH(W112,'Eigen QTH LOc'!$I$1)-0.5)*5)","v":2},{"$f":"IF(AC112>0,(MOD((SEARCH(W112,'Eigen QTH LOc'!$I$1)-0.5)*5,TRUNC(AC112)))*60,0)","v":30},{"$error":"#VALUE!"},{"$error":"#VALUE!"},{"$f":"COS('Eigen QTH LOc'!$G$4-AF112)*SIN(PI()/2-AE112)*SIN(PI()/2-'Eigen QTH LOc'!$G$3)+COS(PI()/2-AE112)*COS(PI()/2-'Eigen QTH LOc'!$G$3)","v":{"$error":"#VALUE!"}},{"$error":"#VALUE!"},"ABCDEFGHIJKLMNOPQRSTUVWXABCDEFGHIJKLMNOPQRSTUVWX","\"0123456789\"",{"$f":"IF(B112>0,IF(K112=Infoblad!$C$6,0.5,0.5+AH112*40076.59/2/PI()),\" \")","v":" "},""]
[null,null," ",{"$f":"IF(B113>0,VASTETIJD(C113)-Infoblad!$C$29,\" \")","v":" "}," ",101," ",null,null,null,null,null,{"$f":"IF(L113>0,VLOOKUP(L113,Punten!$B$3:$C$109,2,FALSE),\" \")","v":" "},null," ",null,null,null,"","","","","","",{"$f":"SEARCH(T113,'Eigen QTH LOc'!$I$1)*10-100+V113","v":{"$error":"#VALUE!"}},{"$f":"TRUNC(ROUND((SEARCH(X113,'Eigen QTH LOc'!$I$1)-0.5)*2.5,2))","v":1},{"$f":"IF(Z113>0,(MOD(ROUND((SEARCH(X113,'Eigen QTH LOc'!$I$1)-0.5)*2.5,2),TRUNC(Z113)))*60,0)","v":15},{"$f":"SEARCH(S113,'Eigen QTH LOc'!$I$1)*20-200+U113*2","v":{"$error":"#VALUE!"}},{"$f":"TRUNC((SEARCH(W113,'Eigen QTH LOc'!$I$1)-0.5)*5)","v":2},{"$f":"IF(AC113>0,(MOD((SEARCH(W113,'Eigen QTH LOc'!$I$1)-0.5)*5,TRUNC(AC113)))*60,0)","v":30},{"$error":"#VALUE!"},{"$error":"#VALUE!"},{"$f":"COS('Eigen QTH LOc'!$G$4-AF113)*SIN(PI()/2-AE113)*SIN(PI()/2-'Eigen QTH LOc'!$G$3)+COS(PI()/2-AE113)*COS(PI()/2-'Eigen QTH LOc'!$G$3)","v":{"$error":"#VALUE!"}},{"$error":"#VALUE!"},"ABCDEFGHIJKLMNOPQRSTUVWXABCDEFGHIJKLMNOPQRSTUVWX","\"0123456789\"",{"$f":"IF(B113>0,IF(K113=Infoblad!$C$6,0.5,0.5+AH113*40076.59/2/PI()),\" \")","v":" "},""]
[null,null," ",{"$f":"IF(B114>0,VASTETIJD(C114)-Infoblad!$C$29,\" \")","v":" "}," ",102," ",null,null,null,null,null,{"$f":"IF(L114>0,VLOOKUP(L114,Punten!$B$3:$C$109,2,FALSE),\" \")","v":" "},null," ",null,null,null,"","","","","","",{"$f":"SEARCH(T114,'Eigen QTH LOc'!$I$1)*10-100+V114","v":{"$error":"#VALUE!"}},{"$f":"TRUNC(ROUND((SEARCH(X114,'Eigen QTH LOc'!$I$1)-0.5)*2.5,2))","v":1},{"$f":"IF(Z114>0,(MOD(ROUND((SEARCH(X114,'Eigen QTH LOc'!$I$1)-0.5)*2.5,2),TRUNC(Z114)))*60,0)","v":15},{"$f":"SEARCH(S114,'Eigen QTH LOc'!$I$1)*20-200+U114*2","v":{"$error":"#VALUE!"}},{"$f":"TRUNC((SEARCH(W114,'Eigen QTH LOc'!$I$1)-0.5)*5)","v":2},{"$f":"IF(AC114>0,(MOD((SEARCH(W114,'Eigen QTH LOc'!$I$1)-0.5)*5,TRUNC(AC114)))*60,0)","v":30},{"$error":"#VALUE!"},{"$error":"#VALUE!"},{"$f":"COS('Eigen QTH LOc'!$G$4-AF114)*SIN(PI()/2-AE114)*SIN(PI()/2-'Eigen QTH LOc'!$G$3)+COS(PI()/2-AE114)*COS(PI()/2-'Eigen QTH LOc'!$G$3)","v":{"$error":"#VALUE!"}},{"$error":"#VALUE!"},"ABCDEFGHIJKLMNOPQRSTUVWXABCDEFGHIJKLMNOPQRSTUVWX","\"0123456789\"",{"$f":"IF(B114>0,IF(K114=Infoblad!$C$6,0.5,0.5+AH114*40076.59/2/PI()),\" \")","v":" "},""]
[null,null," ",{"$f":"IF(B115>0,VASTETIJD(C115)-Infoblad!$C$29,\" \")","v":" "}," ",103," ",null,null,null,null,null,{"$f":"IF(L115>0,VLOOKUP(L115,Punten!$B$3:$C$109,2,FALSE),\" \")","v":" "},null," ",null,null,null,"","","","","","",{"$f":"SEARCH(T115,'Eigen QTH LOc'!$I$1)*10-100+V115","v":{"$error":"#VALUE!"}},{"$f":"TRUNC(ROUND((SEARCH(X115,'Eigen QTH LOc'!$I$1)-0.5)*2.5,2))","v":1},{"$f":"IF(Z115>0,(MOD(ROUND((SEARCH(X115,'Eigen QTH LOc'!$I$1)-0.5)*2.5,2),TRUNC(Z115)))*60,0)","v":15},{"$f":"SEARCH(S115,'Eigen QTH LOc'!$I$1)*20-200+U115*2","v":{"$error":"#VALUE!"}},{"$f":"TRUNC((SEARCH(W115,'Eigen QTH LOc'!$I$1)-0.5)*5)","v":2},{"$f":"IF(AC115>0,(MOD((SEARCH(W115,'Eigen QTH LOc'!$I$1)-0.5)*5,TRUNC(AC115)))*60,0)","v":30},{"$error":"#VALUE!"},{"$error":"#VALUE!"},{"$f":"COS('Eigen QTH LOc'!$G$4-AF115)*SIN(PI()/2-AE115)*SIN(PI()/2-'Eigen QTH LOc'!$G$3)+COS(PI()/2-AE115)*COS(PI()/2-'Eigen QTH LOc'!$G$3)","v":{"$error":"#VALUE!"}},{"$error":"#VALUE!"},"ABCDEFGHIJKLMNOPQRSTUVWXABCDEFGHIJKLMNOPQRSTUVWX","\"0123456789\"",{"$f":"IF(B115>0,IF(K115=Infoblad!$C$6,0.5,0.5+AH115*40076.59/2/PI()),\" \")","v":" "},""]
[null,null," ",{"$f":"IF(B116>0,VASTETIJD(C116)-Infoblad!$C$29,\" \")","v":" "}," ",104," ",null,null,null,null,null,{"$f":"IF(L116>0,VLOOKUP(L116,Punten!$B$3:$C$109,2,FALSE),\" \")","v":" "},null," ",null,null,null,"","","","","","",{"$f":"SEARCH(T116,'Eigen QTH LOc'!$I$1)*10-100+V116","v":{"$error":"#VALUE!"}},{"$f":"TRUNC(ROUND((SEARCH(X116,'Eigen QTH LOc'!$I$1)-0.5)*2.5,2))","v":1},{"$f":"IF(Z116>0,(MOD(ROUND((SEARCH(X116,'Eigen QTH LOc'!$I$1)-0.5)*2.5,2),TRUNC(Z116)))*60,0)","v":15},{"$f":"SEARCH(S116,'Eigen QTH LOc'!$I$1)*20-200+U116*2","v":{"$error":"#VALUE!"}},{"$f":"TRUNC((SEARCH(W116,'Eigen QTH LOc'!$I$1)-0.5)*5)","v":2},{"$f":"IF(AC116>0,(MOD((SEARCH(W116,'Eigen QTH LOc'!$I$1)-0.5)*5,TRUNC(AC116)))*60,0)","v":30},{"$error":"#VALUE!"},{"$error":"#VALUE!"},{"$f":"COS('Eigen QTH LOc'!$G$4-AF116)*SIN(PI()/2-AE116)*SIN(PI()/2-'Eigen QTH LOc'!$G$3)+COS(PI()/2-AE116)*COS(PI()/2-'Eigen QTH LOc'!$G$3)","v":{"$error":"#VALUE!"}},{"$error":"#VALUE!"},"ABCDEFGHIJKLMNOPQRSTUVWXABCDEFGHIJKLMNOPQRSTUVWX","\"0123456789\"",{"$f":"IF(B116>0,IF(K116=Infoblad!$C$6,0.5,0.5+AH116*40076.59/2/PI()),\" \")","v":" "},""]
[null,null," ",{"$f":"IF(B117>0,VASTETIJD(C117)-Infoblad!$C$29,\" \")","v":" "}," ",105," ",null,null,null,null,null,{"$f":"IF(L117>0,VLOOKUP(L117,Punten!$B$3:$C$109,2,FALSE),\" \")","v":" "},null," ",null,null,null,"","","","","","",{"$f":"SEARCH(T117,'Eigen QTH LOc'!$I$1)*10-100+V117","v":{"$error":"#VALUE!"}},{"$f":"TRUNC(ROUND((SEARCH(X117,'Eigen QTH LOc'!$I$1)-0.5)*2.5,2))","v":1},{"$f":"IF(Z117>0,(MOD(ROUND((SEARCH(X117,'Eigen QTH LOc'!$I$1)-0.5)*2.5,2),TRUNC(Z117)))*60,0)","v":15},{"$f":"SEARCH(S117,'Eigen QTH LOc'!$I$1)*20-200+U117*2","v":{"$error":"#VALUE!"}},{"$f":"TRUNC((SEARCH(W117,'Eigen QTH LOc'!$I$1)-0.5)*5)","v":2},{"$f":"IF(AC117>0,(MOD((SEARCH(W117,'Eigen QTH LOc'!$I$1)-0.5)*5,TRUNC(AC117)))*60,0)","v":30},{"$error":"#VALUE!"},{"$error":"#VALUE!"},{"$f":"COS('Eigen QTH LOc'!$G$4-AF117)*SIN(PI()/2-AE117)*SIN(PI()/2-'Eigen QTH LOc'!$G$3)+COS(PI()/2-AE117)*COS(PI()/2-'Eigen QTH LOc'!$G$3)","v":{"$error":"#VALUE!"}},{"$error":"#VALUE!"},"ABCDEFGHIJKLMNOPQRSTUVWXABCDEFGHIJKLMNOPQRSTUVWX","\"0123456789\"",{"$f":"IF(B117>0,IF(K117=Infoblad!$C$6,0.5,0.5+AH117*40076.59/2/PI()),\" \")","v":" "},""]
[null,null," ",{"$f":"IF(B118>0,VASTETIJD(C118)-Infoblad!$C$29,\" \")","v":" "}," ",106," ",null,null,null,null,null,{"$f":"IF(L118>0,VLOOKUP(L118,Punten!$B$3:$C$109,2,FALSE),\" \")","v":" "},null," ",null,null,null,"","","","","","",{"$f":"SEARCH(T118,'Eigen QTH LOc'!$I$1)*10-100+V118","v":{"$error":"#VALUE!"}},{"$f":"TRUNC(ROUND((SEARCH(X118,'Eigen QTH LOc'!$I$1)-0.5)*2.5,2))","v":1},{"$f":"IF(Z118>0,(MOD(ROUND((SEARCH(X118,'Eigen QTH LOc'!$I$1)-0.5)*2.5,2),TRUNC(Z118)))*60,0)","v":15},{"$f":"SEARCH(S118,'Eigen QTH LOc'!$I$1)*20-200+U118*2","v":{"$error":"#VALUE!"}},{"$f":"TRUNC((SEARCH(W118,'Eigen QTH LOc'!$I$1)-0.5)*5)","v":2},{"$f":"IF(AC118>0,(MOD((SEARCH(W118,'Eigen QTH LOc'!$I$1)-0.5)*5,TRUNC(AC118)))*60,0)","v":30},{"$error":"#VALUE!"},{"$error":"#VALUE!"},{"$f":"COS('Eigen QTH LOc'!$G$4-AF118)*SIN(PI()/2-AE118)*SIN(PI()/2-'Eigen QTH LOc'!$G$3)+COS(PI()/2-AE118)*COS(PI()/2-'Eigen QTH LOc'!$G$3)","v":{"$error":"#VALUE!"}},{"$error":"#VALUE!"},"ABCDEFGHIJKLMNOPQRSTUVWXABCDEFGHIJKLMNOPQRSTUVWX","\"0123456789\"",{"$f":"IF(B118>0,IF(K118=Infoblad!$C$6,0.5,0.5+AH118*40076.59/2/PI()),\" \")","v":" "},""]
[null,null," ",{"$f":"IF(B119>0,VASTETIJD(C119)-Infoblad!$C$29,\" \")","v":" "}," ",107," ",null,null,null,null,null,{"$f":"IF(L119>0,VLOOKUP(L119,Punten!$B$3:$C$109,2,FALSE),\" \")","v":" "},null," ",null,null,null,"","","","","","",{"$f":"SEARCH(T119,'Eigen QTH LOc'!$I$1)*10-100+V119","v":{"$error":"#VALUE!"}},{"$f":"TRUNC(ROUND((SEARCH(X119,'Eigen QTH LOc'!$I$1)-0.5)*2.5,2))","v":1},{"$f":"IF(Z119>0,(MOD(ROUND((SEARCH(X119,'Eigen QTH LOc'!$I$1)-0.5)*2.5,2),TRUNC(Z119)))*60,0)","v":15},{"$f":"SEARCH(S119,'Eigen QTH LOc'!$I$1)*20-200+U119*2","v":{"$error":"#VALUE!"}},{"$f":"TRUNC((SEARCH(W119,'Eigen QTH LOc'!$I$1)-0.5)*5)","v":2},{"$f":"IF(AC119>0,(MOD((SEARCH(W119,'Eigen QTH LOc'!$I$1)-0.5)*5,TRUNC(AC119)))*60,0)","v":30},{"$error":"#VALUE!"},{"$error":"#VALUE!"},{"$f":"COS('Eigen QTH LOc'!$G$4-AF119)*SIN(PI()/2-AE119)*SIN(PI()/2-'Eigen QTH LOc'!$G$3)+COS(PI()/2-AE119)*COS(PI()/2-'Eigen QTH LOc'!$G$3)","v":{"$error":"#VALUE!"}},{"$error":"#VALUE!"},"ABCDEFGHIJKLMNOPQRSTUVWXABCDEFGHIJKLMNOPQRSTUVWX","\"0123456789\"",{"$f":"IF(B119>0,IF(K119=Infoblad!$C$6,0.5,0.5+AH119*40076.59/2/PI()),\" \")","v":" "},""]
[null,null," ",{"$f":"IF(B120>0,VASTETIJD(C120)-Infoblad!$C$29,\" \")","v":" "}," ",108," ",null,null,null,null,null,{"$f":"IF(L120>0,VLOOKUP(L120,Punten!$B$3:$C$109,2,FALSE),\" \")","v":" "},null," ",null,null,null,"","","","","","",{"$f":"SEARCH(T120,'Eigen QTH LOc'!$I$1)*10-100+V120","v":{"$error":"#VALUE!"}},{"$f":"TRUNC(ROUND((SEARCH(X120,'Eigen QTH LOc'!$I$1)-0.5)*2.5,2))","v":1},{"$f":"IF(Z120>0,(MOD(ROUND((SEARCH(X120,'Eigen QTH LOc'!$I$1)-0.5)*2.5,2),TRUNC(Z120)))*60,0)","v":15},{"$f":"SEARCH(S120,'Eigen QTH LOc'!$I$1)*20-200+U120*2","v":{"$error":"#VALUE!"}},{"$f":"TRUNC((SEARCH(W120,'Eigen QTH LOc'!$I$1)-0.5)*5)","v":2},{"$f":"IF(AC120>0,(MOD((SEARCH(W120,'Eigen QTH LOc'!$I$1)-0.5)*5,TRUNC(AC120)))*60,0)","v":30},{"$error":"#VALUE!"},{"$error":"#VALUE!"},{"$f":"COS('Eigen QTH LOc'!$G$4-AF120)*SIN(PI()/2-AE120)*SIN(PI()/2-'Eigen QTH LOc'!$G$3)+COS(PI()/2-AE120)*COS(PI()/2-'Eigen QTH LOc'!$G$3)","v":{"$error":"#VALUE!"}},{"$error":"#VALUE!"},"ABCDEFGHIJKLMNOPQRSTUVWXABCDEFGHIJKLMNOPQRSTUVWX","\"0123456789\"",{"$f":"IF(B120>0,IF(K120=Infoblad!$C$6,0.5,0.5+AH120*40076.59/2/PI()),\" \")","v":" "},""]
[null,null," ",{"$f":"IF(B121>0,VASTETIJD(C121)-Infoblad!$C$29,\" \")","v":" "}," ",109," ",null,null,null,null,null,{"$f":"IF(L121>0,VLOOKUP(L121,Punten!$B$3:$C$109,2,FALSE),\" \")","v":" "},null," ",null,null,null,"","","","","","",{"$f":"SEARCH(T121,'Eigen QTH LOc'!$I$1)*10-100+V121","v":{"$error":"#VALUE!"}},{"$f":"TRUNC(ROUND((SEARCH(X121,'Eigen QTH LOc'!$I$1)-0.5)*2.5,2))","v":1},{"$f":"IF(Z121>0,(MOD(ROUND((SEARCH(X121,'Eigen QTH LOc'!$I$1)-0.5)*2.5,2),TRUNC(Z121)))*60,0)","v":15},{"$f":"SEARCH(S121,'Eigen QTH LOc'!$I$1)*20-200+U121*2","v":{"$error":"#VALUE!"}},{"$f":"TRUNC((SEARCH(W121,'Eigen QTH LOc'!$I$1)-0.5)*5)","v":2},{"$f":"IF(AC121>0,(MOD((SEARCH(W121,'Eigen QTH LOc'!$I$1)-0.5)*5,TRUNC(AC121)))*60,0)","v":30},{"$error":"#VALUE!"},{"$error":"#VALUE!"},{"$f":"COS('Eigen QTH LOc'!$G$4-AF121)*SIN(PI()/2-AE121)*SIN(PI()/2-'Eigen QTH LOc'!$G$3)+COS(PI()/2-AE121)*COS(PI()/2-'Eigen QTH LOc'!$G$3)","v":{"$error":"#VALUE!"}},{"$error":"#VALUE!"},"ABCDEFGHIJKLMNOPQRSTUVWXABCDEFGHIJKLMNOPQRSTUVWX","\"0123456789\"",{"$f":"IF(B121>0,IF(K121=Infoblad!$C$6,0.5,0.5+AH121*40076.59/2/PI()),\" \")","v":" "},""]
[null,null," ",{"$f":"IF(B122>0,VASTETIJD(C122)-Infoblad!$C$29,\" \")","v":" "}," ",110," ",null,null,null,null,null,{"$f":"IF(L122>0,VLOOKUP(L122,Punten!$B$3:$C$109,2,FALSE),\" \")","v":" "},null," ",null,null,null,"","","","","","",{"$f":"SEARCH(T122,'Eigen QTH LOc'!$I$1)*10-100+V122","v":{"$error":"#VALUE!"}},{"$f":"TRUNC(ROUND((SEARCH(X122,'Eigen QTH LOc'!$I$1)-0.5)*2.5,2))","v":1},{"$f":"IF(Z122>0,(MOD(ROUND((SEARCH(X122,'Eigen QTH LOc'!$I$1)-0.5)*2.5,2),TRUNC(Z122)))*60,0)","v":15},{"$f":"SEARCH(S122,'Eigen QTH LOc'!$I$1)*20-200+U122*2","v":{"$error":"#VALUE!"}},{"$f":"TRUNC((SEARCH(W122,'Eigen QTH LOc'!$I$1)-0.5)*5)","v":2},{"$f":"IF(AC122>0,(MOD((SEARCH(W122,'Eigen QTH LOc'!$I$1)-0.5)*5,TRUNC(AC122)))*60,0)","v":30},{"$error":"#VALUE!"},{"$error":"#VALUE!"},{"$f":"COS('Eigen QTH LOc'!$G$4-AF122)*SIN(PI()/2-AE122)*SIN(PI()/2-'Eigen QTH LOc'!$G$3)+COS(PI()/2-AE122)*COS(PI()/2-'Eigen QTH LOc'!$G$3)","v":{"$error":"#VALUE!"}},{"$error":"#VALUE!"},"ABCDEFGHIJKLMNOPQRSTUVWXABCDEFGHIJKLMNOPQRSTUVWX","\"0123456789\"",{"$f":"IF(B122>0,IF(K122=Infoblad!$C$6,0.5,0.5+AH122*40076.59/2/PI()),\" \")","v":" "},""]
[null,null," ",{"$f":"IF(B123>0,VASTETIJD(C123)-Infoblad!$C$29,\" \")","v":" "}," ",111," ",null,null,null,null,null,{"$f":"IF(L123>0,VLOOKUP(L123,Punten!$B$3:$C$109,2,FALSE),\" \")","v":" "},null," ",null,null,null,"","","","","","",{"$f":"SEARCH(T123,'Eigen QTH LOc'!$I$1)*10-100+V123","v":{"$error":"#VALUE!"}},{"$f":"TRUNC(ROUND((SEARCH(X123,'Eigen QTH LOc'!$I$1)-0.5)*2.5,2))","v":1},{"$f":"IF(Z123>0,(MOD(ROUND((SEARCH(X123,'Eigen QTH LOc'!$I$1)-0.5)*2.5,2),TRUNC(Z123)))*60,0)","v":15},{"$f":"SEARCH(S123,'Eigen QTH LOc'!$I$1)*20-200+U123*2","v":{"$error":"#VALUE!"}},{"$f":"TRUNC((SEARCH(W123,'Eigen QTH LOc'!$I$1)-0.5)*5)","v":2},{"$f":"IF(AC123>0,(MOD((SEARCH(W123,'Eigen QTH LOc'!$I$1)-0.5)*5,TRUNC(AC123)))*60,0)","v":30},{"$error":"#VALUE!"},{"$error":"#VALUE!"},{"$f":"COS('Eigen QTH LOc'!$G$4-AF123)*SIN(PI()/2-AE123)*SIN(PI()/2-'Eigen QTH LOc'!$G$3)+COS(PI()/2-AE123)*COS(PI()/2-'Eigen QTH LOc'!$G$3)","v":{"$error":"#VALUE!"}},{"$error":"#VALUE!"},"ABCDEFGHIJKLMNOPQRSTUVWXABCDEFGHIJKLMNOPQRSTUVWX","\"0123456789\"",{"$f":"IF(B123>0,IF(K123=Infoblad!$C$6,0.5,0.5+AH123*40076.59/2/PI()),\" \")","v":" "},""]
[null,null," ",{"$f":"IF(B124>0,VASTETIJD(C124)-Infoblad!$C$29,\" \")","v":" "}," ",112," ",null,null,null,null,null,{"$f":"IF(L124>0,VLOOKUP(L124,Punten!$B$3:$C$109,2,FALSE),\" \")","v":" "},null," ",null,null,null,"","","","","","",{"$f":"SEARCH(T124,'Eigen QTH LOc'!$I$1)*10-100+V124","v":{"$error":"#VALUE!"}},{"$f":"TRUNC(ROUND((SEARCH(X124,'Eigen QTH LOc'!$I$1)-0.5)*2.5,2))","v":1},{"$f":"IF(Z124>0,(MOD(ROUND((SEARCH(X124,'Eigen QTH LOc'!$I$1)-0.5)*2.5,2),TRUNC(Z124)))*60,0)","v":15},{"$f":"SEARCH(S124,'Eigen QTH LOc'!$I$1)*20-200+U124*2","v":{"$error":"#VALUE!"}},{"$f":"TRUNC((SEARCH(W124,'Eigen QTH LOc'!$I$1)-0.5)*5)","v":2},{"$f":"IF(AC124>0,(MOD((SEARCH(W124,'Eigen QTH LOc'!$I$1)-0.5)*5,TRUNC(AC124)))*60,0)","v":30},{"$error":"#VALUE!"},{"$error":"#VALUE!"},{"$f":"COS('Eigen QTH LOc'!$G$4-AF124)*SIN(PI()/2-AE124)*SIN(PI()/2-'Eigen QTH LOc'!$G$3)+COS(PI()/2-AE124)*COS(PI()/2-'Eigen QTH LOc'!$G$3)","v":{"$error":"#VALUE!"}},{"$error":"#VALUE!"},"ABCDEFGHIJKLMNOPQRSTUVWXABCDEFGHIJKLMNOPQRSTUVWX","\"0123456789\"",{"$f":"IF(B124>0,IF(K124=Infoblad!$C$6,0.5,0.5+AH124*40076.59/2/PI()),\" \")","v":" "},""]
[null,null," ",{"$f":"IF(B125>0,VASTETIJD(C125)-Infoblad!$C$29,\" \")","v":" "}," ",113," ",null,null,null,null,null,{"$f":"IF(L125>0,VLOOKUP(L125,Punten!$B$3:$C$109,2,FALSE),\" \")","v":" "},null," ",null,null,null,"","","","","","",{"$f":"SEARCH(T125,'Eigen QTH LOc'!$I$1)*10-100+V125","v":{"$error":"#VALUE!"}},{"$f":"TRUNC(ROUND((SEARCH(X125,'Eigen QTH LOc'!$I$1)-0.5)*2.5,2))","v":1},{"$f":"IF(Z125>0,(MOD(ROUND((SEARCH(X125,'Eigen QTH LOc'!$I$1)-0.5)*2.5,2),TRUNC(Z125)))*60,0)","v":15},{"$f":"SEARCH(S125,'Eigen QTH LOc'!$I$1)*20-200+U125*2","v":{"$error":"#VALUE!"}},{"$f":"TRUNC((SEARCH(W125,'Eigen QTH LOc'!$I$1)-0.5)*5)","v":2},{"$f":"IF(AC125>0,(MOD((SEARCH(W125,'Eigen QTH LOc'!$I$1)-0.5)*5,TRUNC(AC125)))*60,0)","v":30},{"$error":"#VALUE!"},{"$error":"#VALUE!"},{"$f":"COS('Eigen QTH LOc'!$G$4-AF125)*SIN(PI()/2-AE125)*SIN(PI()/2-'Eigen QTH LOc'!$G$3)+COS(PI()/2-AE125)*COS(PI()/2-'Eigen QTH LOc'!$G$3)","v":{"$error":"#VALUE!"}},{"$error":"#VALUE!"},"ABCDEFGHIJKLMNOPQRSTUVWXABCDEFGHIJKLMNOPQRSTUVWX","\"0123456789\"",{"$f":"IF(B125>0,IF(K125=Infoblad!$C$6,0.5,0.5+AH125*40076.59/2/PI()),\" \")","v":" "},""]
[null,null," ",{"$f":"IF(B126>0,VASTETIJD(C126)-Infoblad!$C$29,\" \")","v":" "}," ",114," ",null,null,null,null,null,{"$f":"IF(L126>0,VLOOKUP(L126,Punten!$B$3:$C$109,2,FALSE),\" \")","v":" "},null," ",null,null,null,"","","","","","",{"$f":"SEARCH(T126,'Eigen QTH LOc'!$I$1)*10-100+V126","v":{"$error":"#VALUE!"}},{"$f":"TRUNC(ROUND((SEARCH(X126,'Eigen QTH LOc'!$I$1)-0.5)*2.5,2))","v":1},{"$f":"IF(Z126>0,(MOD(ROUND((SEARCH(X126,'Eigen QTH LOc'!$I$1)-0.5)*2.5,2),TRUNC(Z126)))*60,0)","v":15},{"$f":"SEARCH(S126,'Eigen QTH LOc'!$I$1)*20-200+U126*2","v":{"$error":"#VALUE!"}},{"$f":"TRUNC((SEARCH(W126,'Eigen QTH LOc'!$I$1)-0.5)*5)","v":2},{"$f":"IF(AC126>0,(MOD((SEARCH(W126,'Eigen QTH LOc'!$I$1)-0.5)*5,TRUNC(AC126)))*60,0)","v":30},{"$error":"#VALUE!"},{"$error":"#VALUE!"},{"$f":"COS('Eigen QTH LOc'!$G$4-AF126)*SIN(PI()/2-AE126)*SIN(PI()/2-'Eigen QTH LOc'!$G$3)+COS(PI()/2-AE126)*COS(PI()/2-'Eigen QTH LOc'!$G$3)","v":{"$error":"#VALUE!"}},{"$error":"#VALUE!"},"ABCDEFGHIJKLMNOPQRSTUVWXABCDEFGHIJKLMNOPQRSTUVWX","\"0123456789\"",{"$f":"IF(B126>0,IF(K126=Infoblad!$C$6,0.5,0.5+AH126*40076.59/2/PI()),\" \")","v":" "},""]
[null,null," ",{"$f":"IF(B127>0,VASTETIJD(C127)-Infoblad!$C$29,\" \")","v":" "}," ",115," ",null,null,null,null,null,{"$f":"IF(L127>0,VLOOKUP(L127,Punten!$B$3:$C$109,2,FALSE),\" \")","v":" "},null," ",null,null,null,"","","","","","",{"$f":"SEARCH(T127,'Eigen QTH LOc'!$I$1)*10-100+V127","v":{"$error":"#VALUE!"}},{"$f":"TRUNC(ROUND((SEARCH(X127,'Eigen QTH LOc'!$I$1)-0.5)*2.5,2))","v":1},{"$f":"IF(Z127>0,(MOD(ROUND((SEARCH(X127,'Eigen QTH LOc'!$I$1)-0.5)*2.5,2),TRUNC(Z127)))*60,0)","v":15},{"$f":"SEARCH(S127,'Eigen QTH LOc'!$I$1)*20-200+U127*2","v":{"$error":"#VALUE!"}},{"$f":"TRUNC((SEARCH(W127,'Eigen QTH LOc'!$I$1)-0.5)*5)","v":2},{"$f":"IF(AC127>0,(MOD((SEARCH(W127,'Eigen QTH LOc'!$I$1)-0.5)*5,TRUNC(AC127)))*60,0)","v":30},{"$error":"#VALUE!"},{"$error":"#VALUE!"},{"$f":"COS('Eigen QTH LOc'!$G$4-AF127)*SIN(PI()/2-AE127)*SIN(PI()/2-'Eigen QTH LOc'!$G$3)+COS(PI()/2-AE127)*COS(PI()/2-'Eigen QTH LOc'!$G$3)","v":{"$error":"#VALUE!"}},{"$error":"#VALUE!"},"ABCDEFGHIJKLMNOPQRSTUVWXABCDEFGHIJKLMNOPQRSTUVWX","\"0123456789\"",{"$f":"IF(B127>0,IF(K127=Infoblad!$C$6,0.5,0.5+AH127*40076.59/2/PI()),\" \")","v":" "},""]
[null,null," ",{"$f":"IF(B128>0,VASTETIJD(C128)-Infoblad!$C$29,\" \")","v":" "}," ",116," ",null,null,null,null,null,{"$f":"IF(L128>0,VLOOKUP(L128,Punten!$B$3:$C$109,2,FALSE),\" \")","v":" "},null," ",null,null,null,"","","","","","",{"$f":"SEARCH(T128,'Eigen QTH LOc'!$I$1)*10-100+V128","v":{"$error":"#VALUE!"}},{"$f":"TRUNC(ROUND((SEARCH(X128,'Eigen QTH LOc'!$I$1)-0.5)*2.5,2))","v":1},{"$f":"IF(Z128>0,(MOD(ROUND((SEARCH(X128,'Eigen QTH LOc'!$I$1)-0.5)*2.5,2),TRUNC(Z128)))*60,0)","v":15},{"$f":"SEARCH(S128,'Eigen QTH LOc'!$I$1)*20-200+U128*2","v":{"$error":"#VALUE!"}},{"$f":"TRUNC((SEARCH(W128,'Eigen QTH LOc'!$I$1)-0.5)*5)","v":2},{"$f":"IF(AC128>0,(MOD((SEARCH(W128,'Eigen QTH LOc'!$I$1)-0.5)*5,TRUNC(AC128)))*60,0)","v":30},{"$error":"#VALUE!"},{"$error":"#VALUE!"},{"$f":"COS('Eigen QTH LOc'!$G$4-AF128)*SIN(PI()/2-AE128)*SIN(PI()/2-'Eigen QTH LOc'!$G$3)+COS(PI()/2-AE128)*COS(PI()/2-'Eigen QTH LOc'!$G$3)","v":{"$error":"#VALUE!"}},{"$error":"#VALUE!"},"ABCDEFGHIJKLMNOPQRSTUVWXABCDEFGHIJKLMNOPQRSTUVWX","\"0123456789\"",{"$f":"IF(B128>0,IF(K128=Infoblad!$C$6,0.5,0.5+AH128*40076.59/2/PI()),\" \")","v":" "},""]
[null,null," ",{"$f":"IF(B129>0,VASTETIJD(C129)-Infoblad!$C$29,\" \")","v":" "}," ",117," ",null,null,null,null,null,{"$f":"IF(L129>0,VLOOKUP(L129,Punten!$B$3:$C$109,2,FALSE),\" \")","v":" "},null," ",null,null,null,"","","","","","",{"$f":"SEARCH(T129,'Eigen QTH LOc'!$I$1)*10-100+V129","v":{"$error":"#VALUE!"}},{"$f":"TRUNC(ROUND((SEARCH(X129,'Eigen QTH LOc'!$I$1)-0.5)*2.5,2))","v":1},{"$f":"IF(Z129>0,(MOD(ROUND((SEARCH(X129,'Eigen QTH LOc'!$I$1)-0.5)*2.5,2),TRUNC(Z129)))*60,0)","v":15},{"$f":"SEARCH(S129,'Eigen QTH LOc'!$I$1)*20-200+U129*2","v":{"$error":"#VALUE!"}},{"$f":"TRUNC((SEARCH(W129,'Eigen QTH LOc'!$I$1)-0.5)*5)","v":2},{"$f":"IF(AC129>0,(MOD((SEARCH(W129,'Eigen QTH LOc'!$I$1)-0.5)*5,TRUNC(AC129)))*60,0)","v":30},{"$error":"#VALUE!"},{"$error":"#VALUE!"},{"$f":"COS('Eigen QTH LOc'!$G$4-AF129)*SIN(PI()/2-AE129)*SIN(PI()/2-'Eigen QTH LOc'!$G$3)+COS(PI()/2-AE129)*COS(PI()/2-'Eigen QTH LOc'!$G$3)","v":{"$error":"#VALUE!"}},{"$error":"#VALUE!"},"ABCDEFGHIJKLMNOPQRSTUVWXABCDEFGHIJKLMNOPQRSTUVWX","\"0123456789\"",{"$f":"IF(B129>0,IF(K129=Infoblad!$C$6,0.5,0.5+AH129*40076.59/2/PI()),\" \")","v":" "},""]
[null,null," ",{"$f":"IF(B130>0,VASTETIJD(C130)-Infoblad!$C$29,\" \")","v":" "}," ",118," ",null,null,null,null,null,{"$f":"IF(L130>0,VLOOKUP(L130,Punten!$B$3:$C$109,2,FALSE),\" \")","v":" "},null," ",null,null,null,"","","","","","",{"$f":"SEARCH(T130,'Eigen QTH LOc'!$I$1)*10-100+V130","v":{"$error":"#VALUE!"}},{"$f":"TRUNC(ROUND((SEARCH(X130,'Eigen QTH LOc'!$I$1)-0.5)*2.5,2))","v":1},{"$f":"IF(Z130>0,(MOD(ROUND((SEARCH(X130,'Eigen QTH LOc'!$I$1)-0.5)*2.5,2),TRUNC(Z130)))*60,0)","v":15},{"$f":"SEARCH(S130,'Eigen QTH LOc'!$I$1)*20-200+U130*2","v":{"$error":"#VALUE!"}},{"$f":"TRUNC((SEARCH(W130,'Eigen QTH LOc'!$I$1)-0.5)*5)","v":2},{"$f":"IF(AC130>0,(MOD((SEARCH(W130,'Eigen QTH LOc'!$I$1)-0.5)*5,TRUNC(AC130)))*60,0)","v":30},{"$error":"#VALUE!"},{"$error":"#VALUE!"},{"$f":"COS('Eigen QTH LOc'!$G$4-AF130)*SIN(PI()/2-AE130)*SIN(PI()/2-'Eigen QTH LOc'!$G$3)+COS(PI()/2-AE130)*COS(PI()/2-'Eigen QTH LOc'!$G$3)","v":{"$error":"#VALUE!"}},{"$error":"#VALUE!"},"ABCDEFGHIJKLMNOPQRSTUVWXABCDEFGHIJKLMNOPQRSTUVWX","\"0123456789\"",{"$f":"IF(B130>0,IF(K130=Infoblad!$C$6,0.5,0.5+AH130*40076.59/2/PI()),\" \")","v":" "},""]
[null,null," ",{"$f":"IF(B131>0,VASTETIJD(C131)-Infoblad!$C$29,\" \")","v":" "}," ",119," ",null,null,null,null,null,{"$f":"IF(L131>0,VLOOKUP(L131,Punten!$B$3:$C$109,2,FALSE),\" \")","v":" "},null," ",null,null,null,"","","","","","",{"$f":"SEARCH(T131,'Eigen QTH LOc'!$I$1)*10-100+V131","v":{"$error":"#VALUE!"}},{"$f":"TRUNC(ROUND((SEARCH(X131,'Eigen QTH LOc'!$I$1)-0.5)*2.5,2))","v":1},{"$f":"IF(Z131>0,(MOD(ROUND((SEARCH(X131,'Eigen QTH LOc'!$I$1)-0.5)*2.5,2),TRUNC(Z131)))*60,0)","v":15},{"$f":"SEARCH(S131,'Eigen QTH LOc'!$I$1)*20-200+U131*2","v":{"$error":"#VALUE!"}},{"$f":"TRUNC((SEARCH(W131,'Eigen QTH LOc'!$I$1)-0.5)*5)","v":2},{"$f":"IF(AC131>0,(MOD((SEARCH(W131,'Eigen QTH LOc'!$I$1)-0.5)*5,TRUNC(AC131)))*60,0)","v":30},{"$error":"#VALUE!"},{"$error":"#VALUE!"},{"$f":"COS('Eigen QTH LOc'!$G$4-AF131)*SIN(PI()/2-AE131)*SIN(PI()/2-'Eigen QTH LOc'!$G$3)+COS(PI()/2-AE131)*COS(PI()/2-'Eigen QTH LOc'!$G$3)","v":{"$error":"#VALUE!"}},{"$error":"#VALUE!"},"ABCDEFGHIJKLMNOPQRSTUVWXABCDEFGHIJKLMNOPQRSTUVWX","\"0123456789\"",{"$f":"IF(B131>0,IF(K131=Infoblad!$C$6,0.5,0.5+AH131*40076.59/2/PI()),\" \")","v":" "},""]
[null,null," ",{"$f":"IF(B132>0,VASTETIJD(C132)-Infoblad!$C$29,\" \")","v":" "}," ",120," ",null,null,null,null,null,{"$f":"IF(L132>0,VLOOKUP(L132,Punten!$B$3:$C$109,2,FALSE),\" \")","v":" "},null," ",null,null,null,"","","","","","",{"$f":"SEARCH(T132,'Eigen QTH LOc'!$I$1)*10-100+V132","v":{"$error":"#VALUE!"}},{"$f":"TRUNC(ROUND((SEARCH(X132,'Eigen QTH LOc'!$I$1)-0.5)*2.5,2))","v":1},{"$f":"IF(Z132>0,(MOD(ROUND((SEARCH(X132,'Eigen QTH LOc'!$I$1)-0.5)*2.5,2),TRUNC(Z132)))*60,0)","v":15},{"$f":"SEARCH(S132,'Eigen QTH LOc'!$I$1)*20-200+U132*2","v":{"$error":"#VALUE!"}},{"$f":"TRUNC((SEARCH(W132,'Eigen QTH LOc'!$I$1)-0.5)*5)","v":2},{"$f":"IF(AC132>0,(MOD((SEARCH(W132,'Eigen QTH LOc'!$I$1)-0.5)*5,TRUNC(AC132)))*60,0)","v":30},{"$error":"#VALUE!"},{"$error":"#VALUE!"},{"$f":"COS('Eigen QTH LOc'!$G$4-AF132)*SIN(PI()/2-AE132)*SIN(PI()/2-'Eigen QTH LOc'!$G$3)+COS(PI()/2-AE132)*COS(PI()/2-'Eigen QTH LOc'!$G$3)","v":{"$error":"#VALUE!"}},{"$error":"#VALUE!"},"ABCDEFGHIJKLMNOPQRSTUVWXABCDEFGHIJKLMNOPQRSTUVWX","\"0123456789\"",{"$f":"IF(B132>0,IF(K132=Infoblad!$C$6,0.5,0.5+AH132*40076.59/2/PI()),\" \")","v":" "},""]
[null,null," ",{"$f":"IF(B133>0,VASTETIJD(C133)-Infoblad!$C$29,\" \")","v":" "}," ",121," ",null,null,null,null,null,{"$f":"IF(L133>0,VLOOKUP(L133,Punten!$B$3:$C$109,2,FALSE),\" \")","v":" "},null," ",null,null,null,"","","","","","",{"$f":"SEARCH(T133,'Eigen QTH LOc'!$I$1)*10-100+V133","v":{"$error":"#VALUE!"}},{"$f":"TRUNC(ROUND((SEARCH(X133,'Eigen QTH LOc'!$I$1)-0.5)*2.5,2))","v":1},{"$f":"IF(Z133>0,(MOD(ROUND((SEARCH(X133,'Eigen QTH LOc'!$I$1)-0.5)*2.5,2),TRUNC(Z133)))*60,0)","v":15},{"$f":"SEARCH(S133,'Eigen QTH LOc'!$I$1)*20-200+U133*2","v":{"$error":"#VALUE!"}},{"$f":"TRUNC((SEARCH(W133,'Eigen QTH LOc'!$I$1)-0.5)*5)","v":2},{"$f":"IF(AC133>0,(MOD((SEARCH(W133,'Eigen QTH LOc'!$I$1)-0.5)*5,TRUNC(AC133)))*60,0)","v":30},{"$error":"#VALUE!"},{"$error":"#VALUE!"},{"$f":"COS('Eigen QTH LOc'!$G$4-AF133)*SIN(PI()/2-AE133)*SIN(PI()/2-'Eigen QTH LOc'!$G$3)+COS(PI()/2-AE133)*COS(PI()/2-'Eigen QTH LOc'!$G$3)","v":{"$error":"#VALUE!"}},{"$error":"#VALUE!"},"ABCDEFGHIJKLMNOPQRSTUVWXABCDEFGHIJKLMNOPQRSTUVWX","\"0123456789\"",{"$f":"IF(B133>0,IF(K133=Infoblad!$C$6,0.5,0.5+AH133*40076.59/2/PI()),\" \")","v":" "},""]
[null,null," ",{"$f":"IF(B134>0,VASTETIJD(C134)-Infoblad!$C$29,\" \")","v":" "}," ",122," ",null,null,null,null,null,{"$f":"IF(L134>0,VLOOKUP(L134,Punten!$B$3:$C$109,2,FALSE),\" \")","v":" "},null," ",null,null,null,"","","","","","",{"$f":"SEARCH(T134,'Eigen QTH LOc'!$I$1)*10-100+V134","v":{"$error":"#VALUE!"}},{"$f":"TRUNC(ROUND((SEARCH(X134,'Eigen QTH LOc'!$I$1)-0.5)*2.5,2))","v":1},{"$f":"IF(Z134>0,(MOD(ROUND((SEARCH(X134,'Eigen QTH LOc'!$I$1)-0.5)*2.5,2),TRUNC(Z134)))*60,0)","v":15},{"$f":"SEARCH(S134,'Eigen QTH LOc'!$I$1)*20-200+U134*2","v":{"$error":"#VALUE!"}},{"$f":"TRUNC((SEARCH(W134,'Eigen QTH LOc'!$I$1)-0.5)*5)","v":2},{"$f":"IF(AC134>0,(MOD((SEARCH(W134,'Eigen QTH LOc'!$I$1)-0.5)*5,TRUNC(AC134)))*60,0)","v":30},{"$error":"#VALUE!"},{"$error":"#VALUE!"},{"$f":"COS('Eigen QTH LOc'!$G$4-AF134)*SIN(PI()/2-AE134)*SIN(PI()/2-'Eigen QTH LOc'!$G$3)+COS(PI()/2-AE134)*COS(PI()/2-'Eigen QTH LOc'!$G$3)","v":{"$error":"#VALUE!"}},{"$error":"#VALUE!"},"ABCDEFGHIJKLMNOPQRSTUVWXABCDEFGHIJKLMNOPQRSTUVWX","\"0123456789\"",{"$f":"IF(B134>0,IF(K134=Infoblad!$C$6,0.5,0.5+AH134*40076.59/2/PI()),\" \")","v":" "},""]
[null,null," ",{"$f":"IF(B135>0,VASTETIJD(C135)-Infoblad!$C$29,\" \")","v":" "}," ",123," ",null,null,null,null,null,{"$f":"IF(L135>0,VLOOKUP(L135,Punten!$B$3:$C$109,2,FALSE),\" \")","v":" "},null," ",null,null,null,"","","","","","",{"$f":"SEARCH(T135,'Eigen QTH LOc'!$I$1)*10-100+V135","v":{"$error":"#VALUE!"}},{"$f":"TRUNC(ROUND((SEARCH(X135,'Eigen QTH LOc'!$I$1)-0.5)*2.5,2))","v":1},{"$f":"IF(Z135>0,(MOD(ROUND((SEARCH(X135,'Eigen QTH LOc'!$I$1)-0.5)*2.5,2),TRUNC(Z135)))*60,0)","v":15},{"$f":"SEARCH(S135,'Eigen QTH LOc'!$I$1)*20-200+U135*2","v":{"$error":"#VALUE!"}},{"$f":"TRUNC((SEARCH(W135,'Eigen QTH LOc'!$I$1)-0.5)*5)","v":2},{"$f":"IF(AC135>0,(MOD((SEARCH(W135,'Eigen QTH LOc'!$I$1)-0.5)*5,TRUNC(AC135)))*60,0)","v":30},{"$error":"#VALUE!"},{"$error":"#VALUE!"},{"$f":"COS('Eigen QTH LOc'!$G$4-AF135)*SIN(PI()/2-AE135)*SIN(PI()/2-'Eigen QTH LOc'!$G$3)+COS(PI()/2-AE135)*COS(PI()/2-'Eigen QTH LOc'!$G$3)","v":{"$error":"#VALUE!"}},{"$error":"#VALUE!"},"ABCDEFGHIJKLMNOPQRSTUVWXABCDEFGHIJKLMNOPQRSTUVWX","\"0123456789\"",{"$f":"IF(B135>0,IF(K135=Infoblad!$C$6,0.5,0.5+AH135*40076.59/2/PI()),\" \")","v":" "},""]
[null,null," ",{"$f":"IF(B136>0,VASTETIJD(C136)-Infoblad!$C$29,\" \")","v":" "}," ",124," ",null,null,null,null,null,{"$f":"IF(L136>0,VLOOKUP(L136,Punten!$B$3:$C$109,2,FALSE),\" \")","v":" "},null," ",null,null,null,"","","","","","",{"$f":"SEARCH(T136,'Eigen QTH LOc'!$I$1)*10-100+V136","v":{"$error":"#VALUE!"}},{"$f":"TRUNC(ROUND((SEARCH(X136,'Eigen QTH LOc'!$I$1)-0.5)*2.5,2))","v":1},{"$f":"IF(Z136>0,(MOD(ROUND((SEARCH(X136,'Eigen QTH LOc'!$I$1)-0.5)*2.5,2),TRUNC(Z136)))*60,0)","v":15},{"$f":"SEARCH(S136,'Eigen QTH LOc'!$I$1)*20-200+U136*2","v":{"$error":"#VALUE!"}},{"$f":"TRUNC((SEARCH(W136,'Eigen QTH LOc'!$I$1)-0.5)*5)","v":2},{"$f":"IF(AC136>0,(MOD((SEARCH(W136,'Eigen QTH LOc'!$I$1)-0.5)*5,TRUNC(AC136)))*60,0)","v":30},{"$error":"#VALUE!"},{"$error":"#VALUE!"},{"$f":"COS('Eigen QTH LOc'!$G$4-AF136)*SIN(PI()/2-AE136)*SIN(PI()/2-'Eigen QTH LOc'!$G$3)+COS(PI()/2-AE136)*COS(PI()/2-'Eigen QTH LOc'!$G$3)","v":{"$error":"#VALUE!"}},{"$error":"#VALUE!"},"ABCDEFGHIJKLMNOPQRSTUVWXABCDEFGHIJKLMNOPQRSTUVWX","\"0123456789\"",{"$f":"IF(B136>0,IF(K136=Infoblad!$C$6,0.5,0.5+AH136*40076.59/2/PI()),\" \")","v":" "},""]
[null,null," ",{"$f":"IF(B137>0,VASTETIJD(C137)-Infoblad!$C$29,\" \")","v":" "}," ",125," ",null,null,null,null,null,{"$f":"IF(L137>0,VLOOKUP(L137,Punten!$B$3:$C$109,2,FALSE),\" \")","v":" "},null," ",null,null,null,"","","","","","",{"$f":"SEARCH(T137,'Eigen QTH LOc'!$I$1)*10-100+V137","v":{"$error":"#VALUE!"}},{"$f":"TRUNC(ROUND((SEARCH(X137,'Eigen QTH LOc'!$I$1)-0.5)*2.5,2))","v":1},{"$f":"IF(Z137>0,(MOD(ROUND((SEARCH(X137,'Eigen QTH LOc'!$I$1)-0.5)*2.5,2),TRUNC(Z137)))*60,0)","v":15},{"$f":"SEARCH(S137,'Eigen QTH LOc'!$I$1)*20-200+U137*2","v":{"$error":"#VALUE!"}},{"$f":"TRUNC((SEARCH(W137,'Eigen QTH LOc'!$I$1)-0.5)*5)","v":2},{"$f":"IF(AC137>0,(MOD((SEARCH(W137,'Eigen QTH LOc'!$I$1)-0.5)*5,TRUNC(AC137)))*60,0)","v":30},{"$error":"#VALUE!"},{"$error":"#VALUE!"},{"$f":"COS('Eigen QTH LOc'!$G$4-AF137)*SIN(PI()/2-AE137)*SIN(PI()/2-'Eigen QTH LOc'!$G$3)+COS(PI()/2-AE137)*COS(PI()/2-'Eigen QTH LOc'!$G$3)","v":{"$error":"#VALUE!"}},{"$error":"#VALUE!"},"ABCDEFGHIJKLMNOPQRSTUVWXABCDEFGHIJKLMNOPQRSTUVWX","\"0123456789\"",{"$f":"IF(B137>0,IF(K137=Infoblad!$C$6,0.5,0.5+AH137*40076.59/2/PI()),\" \")","v":" "},""]
[null,null," ",{"$f":"IF(B138>0,VASTETIJD(C138)-Infoblad!$C$29,\" \")","v":" "}," ",126," ",null,null,null,null,null,{"$f":"IF(L138>0,VLOOKUP(L138,Punten!$B$3:$C$109,2,FALSE),\" \")","v":" "},null," ",null,null,null,"","","","","","",{"$f":"SEARCH(T138,'Eigen QTH LOc'!$I$1)*10-100+V138","v":{"$error":"#VALUE!"}},{"$f":"TRUNC(ROUND((SEARCH(X138,'Eigen QTH LOc'!$I$1)-0.5)*2.5,2))","v":1},{"$f":"IF(Z138>0,(MOD(ROUND((SEARCH(X138,'Eigen QTH LOc'!$I$1)-0.5)*2.5,2),TRUNC(Z138)))*60,0)","v":15},{"$f":"SEARCH(S138,'Eigen QTH LOc'!$I$1)*20-200+U138*2","v":{"$error":"#VALUE!"}},{"$f":"TRUNC((SEARCH(W138,'Eigen QTH LOc'!$I$1)-0.5)*5)","v":2},{"$f":"IF(AC138>0,(MOD((SEARCH(W138,'Eigen QTH LOc'!$I$1)-0.5)*5,TRUNC(AC138)))*60,0)","v":30},{"$error":"#VALUE!"},{"$error":"#VALUE!"},{"$f":"COS('Eigen QTH LOc'!$G$4-AF138)*SIN(PI()/2-AE138)*SIN(PI()/2-'Eigen QTH LOc'!$G$3)+COS(PI()/2-AE138)*COS(PI()/2-'Eigen QTH LOc'!$G$3)","v":{"$error":"#VALUE!"}},{"$error":"#VALUE!"},"ABCDEFGHIJKLMNOPQRSTUVWXABCDEFGHIJKLMNOPQRSTUVWX","\"0123456789\"",{"$f":"IF(B138>0,IF(K138=Infoblad!$C$6,0.5,0.5+AH138*40076.59/2/PI()),\" \")","v":" "},""]
[null,null," ",{"$f":"IF(B139>0,VASTETIJD(C139)-Infoblad!$C$29,\" \")","v":" "}," ",127," ",null,null,null,null,null,{"$f":"IF(L139>0,VLOOKUP(L139,Punten!$B$3:$C$109,2,FALSE),\" \")","v":" "},null," ",null,null,null,"","","","","","",{"$f":"SEARCH(T139,'Eigen QTH LOc'!$I$1)*10-100+V139","v":{"$error":"#VALUE!"}},{"$f":"TRUNC(ROUND((SEARCH(X139,'Eigen QTH LOc'!$I$1)-0.5)*2.5,2))","v":1},{"$f":"IF(Z139>0,(MOD(ROUND((SEARCH(X139,'Eigen QTH LOc'!$I$1)-0.5)*2.5,2),TRUNC(Z139)))*60,0)","v":15},{"$f":"SEARCH(S139,'Eigen QTH LOc'!$I$1)*20-200+U139*2","v":{"$error":"#VALUE!"}},{"$f":"TRUNC((SEARCH(W139,'Eigen QTH LOc'!$I$1)-0.5)*5)","v":2},{"$f":"IF(AC139>0,(MOD((SEARCH(W139,'Eigen QTH LOc'!$I$1)-0.5)*5,TRUNC(AC139)))*60,0)","v":30},{"$error":"#VALUE!"},{"$error":"#VALUE!"},{"$f":"COS('Eigen QTH LOc'!$G$4-AF139)*SIN(PI()/2-AE139)*SIN(PI()/2-'Eigen QTH LOc'!$G$3)+COS(PI()/2-AE139)*COS(PI()/2-'Eigen QTH LOc'!$G$3)","v":{"$error":"#VALUE!"}},{"$error":"#VALUE!"},"ABCDEFGHIJKLMNOPQRSTUVWXABCDEFGHIJKLMNOPQRSTUVWX","\"0123456789\"",{"$f":"IF(B139>0,IF(K139=Infoblad!$C$6,0.5,0.5+AH139*40076.59/2/PI()),\" \")","v":" "},""]
[null,null," ",{"$f":"IF(B140>0,VASTETIJD(C140)-Infoblad!$C$29,\" \")","v":" "}," ",128," ",null,null,null,null,null,{"$f":"IF(L140>0,VLOOKUP(L140,Punten!$B$3:$C$109,2,FALSE),\" \")","v":" "},null," ",null,null,null,"","","","","","",{"$f":"SEARCH(T140,'Eigen QTH LOc'!$I$1)*10-100+V140","v":{"$error":"#VALUE!"}},{"$f":"TRUNC(ROUND((SEARCH(X140,'Eigen QTH LOc'!$I$1)-0.5)*2.5,2))","v":1},{"$f":"IF(Z140>0,(MOD(ROUND((SEARCH(X140,'Eigen QTH LOc'!$I$1)-0.5)*2.5,2),TRUNC(Z140)))*60,0)","v":15},{"$f":"SEARCH(S140,'Eigen QTH LOc'!$I$1)*20-200+U140*2","v":{"$error":"#VALUE!"}},{"$f":"TRUNC((SEARCH(W140,'Eigen QTH LOc'!$I$1)-0.5)*5)","v":2},{"$f":"IF(AC140>0,(MOD((SEARCH(W140,'Eigen QTH LOc'!$I$1)-0.5)*5,TRUNC(AC140)))*60,0)","v":30},{"$error":"#VALUE!"},{"$error":"#VALUE!"},{"$f":"COS('Eigen QTH LOc'!$G$4-AF140)*SIN(PI()/2-AE140)*SIN(PI()/2-'Eigen QTH LOc'!$G$3)+COS(PI()/2-AE140)*COS(PI()/2-'Eigen QTH LOc'!$G$3)","v":{"$error":"#VALUE!"}},{"$error":"#VALUE!"},"ABCDEFGHIJKLMNOPQRSTUVWXABCDEFGHIJKLMNOPQRSTUVWX","\"0123456789\"",{"$f":"IF(B140>0,IF(K140=Infoblad!$C$6,0.5,0.5+AH140*40076.59/2/PI()),\" \")","v":" "},""]
[null,null," ",{"$f":"IF(B141>0,VASTETIJD(C141)-Infoblad!$C$29,\" \")","v":" "}," ",129," ",null,null,null,null,null,{"$f":"IF(L141>0,VLOOKUP(L141,Punten!$B$3:$C$109,2,FALSE),\" \")","v":" "},null," ",null,null,null,"","","","","","",{"$f":"SEARCH(T141,'Eigen QTH LOc'!$I$1)*10-100+V141","v":{"$error":"#VALUE!"}},{"$f":"TRUNC(ROUND((SEARCH(X141,'Eigen QTH LOc'!$I$1)-0.5)*2.5,2))","v":1},{"$f":"IF(Z141>0,(MOD(ROUND((SEARCH(X141,'Eigen QTH LOc'!$I$1)-0.5)*2.5,2),TRUNC(Z141)))*60,0)","v":15},{"$f":"SEARCH(S141,'Eigen QTH LOc'!$I$1)*20-200+U141*2","v":{"$error":"#VALUE!"}},{"$f":"TRUNC((SEARCH(W141,'Eigen QTH LOc'!$I$1)-0.5)*5)","v":2},{"$f":"IF(AC141>0,(MOD((SEARCH(W141,'Eigen QTH LOc'!$I$1)-0.5)*5,TRUNC(AC141)))*60,0)","v":30},{"$error":"#VALUE!"},{"$error":"#VALUE!"},{"$f":"COS('Eigen QTH LOc'!$G$4-AF141)*SIN(PI()/2-AE141)*SIN(PI()/2-'Eigen QTH LOc'!$G$3)+COS(PI()/2-AE141)*COS(PI()/2-'Eigen QTH LOc'!$G$3)","v":{"$error":"#VALUE!"}},{"$error":"#VALUE!"},"ABCDEFGHIJKLMNOPQRSTUVWXABCDEFGHIJKLMNOPQRSTUVWX","\"0123456789\"",{"$f":"IF(B141>0,IF(K141=Infoblad!$C$6,0.5,0.5+AH141*40076.59/2/PI()),\" \")","v":" "},""]
[null,null,{"$f":"IF(B142>0,$C$7,\" \")","v":" "},{"$f":"IF(B142>0,VASTETIJD(C142)-Infoblad!$C$29,\" \")","v":" "},{"$f":"IF(B142>0,\"59\",\" \")","v":" "},130,{"$f":"IF(B142>0,\"59\",\" \")","v":" "},null,null,null,null,null,{"$f":"IF(L142>0,VLOOKUP(L142,Punten!$B$3:$C$109,2,FALSE),\" \")","v":" "},null,{"$f":"IF(K142>0,AK142,\" \")","v":" "},null,null,null,"","","","","","",{"$f":"SEARCH(T142,'Eigen QTH LOc'!$I$1)*10-100+V142","v":{"$error":"#VALUE!"}},{"$f":"TRUNC(ROUND((SEARCH(X142,'Eigen QTH LOc'!$I$1)-0.5)*2.5,2))","v":1},{"$f":"IF(Z142>0,(MOD(ROUND((SEARCH(X142,'Eigen QTH LOc'!$I$1)-0.5)*2.5,2),TRUNC(Z142)))*60,0)","v":15},{"$f":"SEARCH(S142,'Eigen QTH LOc'!$I$1)*20-200+U142*2","v":{"$error":"#VALUE!"}},{"$f":"TRUNC((SEARCH(W142,'Eigen QTH LOc'!$I$1)-0.5)*5)","v":2},{"$f":"IF(AC142>0,(MOD((SEARCH(W142,'Eigen QTH LOc'!$I$1)-0.5)*5,TRUNC(AC142)))*60,0)","v":30},{"$error":"#VALUE!"},{"$error":"#VALUE!"},{"$f":"COS('Eigen QTH LOc'!$G$4-AF142)*SIN(PI()/2-AE142)*SIN(PI()/2-'Eigen QTH LOc'!$G$3)+COS(PI()/2-AE142)*COS(PI()/2-'Eigen QTH LOc'!$G$3)","v":{"$error":"#VALUE!"}},{"$f":"-ATAN($AG142/SQRT(1-$AG142*$AG142))+PI()/2","v":{"$error":"#VALUE!"}},"ABCDEFGHIJKLMNOPQRSTUVWXABCDEFGHIJKLMNOPQRSTUVWX","\"0123456789\"",{"$f":"IF(B142>0,IF(K142=Infoblad!$C$6,0.5,0.5+AH142*40076.59/2/PI()),\" \")","v":" "},{"$f":"CONCATENATE(B142,I142,J142)","v":""}]
[null,null," ",{"$f":"IF(B143>0,VASTETIJD(C143)-Infoblad!$C$29,\" \")","v":" "}," ",131," ",null,null,null,null,null,{"$f":"IF(L143>0,VLOOKUP(L143,Punten!$B$3:$C$109,2,FALSE),\" \")","v":" "},null," ",null,null,null,"","","","","","",{"$f":"SEARCH(T143,'Eigen QTH LOc'!$I$1)*10-100+V143","v":{"$error":"#VALUE!"}},{"$f":"TRUNC(ROUND((SEARCH(X143,'Eigen QTH LOc'!$I$1)-0.5)*2.5,2))","v":1},{"$f":"IF(Z143>0,(MOD(ROUND((SEARCH(X143,'Eigen QTH LOc'!$I$1)-0.5)*2.5,2),TRUNC(Z143)))*60,0)","v":15},{"$f":"SEARCH(S143,'Eigen QTH LOc'!$I$1)*20-200+U143*2","v":{"$error":"#VALUE!"}},{"$f":"TRUNC((SEARCH(W143,'Eigen QTH LOc'!$I$1)-0.5)*5)","v":2},{"$f":"IF(AC143>0,(MOD((SEARCH(W143,'Eigen QTH LOc'!$I$1)-0.5)*5,TRUNC(AC143)))*60,0)","v":30},{"$error":"#VALUE!"},{"$error":"#VALUE!"},{"$f":"COS('Eigen QTH LOc'!$G$4-AF143)*SIN(PI()/2-AE143)*SIN(PI()/2-'Eigen QTH LOc'!$G$3)+COS(PI()/2-AE143)*COS(PI()/2-'Eigen QTH LOc'!$G$3)","v":{"$error":"#VALUE!"}},{"$error":"#VALUE!"},"ABCDEFGHIJKLMNOPQRSTUVWXABCDEFGHIJKLMNOPQRSTUVWX","\"0123456789\"",{"$f":"IF(B143>0,IF(K143=Infoblad!$C$6,0.5,0.5+AH143*40076.59/2/PI()),\" \")","v":" "},""]
[null,null," ",{"$f":"IF(B144>0,VASTETIJD(C144)-Infoblad!$C$29,\" \")","v":" "}," ",132," ",null,null,null,null,null,{"$f":"IF(L144>0,VLOOKUP(L144,Punten!$B$3:$C$109,2,FALSE),\" \")","v":" "},null," ",null,null,null,"","","","","","",{"$f":"SEARCH(T144,'Eigen QTH LOc'!$I$1)*10-100+V144","v":{"$error":"#VALUE!"}},{"$f":"TRUNC(ROUND((SEARCH(X144,'Eigen QTH LOc'!$I$1)-0.5)*2.5,2))","v":1},{"$f":"IF(Z144>0,(MOD(ROUND((SEARCH(X144,'Eigen QTH LOc'!$I$1)-0.5)*2.5,2),TRUNC(Z144)))*60,0)","v":15},{"$f":"SEARCH(S144,'Eigen QTH LOc'!$I$1)*20-200+U144*2","v":{"$error":"#VALUE!"}},{"$f":"TRUNC((SEARCH(W144,'Eigen QTH LOc'!$I$1)-0.5)*5)","v":2},{"$f":"IF(AC144>0,(MOD((SEARCH(W144,'Eigen QTH LOc'!$I$1)-0.5)*5,TRUNC(AC144)))*60,0)","v":30},{"$error":"#VALUE!"},{"$error":"#VALUE!"},{"$f":"COS('Eigen QTH LOc'!$G$4-AF144)*SIN(PI()/2-AE144)*SIN(PI()/2-'Eigen QTH LOc'!$G$3)+COS(PI()/2-AE144)*COS(PI()/2-'Eigen QTH LOc'!$G$3)","v":{"$error":"#VALUE!"}},{"$error":"#VALUE!"},"ABCDEFGHIJKLMNOPQRSTUVWXABCDEFGHIJKLMNOPQRSTUVWX","\"0123456789\"",{"$f":"IF(B144>0,IF(K144=Infoblad!$C$6,0.5,0.5+AH144*40076.59/2/PI()),\" \")","v":" "},""]
[null,null," ",{"$f":"IF(B145>0,VASTETIJD(C145)-Infoblad!$C$29,\" \")","v":" "}," ",133," ",null,null,null,null,null,{"$f":"IF(L145>0,VLOOKUP(L145,Punten!$B$3:$C$109,2,FALSE),\" \")","v":" "},null," ",null,null,null,"","","","","","",{"$f":"SEARCH(T145,'Eigen QTH LOc'!$I$1)*10-100+V145","v":{"$error":"#VALUE!"}},{"$f":"TRUNC(ROUND((SEARCH(X145,'Eigen QTH LOc'!$I$1)-0.5)*2.5,2))","v":1},{"$f":"IF(Z145>0,(MOD(ROUND((SEARCH(X145,'Eigen QTH LOc'!$I$1)-0.5)*2.5,2),TRUNC(Z145)))*60,0)","v":15},{"$f":"SEARCH(S145,'Eigen QTH LOc'!$I$1)*20-200+U145*2","v":{"$error":"#VALUE!"}},{"$f":"TRUNC((SEARCH(W145,'Eigen QTH LOc'!$I$1)-0.5)*5)","v":2},{"$f":"IF(AC145>0,(MOD((SEARCH(W145,'Eigen QTH LOc'!$I$1)-0.5)*5,TRUNC(AC145)))*60,0)","v":30},{"$error":"#VALUE!"},{"$error":"#VALUE!"},{"$f":"COS('Eigen QTH LOc'!$G$4-AF145)*SIN(PI()/2-AE145)*SIN(PI()/2-'Eigen QTH LOc'!$G$3)+COS(PI()/2-AE145)*COS(PI()/2-'Eigen QTH LOc'!$G$3)","v":{"$error":"#VALUE!"}},{"$error":"#VALUE!"},"ABCDEFGHIJKLMNOPQRSTUVWXABCDEFGHIJKLMNOPQRSTUVWX","\"0123456789\"",{"$f":"IF(B145>0,IF(K145=Infoblad!$C$6,0.5,0.5+AH145*40076.59/2/PI()),\" \")","v":" "},""]
[null,null," ",{"$f":"IF(B146>0,VASTETIJD(C146)-Infoblad!$C$29,\" \")","v":" "}," ",134," ",null,null,null,null,null,{"$f":"IF(L146>0,VLOOKUP(L146,Punten!$B$3:$C$109,2,FALSE),\" \")","v":" "},null," ",null,null,null,"","","","","","",{"$f":"SEARCH(T146,'Eigen QTH LOc'!$I$1)*10-100+V146","v":{"$error":"#VALUE!"}},{"$f":"TRUNC(ROUND((SEARCH(X146,'Eigen QTH LOc'!$I$1)-0.5)*2.5,2))","v":1},{"$f":"IF(Z146>0,(MOD(ROUND((SEARCH(X146,'Eigen QTH LOc'!$I$1)-0.5)*2.5,2),TRUNC(Z146)))*60,0)","v":15},{"$f":"SEARCH(S146,'Eigen QTH LOc'!$I$1)*20-200+U146*2","v":{"$error":"#VALUE!"}},{"$f":"TRUNC((SEARCH(W146,'Eigen QTH LOc'!$I$1)-0.5)*5)","v":2},{"$f":"IF(AC146>0,(MOD((SEARCH(W146,'Eigen QTH LOc'!$I$1)-0.5)*5,TRUNC(AC146)))*60,0)","v":30},{"$error":"#VALUE!"},{"$error":"#VALUE!"},{"$f":"COS('Eigen QTH LOc'!$G$4-AF146)*SIN(PI()/2-AE146)*SIN(PI()/2-'Eigen QTH LOc'!$G$3)+COS(PI()/2-AE146)*COS(PI()/2-'Eigen QTH LOc'!$G$3)","v":{"$error":"#VALUE!"}},{"$error":"#VALUE!"},"ABCDEFGHIJKLMNOPQRSTUVWXABCDEFGHIJKLMNOPQRSTUVWX","\"0123456789\"",{"$f":"IF(B146>0,IF(K146=Infoblad!$C$6,0.5,0.5+AH146*40076.59/2/PI()),\" \")","v":" "},""]
[null,null," ",{"$f":"IF(B147>0,VASTETIJD(C147)-Infoblad!$C$29,\" \")","v":" "}," ",135," ",null,null,null,null,null,{"$f":"IF(L147>0,VLOOKUP(L147,Punten!$B$3:$C$109,2,FALSE),\" \")","v":" "},null," ",null,null,null,"","","","","","",{"$f":"SEARCH(T147,'Eigen QTH LOc'!$I$1)*10-100+V147","v":{"$error":"#VALUE!"}},{"$f":"TRUNC(ROUND((SEARCH(X147,'Eigen QTH LOc'!$I$1)-0.5)*2.5,2))","v":1},{"$f":"IF(Z147>0,(MOD(ROUND((SEARCH(X147,'Eigen QTH LOc'!$I$1)-0.5)*2.5,2),TRUNC(Z147)))*60,0)","v":15},{"$f":"SEARCH(S147,'Eigen QTH LOc'!$I$1)*20-200+U147*2","v":{"$error":"#VALUE!"}},{"$f":"TRUNC((SEARCH(W147,'Eigen QTH LOc'!$I$1)-0.5)*5)","v":2},{"$f":"IF(AC147>0,(MOD((SEARCH(W147,'Eigen QTH LOc'!$I$1)-0.5)*5,TRUNC(AC147)))*60,0)","v":30},{"$error":"#VALUE!"},{"$error":"#VALUE!"},{"$f":"COS('Eigen QTH LOc'!$G$4-AF147)*SIN(PI()/2-AE147)*SIN(PI()/2-'Eigen QTH LOc'!$G$3)+COS(PI()/2-AE147)*COS(PI()/2-'Eigen QTH LOc'!$G$3)","v":{"$error":"#VALUE!"}},{"$error":"#VALUE!"},"ABCDEFGHIJKLMNOPQRSTUVWXABCDEFGHIJKLMNOPQRSTUVWX","\"0123456789\"",{"$f":"IF(B147>0,IF(K147=Infoblad!$C$6,0.5,0.5+AH147*40076.59/2/PI()),\" \")","v":" "},""]
[null,null," ",{"$f":"IF(B148>0,VASTETIJD(C148)-Infoblad!$C$29,\" \")","v":" "}," ",136," ",null,null,null,null,null,{"$f":"IF(L148>0,VLOOKUP(L148,Punten!$B$3:$C$109,2,FALSE),\" \")","v":" "},null," ",null,null,null,"","","","","","",{"$f":"SEARCH(T148,'Eigen QTH LOc'!$I$1)*10-100+V148","v":{"$error":"#VALUE!"}},{"$f":"TRUNC(ROUND((SEARCH(X148,'Eigen QTH LOc'!$I$1)-0.5)*2.5,2))","v":1},{"$f":"IF(Z148>0,(MOD(ROUND((SEARCH(X148,'Eigen QTH LOc'!$I$1)-0.5)*2.5,2),TRUNC(Z148)))*60,0)","v":15},{"$f":"SEARCH(S148,'Eigen QTH LOc'!$I$1)*20-200+U148*2","v":{"$error":"#VALUE!"}},{"$f":"TRUNC((SEARCH(W148,'Eigen QTH LOc'!$I$1)-0.5)*5)","v":2},{"$f":"IF(AC148>0,(MOD((SEARCH(W148,'Eigen QTH LOc'!$I$1)-0.5)*5,TRUNC(AC148)))*60,0)","v":30},{"$error":"#VALUE!"},{"$error":"#VALUE!"},{"$f":"COS('Eigen QTH LOc'!$G$4-AF148)*SIN(PI()/2-AE148)*SIN(PI()/2-'Eigen QTH LOc'!$G$3)+COS(PI()/2-AE148)*COS(PI()/2-'Eigen QTH LOc'!$G$3)","v":{"$error":"#VALUE!"}},{"$error":"#VALUE!"},"ABCDEFGHIJKLMNOPQRSTUVWXABCDEFGHIJKLMNOPQRSTUVWX","\"0123456789\"",{"$f":"IF(B148>0,IF(K148=Infoblad!$C$6,0.5,0.5+AH148*40076.59/2/PI()),\" \")","v":" "},""]
[null,null," ",{"$f":"IF(B149>0,VASTETIJD(C149)-Infoblad!$C$29,\" \")","v":" "}," ",137," ",null,null,null,null,null,{"$f":"IF(L149>0,VLOOKUP(L149,Punten!$B$3:$C$109,2,FALSE),\" \")","v":" "},null," ",null,null,null,"","","","","","",{"$f":"SEARCH(T149,'Eigen QTH LOc'!$I$1)*10-100+V149","v":{"$error":"#VALUE!"}},{"$f":"TRUNC(ROUND((SEARCH(X149,'Eigen QTH LOc'!$I$1)-0.5)*2.5,2))","v":1},{"$f":"IF(Z149>0,(MOD(ROUND((SEARCH(X149,'Eigen QTH LOc'!$I$1)-0.5)*2.5,2),TRUNC(Z149)))*60,0)","v":15},{"$f":"SEARCH(S149,'Eigen QTH LOc'!$I$1)*20-200+U149*2","v":{"$error":"#VALUE!"}},{"$f":"TRUNC((SEARCH(W149,'Eigen QTH LOc'!$I$1)-0.5)*5)","v":2},{"$f":"IF(AC149>0,(MOD((SEARCH(W149,'Eigen QTH LOc'!$I$1)-0.5)*5,TRUNC(AC149)))*60,0)","v":30},{"$error":"#VALUE!"},{"$error":"#VALUE!"},{"$f":"COS('Eigen QTH LOc'!$G$4-AF149)*SIN(PI()/2-AE149)*SIN(PI()/2-'Eigen QTH LOc'!$G$3)+COS(PI()/2-AE149)*COS(PI()/2-'Eigen QTH LOc'!$G$3)","v":{"$error":"#VALUE!"}},{"$error":"#VALUE!"},"ABCDEFGHIJKLMNOPQRSTUVWXABCDEFGHIJKLMNOPQRSTUVWX","\"0123456789\"",{"$f":"IF(B149>0,IF(K149=Infoblad!$C$6,0.5,0.5+AH149*40076.59/2/PI()),\" \")","v":" "},""]
[null,null," ",{"$f":"IF(B150>0,VASTETIJD(C150)-Infoblad!$C$29,\" \")","v":" "}," ",138," ",null,null,null,null,null,{"$f":"IF(L150>0,VLOOKUP(L150,Punten!$B$3:$C$109,2,FALSE),\" \")","v":" "},null," ",null,null,null,"","","","","","",{"$f":"SEARCH(T150,'Eigen QTH LOc'!$I$1)*10-100+V150","v":{"$error":"#VALUE!"}},{"$f":"TRUNC(ROUND((SEARCH(X150,'Eigen QTH LOc'!$I$1)-0.5)*2.5,2))","v":1},{"$f":"IF(Z150>0,(MOD(ROUND((SEARCH(X150,'Eigen QTH LOc'!$I$1)-0.5)*2.5,2),TRUNC(Z150)))*60,0)","v":15},{"$f":"SEARCH(S150,'Eigen QTH LOc'!$I$1)*20-200+U150*2","v":{"$error":"#VALUE!"}},{"$f":"TRUNC((SEARCH(W150,'Eigen QTH LOc'!$I$1)-0.5)*5)","v":2},{"$f":"IF(AC150>0,(MOD((SEARCH(W150,'Eigen QTH LOc'!$I$1)-0.5)*5,TRUNC(AC150)))*60,0)","v":30},{"$error":"#VALUE!"},{"$error":"#VALUE!"},{"$f":"COS('Eigen QTH LOc'!$G$4-AF150)*SIN(PI()/2-AE150)*SIN(PI()/2-'Eigen QTH LOc'!$G$3)+COS(PI()/2-AE150)*COS(PI()/2-'Eigen QTH LOc'!$G$3)","v":{"$error":"#VALUE!"}},{"$error":"#VALUE!"},"ABCDEFGHIJKLMNOPQRSTUVWXABCDEFGHIJKLMNOPQRSTUVWX","\"0123456789\"",{"$f":"IF(B150>0,IF(K150=Infoblad!$C$6,0.5,0.5+AH150*40076.59/2/PI()),\" \")","v":" "},""]
[null,null," ",{"$f":"IF(B151>0,VASTETIJD(C151)-Infoblad!$C$29,\" \")","v":" "}," ",139," ",null,null,null,null,null,{"$f":"IF(L151>0,VLOOKUP(L151,Punten!$B$3:$C$109,2,FALSE),\" \")","v":" "},null," ",null,null,null,"","","","","","",{"$f":"SEARCH(T151,'Eigen QTH LOc'!$I$1)*10-100+V151","v":{"$error":"#VALUE!"}},{"$f":"TRUNC(ROUND((SEARCH(X151,'Eigen QTH LOc'!$I$1)-0.5)*2.5,2))","v":1},{"$f":"IF(Z151>0,(MOD(ROUND((SEARCH(X151,'Eigen QTH LOc'!$I$1)-0.5)*2.5,2),TRUNC(Z151)))*60,0)","v":15},{"$f":"SEARCH(S151,'Eigen QTH LOc'!$I$1)*20-200+U151*2","v":{"$error":"#VALUE!"}},{"$f":"TRUNC((SEARCH(W151,'Eigen QTH LOc'!$I$1)-0.5)*5)","v":2},{"$f":"IF(AC151>0,(MOD((SEARCH(W151,'Eigen QTH LOc'!$I$1)-0.5)*5,TRUNC(AC151)))*60,0)","v":30},{"$error":"#VALUE!"},{"$error":"#VALUE!"},{"$f":"COS('Eigen QTH LOc'!$G$4-AF151)*SIN(PI()/2-AE151)*SIN(PI()/2-'Eigen QTH LOc'!$G$3)+COS(PI()/2-AE151)*COS(PI()/2-'Eigen QTH LOc'!$G$3)","v":{"$error":"#VALUE!"}},{"$error":"#VALUE!"},"ABCDEFGHIJKLMNOPQRSTUVWXABCDEFGHIJKLMNOPQRSTUVWX","\"0123456789\"",{"$f":"IF(B151>0,IF(K151=Infoblad!$C$6,0.5,0.5+AH151*40076.59/2/PI()),\" \")","v":" "},""]
[null,null," ",{"$f":"IF(B152>0,VASTETIJD(C152)-Infoblad!$C$29,\" \")","v":" "}," ",140," ",null,null,null,null,null,{"$f":"IF(L152>0,VLOOKUP(L152,Punten!$B$3:$C$109,2,FALSE),\" \")","v":" "},null," ",null,null,null,"","","","","","",{"$f":"SEARCH(T152,'Eigen QTH LOc'!$I$1)*10-100+V152","v":{"$error":"#VALUE!"}},{"$f":"TRUNC(ROUND((SEARCH(X152,'Eigen QTH LOc'!$I$1)-0.5)*2.5,2))","v":1},{"$f":"IF(Z152>0,(MOD(ROUND((SEARCH(X152,'Eigen QTH LOc'!$I$1)-0.5)*2.5,2),TRUNC(Z152)))*60,0)","v":15},{"$f":"SEARCH(S152,'Eigen QTH LOc'!$I$1)*20-200+U152*2","v":{"$error":"#VALUE!"}},{"$f":"TRUNC((SEARCH(W152,'Eigen QTH LOc'!$I$1)-0.5)*5)","v":2},{"$f":"IF(AC152>0,(MOD((SEARCH(W152,'Eigen QTH LOc'!$I$1)-0.5)*5,TRUNC(AC152)))*60,0)","v":30},{"$error":"#VALUE!"},{"$error":"#VALUE!"},{"$f":"COS('Eigen QTH LOc'!$G$4-AF152)*SIN(PI()/2-AE152)*SIN(PI()/2-'Eigen QTH LOc'!$G$3)+COS(PI()/2-AE152)*COS(PI()/2-'Eigen QTH LOc'!$G$3)","v":{"$error":"#VALUE!"}},{"$error":"#VALUE!"},"ABCDEFGHIJKLMNOPQRSTUVWXABCDEFGHIJKLMNOPQRSTUVWX","\"0123456789\"",{"$f":"IF(B152>0,IF(K152=Infoblad!$C$6,0.5,0.5+AH152*40076.59/2/PI()),\" \")","v":" "},""]
[null,null," ",{"$f":"IF(B153>0,VASTETIJD(C153)-Infoblad!$C$29,\" \")","v":" "}," ",141," ",null,null,null,null,null,{"$f":"IF(L153>0,VLOOKUP(L153,Punten!$B$3:$C$109,2,FALSE),\" \")","v":" "},null," ",null,null,null,{"$f":"MID(K153,1,1)","v":""},{"$f":"MID(K153,2,1)","v":""},{"$f":"MID(K153,3,1)","v":""},{"$f":"MID(K153,4,1)","v":""},{"$f":"MID(K153,5,1)","v":""},{"$f":"MID(K153,6,1)","v":""},{"$f":"SEARCH(T153,'Eigen QTH LOc'!$I$1)*10-100+V153","v":{"$error":"#VALUE!"}},{"$f":"TRUNC(ROUND((SEARCH(X153,'Eigen QTH LOc'!$I$1)-0.5)*2.5,2))","v":1},{"$f":"IF(Z153>0,(MOD(ROUND((SEARCH(X153,'Eigen QTH LOc'!$I$1)-0.5)*2.5,2),TRUNC(Z153)))*60,0)","v":15},{"$f":"SEARCH(S153,'Eigen QTH LOc'!$I$1)*20-200+U153*2","v":{"$error":"#VALUE!"}},{"$f":"TRUNC((SEARCH(W153,'Eigen QTH LOc'!$I$1)-0.5)*5)","v":2},{"$f":"IF(AC153>0,(MOD((SEARCH(W153,'Eigen QTH LOc'!$I$1)-0.5)*5,TRUNC(AC153)))*60,0)","v":30},{"$f":"(Y153+(Z153/60)+(AA153/3600))*PI()/180","v":{"$error":"#VALUE!"}},{"$f":"(AB153+(AC153/60)+(AD153/100/60))*PI()/180","v":{"$error":"#VALUE!"}},{"$f":"COS('Eigen QTH LOc'!$G$4-AF153)*SIN(PI()/2-AE153)*SIN(PI()/2-'Eigen QTH LOc'!$G$3)+COS(PI()/2-AE153)*COS(PI()/2-'Eigen QTH LOc'!$G$3)","v":{"$error":"#VALUE!"}},{"$error":"#VALUE!"},"ABCDEFGHIJKLMNOPQRSTUVWXABCDEFGHIJKLMNOPQRSTUVWX","\"0123456789\"",{"$f":"IF(B153>0,IF(K153=Infoblad!$C$6,0.5,0.5+AH153*40076.59/2/PI()),\" \")","v":" "},""]
[null,null," ",{"$f":"IF(B154>0,VASTETIJD(C154)-Infoblad!$C$29,\" \")","v":" "}," ",142," ",null,null,null,null,null,{"$f":"IF(L154>0,VLOOKUP(L154,Punten!$B$3:$C$109,2,FALSE),\" \")","v":" "},null," ",null,null,null,"","","","","","",{"$f":"SEARCH(T154,'Eigen QTH LOc'!$I$1)*10-100+V154","v":{"$error":"#VALUE!"}},{"$f":"TRUNC(ROUND((SEARCH(X154,'Eigen QTH LOc'!$I$1)-0.5)*2.5,2))","v":1},{"$f":"IF(Z154>0,(MOD(ROUND((SEARCH(X154,'Eigen QTH LOc'!$I$1)-0.5)*2.5,2),TRUNC(Z154)))*60,0)","v":15},{"$f":"SEARCH(S154,'Eigen QTH LOc'!$I$1)*20-200+U154*2","v":{"$error":"#VALUE!"}},{"$f":"TRUNC((SEARCH(W154,'Eigen QTH LOc'!$I$1)-0.5)*5)","v":2},{"$f":"IF(AC154>0,(MOD((SEARCH(W154,'Eigen QTH LOc'!$I$1)-0.5)*5,TRUNC(AC154)))*60,0)","v":30},{"$error":"#VALUE!"},{"$error":"#VALUE!"},{"$f":"COS('Eigen QTH LOc'!$G$4-AF154)*SIN(PI()/2-AE154)*SIN(PI()/2-'Eigen QTH LOc'!$G$3)+COS(PI()/2-AE154)*COS(PI()/2-'Eigen QTH LOc'!$G$3)","v":{"$error":"#VALUE!"}},{"$error":"#VALUE!"},"ABCDEFGHIJKLMNOPQRSTUVWXABCDEFGHIJKLMNOPQRSTUVWX","\"0123456789\"",{"$f":"IF(B154>0,IF(K154=Infoblad!$C$6,0.5,0.5+AH154*40076.59/2/PI()),\" \")","v":" "},""]
[null,null," ",{"$f":"IF(B155>0,VASTETIJD(C155)-Infoblad!$C$29,\" \")","v":" "}," ",143," ",null,null,null,null,null,{"$f":"IF(L155>0,VLOOKUP(L155,Punten!$B$3:$C$109,2,FALSE),\" \")","v":" "},null," ",null,null,null,"","","","","","",{"$f":"SEARCH(T155,'Eigen QTH LOc'!$I$1)*10-100+V155","v":{"$error":"#VALUE!"}},{"$f":"TRUNC(ROUND((SEARCH(X155,'Eigen QTH LOc'!$I$1)-0.5)*2.5,2))","v":1},{"$f":"IF(Z155>0,(MOD(ROUND((SEARCH(X155,'Eigen QTH LOc'!$I$1)-0.5)*2.5,2),TRUNC(Z155)))*60,0)","v":15},{"$f":"SEARCH(S155,'Eigen QTH LOc'!$I$1)*20-200+U155*2","v":{"$error":"#VALUE!"}},{"$f":"TRUNC((SEARCH(W155,'Eigen QTH LOc'!$I$1)-0.5)*5)","v":2},{"$f":"IF(AC155>0,(MOD((SEARCH(W155,'Eigen QTH LOc'!$I$1)-0.5)*5,TRUNC(AC155)))*60,0)","v":30},{"$error":"#VALUE!"},{"$error":"#VALUE!"},{"$f":"COS('Eigen QTH LOc'!$G$4-AF155)*SIN(PI()/2-AE155)*SIN(PI()/2-'Eigen QTH LOc'!$G$3)+COS(PI()/2-AE155)*COS(PI()/2-'Eigen QTH LOc'!$G$3)","v":{"$error":"#VALUE!"}},{"$error":"#VALUE!"},"ABCDEFGHIJKLMNOPQRSTUVWXABCDEFGHIJKLMNOPQRSTUVWX","\"0123456789\"",{"$f":"IF(B155>0,IF(K155=Infoblad!$C$6,0.5,0.5+AH155*40076.59/2/PI()),\" \")","v":" "},""]
[null,null," ",{"$f":"IF(B156>0,VASTETIJD(C156)-Infoblad!$C$29,\" \")","v":" "}," ",144," ",null,null,null,null,null,{"$f":"IF(L156>0,VLOOKUP(L156,Punten!$B$3:$C$109,2,FALSE),\" \")","v":" "},null," ",null,null,null,"","","","","","",{"$f":"SEARCH(T156,'Eigen QTH LOc'!$I$1)*10-100+V156","v":{"$error":"#VALUE!"}},{"$f":"TRUNC(ROUND((SEARCH(X156,'Eigen QTH LOc'!$I$1)-0.5)*2.5,2))","v":1},{"$f":"IF(Z156>0,(MOD(ROUND((SEARCH(X156,'Eigen QTH LOc'!$I$1)-0.5)*2.5,2),TRUNC(Z156)))*60,0)","v":15},{"$f":"SEARCH(S156,'Eigen QTH LOc'!$I$1)*20-200+U156*2","v":{"$error":"#VALUE!"}},{"$f":"TRUNC((SEARCH(W156,'Eigen QTH LOc'!$I$1)-0.5)*5)","v":2},{"$f":"IF(AC156>0,(MOD((SEARCH(W156,'Eigen QTH LOc'!$I$1)-0.5)*5,TRUNC(AC156)))*60,0)","v":30},{"$error":"#VALUE!"},{"$error":"#VALUE!"},{"$f":"COS('Eigen QTH LOc'!$G$4-AF156)*SIN(PI()/2-AE156)*SIN(PI()/2-'Eigen QTH LOc'!$G$3)+COS(PI()/2-AE156)*COS(PI()/2-'Eigen QTH LOc'!$G$3)","v":{"$error":"#VALUE!"}},{"$error":"#VALUE!"},"ABCDEFGHIJKLMNOPQRSTUVWXABCDEFGHIJKLMNOPQRSTUVWX","\"0123456789\"",{"$f":"IF(B156>0,IF(K156=Infoblad!$C$6,0.5,0.5+AH156*40076.59/2/PI()),\" \")","v":" "},""]
[null,null," ",{"$f":"IF(B157>0,VASTETIJD(C157)-Infoblad!$C$29,\" \")","v":" "}," ",145," ",null,null,null,null,null,{"$f":"IF(L157>0,VLOOKUP(L157,Punten!$B$3:$C$109,2,FALSE),\" \")","v":" "},null," ",null,null,null,"","","","","","",{"$f":"SEARCH(T157,'Eigen QTH LOc'!$I$1)*10-100+V157","v":{"$error":"#VALUE!"}},{"$f":"TRUNC(ROUND((SEARCH(X157,'Eigen QTH LOc'!$I$1)-0.5)*2.5,2))","v":1},{"$f":"IF(Z157>0,(MOD(ROUND((SEARCH(X157,'Eigen QTH LOc'!$I$1)-0.5)*2.5,2),TRUNC(Z157)))*60,0)","v":15},{"$f":"SEARCH(S157,'Eigen QTH LOc'!$I$1)*20-200+U157*2","v":{"$error":"#VALUE!"}},{"$f":"TRUNC((SEARCH(W157,'Eigen QTH LOc'!$I$1)-0.5)*5)","v":2},{"$f":"IF(AC157>0,(MOD((SEARCH(W157,'Eigen QTH LOc'!$I$1)-0.5)*5,TRUNC(AC157)))*60,0)","v":30},{"$error":"#VALUE!"},{"$error":"#VALUE!"},{"$f":"COS('Eigen QTH LOc'!$G$4-AF157)*SIN(PI()/2-AE157)*SIN(PI()/2-'Eigen QTH LOc'!$G$3)+COS(PI()/2-AE157)*COS(PI()/2-'Eigen QTH LOc'!$G$3)","v":{"$error":"#VALUE!"}},{"$error":"#VALUE!"},"ABCDEFGHIJKLMNOPQRSTUVWXABCDEFGHIJKLMNOPQRSTUVWX","\"0123456789\"",{"$f":"IF(B157>0,IF(K157=Infoblad!$C$6,0.5,0.5+AH157*40076.59/2/PI()),\" \")","v":" "},""]
[null,null," ",{"$f":"IF(B158>0,VASTETIJD(C158)-Infoblad!$C$29,\" \")","v":" "}," ",146," ",null,null,null,null,null,{"$f":"IF(L158>0,VLOOKUP(L158,Punten!$B$3:$C$109,2,FALSE),\" \")","v":" "},null," ",null,null,null,"","","","","","",{"$f":"SEARCH(T158,'Eigen QTH LOc'!$I$1)*10-100+V158","v":{"$error":"#VALUE!"}},{"$f":"TRUNC(ROUND((SEARCH(X158,'Eigen QTH LOc'!$I$1)-0.5)*2.5,2))","v":1},{"$f":"IF(Z158>0,(MOD(ROUND((SEARCH(X158,'Eigen QTH LOc'!$I$1)-0.5)*2.5,2),TRUNC(Z158)))*60,0)","v":15},{"$f":"SEARCH(S158,'Eigen QTH LOc'!$I$1)*20-200+U158*2","v":{"$error":"#VALUE!"}},{"$f":"TRUNC((SEARCH(W158,'Eigen QTH LOc'!$I$1)-0.5)*5)","v":2},{"$f":"IF(AC158>0,(MOD((SEARCH(W158,'Eigen QTH LOc'!$I$1)-0.5)*5,TRUNC(AC158)))*60,0)","v":30},{"$error":"#VALUE!"},{"$error":"#VALUE!"},{"$f":"COS('Eigen QTH LOc'!$G$4-AF158)*SIN(PI()/2-AE158)*SIN(PI()/2-'Eigen QTH LOc'!$G$3)+COS(PI()/2-AE158)*COS(PI()/2-'Eigen QTH LOc'!$G$3)","v":{"$error":"#VALUE!"}},{"$error":"#VALUE!"},"ABCDEFGHIJKLMNOPQRSTUVWXABCDEFGHIJKLMNOPQRSTUVWX","\"0123456789\"",{"$f":"IF(B158>0,IF(K158=Infoblad!$C$6,0.5,0.5+AH158*40076.59/2/PI()),\" \")","v":" "},""]
[null,null," ",{"$f":"IF(B159>0,VASTETIJD(C159)-Infoblad!$C$29,\" \")","v":" "}," ",147," ",null,null,null,null,null,{"$f":"IF(L159>0,VLOOKUP(L159,Punten!$B$3:$C$109,2,FALSE),\" \")","v":" "},null," ",null,null,null,"","","","","","",{"$f":"SEARCH(T159,'Eigen QTH LOc'!$I$1)*10-100+V159","v":{"$error":"#VALUE!"}},{"$f":"TRUNC(ROUND((SEARCH(X159,'Eigen QTH LOc'!$I$1)-0.5)*2.5,2))","v":1},{"$f":"IF(Z159>0,(MOD(ROUND((SEARCH(X159,'Eigen QTH LOc'!$I$1)-0.5)*2.5,2),TRUNC(Z159)))*60,0)","v":15},{"$f":"SEARCH(S159,'Eigen QTH LOc'!$I$1)*20-200+U159*2","v":{"$error":"#VALUE!"}},{"$f":"TRUNC((SEARCH(W159,'Eigen QTH LOc'!$I$1)-0.5)*5)","v":2},{"$f":"IF(AC159>0,(MOD((SEARCH(W159,'Eigen QTH LOc'!$I$1)-0.5)*5,TRUNC(AC159)))*60,0)","v":30},{"$error":"#VALUE!"},{"$error":"#VALUE!"},{"$f":"COS('Eigen QTH LOc'!$G$4-AF159)*SIN(PI()/2-AE159)*SIN(PI()/2-'Eigen QTH LOc'!$G$3)+COS(PI()/2-AE159)*COS(PI()/2-'Eigen QTH LOc'!$G$3)","v":{"$error":"#VALUE!"}},{"$error":"#VALUE!"},"ABCDEFGHIJKLMNOPQRSTUVWXABCDEFGHIJKLMNOPQRSTUVWX","\"0123456789\"",{"$f":"IF(B159>0,IF(K159=Infoblad!$C$6,0.5,0.5+AH159*40076.59/2/PI()),\" \")","v":" "},""]
[null,null," ",{"$f":"IF(B160>0,VASTETIJD(C160)-Infoblad!$C$29,\" \")","v":" "}," ",148," ",null,null,null,null,null,{"$f":"IF(L160>0,VLOOKUP(L160,Punten!$B$3:$C$109,2,FALSE),\" \")","v":" "},null," ",null,null,null,"","","","","","",{"$f":"SEARCH(T160,'Eigen QTH LOc'!$I$1)*10-100+V160","v":{"$error":"#VALUE!"}},{"$f":"TRUNC(ROUND((SEARCH(X160,'Eigen QTH LOc'!$I$1)-0.5)*2.5,2))","v":1},{"$f":"IF(Z160>0,(MOD(ROUND((SEARCH(X160,'Eigen QTH LOc'!$I$1)-0.5)*2.5,2),TRUNC(Z160)))*60,0)","v":15},{"$f":"SEARCH(S160,'Eigen QTH LOc'!$I$1)*20-200+U160*2","v":{"$error":"#VALUE!"}},{"$f":"TRUNC((SEARCH(W160,'Eigen QTH LOc'!$I$1)-0.5)*5)","v":2},{"$f":"IF(AC160>0,(MOD((SEARCH(W160,'Eigen QTH LOc'!$I$1)-0.5)*5,TRUNC(AC160)))*60,0)","v":30},{"$error":"#VALUE!"},{"$error":"#VALUE!"},{"$f":"COS('Eigen QTH LOc'!$G$4-AF160)*SIN(PI()/2-AE160)*SIN(PI()/2-'Eigen QTH LOc'!$G$3)+COS(PI()/2-AE160)*COS(PI()/2-'Eigen QTH LOc'!$G$3)","v":{"$error":"#VALUE!"}},{"$error":"#VALUE!"},"ABCDEFGHIJKLMNOPQRSTUVWXABCDEFGHIJKLMNOPQRSTUVWX","\"0123456789\"",{"$f":"IF(B160>0,IF(K160=Infoblad!$C$6,0.5,0.5+AH160*40076.59/2/PI()),\" \")","v":" "},""]
[null,null," ",{"$f":"IF(B161>0,VASTETIJD(C161)-Infoblad!$C$29,\" \")","v":" "}," ",149," ",null,null,null,null,null,{"$f":"IF(L161>0,VLOOKUP(L161,Punten!$B$3:$C$109,2,FALSE),\" \")","v":" "},null," ",null,null,null,"","","","","","",{"$f":"SEARCH(T161,'Eigen QTH LOc'!$I$1)*10-100+V161","v":{"$error":"#VALUE!"}},{"$f":"TRUNC(ROUND((SEARCH(X161,'Eigen QTH LOc'!$I$1)-0.5)*2.5,2))","v":1},{"$f":"IF(Z161>0,(MOD(ROUND((SEARCH(X161,'Eigen QTH LOc'!$I$1)-0.5)*2.5,2),TRUNC(Z161)))*60,0)","v":15},{"$f":"SEARCH(S161,'Eigen QTH LOc'!$I$1)*20-200+U161*2","v":{"$error":"#VALUE!"}},{"$f":"TRUNC((SEARCH(W161,'Eigen QTH LOc'!$I$1)-0.5)*5)","v":2},{"$f":"IF(AC161>0,(MOD((SEARCH(W161,'Eigen QTH LOc'!$I$1)-0.5)*5,TRUNC(AC161)))*60,0)","v":30},{"$error":"#VALUE!"},{"$error":"#VALUE!"},{"$f":"COS('Eigen QTH LOc'!$G$4-AF161)*SIN(PI()/2-AE161)*SIN(PI()/2-'Eigen QTH LOc'!$G$3)+COS(PI()/2-AE161)*COS(PI()/2-'Eigen QTH LOc'!$G$3)","v":{"$error":"#VALUE!"}},{"$error":"#VALUE!"},"ABCDEFGHIJKLMNOPQRSTUVWXABCDEFGHIJKLMNOPQRSTUVWX","\"0123456789\"",{"$f":"IF(B161>0,IF(K161=Infoblad!$C$6,0.5,0.5+AH161*40076.59/2/PI()),\" \")","v":" "},""]
[null,null," ",{"$f":"IF(B162>0,VASTETIJD(C162)-Infoblad!$C$29,\" \")","v":" "}," ",150," ",null,null,null,null,null,{"$f":"IF(L162>0,VLOOKUP(L162,Punten!$B$3:$C$109,2,FALSE),\" \")","v":" "},null," ",null,null,null,"","","","","","",{"$f":"SEARCH(T162,'Eigen QTH LOc'!$I$1)*10-100+V162","v":{"$error":"#VALUE!"}},{"$f":"TRUNC(ROUND((SEARCH(X162,'Eigen QTH LOc'!$I$1)-0.5)*2.5,2))","v":1},{"$f":"IF(Z162>0,(MOD(ROUND((SEARCH(X162,'Eigen QTH LOc'!$I$1)-0.5)*2.5,2),TRUNC(Z162)))*60,0)","v":15},{"$f":"SEARCH(S162,'Eigen QTH LOc'!$I$1)*20-200+U162*2","v":{"$error":"#VALUE!"}},{"$f":"TRUNC((SEARCH(W162,'Eigen QTH LOc'!$I$1)-0.5)*5)","v":2},{"$f":"IF(AC162>0,(MOD((SEARCH(W162,'Eigen QTH LOc'!$I$1)-0.5)*5,TRUNC(AC162)))*60,0)","v":30},{"$error":"#VALUE!"},{"$error":"#VALUE!"},{"$f":"COS('Eigen QTH LOc'!$G$4-AF162)*SIN(PI()/2-AE162)*SIN(PI()/2-'Eigen QTH LOc'!$G$3)+COS(PI()/2-AE162)*COS(PI()/2-'Eigen QTH LOc'!$G$3)","v":{"$error":"#VALUE!"}},{"$error":"#VALUE!"},"ABCDEFGHIJKLMNOPQRSTUVWXABCDEFGHIJKLMNOPQRSTUVWX","\"0123456789\"",{"$f":"IF(B162>0,IF(K162=Infoblad!$C$6,0.5,0.5+AH162*40076.59/2/PI()),\" \")","v":" "},""]
[null,null," ",{"$f":"IF(B163>0,VASTETIJD(C163)-Infoblad!$C$29,\" \")","v":" "}," ",151," ",null,null,null,null,null,{"$f":"IF(L163>0,VLOOKUP(L163,Punten!$B$3:$C$109,2,FALSE),\" \")","v":" "},null," ",null,null,null,"","","","","","",{"$f":"SEARCH(T163,'Eigen QTH LOc'!$I$1)*10-100+V163","v":{"$error":"#VALUE!"}},{"$f":"TRUNC(ROUND((SEARCH(X163,'Eigen QTH LOc'!$I$1)-0.5)*2.5,2))","v":1},{"$f":"IF(Z163>0,(MOD(ROUND((SEARCH(X163,'Eigen QTH LOc'!$I$1)-0.5)*2.5,2),TRUNC(Z163)))*60,0)","v":15},{"$f":"SEARCH(S163,'Eigen QTH LOc'!$I$1)*20-200+U163*2","v":{"$error":"#VALUE!"}},{"$f":"TRUNC((SEARCH(W163,'Eigen QTH LOc'!$I$1)-0.5)*5)","v":2},{"$f":"IF(AC163>0,(MOD((SEARCH(W163,'Eigen QTH LOc'!$I$1)-0.5)*5,TRUNC(AC163)))*60,0)","v":30},{"$error":"#VALUE!"},{"$error":"#VALUE!"},{"$f":"COS('Eigen QTH LOc'!$G$4-AF163)*SIN(PI()/2-AE163)*SIN(PI()/2-'Eigen QTH LOc'!$G$3)+COS(PI()/2-AE163)*COS(PI()/2-'Eigen QTH LOc'!$G$3)","v":{"$error":"#VALUE!"}},{"$error":"#VALUE!"},"ABCDEFGHIJKLMNOPQRSTUVWXABCDEFGHIJKLMNOPQRSTUVWX","\"0123456789\"",{"$f":"IF(B163>0,IF(K163=Infoblad!$C$6,0.5,0.5+AH163*40076.59/2/PI()),\" \")","v":" "},""]
[null,null," ",{"$f":"IF(B164>0,VASTETIJD(C164)-Infoblad!$C$29,\" \")","v":" "}," ",152," ",null,null,null,null,null,{"$f":"IF(L164>0,VLOOKUP(L164,Punten!$B$3:$C$109,2,FALSE),\" \")","v":" "},null," ",null,null,null,"","","","","","",{"$f":"SEARCH(T164,'Eigen QTH LOc'!$I$1)*10-100+V164","v":{"$error":"#VALUE!"}},{"$f":"TRUNC(ROUND((SEARCH(X164,'Eigen QTH LOc'!$I$1)-0.5)*2.5,2))","v":1},{"$f":"IF(Z164>0,(MOD(ROUND((SEARCH(X164,'Eigen QTH LOc'!$I$1)-0.5)*2.5,2),TRUNC(Z164)))*60,0)","v":15},{"$f":"SEARCH(S164,'Eigen QTH LOc'!$I$1)*20-200+U164*2","v":{"$error":"#VALUE!"}},{"$f":"TRUNC((SEARCH(W164,'Eigen QTH LOc'!$I$1)-0.5)*5)","v":2},{"$f":"IF(AC164>0,(MOD((SEARCH(W164,'Eigen QTH LOc'!$I$1)-0.5)*5,TRUNC(AC164)))*60,0)","v":30},{"$error":"#VALUE!"},{"$error":"#VALUE!"},{"$f":"COS('Eigen QTH LOc'!$G$4-AF164)*SIN(PI()/2-AE164)*SIN(PI()/2-'Eigen QTH LOc'!$G$3)+COS(PI()/2-AE164)*COS(PI()/2-'Eigen QTH LOc'!$G$3)","v":{"$error":"#VALUE!"}},{"$error":"#VALUE!"},"ABCDEFGHIJKLMNOPQRSTUVWXABCDEFGHIJKLMNOPQRSTUVWX","\"0123456789\"",{"$f":"IF(B164>0,IF(K164=Infoblad!$C$6,0.5,0.5+AH164*40076.59/2/PI()),\" \")","v":" "},""]
[null,null," ",{"$f":"IF(B165>0,VASTETIJD(C165)-Infoblad!$C$29,\" \")","v":" "}," ",153," ",null,null,null,null,null,{"$f":"IF(L165>0,VLOOKUP(L165,Punten!$B$3:$C$109,2,FALSE),\" \")","v":" "},null," ",null,null,null,"","","","","","",{"$f":"SEARCH(T165,'Eigen QTH LOc'!$I$1)*10-100+V165","v":{"$error":"#VALUE!"}},{"$f":"TRUNC(ROUND((SEARCH(X165,'Eigen QTH LOc'!$I$1)-0.5)*2.5,2))","v":1},{"$f":"IF(Z165>0,(MOD(ROUND((SEARCH(X165,'Eigen QTH LOc'!$I$1)-0.5)*2.5,2),TRUNC(Z165)))*60,0)","v":15},{"$f":"SEARCH(S165,'Eigen QTH LOc'!$I$1)*20-200+U165*2","v":{"$error":"#VALUE!"}},{"$f":"TRUNC((SEARCH(W165,'Eigen QTH LOc'!$I$1)-0.5)*5)","v":2},{"$f":"IF(AC165>0,(MOD((SEARCH(W165,'Eigen QTH LOc'!$I$1)-0.5)*5,TRUNC(AC165)))*60,0)","v":30},{"$error":"#VALUE!"},{"$error":"#VALUE!"},{"$f":"COS('Eigen QTH LOc'!$G$4-AF165)*SIN(PI()/2-AE165)*SIN(PI()/2-'Eigen QTH LOc'!$G$3)+COS(PI()/2-AE165)*COS(PI()/2-'Eigen QTH LOc'!$G$3)","v":{"$error":"#VALUE!"}},{"$error":"#VALUE!"},"ABCDEFGHIJKLMNOPQRSTUVWXABCDEFGHIJKLMNOPQRSTUVWX","\"0123456789\"",{"$f":"IF(B165>0,IF(K165=Infoblad!$C$6,0.5,0.5+AH165*40076.59/2/PI()),\" \")","v":" "},""]
[null,null," ",{"$f":"IF(B166>0,VASTETIJD(C166)-Infoblad!$C$29,\" \")","v":" "}," ",154," ",null,null,null,null,null,{"$f":"IF(L166>0,VLOOKUP(L166,Punten!$B$3:$C$109,2,FALSE),\" \")","v":" "},null," ",null,null,null,"","","","","","",{"$f":"SEARCH(T166,'Eigen QTH LOc'!$I$1)*10-100+V166","v":{"$error":"#VALUE!"}},{"$f":"TRUNC(ROUND((SEARCH(X166,'Eigen QTH LOc'!$I$1)-0.5)*2.5,2))","v":1},{"$f":"IF(Z166>0,(MOD(ROUND((SEARCH(X166,'Eigen QTH LOc'!$I$1)-0.5)*2.5,2),TRUNC(Z166)))*60,0)","v":15},{"$f":"SEARCH(S166,'Eigen QTH LOc'!$I$1)*20-200+U166*2","v":{"$error":"#VALUE!"}},{"$f":"TRUNC((SEARCH(W166,'Eigen QTH LOc'!$I$1)-0.5)*5)","v":2},{"$f":"IF(AC166>0,(MOD((SEARCH(W166,'Eigen QTH LOc'!$I$1)-0.5)*5,TRUNC(AC166)))*60,0)","v":30},{"$error":"#VALUE!"},{"$error":"#VALUE!"},{"$f":"COS('Eigen QTH LOc'!$G$4-AF166)*SIN(PI()/2-AE166)*SIN(PI()/2-'Eigen QTH LOc'!$G$3)+COS(PI()/2-AE166)*COS(PI()/2-'Eigen QTH LOc'!$G$3)","v":{"$error":"#VALUE!"}},{"$error":"#VALUE!"},"ABCDEFGHIJKLMNOPQRSTUVWXABCDEFGHIJKLMNOPQRSTUVWX","\"0123456789\"",{"$f":"IF(B166>0,IF(K166=Infoblad!$C$6,0.5,0.5+AH166*40076.59/2/PI()),\" \")","v":" "},""]
[null,null," ",{"$f":"IF(B167>0,VASTETIJD(C167)-Infoblad!$C$29,\" \")","v":" "}," ",155," ",null,null,null,null,null,{"$f":"IF(L167>0,VLOOKUP(L167,Punten!$B$3:$C$109,2,FALSE),\" \")","v":" "},null," ",null,null,null,"","","","","","",{"$f":"SEARCH(T167,'Eigen QTH LOc'!$I$1)*10-100+V167","v":{"$error":"#VALUE!"}},{"$f":"TRUNC(ROUND((SEARCH(X167,'Eigen QTH LOc'!$I$1)-0.5)*2.5,2))","v":1},{"$f":"IF(Z167>0,(MOD(ROUND((SEARCH(X167,'Eigen QTH LOc'!$I$1)-0.5)*2.5,2),TRUNC(Z167)))*60,0)","v":15},{"$f":"SEARCH(S167,'Eigen QTH LOc'!$I$1)*20-200+U167*2","v":{"$error":"#VALUE!"}},{"$f":"TRUNC((SEARCH(W167,'Eigen QTH LOc'!$I$1)-0.5)*5)","v":2},{"$f":"IF(AC167>0,(MOD((SEARCH(W167,'Eigen QTH LOc'!$I$1)-0.5)*5,TRUNC(AC167)))*60,0)","v":30},{"$error":"#VALUE!"},{"$error":"#VALUE!"},{"$f":"COS('Eigen QTH LOc'!$G$4-AF167)*SIN(PI()/2-AE167)*SIN(PI()/2-'Eigen QTH LOc'!$G$3)+COS(PI()/2-AE167)*COS(PI()/2-'Eigen QTH LOc'!$G$3)","v":{"$error":"#VALUE!"}},{"$error":"#VALUE!"},"ABCDEFGHIJKLMNOPQRSTUVWXABCDEFGHIJKLMNOPQRSTUVWX","\"0123456789\"",{"$f":"IF(B167>0,IF(K167=Infoblad!$C$6,0.5,0.5+AH167*40076.59/2/PI()),\" \")","v":" "},""]
[null,null," ",{"$f":"IF(B168>0,VASTETIJD(C168)-Infoblad!$C$29,\" \")","v":" "}," ",156," ",null,null,null,null,null,{"$f":"IF(L168>0,VLOOKUP(L168,Punten!$B$3:$C$109,2,FALSE),\" \")","v":" "},null," ",null,null,null,"","","","","","",{"$f":"SEARCH(T168,'Eigen QTH LOc'!$I$1)*10-100+V168","v":{"$error":"#VALUE!"}},{"$f":"TRUNC(ROUND((SEARCH(X168,'Eigen QTH LOc'!$I$1)-0.5)*2.5,2))","v":1},{"$f":"IF(Z168>0,(MOD(ROUND((SEARCH(X168,'Eigen QTH LOc'!$I$1)-0.5)*2.5,2),TRUNC(Z168)))*60,0)","v":15},{"$f":"SEARCH(S168,'Eigen QTH LOc'!$I$1)*20-200+U168*2","v":{"$error":"#VALUE!"}},{"$f":"TRUNC((SEARCH(W168,'Eigen QTH LOc'!$I$1)-0.5)*5)","v":2},{"$f":"IF(AC168>0,(MOD((SEARCH(W168,'Eigen QTH LOc'!$I$1)-0.5)*5,TRUNC(AC168)))*60,0)","v":30},{"$error":"#VALUE!"},{"$error":"#VALUE!"},{"$f":"COS('Eigen QTH LOc'!$G$4-AF168)*SIN(PI()/2-AE168)*SIN(PI()/2-'Eigen QTH LOc'!$G$3)+COS(PI()/2-AE168)*COS(PI()/2-'Eigen QTH LOc'!$G$3)","v":{"$error":"#VALUE!"}},{"$error":"#VALUE!"},"ABCDEFGHIJKLMNOPQRSTUVWXABCDEFGHIJKLMNOPQRSTUVWX","\"0123456789\"",{"$f":"IF(B168>0,IF(K168=Infoblad!$C$6,0.5,0.5+AH168*40076.59/2/PI()),\" \")","v":" "},""]
[null,null," ",{"$f":"IF(B169>0,VASTETIJD(C169)-Infoblad!$C$29,\" \")","v":" "}," ",157," ",null,null,null,null,null,{"$f":"IF(L169>0,VLOOKUP(L169,Punten!$B$3:$C$109,2,FALSE),\" \")","v":" "},null," ",null,null,null,"","","","","","",{"$f":"SEARCH(T169,'Eigen QTH LOc'!$I$1)*10-100+V169","v":{"$error":"#VALUE!"}},{"$f":"TRUNC(ROUND((SEARCH(X169,'Eigen QTH LOc'!$I$1)-0.5)*2.5,2))","v":1},{"$f":"IF(Z169>0,(MOD(ROUND((SEARCH(X169,'Eigen QTH LOc'!$I$1)-0.5)*2.5,2),TRUNC(Z169)))*60,0)","v":15},{"$f":"SEARCH(S169,'Eigen QTH LOc'!$I$1)*20-200+U169*2","v":{"$error":"#VALUE!"}},{"$f":"TRUNC((SEARCH(W169,'Eigen QTH LOc'!$I$1)-0.5)*5)","v":2},{"$f":"IF(AC169>0,(MOD((SEARCH(W169,'Eigen QTH LOc'!$I$1)-0.5)*5,TRUNC(AC169)))*60,0)","v":30},{"$error":"#VALUE!"},{"$error":"#VALUE!"},{"$f":"COS('Eigen QTH LOc'!$G$4-AF169)*SIN(PI()/2-AE169)*SIN(PI()/2-'Eigen QTH LOc'!$G$3)+COS(PI()/2-AE169)*COS(PI()/2-'Eigen QTH LOc'!$G$3)","v":{"$error":"#VALUE!"}},{"$error":"#VALUE!"},"ABCDEFGHIJKLMNOPQRSTUVWXABCDEFGHIJKLMNOPQRSTUVWX","\"0123456789\"",{"$f":"IF(B169>0,IF(K169=Infoblad!$C$6,0.5,0.5+AH169*40076.59/2/PI()),\" \")","v":" "},""]
[null,null," ",{"$f":"IF(B170>0,VASTETIJD(C170)-Infoblad!$C$29,\" \")","v":" "}," ",158," ",null,null,null,null,null,{"$f":"IF(L170>0,VLOOKUP(L170,Punten!$B$3:$C$109,2,FALSE),\" \")","v":" "},null," ",null,null,null,"","","","","","",{"$f":"SEARCH(T170,'Eigen QTH LOc'!$I$1)*10-100+V170","v":{"$error":"#VALUE!"}},{"$f":"TRUNC(ROUND((SEARCH(X170,'Eigen QTH LOc'!$I$1)-0.5)*2.5,2))","v":1},{"$f":"IF(Z170>0,(MOD(ROUND((SEARCH(X170,'Eigen QTH LOc'!$I$1)-0.5)*2.5,2),TRUNC(Z170)))*60,0)","v":15},{"$f":"SEARCH(S170,'Eigen QTH LOc'!$I$1)*20-200+U170*2","v":{"$error":"#VALUE!"}},{"$f":"TRUNC((SEARCH(W170,'Eigen QTH LOc'!$I$1)-0.5)*5)","v":2},{"$f":"IF(AC170>0,(MOD((SEARCH(W170,'Eigen QTH LOc'!$I$1)-0.5)*5,TRUNC(AC170)))*60,0)","v":30},{"$error":"#VALUE!"},{"$error":"#VALUE!"},{"$f":"COS('Eigen QTH LOc'!$G$4-AF170)*SIN(PI()/2-AE170)*SIN(PI()/2-'Eigen QTH LOc'!$G$3)+COS(PI()/2-AE170)*COS(PI()/2-'Eigen QTH LOc'!$G$3)","v":{"$error":"#VALUE!"}},{"$error":"#VALUE!"},"ABCDEFGHIJKLMNOPQRSTUVWXABCDEFGHIJKLMNOPQRSTUVWX","\"0123456789\"",{"$f":"IF(B170>0,IF(K170=Infoblad!$C$6,0.5,0.5+AH170*40076.59/2/PI()),\" \")","v":" "},""]
[null,null," ",{"$f":"IF(B171>0,VASTETIJD(C171)-Infoblad!$C$29,\" \")","v":" "}," ",159," ",null,null,null,null,null,{"$f":"IF(L171>0,VLOOKUP(L171,Punten!$B$3:$C$109,2,FALSE),\" \")","v":" "},null," ",null,null,null,"","","","","","",{"$f":"SEARCH(T171,'Eigen QTH LOc'!$I$1)*10-100+V171","v":{"$error":"#VALUE!"}},{"$f":"TRUNC(ROUND((SEARCH(X171,'Eigen QTH LOc'!$I$1)-0.5)*2.5,2))","v":1},{"$f":"IF(Z171>0,(MOD(ROUND((SEARCH(X171,'Eigen QTH LOc'!$I$1)-0.5)*2.5,2),TRUNC(Z171)))*60,0)","v":15},{"$f":"SEARCH(S171,'Eigen QTH LOc'!$I$1)*20-200+U171*2","v":{"$error":"#VALUE!"}},{"$f":"TRUNC((SEARCH(W171,'Eigen QTH LOc'!$I$1)-0.5)*5)","v":2},{"$f":"IF(AC171>0,(MOD((SEARCH(W171,'Eigen QTH LOc'!$I$1)-0.5)*5,TRUNC(AC171)))*60,0)","v":30},{"$error":"#VALUE!"},{"$error":"#VALUE!"},{"$f":"COS('Eigen QTH LOc'!$G$4-AF171)*SIN(PI()/2-AE171)*SIN(PI()/2-'Eigen QTH LOc'!$G$3)+COS(PI()/2-AE171)*COS(PI()/2-'Eigen QTH LOc'!$G$3)","v":{"$error":"#VALUE!"}},{"$error":"#VALUE!"},"ABCDEFGHIJKLMNOPQRSTUVWXABCDEFGHIJKLMNOPQRSTUVWX","\"0123456789\"",{"$f":"IF(B171>0,IF(K171=Infoblad!$C$6,0.5,0.5+AH171*40076.59/2/PI()),\" \")","v":" "},""]
[null,null," ",{"$f":"IF(B172>0,VASTETIJD(C172)-Infoblad!$C$29,\" \")","v":" "}," ",160," ",null,null,null,null,null,{"$f":"IF(L172>0,VLOOKUP(L172,Punten!$B$3:$C$109,2,FALSE),\" \")","v":" "},null," ",null,null,null,"","","","","","",{"$f":"SEARCH(T172,'Eigen QTH LOc'!$I$1)*10-100+V172","v":{"$error":"#VALUE!"}},{"$f":"TRUNC(ROUND((SEARCH(X172,'Eigen QTH LOc'!$I$1)-0.5)*2.5,2))","v":1},{"$f":"IF(Z172>0,(MOD(ROUND((SEARCH(X172,'Eigen QTH LOc'!$I$1)-0.5)*2.5,2),TRUNC(Z172)))*60,0)","v":15},{"$f":"SEARCH(S172,'Eigen QTH LOc'!$I$1)*20-200+U172*2","v":{"$error":"#VALUE!"}},{"$f":"TRUNC((SEARCH(W172,'Eigen QTH LOc'!$I$1)-0.5)*5)","v":2},{"$f":"IF(AC172>0,(MOD((SEARCH(W172,'Eigen QTH LOc'!$I$1)-0.5)*5,TRUNC(AC172)))*60,0)","v":30},{"$error":"#VALUE!"},{"$error":"#VALUE!"},{"$f":"COS('Eigen QTH LOc'!$G$4-AF172)*SIN(PI()/2-AE172)*SIN(PI()/2-'Eigen QTH LOc'!$G$3)+COS(PI()/2-AE172)*COS(PI()/2-'Eigen QTH LOc'!$G$3)","v":{"$error":"#VALUE!"}},{"$error":"#VALUE!"},"ABCDEFGHIJKLMNOPQRSTUVWXABCDEFGHIJKLMNOPQRSTUVWX","\"0123456789\"",{"$f":"IF(B172>0,IF(K172=Infoblad!$C$6,0.5,0.5+AH172*40076.59/2/PI()),\" \")","v":" "},""]
[null,null," ",{"$f":"IF(B173>0,VASTETIJD(C173)-Infoblad!$C$29,\" \")","v":" "}," ",161," ",null,null,null,null,null,{"$f":"IF(L173>0,VLOOKUP(L173,Punten!$B$3:$C$109,2,FALSE),\" \")","v":" "},null," ",null,null,null,"","","","","","",{"$f":"SEARCH(T173,'Eigen QTH LOc'!$I$1)*10-100+V173","v":{"$error":"#VALUE!"}},{"$f":"TRUNC(ROUND((SEARCH(X173,'Eigen QTH LOc'!$I$1)-0.5)*2.5,2))","v":1},{"$f":"IF(Z173>0,(MOD(ROUND((SEARCH(X173,'Eigen QTH LOc'!$I$1)-0.5)*2.5,2),TRUNC(Z173)))*60,0)","v":15},{"$f":"SEARCH(S173,'Eigen QTH LOc'!$I$1)*20-200+U173*2","v":{"$error":"#VALUE!"}},{"$f":"TRUNC((SEARCH(W173,'Eigen QTH LOc'!$I$1)-0.5)*5)","v":2},{"$f":"IF(AC173>0,(MOD((SEARCH(W173,'Eigen QTH LOc'!$I$1)-0.5)*5,TRUNC(AC173)))*60,0)","v":30},{"$error":"#VALUE!"},{"$error":"#VALUE!"},{"$f":"COS('Eigen QTH LOc'!$G$4-AF173)*SIN(PI()/2-AE173)*SIN(PI()/2-'Eigen QTH LOc'!$G$3)+COS(PI()/2-AE173)*COS(PI()/2-'Eigen QTH LOc'!$G$3)","v":{"$error":"#VALUE!"}},{"$error":"#VALUE!"},"ABCDEFGHIJKLMNOPQRSTUVWXABCDEFGHIJKLMNOPQRSTUVWX","\"0123456789\"",{"$f":"IF(B173>0,IF(K173=Infoblad!$C$6,0.5,0.5+AH173*40076.59/2/PI()),\" \")","v":" "},""]
[null,null," ",{"$f":"IF(B174>0,VASTETIJD(C174)-Infoblad!$C$29,\" \")","v":" "}," ",162," ",null,null,null,null,null,{"$f":"IF(L174>0,VLOOKUP(L174,Punten!$B$3:$C$109,2,FALSE),\" \")","v":" "},null," ",null,null,null,"","","","","","",{"$f":"SEARCH(T174,'Eigen QTH LOc'!$I$1)*10-100+V174","v":{"$error":"#VALUE!"}},{"$f":"TRUNC(ROUND((SEARCH(X174,'Eigen QTH LOc'!$I$1)-0.5)*2.5,2))","v":1},{"$f":"IF(Z174>0,(MOD(ROUND((SEARCH(X174,'Eigen QTH LOc'!$I$1)-0.5)*2.5,2),TRUNC(Z174)))*60,0)","v":15},{"$f":"SEARCH(S174,'Eigen QTH LOc'!$I$1)*20-200+U174*2","v":{"$error":"#VALUE!"}},{"$f":"TRUNC((SEARCH(W174,'Eigen QTH LOc'!$I$1)-0.5)*5)","v":2},{"$f":"IF(AC174>0,(MOD((SEARCH(W174,'Eigen QTH LOc'!$I$1)-0.5)*5,TRUNC(AC174)))*60,0)","v":30},{"$error":"#VALUE!"},{"$error":"#VALUE!"},{"$f":"COS('Eigen QTH LOc'!$G$4-AF174)*SIN(PI()/2-AE174)*SIN(PI()/2-'Eigen QTH LOc'!$G$3)+COS(PI()/2-AE174)*COS(PI()/2-'Eigen QTH LOc'!$G$3)","v":{"$error":"#VALUE!"}},{"$error":"#VALUE!"},"ABCDEFGHIJKLMNOPQRSTUVWXABCDEFGHIJKLMNOPQRSTUVWX","\"0123456789\"",{"$f":"IF(B174>0,IF(K174=Infoblad!$C$6,0.5,0.5+AH174*40076.59/2/PI()),\" \")","v":" "},""]
[null,null," ",{"$f":"IF(B175>0,VASTETIJD(C175)-Infoblad!$C$29,\" \")","v":" "}," ",163," ",null,null,null,null,null,{"$f":"IF(L175>0,VLOOKUP(L175,Punten!$B$3:$C$109,2,FALSE),\" \")","v":" "},null," ",null,null,null,"","","","","","",{"$f":"SEARCH(T175,'Eigen QTH LOc'!$I$1)*10-100+V175","v":{"$error":"#VALUE!"}},{"$f":"TRUNC(ROUND((SEARCH(X175,'Eigen QTH LOc'!$I$1)-0.5)*2.5,2))","v":1},{"$f":"IF(Z175>0,(MOD(ROUND((SEARCH(X175,'Eigen QTH LOc'!$I$1)-0.5)*2.5,2),TRUNC(Z175)))*60,0)","v":15},{"$f":"SEARCH(S175,'Eigen QTH LOc'!$I$1)*20-200+U175*2","v":{"$error":"#VALUE!"}},{"$f":"TRUNC((SEARCH(W175,'Eigen QTH LOc'!$I$1)-0.5)*5)","v":2},{"$f":"IF(AC175>0,(MOD((SEARCH(W175,'Eigen QTH LOc'!$I$1)-0.5)*5,TRUNC(AC175)))*60,0)","v":30},{"$error":"#VALUE!"},{"$error":"#VALUE!"},{"$f":"COS('Eigen QTH LOc'!$G$4-AF175)*SIN(PI()/2-AE175)*SIN(PI()/2-'Eigen QTH LOc'!$G$3)+COS(PI()/2-AE175)*COS(PI()/2-'Eigen QTH LOc'!$G$3)","v":{"$error":"#VALUE!"}},{"$error":"#VALUE!"},"ABCDEFGHIJKLMNOPQRSTUVWXABCDEFGHIJKLMNOPQRSTUVWX","\"0123456789\"",{"$f":"IF(B175>0,IF(K175=Infoblad!$C$6,0.5,0.5+AH175*40076.59/2/PI()),\" \")","v":" "},""]
[null,null," ",{"$f":"IF(B176>0,VASTETIJD(C176)-Infoblad!$C$29,\" \")","v":" "}," ",164," ",null,null,null,null,null,{"$f":"IF(L176>0,VLOOKUP(L176,Punten!$B$3:$C$109,2,FALSE),\" \")","v":" "},null," ",null,null,null,"","","","","","",{"$f":"SEARCH(T176,'Eigen QTH LOc'!$I$1)*10-100+V176","v":{"$error":"#VALUE!"}},{"$f":"TRUNC(ROUND((SEARCH(X176,'Eigen QTH LOc'!$I$1)-0.5)*2.5,2))","v":1},{"$f":"IF(Z176>0,(MOD(ROUND((SEARCH(X176,'Eigen QTH LOc'!$I$1)-0.5)*2.5,2),TRUNC(Z176)))*60,0)","v":15},{"$f":"SEARCH(S176,'Eigen QTH LOc'!$I$1)*20-200+U176*2","v":{"$error":"#VALUE!"}},{"$f":"TRUNC((SEARCH(W176,'Eigen QTH LOc'!$I$1)-0.5)*5)","v":2},{"$f":"IF(AC176>0,(MOD((SEARCH(W176,'Eigen QTH LOc'!$I$1)-0.5)*5,TRUNC(AC176)))*60,0)","v":30},{"$error":"#VALUE!"},{"$error":"#VALUE!"},{"$f":"COS('Eigen QTH LOc'!$G$4-AF176)*SIN(PI()/2-AE176)*SIN(PI()/2-'Eigen QTH LOc'!$G$3)+COS(PI()/2-AE176)*COS(PI()/2-'Eigen QTH LOc'!$G$3)","v":{"$error":"#VALUE!"}},{"$error":"#VALUE!"},"ABCDEFGHIJKLMNOPQRSTUVWXABCDEFGHIJKLMNOPQRSTUVWX","\"0123456789\"",{"$f":"IF(B176>0,IF(K176=Infoblad!$C$6,0.5,0.5+AH176*40076.59/2/PI()),\" \")","v":" "},""]
[null,null," ",{"$f":"IF(B177>0,VASTETIJD(C177)-Infoblad!$C$29,\" \")","v":" "}," ",165," ",null,null,null,null,null,{"$f":"IF(L177>0,VLOOKUP(L177,Punten!$B$3:$C$109,2,FALSE),\" \")","v":" "},null," ",null,null,null,"","","","","","",{"$f":"SEARCH(T177,'Eigen QTH LOc'!$I$1)*10-100+V177","v":{"$error":"#VALUE!"}},{"$f":"TRUNC(ROUND((SEARCH(X177,'Eigen QTH LOc'!$I$1)-0.5)*2.5,2))","v":1},{"$f":"IF(Z177>0,(MOD(ROUND((SEARCH(X177,'Eigen QTH LOc'!$I$1)-0.5)*2.5,2),TRUNC(Z177)))*60,0)","v":15},{"$f":"SEARCH(S177,'Eigen QTH LOc'!$I$1)*20-200+U177*2","v":{"$error":"#VALUE!"}},{"$f":"TRUNC((SEARCH(W177,'Eigen QTH LOc'!$I$1)-0.5)*5)","v":2},{"$f":"IF(AC177>0,(MOD((SEARCH(W177,'Eigen QTH LOc'!$I$1)-0.5)*5,TRUNC(AC177)))*60,0)","v":30},{"$error":"#VALUE!"},{"$error":"#VALUE!"},{"$f":"COS('Eigen QTH LOc'!$G$4-AF177)*SIN(PI()/2-AE177)*SIN(PI()/2-'Eigen QTH LOc'!$G$3)+COS(PI()/2-AE177)*COS(PI()/2-'Eigen QTH LOc'!$G$3)","v":{"$error":"#VALUE!"}},{"$error":"#VALUE!"},"ABCDEFGHIJKLMNOPQRSTUVWXABCDEFGHIJKLMNOPQRSTUVWX","\"0123456789\"",{"$f":"IF(B177>0,IF(K177=Infoblad!$C$6,0.5,0.5+AH177*40076.59/2/PI()),\" \")","v":" "},""]
[null,null," ",{"$f":"IF(B178>0,VASTETIJD(C178)-Infoblad!$C$29,\" \")","v":" "}," ",166," ",null,null,null,null,null,{"$f":"IF(L178>0,VLOOKUP(L178,Punten!$B$3:$C$109,2,FALSE),\" \")","v":" "},null," ",null,null,null,"","","","","","",{"$f":"SEARCH(T178,'Eigen QTH LOc'!$I$1)*10-100+V178","v":{"$error":"#VALUE!"}},{"$f":"TRUNC(ROUND((SEARCH(X178,'Eigen QTH LOc'!$I$1)-0.5)*2.5,2))","v":1},{"$f":"IF(Z178>0,(MOD(ROUND((SEARCH(X178,'Eigen QTH LOc'!$I$1)-0.5)*2.5,2),TRUNC(Z178)))*60,0)","v":15},{"$f":"SEARCH(S178,'Eigen QTH LOc'!$I$1)*20-200+U178*2","v":{"$error":"#VALUE!"}},{"$f":"TRUNC((SEARCH(W178,'Eigen QTH LOc'!$I$1)-0.5)*5)","v":2},{"$f":"IF(AC178>0,(MOD((SEARCH(W178,'Eigen QTH LOc'!$I$1)-0.5)*5,TRUNC(AC178)))*60,0)","v":30},{"$error":"#VALUE!"},{"$error":"#VALUE!"},{"$f":"COS('Eigen QTH LOc'!$G$4-AF178)*SIN(PI()/2-AE178)*SIN(PI()/2-'Eigen QTH LOc'!$G$3)+COS(PI()/2-AE178)*COS(PI()/2-'Eigen QTH LOc'!$G$3)","v":{"$error":"#VALUE!"}},{"$error":"#VALUE!"},"ABCDEFGHIJKLMNOPQRSTUVWXABCDEFGHIJKLMNOPQRSTUVWX","\"0123456789\"",{"$f":"IF(B178>0,IF(K178=Infoblad!$C$6,0.5,0.5+AH178*40076.59/2/PI()),\" \")","v":" "},""]
[null,null," ",{"$f":"IF(B179>0,VASTETIJD(C179)-Infoblad!$C$29,\" \")","v":" "}," ",167," ",null,null,null,null,null,{"$f":"IF(L179>0,VLOOKUP(L179,Punten!$B$3:$C$109,2,FALSE),\" \")","v":" "},null," ",null,null,null,"","","","","","",{"$f":"SEARCH(T179,'Eigen QTH LOc'!$I$1)*10-100+V179","v":{"$error":"#VALUE!"}},{"$f":"TRUNC(ROUND((SEARCH(X179,'Eigen QTH LOc'!$I$1)-0.5)*2.5,2))","v":1},{"$f":"IF(Z179>0,(MOD(ROUND((SEARCH(X179,'Eigen QTH LOc'!$I$1)-0.5)*2.5,2),TRUNC(Z179)))*60,0)","v":15},{"$f":"SEARCH(S179,'Eigen QTH LOc'!$I$1)*20-200+U179*2","v":{"$error":"#VALUE!"}},{"$f":"TRUNC((SEARCH(W179,'Eigen QTH LOc'!$I$1)-0.5)*5)","v":2},{"$f":"IF(AC179>0,(MOD((SEARCH(W179,'Eigen QTH LOc'!$I$1)-0.5)*5,TRUNC(AC179)))*60,0)","v":30},{"$error":"#VALUE!"},{"$error":"#VALUE!"},{"$f":"COS('Eigen QTH LOc'!$G$4-AF179)*SIN(PI()/2-AE179)*SIN(PI()/2-'Eigen QTH LOc'!$G$3)+COS(PI()/2-AE179)*COS(PI()/2-'Eigen QTH LOc'!$G$3)","v":{"$error":"#VALUE!"}},{"$error":"#VALUE!"},"ABCDEFGHIJKLMNOPQRSTUVWXABCDEFGHIJKLMNOPQRSTUVWX","\"0123456789\"",{"$f":"IF(B179>0,IF(K179=Infoblad!$C$6,0.5,0.5+AH179*40076.59/2/PI()),\" \")","v":" "},""]
[null,null," ",{"$f":"IF(B180>0,VASTETIJD(C180)-Infoblad!$C$29,\" \")","v":" "}," ",168," ",null,null,null,null,null,{"$f":"IF(L180>0,VLOOKUP(L180,Punten!$B$3:$C$109,2,FALSE),\" \")","v":" "},null," ",null,null,null,"","","","","","",{"$f":"SEARCH(T180,'Eigen QTH LOc'!$I$1)*10-100+V180","v":{"$error":"#VALUE!"}},{"$f":"TRUNC(ROUND((SEARCH(X180,'Eigen QTH LOc'!$I$1)-0.5)*2.5,2))","v":1},{"$f":"IF(Z180>0,(MOD(ROUND((SEARCH(X180,'Eigen QTH LOc'!$I$1)-0.5)*2.5,2),TRUNC(Z180)))*60,0)","v":15},{"$f":"SEARCH(S180,'Eigen QTH LOc'!$I$1)*20-200+U180*2","v":{"$error":"#VALUE!"}},{"$f":"TRUNC((SEARCH(W180,'Eigen QTH LOc'!$I$1)-0.5)*5)","v":2},{"$f":"IF(AC180>0,(MOD((SEARCH(W180,'Eigen QTH LOc'!$I$1)-0.5)*5,TRUNC(AC180)))*60,0)","v":30},{"$error":"#VALUE!"},{"$error":"#VALUE!"},{"$f":"COS('Eigen QTH LOc'!$G$4-AF180)*SIN(PI()/2-AE180)*SIN(PI()/2-'Eigen QTH LOc'!$G$3)+COS(PI()/2-AE180)*COS(PI()/2-'Eigen QTH LOc'!$G$3)","v":{"$error":"#VALUE!"}},{"$error":"#VALUE!"},"ABCDEFGHIJKLMNOPQRSTUVWXABCDEFGHIJKLMNOPQRSTUVWX","\"0123456789\"",{"$f":"IF(B180>0,IF(K180=Infoblad!$C$6,0.5,0.5+AH180*40076.59/2/PI()),\" \")","v":" "},""]
[null,null," ",{"$f":"IF(B181>0,VASTETIJD(C181)-Infoblad!$C$29,\" \")","v":" "}," ",169," ",null,null,null,null,null,{"$f":"IF(L181>0,VLOOKUP(L181,Punten!$B$3:$C$109,2,FALSE),\" \")","v":" "},null," ",null,null,null,"","","","","","",{"$f":"SEARCH(T181,'Eigen QTH LOc'!$I$1)*10-100+V181","v":{"$error":"#VALUE!"}},{"$f":"TRUNC(ROUND((SEARCH(X181,'Eigen QTH LOc'!$I$1)-0.5)*2.5,2))","v":1},{"$f":"IF(Z181>0,(MOD(ROUND((SEARCH(X181,'Eigen QTH LOc'!$I$1)-0.5)*2.5,2),TRUNC(Z181)))*60,0)","v":15},{"$f":"SEARCH(S181,'Eigen QTH LOc'!$I$1)*20-200+U181*2","v":{"$error":"#VALUE!"}},{"$f":"TRUNC((SEARCH(W181,'Eigen QTH LOc'!$I$1)-0.5)*5)","v":2},{"$f":"IF(AC181>0,(MOD((SEARCH(W181,'Eigen QTH LOc'!$I$1)-0.5)*5,TRUNC(AC181)))*60,0)","v":30},{"$error":"#VALUE!"},{"$error":"#VALUE!"},{"$f":"COS('Eigen QTH LOc'!$G$4-AF181)*SIN(PI()/2-AE181)*SIN(PI()/2-'Eigen QTH LOc'!$G$3)+COS(PI()/2-AE181)*COS(PI()/2-'Eigen QTH LOc'!$G$3)","v":{"$error":"#VALUE!"}},{"$error":"#VALUE!"},"ABCDEFGHIJKLMNOPQRSTUVWXABCDEFGHIJKLMNOPQRSTUVWX","\"0123456789\"",{"$f":"IF(B181>0,IF(K181=Infoblad!$C$6,0.5,0.5+AH181*40076.59/2/PI()),\" \")","v":" "},""]
[null,null," ",{"$f":"IF(B182>0,VASTETIJD(C182)-Infoblad!$C$29,\" \")","v":" "}," ",170," ",null,null,null,null,null,{"$f":"IF(L182>0,VLOOKUP(L182,Punten!$B$3:$C$109,2,FALSE),\" \")","v":" "},null," ",null,null,null,"","","","","","",{"$f":"SEARCH(T182,'Eigen QTH LOc'!$I$1)*10-100+V182","v":{"$error":"#VALUE!"}},{"$f":"TRUNC(ROUND((SEARCH(X182,'Eigen QTH LOc'!$I$1)-0.5)*2.5,2))","v":1},{"$f":"IF(Z182>0,(MOD(ROUND((SEARCH(X182,'Eigen QTH LOc'!$I$1)-0.5)*2.5,2),TRUNC(Z182)))*60,0)","v":15},{"$f":"SEARCH(S182,'Eigen QTH LOc'!$I$1)*20-200+U182*2","v":{"$error":"#VALUE!"}},{"$f":"TRUNC((SEARCH(W182,'Eigen QTH LOc'!$I$1)-0.5)*5)","v":2},{"$f":"IF(AC182>0,(MOD((SEARCH(W182,'Eigen QTH LOc'!$I$1)-0.5)*5,TRUNC(AC182)))*60,0)","v":30},{"$error":"#VALUE!"},{"$error":"#VALUE!"},{"$f":"COS('Eigen QTH LOc'!$G$4-AF182)*SIN(PI()/2-AE182)*SIN(PI()/2-'Eigen QTH LOc'!$G$3)+COS(PI()/2-AE182)*COS(PI()/2-'Eigen QTH LOc'!$G$3)","v":{"$error":"#VALUE!"}},{"$error":"#VALUE!"},"ABCDEFGHIJKLMNOPQRSTUVWXABCDEFGHIJKLMNOPQRSTUVWX","\"0123456789\"",{"$f":"IF(B182>0,IF(K182=Infoblad!$C$6,0.5,0.5+AH182*40076.59/2/PI()),\" \")","v":" "},""]
[null,null," ",{"$f":"IF(B183>0,VASTETIJD(C183)-Infoblad!$C$29,\" \")","v":" "}," ",171," ",null,null,null,null,null,{"$f":"IF(L183>0,VLOOKUP(L183,Punten!$B$3:$C$109,2,FALSE),\" \")","v":" "},null," ",null,null,null,"","","","","","",{"$f":"SEARCH(T183,'Eigen QTH LOc'!$I$1)*10-100+V183","v":{"$error":"#VALUE!"}},{"$f":"TRUNC(ROUND((SEARCH(X183,'Eigen QTH LOc'!$I$1)-0.5)*2.5,2))","v":1},{"$f":"IF(Z183>0,(MOD(ROUND((SEARCH(X183,'Eigen QTH LOc'!$I$1)-0.5)*2.5,2),TRUNC(Z183)))*60,0)","v":15},{"$f":"SEARCH(S183,'Eigen QTH LOc'!$I$1)*20-200+U183*2","v":{"$error":"#VALUE!"}},{"$f":"TRUNC((SEARCH(W183,'Eigen QTH LOc'!$I$1)-0.5)*5)","v":2},{"$f":"IF(AC183>0,(MOD((SEARCH(W183,'Eigen QTH LOc'!$I$1)-0.5)*5,TRUNC(AC183)))*60,0)","v":30},{"$error":"#VALUE!"},{"$error":"#VALUE!"},{"$f":"COS('Eigen QTH LOc'!$G$4-AF183)*SIN(PI()/2-AE183)*SIN(PI()/2-'Eigen QTH LOc'!$G$3)+COS(PI()/2-AE183)*COS(PI()/2-'Eigen QTH LOc'!$G$3)","v":{"$error":"#VALUE!"}},{"$error":"#VALUE!"},"ABCDEFGHIJKLMNOPQRSTUVWXABCDEFGHIJKLMNOPQRSTUVWX","\"0123456789\"",{"$f":"IF(B183>0,IF(K183=Infoblad!$C$6,0.5,0.5+AH183*40076.59/2/PI()),\" \")","v":" "},""]
[null,null," ",{"$f":"IF(B184>0,VASTETIJD(C184)-Infoblad!$C$29,\" \")","v":" "}," ",172," ",null,null,null,null,null,{"$f":"IF(L184>0,VLOOKUP(L184,Punten!$B$3:$C$109,2,FALSE),\" \")","v":" "},null," ",null,null,null,"","","","","","",{"$f":"SEARCH(T184,'Eigen QTH LOc'!$I$1)*10-100+V184","v":{"$error":"#VALUE!"}},{"$f":"TRUNC(ROUND((SEARCH(X184,'Eigen QTH LOc'!$I$1)-0.5)*2.5,2))","v":1},{"$f":"IF(Z184>0,(MOD(ROUND((SEARCH(X184,'Eigen QTH LOc'!$I$1)-0.5)*2.5,2),TRUNC(Z184)))*60,0)","v":15},{"$f":"SEARCH(S184,'Eigen QTH LOc'!$I$1)*20-200+U184*2","v":{"$error":"#VALUE!"}},{"$f":"TRUNC((SEARCH(W184,'Eigen QTH LOc'!$I$1)-0.5)*5)","v":2},{"$f":"IF(AC184>0,(MOD((SEARCH(W184,'Eigen QTH LOc'!$I$1)-0.5)*5,TRUNC(AC184)))*60,0)","v":30},{"$error":"#VALUE!"},{"$error":"#VALUE!"},{"$f":"COS('Eigen QTH LOc'!$G$4-AF184)*SIN(PI()/2-AE184)*SIN(PI()/2-'Eigen QTH LOc'!$G$3)+COS(PI()/2-AE184)*COS(PI()/2-'Eigen QTH LOc'!$G$3)","v":{"$error":"#VALUE!"}},{"$error":"#VALUE!"},"ABCDEFGHIJKLMNOPQRSTUVWXABCDEFGHIJKLMNOPQRSTUVWX","\"0123456789\"",{"$f":"IF(B184>0,IF(K184=Infoblad!$C$6,0.5,0.5+AH184*40076.59/2/PI()),\" \")","v":" "},""]
[null,null," ",{"$f":"IF(B185>0,VASTETIJD(C185)-Infoblad!$C$29,\" \")","v":" "}," ",173," ",null,null,null,null,null,{"$f":"IF(L185>0,VLOOKUP(L185,Punten!$B$3:$C$109,2,FALSE),\" \")","v":" "},null," ",null,null,null,"","","","","","",{"$f":"SEARCH(T185,'Eigen QTH LOc'!$I$1)*10-100+V185","v":{"$error":"#VALUE!"}},{"$f":"TRUNC(ROUND((SEARCH(X185,'Eigen QTH LOc'!$I$1)-0.5)*2.5,2))","v":1},{"$f":"IF(Z185>0,(MOD(ROUND((SEARCH(X185,'Eigen QTH LOc'!$I$1)-0.5)*2.5,2),TRUNC(Z185)))*60,0)","v":15},{"$f":"SEARCH(S185,'Eigen QTH LOc'!$I$1)*20-200+U185*2","v":{"$error":"#VALUE!"}},{"$f":"TRUNC((SEARCH(W185,'Eigen QTH LOc'!$I$1)-0.5)*5)","v":2},{"$f":"IF(AC185>0,(MOD((SEARCH(W185,'Eigen QTH LOc'!$I$1)-0.5)*5,TRUNC(AC185)))*60,0)","v":30},{"$error":"#VALUE!"},{"$error":"#VALUE!"},{"$f":"COS('Eigen QTH LOc'!$G$4-AF185)*SIN(PI()/2-AE185)*SIN(PI()/2-'Eigen QTH LOc'!$G$3)+COS(PI()/2-AE185)*COS(PI()/2-'Eigen QTH LOc'!$G$3)","v":{"$error":"#VALUE!"}},{"$error":"#VALUE!"},"ABCDEFGHIJKLMNOPQRSTUVWXABCDEFGHIJKLMNOPQRSTUVWX","\"0123456789\"",{"$f":"IF(B185>0,IF(K185=Infoblad!$C$6,0.5,0.5+AH185*40076.59/2/PI()),\" \")","v":" "},""]
[null,null," ",{"$f":"IF(B186>0,VASTETIJD(C186)-Infoblad!$C$29,\" \")","v":" "}," ",174," ",null,null,null,null,null,{"$f":"IF(L186>0,VLOOKUP(L186,Punten!$B$3:$C$109,2,FALSE),\" \")","v":" "},null," ",null,null,null,"","","","","","",{"$f":"SEARCH(T186,'Eigen QTH LOc'!$I$1)*10-100+V186","v":{"$error":"#VALUE!"}},{"$f":"TRUNC(ROUND((SEARCH(X186,'Eigen QTH LOc'!$I$1)-0.5)*2.5,2))","v":1},{"$f":"IF(Z186>0,(MOD(ROUND((SEARCH(X186,'Eigen QTH LOc'!$I$1)-0.5)*2.5,2),TRUNC(Z186)))*60,0)","v":15},{"$f":"SEARCH(S186,'Eigen QTH LOc'!$I$1)*20-200+U186*2","v":{"$error":"#VALUE!"}},{"$f":"TRUNC((SEARCH(W186,'Eigen QTH LOc'!$I$1)-0.5)*5)","v":2},{"$f":"IF(AC186>0,(MOD((SEARCH(W186,'Eigen QTH LOc'!$I$1)-0.5)*5,TRUNC(AC186)))*60,0)","v":30},{"$error":"#VALUE!"},{"$error":"#VALUE!"},{"$f":"COS('Eigen QTH LOc'!$G$4-AF186)*SIN(PI()/2-AE186)*SIN(PI()/2-'Eigen QTH LOc'!$G$3)+COS(PI()/2-AE186)*COS(PI()/2-'Eigen QTH LOc'!$G$3)","v":{"$error":"#VALUE!"}},{"$error":"#VALUE!"},"ABCDEFGHIJKLMNOPQRSTUVWXABCDEFGHIJKLMNOPQRSTUVWX","\"0123456789\"",{"$f":"IF(B186>0,IF(K186=Infoblad!$C$6,0.5,0.5+AH186*40076.59/2/PI()),\" \")","v":" "},""]
[null,null," ",{"$f":"IF(B187>0,VASTETIJD(C187)-Infoblad!$C$29,\" \")","v":" "}," ",175," ",null,null,null,null,null,{"$f":"IF(L187>0,VLOOKUP(L187,Punten!$B$3:$C$109,2,FALSE),\" \")","v":" "},null," ",null,null,null,"","","","","","",{"$f":"SEARCH(T187,'Eigen QTH LOc'!$I$1)*10-100+V187","v":{"$error":"#VALUE!"}},{"$f":"TRUNC(ROUND((SEARCH(X187,'Eigen QTH LOc'!$I$1)-0.5)*2.5,2))","v":1},{"$f":"IF(Z187>0,(MOD(ROUND((SEARCH(X187,'Eigen QTH LOc'!$I$1)-0.5)*2.5,2),TRUNC(Z187)))*60,0)","v":15},{"$f":"SEARCH(S187,'Eigen QTH LOc'!$I$1)*20-200+U187*2","v":{"$error":"#VALUE!"}},{"$f":"TRUNC((SEARCH(W187,'Eigen QTH LOc'!$I$1)-0.5)*5)","v":2},{"$f":"IF(AC187>0,(MOD((SEARCH(W187,'Eigen QTH LOc'!$I$1)-0.5)*5,TRUNC(AC187)))*60,0)","v":30},{"$error":"#VALUE!"},{"$error":"#VALUE!"},{"$f":"COS('Eigen QTH LOc'!$G$4-AF187)*SIN(PI()/2-AE187)*SIN(PI()/2-'Eigen QTH LOc'!$G$3)+COS(PI()/2-AE187)*COS(PI()/2-'Eigen QTH LOc'!$G$3)","v":{"$error":"#VALUE!"}},{"$error":"#VALUE!"},"ABCDEFGHIJKLMNOPQRSTUVWXABCDEFGHIJKLMNOPQRSTUVWX","\"0123456789\"",{"$f":"IF(B187>0,IF(K187=Infoblad!$C$6,0.5,0.5+AH187*40076.59/2/PI()),\" \")","v":" "},""]
[null,null," ",{"$f":"IF(B188>0,VASTETIJD(C188)-Infoblad!$C$29,\" \")","v":" "}," ",176," ",null,null,null,null,null,{"$f":"IF(L188>0,VLOOKUP(L188,Punten!$B$3:$C$109,2,FALSE),\" \")","v":" "},null," ",null,null,null,"","","","","","",{"$f":"SEARCH(T188,'Eigen QTH LOc'!$I$1)*10-100+V188","v":{"$error":"#VALUE!"}},{"$f":"TRUNC(ROUND((SEARCH(X188,'Eigen QTH LOc'!$I$1)-0.5)*2.5,2))","v":1},{"$f":"IF(Z188>0,(MOD(ROUND((SEARCH(X188,'Eigen QTH LOc'!$I$1)-0.5)*2.5,2),TRUNC(Z188)))*60,0)","v":15},{"$f":"SEARCH(S188,'Eigen QTH LOc'!$I$1)*20-200+U188*2","v":{"$error":"#VALUE!"}},{"$f":"TRUNC((SEARCH(W188,'Eigen QTH LOc'!$I$1)-0.5)*5)","v":2},{"$f":"IF(AC188>0,(MOD((SEARCH(W188,'Eigen QTH LOc'!$I$1)-0.5)*5,TRUNC(AC188)))*60,0)","v":30},{"$error":"#VALUE!"},{"$error":"#VALUE!"},{"$f":"COS('Eigen QTH LOc'!$G$4-AF188)*SIN(PI()/2-AE188)*SIN(PI()/2-'Eigen QTH LOc'!$G$3)+COS(PI()/2-AE188)*COS(PI()/2-'Eigen QTH LOc'!$G$3)","v":{"$error":"#VALUE!"}},{"$error":"#VALUE!"},"ABCDEFGHIJKLMNOPQRSTUVWXABCDEFGHIJKLMNOPQRSTUVWX","\"0123456789\"",{"$f":"IF(B188>0,IF(K188=Infoblad!$C$6,0.5,0.5+AH188*40076.59/2/PI()),\" \")","v":" "},""]
[null,null," ",{"$f":"IF(B189>0,VASTETIJD(C189)-Infoblad!$C$29,\" \")","v":" "}," ",177," ",null,null,null,null,null,{"$f":"IF(L189>0,VLOOKUP(L189,Punten!$B$3:$C$109,2,FALSE),\" \")","v":" "},null," ",null,null,null,"","","","","","",{"$f":"SEARCH(T189,'Eigen QTH LOc'!$I$1)*10-100+V189","v":{"$error":"#VALUE!"}},{"$f":"TRUNC(ROUND((SEARCH(X189,'Eigen QTH LOc'!$I$1)-0.5)*2.5,2))","v":1},{"$f":"IF(Z189>0,(MOD(ROUND((SEARCH(X189,'Eigen QTH LOc'!$I$1)-0.5)*2.5,2),TRUNC(Z189)))*60,0)","v":15},{"$f":"SEARCH(S189,'Eigen QTH LOc'!$I$1)*20-200+U189*2","v":{"$error":"#VALUE!"}},{"$f":"TRUNC((SEARCH(W189,'Eigen QTH LOc'!$I$1)-0.5)*5)","v":2},{"$f":"IF(AC189>0,(MOD((SEARCH(W189,'Eigen QTH LOc'!$I$1)-0.5)*5,TRUNC(AC189)))*60,0)","v":30},{"$error":"#VALUE!"},{"$error":"#VALUE!"},{"$f":"COS('Eigen QTH LOc'!$G$4-AF189)*SIN(PI()/2-AE189)*SIN(PI()/2-'Eigen QTH LOc'!$G$3)+COS(PI()/2-AE189)*COS(PI()/2-'Eigen QTH LOc'!$G$3)","v":{"$error":"#VALUE!"}},{"$error":"#VALUE!"},"ABCDEFGHIJKLMNOPQRSTUVWXABCDEFGHIJKLMNOPQRSTUVWX","\"0123456789\"",{"$f":"IF(B189>0,IF(K189=Infoblad!$C$6,0.5,0.5+AH189*40076.59/2/PI()),\" \")","v":" "},""]
[null,null," ",{"$f":"IF(B190>0,VASTETIJD(C190)-Infoblad!$C$29,\" \")","v":" "}," ",178," ",null,null,null,null,null,{"$f":"IF(L190>0,VLOOKUP(L190,Punten!$B$3:$C$109,2,FALSE),\" \")","v":" "},null," ",null,null,null,"","","","","","",{"$f":"SEARCH(T190,'Eigen QTH LOc'!$I$1)*10-100+V190","v":{"$error":"#VALUE!"}},{"$f":"TRUNC(ROUND((SEARCH(X190,'Eigen QTH LOc'!$I$1)-0.5)*2.5,2))","v":1},{"$f":"IF(Z190>0,(MOD(ROUND((SEARCH(X190,'Eigen QTH LOc'!$I$1)-0.5)*2.5,2),TRUNC(Z190)))*60,0)","v":15},{"$f":"SEARCH(S190,'Eigen QTH LOc'!$I$1)*20-200+U190*2","v":{"$error":"#VALUE!"}},{"$f":"TRUNC((SEARCH(W190,'Eigen QTH LOc'!$I$1)-0.5)*5)","v":2},{"$f":"IF(AC190>0,(MOD((SEARCH(W190,'Eigen QTH LOc'!$I$1)-0.5)*5,TRUNC(AC190)))*60,0)","v":30},{"$error":"#VALUE!"},{"$error":"#VALUE!"},{"$f":"COS('Eigen QTH LOc'!$G$4-AF190)*SIN(PI()/2-AE190)*SIN(PI()/2-'Eigen QTH LOc'!$G$3)+COS(PI()/2-AE190)*COS(PI()/2-'Eigen QTH LOc'!$G$3)","v":{"$error":"#VALUE!"}},{"$error":"#VALUE!"},"ABCDEFGHIJKLMNOPQRSTUVWXABCDEFGHIJKLMNOPQRSTUVWX","\"0123456789\"",{"$f":"IF(B190>0,IF(K190=Infoblad!$C$6,0.5,0.5+AH190*40076.59/2/PI()),\" \")","v":" "},""]
[null,null," ",{"$f":"IF(B191>0,VASTETIJD(C191)-Infoblad!$C$29,\" \")","v":" "}," ",179," ",null,null,null,null,null,{"$f":"IF(L191>0,VLOOKUP(L191,Punten!$B$3:$C$109,2,FALSE),\" \")","v":" "},null," ",null,null,null,"","","","","","",{"$f":"SEARCH(T191,'Eigen QTH LOc'!$I$1)*10-100+V191","v":{"$error":"#VALUE!"}},{"$f":"TRUNC(ROUND((SEARCH(X191,'Eigen QTH LOc'!$I$1)-0.5)*2.5,2))","v":1},{"$f":"IF(Z191>0,(MOD(ROUND((SEARCH(X191,'Eigen QTH LOc'!$I$1)-0.5)*2.5,2),TRUNC(Z191)))*60,0)","v":15},{"$f":"SEARCH(S191,'Eigen QTH LOc'!$I$1)*20-200+U191*2","v":{"$error":"#VALUE!"}},{"$f":"TRUNC((SEARCH(W191,'Eigen QTH LOc'!$I$1)-0.5)*5)","v":2},{"$f":"IF(AC191>0,(MOD((SEARCH(W191,'Eigen QTH LOc'!$I$1)-0.5)*5,TRUNC(AC191)))*60,0)","v":30},{"$error":"#VALUE!"},{"$error":"#VALUE!"},{"$f":"COS('Eigen QTH LOc'!$G$4-AF191)*SIN(PI()/2-AE191)*SIN(PI()/2-'Eigen QTH LOc'!$G$3)+COS(PI()/2-AE191)*COS(PI()/2-'Eigen QTH LOc'!$G$3)","v":{"$error":"#VALUE!"}},{"$error":"#VALUE!"},"ABCDEFGHIJKLMNOPQRSTUVWXABCDEFGHIJKLMNOPQRSTUVWX","\"0123456789\"",{"$f":"IF(B191>0,IF(K191=Infoblad!$C$6,0.5,0.5+AH191*40076.59/2/PI()),\" \")","v":" "},""]
[null,null," ",{"$f":"IF(B192>0,VASTETIJD(C192)-Infoblad!$C$29,\" \")","v":" "}," ",180," ",null,null,null,null,null,{"$f":"IF(L192>0,VLOOKUP(L192,Punten!$B$3:$C$109,2,FALSE),\" \")","v":" "},null," ",null,null,null,"","","","","","",{"$f":"SEARCH(T192,'Eigen QTH LOc'!$I$1)*10-100+V192","v":{"$error":"#VALUE!"}},{"$f":"TRUNC(ROUND((SEARCH(X192,'Eigen QTH LOc'!$I$1)-0.5)*2.5,2))","v":1},{"$f":"IF(Z192>0,(MOD(ROUND((SEARCH(X192,'Eigen QTH LOc'!$I$1)-0.5)*2.5,2),TRUNC(Z192)))*60,0)","v":15},{"$f":"SEARCH(S192,'Eigen QTH LOc'!$I$1)*20-200+U192*2","v":{"$error":"#VALUE!"}},{"$f":"TRUNC((SEARCH(W192,'Eigen QTH LOc'!$I$1)-0.5)*5)","v":2},{"$f":"IF(AC192>0,(MOD((SEARCH(W192,'Eigen QTH LOc'!$I$1)-0.5)*5,TRUNC(AC192)))*60,0)","v":30},{"$error":"#VALUE!"},{"$error":"#VALUE!"},{"$f":"COS('Eigen QTH LOc'!$G$4-AF192)*SIN(PI()/2-AE192)*SIN(PI()/2-'Eigen QTH LOc'!$G$3)+COS(PI()/2-AE192)*COS(PI()/2-'Eigen QTH LOc'!$G$3)","v":{"$error":"#VALUE!"}},{"$error":"#VALUE!"},"ABCDEFGHIJKLMNOPQRSTUVWXABCDEFGHIJKLMNOPQRSTUVWX","\"0123456789\"",{"$f":"IF(B192>0,IF(K192=Infoblad!$C$6,0.5,0.5+AH192*40076.59/2/PI()),\" \")","v":" "},""]
[null,null," ",{"$f":"IF(B193>0,VASTETIJD(C193)-Infoblad!$C$29,\" \")","v":" "}," ",181," ",null,null,null,null,null,{"$f":"IF(L193>0,VLOOKUP(L193,Punten!$B$3:$C$109,2,FALSE),\" \")","v":" "},null," ",null,null,null,"","","","","","",{"$f":"SEARCH(T193,'Eigen QTH LOc'!$I$1)*10-100+V193","v":{"$error":"#VALUE!"}},{"$f":"TRUNC(ROUND((SEARCH(X193,'Eigen QTH LOc'!$I$1)-0.5)*2.5,2))","v":1},{"$f":"IF(Z193>0,(MOD(ROUND((SEARCH(X193,'Eigen QTH LOc'!$I$1)-0.5)*2.5,2),TRUNC(Z193)))*60,0)","v":15},{"$f":"SEARCH(S193,'Eigen QTH LOc'!$I$1)*20-200+U193*2","v":{"$error":"#VALUE!"}},{"$f":"TRUNC((SEARCH(W193,'Eigen QTH LOc'!$I$1)-0.5)*5)","v":2},{"$f":"IF(AC193>0,(MOD((SEARCH(W193,'Eigen QTH LOc'!$I$1)-0.5)*5,TRUNC(AC193)))*60,0)","v":30},{"$error":"#VALUE!"},{"$error":"#VALUE!"},{"$f":"COS('Eigen QTH LOc'!$G$4-AF193)*SIN(PI()/2-AE193)*SIN(PI()/2-'Eigen QTH LOc'!$G$3)+COS(PI()/2-AE193)*COS(PI()/2-'Eigen QTH LOc'!$G$3)","v":{"$error":"#VALUE!"}},{"$error":"#VALUE!"},"ABCDEFGHIJKLMNOPQRSTUVWXABCDEFGHIJKLMNOPQRSTUVWX","\"0123456789\"",{"$f":"IF(B193>0,IF(K193=Infoblad!$C$6,0.5,0.5+AH193*40076.59/2/PI()),\" \")","v":" "},""]
[null,null," ",{"$f":"IF(B194>0,VASTETIJD(C194)-Infoblad!$C$29,\" \")","v":" "}," ",182," ",null,null,null,null,null,{"$f":"IF(L194>0,VLOOKUP(L194,Punten!$B$3:$C$109,2,FALSE),\" \")","v":" "},null," ",null,null,null,"","","","","","",{"$f":"SEARCH(T194,'Eigen QTH LOc'!$I$1)*10-100+V194","v":{"$error":"#VALUE!"}},{"$f":"TRUNC(ROUND((SEARCH(X194,'Eigen QTH LOc'!$I$1)-0.5)*2.5,2))","v":1},{"$f":"IF(Z194>0,(MOD(ROUND((SEARCH(X194,'Eigen QTH LOc'!$I$1)-0.5)*2.5,2),TRUNC(Z194)))*60,0)","v":15},{"$f":"SEARCH(S194,'Eigen QTH LOc'!$I$1)*20-200+U194*2","v":{"$error":"#VALUE!"}},{"$f":"TRUNC((SEARCH(W194,'Eigen QTH LOc'!$I$1)-0.5)*5)","v":2},{"$f":"IF(AC194>0,(MOD((SEARCH(W194,'Eigen QTH LOc'!$I$1)-0.5)*5,TRUNC(AC194)))*60,0)","v":30},{"$error":"#VALUE!"},{"$error":"#VALUE!"},{"$f":"COS('Eigen QTH LOc'!$G$4-AF194)*SIN(PI()/2-AE194)*SIN(PI()/2-'Eigen QTH LOc'!$G$3)+COS(PI()/2-AE194)*COS(PI()/2-'Eigen QTH LOc'!$G$3)","v":{"$error":"#VALUE!"}},{"$error":"#VALUE!"},"ABCDEFGHIJKLMNOPQRSTUVWXABCDEFGHIJKLMNOPQRSTUVWX","\"0123456789\"",{"$f":"IF(B194>0,IF(K194=Infoblad!$C$6,0.5,0.5+AH194*40076.59/2/PI()),\" \")","v":" "},""]
[null,null," ",{"$f":"IF(B195>0,VASTETIJD(C195)-Infoblad!$C$29,\" \")","v":" "}," ",183," ",null,null,null,null,null,{"$f":"IF(L195>0,VLOOKUP(L195,Punten!$B$3:$C$109,2,FALSE),\" \")","v":" "},null," ",null,null,null,"","","","","","",{"$f":"SEARCH(T195,'Eigen QTH LOc'!$I$1)*10-100+V195","v":{"$error":"#VALUE!"}},{"$f":"TRUNC(ROUND((SEARCH(X195,'Eigen QTH LOc'!$I$1)-0.5)*2.5,2))","v":1},{"$f":"IF(Z195>0,(MOD(ROUND((SEARCH(X195,'Eigen QTH LOc'!$I$1)-0.5)*2.5,2),TRUNC(Z195)))*60,0)","v":15},{"$f":"SEARCH(S195,'Eigen QTH LOc'!$I$1)*20-200+U195*2","v":{"$error":"#VALUE!"}},{"$f":"TRUNC((SEARCH(W195,'Eigen QTH LOc'!$I$1)-0.5)*5)","v":2},{"$f":"IF(AC195>0,(MOD((SEARCH(W195,'Eigen QTH LOc'!$I$1)-0.5)*5,TRUNC(AC195)))*60,0)","v":30},{"$error":"#VALUE!"},{"$error":"#VALUE!"},{"$f":"COS('Eigen QTH LOc'!$G$4-AF195)*SIN(PI()/2-AE195)*SIN(PI()/2-'Eigen QTH LOc'!$G$3)+COS(PI()/2-AE195)*COS(PI()/2-'Eigen QTH LOc'!$G$3)","v":{"$error":"#VALUE!"}},{"$error":"#VALUE!"},"ABCDEFGHIJKLMNOPQRSTUVWXABCDEFGHIJKLMNOPQRSTUVWX","\"0123456789\"",{"$f":"IF(B195>0,IF(K195=Infoblad!$C$6,0.5,0.5+AH195*40076.59/2/PI()),\" \")","v":" "},""]
[null,null," ",{"$f":"IF(B196>0,VASTETIJD(C196)-Infoblad!$C$29,\" \")","v":" "}," ",184," ",null,null,null,null,null,{"$f":"IF(L196>0,VLOOKUP(L196,Punten!$B$3:$C$109,2,FALSE),\" \")","v":" "},null," ",null,null,null,"","","","","","",{"$f":"SEARCH(T196,'Eigen QTH LOc'!$I$1)*10-100+V196","v":{"$error":"#VALUE!"}},{"$f":"TRUNC(ROUND((SEARCH(X196,'Eigen QTH LOc'!$I$1)-0.5)*2.5,2))","v":1},{"$f":"IF(Z196>0,(MOD(ROUND((SEARCH(X196,'Eigen QTH LOc'!$I$1)-0.5)*2.5,2),TRUNC(Z196)))*60,0)","v":15},{"$f":"SEARCH(S196,'Eigen QTH LOc'!$I$1)*20-200+U196*2","v":{"$error":"#VALUE!"}},{"$f":"TRUNC((SEARCH(W196,'Eigen QTH LOc'!$I$1)-0.5)*5)","v":2},{"$f":"IF(AC196>0,(MOD((SEARCH(W196,'Eigen QTH LOc'!$I$1)-0.5)*5,TRUNC(AC196)))*60,0)","v":30},{"$error":"#VALUE!"},{"$error":"#VALUE!"},{"$f":"COS('Eigen QTH LOc'!$G$4-AF196)*SIN(PI()/2-AE196)*SIN(PI()/2-'Eigen QTH LOc'!$G$3)+COS(PI()/2-AE196)*COS(PI()/2-'Eigen QTH LOc'!$G$3)","v":{"$error":"#VALUE!"}},{"$error":"#VALUE!"},"ABCDEFGHIJKLMNOPQRSTUVWXABCDEFGHIJKLMNOPQRSTUVWX","\"0123456789\"",{"$f":"IF(B196>0,IF(K196=Infoblad!$C$6,0.5,0.5+AH196*40076.59/2/PI()),\" \")","v":" "},""]
[null,null," ",{"$f":"IF(B197>0,VASTETIJD(C197)-Infoblad!$C$29,\" \")","v":" "}," ",185," ",null,null,null,null,null,{"$f":"IF(L197>0,VLOOKUP(L197,Punten!$B$3:$C$109,2,FALSE),\" \")","v":" "},null," ",null,null,null,"","","","","","",{"$f":"SEARCH(T197,'Eigen QTH LOc'!$I$1)*10-100+V197","v":{"$error":"#VALUE!"}},{"$f":"TRUNC(ROUND((SEARCH(X197,'Eigen QTH LOc'!$I$1)-0.5)*2.5,2))","v":1},{"$f":"IF(Z197>0,(MOD(ROUND((SEARCH(X197,'Eigen QTH LOc'!$I$1)-0.5)*2.5,2),TRUNC(Z197)))*60,0)","v":15},{"$f":"SEARCH(S197,'Eigen QTH LOc'!$I$1)*20-200+U197*2","v":{"$error":"#VALUE!"}},{"$f":"TRUNC((SEARCH(W197,'Eigen QTH LOc'!$I$1)-0.5)*5)","v":2},{"$f":"IF(AC197>0,(MOD((SEARCH(W197,'Eigen QTH LOc'!$I$1)-0.5)*5,TRUNC(AC197)))*60,0)","v":30},{"$error":"#VALUE!"},{"$error":"#VALUE!"},{"$f":"COS('Eigen QTH LOc'!$G$4-AF197)*SIN(PI()/2-AE197)*SIN(PI()/2-'Eigen QTH LOc'!$G$3)+COS(PI()/2-AE197)*COS(PI()/2-'Eigen QTH LOc'!$G$3)","v":{"$error":"#VALUE!"}},{"$error":"#VALUE!"},"ABCDEFGHIJKLMNOPQRSTUVWXABCDEFGHIJKLMNOPQRSTUVWX","\"0123456789\"",{"$f":"IF(B197>0,IF(K197=Infoblad!$C$6,0.5,0.5+AH197*40076.59/2/PI()),\" \")","v":" "},""]
[null,null," ",{"$f":"IF(B198>0,VASTETIJD(C198)-Infoblad!$C$29,\" \")","v":" "}," ",186," ",null,null,null,null,null,{"$f":"IF(L198>0,VLOOKUP(L198,Punten!$B$3:$C$109,2,FALSE),\" \")","v":" "},null," ",null,null,null,"","","","","","",{"$f":"SEARCH(T198,'Eigen QTH LOc'!$I$1)*10-100+V198","v":{"$error":"#VALUE!"}},{"$f":"TRUNC(ROUND((SEARCH(X198,'Eigen QTH LOc'!$I$1)-0.5)*2.5,2))","v":1},{"$f":"IF(Z198>0,(MOD(ROUND((SEARCH(X198,'Eigen QTH LOc'!$I$1)-0.5)*2.5,2),TRUNC(Z198)))*60,0)","v":15},{"$f":"SEARCH(S198,'Eigen QTH LOc'!$I$1)*20-200+U198*2","v":{"$error":"#VALUE!"}},{"$f":"TRUNC((SEARCH(W198,'Eigen QTH LOc'!$I$1)-0.5)*5)","v":2},{"$f":"IF(AC198>0,(MOD((SEARCH(W198,'Eigen QTH LOc'!$I$1)-0.5)*5,TRUNC(AC198)))*60,0)","v":30},{"$error":"#VALUE!"},{"$error":"#VALUE!"},{"$f":"COS('Eigen QTH LOc'!$G$4-AF198)*SIN(PI()/2-AE198)*SIN(PI()/2-'Eigen QTH LOc'!$G$3)+COS(PI()/2-AE198)*COS(PI()/2-'Eigen QTH LOc'!$G$3)","v":{"$error":"#VALUE!"}},{"$error":"#VALUE!"},"ABCDEFGHIJKLMNOPQRSTUVWXABCDEFGHIJKLMNOPQRSTUVWX","\"0123456789\"",{"$f":"IF(B198>0,IF(K198=Infoblad!$C$6,0.5,0.5+AH198*40076.59/2/PI()),\" \")","v":" "},""]
[null,null," ",{"$f":"IF(B199>0,VASTETIJD(C199)-Infoblad!$C$29,\" \")","v":" "}," ",187," ",null,null,null,null,null,{"$f":"IF(L199>0,VLOOKUP(L199,Punten!$B$3:$C$109,2,FALSE),\" \")","v":" "},null," ",null,null,null,"","","","","","",{"$f":"SEARCH(T199,'Eigen QTH LOc'!$I$1)*10-100+V199","v":{"$error":"#VALUE!"}},{"$f":"TRUNC(ROUND((SEARCH(X199,'Eigen QTH LOc'!$I$1)-0.5)*2.5,2))","v":1},{"$f":"IF(Z199>0,(MOD(ROUND((SEARCH(X199,'Eigen QTH LOc'!$I$1)-0.5)*2.5,2),TRUNC(Z199)))*60,0)","v":15},{"$f":"SEARCH(S199,'Eigen QTH LOc'!$I$1)*20-200+U199*2","v":{"$error":"#VALUE!"}},{"$f":"TRUNC((SEARCH(W199,'Eigen QTH LOc'!$I$1)-0.5)*5)","v":2},{"$f":"IF(AC199>0,(MOD((SEARCH(W199,'Eigen QTH LOc'!$I$1)-0.5)*5,TRUNC(AC199)))*60,0)","v":30},{"$error":"#VALUE!"},{"$error":"#VALUE!"},{"$f":"COS('Eigen QTH LOc'!$G$4-AF199)*SIN(PI()/2-AE199)*SIN(PI()/2-'Eigen QTH LOc'!$G$3)+COS(PI()/2-AE199)*COS(PI()/2-'Eigen QTH LOc'!$G$3)","v":{"$error":"#VALUE!"}},{"$error":"#VALUE!"},"ABCDEFGHIJKLMNOPQRSTUVWXABCDEFGHIJKLMNOPQRSTUVWX","\"0123456789\"",{"$f":"IF(B199>0,IF(K199=Infoblad!$C$6,0.5,0.5+AH199*40076.59/2/PI()),\" \")","v":" "},""]
[null,null," ",{"$f":"IF(B200>0,VASTETIJD(C200)-Infoblad!$C$29,\" \")","v":" "}," ",188," ",null,null,null,null,null,{"$f":"IF(L200>0,VLOOKUP(L200,Punten!$B$3:$C$109,2,FALSE),\" \")","v":" "},null," ",null,null,null,"","","","","","",{"$f":"SEARCH(T200,'Eigen QTH LOc'!$I$1)*10-100+V200","v":{"$error":"#VALUE!"}},{"$f":"TRUNC(ROUND((SEARCH(X200,'Eigen QTH LOc'!$I$1)-0.5)*2.5,2))","v":1},{"$f":"IF(Z200>0,(MOD(ROUND((SEARCH(X200,'Eigen QTH LOc'!$I$1)-0.5)*2.5,2),TRUNC(Z200)))*60,0)","v":15},{"$f":"SEARCH(S200,'Eigen QTH LOc'!$I$1)*20-200+U200*2","v":{"$error":"#VALUE!"}},{"$f":"TRUNC((SEARCH(W200,'Eigen QTH LOc'!$I$1)-0.5)*5)","v":2},{"$f":"IF(AC200>0,(MOD((SEARCH(W200,'Eigen QTH LOc'!$I$1)-0.5)*5,TRUNC(AC200)))*60,0)","v":30},{"$error":"#VALUE!"},{"$error":"#VALUE!"},{"$f":"COS('Eigen QTH LOc'!$G$4-AF200)*SIN(PI()/2-AE200)*SIN(PI()/2-'Eigen QTH LOc'!$G$3)+COS(PI()/2-AE200)*COS(PI()/2-'Eigen QTH LOc'!$G$3)","v":{"$error":"#VALUE!"}},{"$error":"#VALUE!"},"ABCDEFGHIJKLMNOPQRSTUVWXABCDEFGHIJKLMNOPQRSTUVWX","\"0123456789\"",{"$f":"IF(B200>0,IF(K200=Infoblad!$C$6,0.5,0.5+AH200*40076.59/2/PI()),\" \")","v":" "},""]
[null,null," ",{"$f":"IF(B201>0,VASTETIJD(C201)-Infoblad!$C$29,\" \")","v":" "}," ",189," ",null,null,null,null,null,{"$f":"IF(L201>0,VLOOKUP(L201,Punten!$B$3:$C$109,2,FALSE),\" \")","v":" "},null," ",null,null,null,"","","","","","",{"$f":"SEARCH(T201,'Eigen QTH LOc'!$I$1)*10-100+V201","v":{"$error":"#VALUE!"}},{"$f":"TRUNC(ROUND((SEARCH(X201,'Eigen QTH LOc'!$I$1)-0.5)*2.5,2))","v":1},{"$f":"IF(Z201>0,(MOD(ROUND((SEARCH(X201,'Eigen QTH LOc'!$I$1)-0.5)*2.5,2),TRUNC(Z201)))*60,0)","v":15},{"$f":"SEARCH(S201,'Eigen QTH LOc'!$I$1)*20-200+U201*2","v":{"$error":"#VALUE!"}},{"$f":"TRUNC((SEARCH(W201,'Eigen QTH LOc'!$I$1)-0.5)*5)","v":2},{"$f":"IF(AC201>0,(MOD((SEARCH(W201,'Eigen QTH LOc'!$I$1)-0.5)*5,TRUNC(AC201)))*60,0)","v":30},{"$error":"#VALUE!"},{"$error":"#VALUE!"},{"$f":"COS('Eigen QTH LOc'!$G$4-AF201)*SIN(PI()/2-AE201)*SIN(PI()/2-'Eigen QTH LOc'!$G$3)+COS(PI()/2-AE201)*COS(PI()/2-'Eigen QTH LOc'!$G$3)","v":{"$error":"#VALUE!"}},{"$error":"#VALUE!"},"ABCDEFGHIJKLMNOPQRSTUVWXABCDEFGHIJKLMNOPQRSTUVWX","\"0123456789\"",{"$f":"IF(B201>0,IF(K201=Infoblad!$C$6,0.5,0.5+AH201*40076.59/2/PI()),\" \")","v":" "},""]
[null,null," ",{"$f":"IF(B202>0,VASTETIJD(C202)-Infoblad!$C$29,\" \")","v":" "}," ",190," ",null,null,null,null,null,{"$f":"IF(L202>0,VLOOKUP(L202,Punten!$B$3:$C$109,2,FALSE),\" \")","v":" "},null," ",null,null,null,"","","","","","",{"$f":"SEARCH(T202,'Eigen QTH LOc'!$I$1)*10-100+V202","v":{"$error":"#VALUE!"}},{"$f":"TRUNC(ROUND((SEARCH(X202,'Eigen QTH LOc'!$I$1)-0.5)*2.5,2))","v":1},{"$f":"IF(Z202>0,(MOD(ROUND((SEARCH(X202,'Eigen QTH LOc'!$I$1)-0.5)*2.5,2),TRUNC(Z202)))*60,0)","v":15},{"$f":"SEARCH(S202,'Eigen QTH LOc'!$I$1)*20-200+U202*2","v":{"$error":"#VALUE!"}},{"$f":"TRUNC((SEARCH(W202,'Eigen QTH LOc'!$I$1)-0.5)*5)","v":2},{"$f":"IF(AC202>0,(MOD((SEARCH(W202,'Eigen QTH LOc'!$I$1)-0.5)*5,TRUNC(AC202)))*60,0)","v":30},{"$error":"#VALUE!"},{"$error":"#VALUE!"},{"$f":"COS('Eigen QTH LOc'!$G$4-AF202)*SIN(PI()/2-AE202)*SIN(PI()/2-'Eigen QTH LOc'!$G$3)+COS(PI()/2-AE202)*COS(PI()/2-'Eigen QTH LOc'!$G$3)","v":{"$error":"#VALUE!"}},{"$error":"#VALUE!"},"ABCDEFGHIJKLMNOPQRSTUVWXABCDEFGHIJKLMNOPQRSTUVWX","\"0123456789\"",{"$f":"IF(B202>0,IF(K202=Infoblad!$C$6,0.5,0.5+AH202*40076.59/2/PI()),\" \")","v":" "},""]
[null,null," ",{"$f":"IF(B203>0,VASTETIJD(C203)-Infoblad!$C$29,\" \")","v":" "}," ",191," ",null,null,null,null,null,{"$f":"IF(L203>0,VLOOKUP(L203,Punten!$B$3:$C$109,2,FALSE),\" \")","v":" "},null," ",null,null,null,"","","","","","",{"$f":"SEARCH(T203,'Eigen QTH LOc'!$I$1)*10-100+V203","v":{"$error":"#VALUE!"}},{"$f":"TRUNC(ROUND((SEARCH(X203,'Eigen QTH LOc'!$I$1)-0.5)*2.5,2))","v":1},{"$f":"IF(Z203>0,(MOD(ROUND((SEARCH(X203,'Eigen QTH LOc'!$I$1)-0.5)*2.5,2),TRUNC(Z203)))*60,0)","v":15},{"$f":"SEARCH(S203,'Eigen QTH LOc'!$I$1)*20-200+U203*2","v":{"$error":"#VALUE!"}},{"$f":"TRUNC((SEARCH(W203,'Eigen QTH LOc'!$I$1)-0.5)*5)","v":2},{"$f":"IF(AC203>0,(MOD((SEARCH(W203,'Eigen QTH LOc'!$I$1)-0.5)*5,TRUNC(AC203)))*60,0)","v":30},{"$error":"#VALUE!"},{"$error":"#VALUE!"},{"$f":"COS('Eigen QTH LOc'!$G$4-AF203)*SIN(PI()/2-AE203)*SIN(PI()/2-'Eigen QTH LOc'!$G$3)+COS(PI()/2-AE203)*COS(PI()/2-'Eigen QTH LOc'!$G$3)","v":{"$error":"#VALUE!"}},{"$error":"#VALUE!"},"ABCDEFGHIJKLMNOPQRSTUVWXABCDEFGHIJKLMNOPQRSTUVWX","\"0123456789\"",{"$f":"IF(B203>0,IF(K203=Infoblad!$C$6,0.5,0.5+AH203*40076.59/2/PI()),\" \")","v":" "},""]
[null,null," ",{"$f":"IF(B204>0,VASTETIJD(C204)-Infoblad!$C$29,\" \")","v":" "}," ",192," ",null,null,null,null,null,{"$f":"IF(L204>0,VLOOKUP(L204,Punten!$B$3:$C$109,2,FALSE),\" \")","v":" "},null," ",null,null,null,"","","","","","",{"$f":"SEARCH(T204,'Eigen QTH LOc'!$I$1)*10-100+V204","v":{"$error":"#VALUE!"}},{"$f":"TRUNC(ROUND((SEARCH(X204,'Eigen QTH LOc'!$I$1)-0.5)*2.5,2))","v":1},{"$f":"IF(Z204>0,(MOD(ROUND((SEARCH(X204,'Eigen QTH LOc'!$I$1)-0.5)*2.5,2),TRUNC(Z204)))*60,0)","v":15},{"$f":"SEARCH(S204,'Eigen QTH LOc'!$I$1)*20-200+U204*2","v":{"$error":"#VALUE!"}},{"$f":"TRUNC((SEARCH(W204,'Eigen QTH LOc'!$I$1)-0.5)*5)","v":2},{"$f":"IF(AC204>0,(MOD((SEARCH(W204,'Eigen QTH LOc'!$I$1)-0.5)*5,TRUNC(AC204)))*60,0)","v":30},{"$error":"#VALUE!"},{"$error":"#VALUE!"},{"$f":"COS('Eigen QTH LOc'!$G$4-AF204)*SIN(PI()/2-AE204)*SIN(PI()/2-'Eigen QTH LOc'!$G$3)+COS(PI()/2-AE204)*COS(PI()/2-'Eigen QTH LOc'!$G$3)","v":{"$error":"#VALUE!"}},{"$error":"#VALUE!"},"ABCDEFGHIJKLMNOPQRSTUVWXABCDEFGHIJKLMNOPQRSTUVWX","\"0123456789\"",{"$f":"IF(B204>0,IF(K204=Infoblad!$C$6,0.5,0.5+AH204*40076.59/2/PI()),\" \")","v":" "},""]
[null,null," ",{"$f":"IF(B205>0,VASTETIJD(C205)-Infoblad!$C$29,\" \")","v":" "}," ",193," ",null,null,null,null,null,{"$f":"IF(L205>0,VLOOKUP(L205,Punten!$B$3:$C$109,2,FALSE),\" \")","v":" "},null," ",null,null,null,"","","","","","",{"$f":"SEARCH(T205,'Eigen QTH LOc'!$I$1)*10-100+V205","v":{"$error":"#VALUE!"}},{"$f":"TRUNC(ROUND((SEARCH(X205,'Eigen QTH LOc'!$I$1)-0.5)*2.5,2))","v":1},{"$f":"IF(Z205>0,(MOD(ROUND((SEARCH(X205,'Eigen QTH LOc'!$I$1)-0.5)*2.5,2),TRUNC(Z205)))*60,0)","v":15},{"$f":"SEARCH(S205,'Eigen QTH LOc'!$I$1)*20-200+U205*2","v":{"$error":"#VALUE!"}},{"$f":"TRUNC((SEARCH(W205,'Eigen QTH LOc'!$I$1)-0.5)*5)","v":2},{"$f":"IF(AC205>0,(MOD((SEARCH(W205,'Eigen QTH LOc'!$I$1)-0.5)*5,TRUNC(AC205)))*60,0)","v":30},{"$error":"#VALUE!"},{"$error":"#VALUE!"},{"$f":"COS('Eigen QTH LOc'!$G$4-AF205)*SIN(PI()/2-AE205)*SIN(PI()/2-'Eigen QTH LOc'!$G$3)+COS(PI()/2-AE205)*COS(PI()/2-'Eigen QTH LOc'!$G$3)","v":{"$error":"#VALUE!"}},{"$error":"#VALUE!"},"ABCDEFGHIJKLMNOPQRSTUVWXABCDEFGHIJKLMNOPQRSTUVWX","\"0123456789\"",{"$f":"IF(B205>0,IF(K205=Infoblad!$C$6,0.5,0.5+AH205*40076.59/2/PI()),\" \")","v":" "},""]
[null,null,{"$f":"IF(B206>0,$C$7,\" \")","v":" "},{"$f":"IF(B206>0,VASTETIJD(C206)-Infoblad!$C$29,\" \")","v":" "},{"$f":"IF(B206>0,\"59\",\" \")","v":" "},194,{"$f":"IF(B206>0,\"59\",\" \")","v":" "},null,null,null,null,null,{"$f":"IF(L206>0,VLOOKUP(L206,Punten!$B$3:$C$109,2,FALSE),\" \")","v":" "},null,{"$f":"IF(K206>0,AK206,\" \")","v":" "},null,null,null,"","","","","","",{"$f":"SEARCH(T206,'Eigen QTH LOc'!$I$1)*10-100+V206","v":{"$error":"#VALUE!"}},{"$f":"TRUNC(ROUND((SEARCH(X206,'Eigen QTH LOc'!$I$1)-0.5)*2.5,2))","v":1},{"$f":"IF(Z206>0,(MOD(ROUND((SEARCH(X206,'Eigen QTH LOc'!$I$1)-0.5)*2.5,2),TRUNC(Z206)))*60,0)","v":15},{"$f":"SEARCH(S206,'Eigen QTH LOc'!$I$1)*20-200+U206*2","v":{"$error":"#VALUE!"}},{"$f":"TRUNC((SEARCH(W206,'Eigen QTH LOc'!$I$1)-0.5)*5)","v":2},{"$f":"IF(AC206>0,(MOD((SEARCH(W206,'Eigen QTH LOc'!$I$1)-0.5)*5,TRUNC(AC206)))*60,0)","v":30},{"$error":"#VALUE!"},{"$error":"#VALUE!"},{"$f":"COS('Eigen QTH LOc'!$G$4-AF206)*SIN(PI()/2-AE206)*SIN(PI()/2-'Eigen QTH LOc'!$G$3)+COS(PI()/2-AE206)*COS(PI()/2-'Eigen QTH LOc'!$G$3)","v":{"$error":"#VALUE!"}},{"$f":"-ATAN($AG206/SQRT(1-$AG206*$AG206))+PI()/2","v":{"$error":"#VALUE!"}},"ABCDEFGHIJKLMNOPQRSTUVWXABCDEFGHIJKLMNOPQRSTUVWX","\"0123456789\"",{"$f":"IF(B206>0,IF(K206=Infoblad!$C$6,0.5,0.5+AH206*40076.59/2/PI()),\" \")","v":" "},{"$f":"CONCATENATE(B206,I206,J206)","v":""}]
[null,null," ",{"$f":"IF(B207>0,VASTETIJD(C207)-Infoblad!$C$29,\" \")","v":" "}," ",195," ",null,null,null,null,null,{"$f":"IF(L207>0,VLOOKUP(L207,Punten!$B$3:$C$109,2,FALSE),\" \")","v":" "},null," ",null,null,null,"","","","","","",{"$f":"SEARCH(T207,'Eigen QTH LOc'!$I$1)*10-100+V207","v":{"$error":"#VALUE!"}},{"$f":"TRUNC(ROUND((SEARCH(X207,'Eigen QTH LOc'!$I$1)-0.5)*2.5,2))","v":1},{"$f":"IF(Z207>0,(MOD(ROUND((SEARCH(X207,'Eigen QTH LOc'!$I$1)-0.5)*2.5,2),TRUNC(Z207)))*60,0)","v":15},{"$f":"SEARCH(S207,'Eigen QTH LOc'!$I$1)*20-200+U207*2","v":{"$error":"#VALUE!"}},{"$f":"TRUNC((SEARCH(W207,'Eigen QTH LOc'!$I$1)-0.5)*5)","v":2},{"$f":"IF(AC207>0,(MOD((SEARCH(W207,'Eigen QTH LOc'!$I$1)-0.5)*5,TRUNC(AC207)))*60,0)","v":30},{"$error":"#VALUE!"},{"$error":"#VALUE!"},{"$f":"COS('Eigen QTH LOc'!$G$4-AF207)*SIN(PI()/2-AE207)*SIN(PI()/2-'Eigen QTH LOc'!$G$3)+COS(PI()/2-AE207)*COS(PI()/2-'Eigen QTH LOc'!$G$3)","v":{"$error":"#VALUE!"}},{"$error":"#VALUE!"},"ABCDEFGHIJKLMNOPQRSTUVWXABCDEFGHIJKLMNOPQRSTUVWX","\"0123456789\"",{"$f":"IF(B207>0,IF(K207=Infoblad!$C$6,0.5,0.5+AH207*40076.59/2/PI()),\" \")","v":" "},""]
[null,null," ",{"$f":"IF(B208>0,VASTETIJD(C208)-Infoblad!$C$29,\" \")","v":" "}," ",196," ",null,null,null,null,null,{"$f":"IF(L208>0,VLOOKUP(L208,Punten!$B$3:$C$109,2,FALSE),\" \")","v":" "},null," ",null,null,null,"","","","","","",{"$f":"SEARCH(T208,'Eigen QTH LOc'!$I$1)*10-100+V208","v":{"$error":"#VALUE!"}},{"$f":"TRUNC(ROUND((SEARCH(X208,'Eigen QTH LOc'!$I$1)-0.5)*2.5,2))","v":1},{"$f":"IF(Z208>0,(MOD(ROUND((SEARCH(X208,'Eigen QTH LOc'!$I$1)-0.5)*2.5,2),TRUNC(Z208)))*60,0)","v":15},{"$f":"SEARCH(S208,'Eigen QTH LOc'!$I$1)*20-200+U208*2","v":{"$error":"#VALUE!"}},{"$f":"TRUNC((SEARCH(W208,'Eigen QTH LOc'!$I$1)-0.5)*5)","v":2},{"$f":"IF(AC208>0,(MOD((SEARCH(W208,'Eigen QTH LOc'!$I$1)-0.5)*5,TRUNC(AC208)))*60,0)","v":30},{"$error":"#VALUE!"},{"$error":"#VALUE!"},{"$f":"COS('Eigen QTH LOc'!$G$4-AF208)*SIN(PI()/2-AE208)*SIN(PI()/2-'Eigen QTH LOc'!$G$3)+COS(PI()/2-AE208)*COS(PI()/2-'Eigen QTH LOc'!$G$3)","v":{"$error":"#VALUE!"}},{"$error":"#VALUE!"},"ABCDEFGHIJKLMNOPQRSTUVWXABCDEFGHIJKLMNOPQRSTUVWX","\"0123456789\"",{"$f":"IF(B208>0,IF(K208=Infoblad!$C$6,0.5,0.5+AH208*40076.59/2/PI()),\" \")","v":" "},""]
[null,null," ",{"$f":"IF(B209>0,VASTETIJD(C209)-Infoblad!$C$29,\" \")","v":" "}," ",197," ",null,null,null,null,null,{"$f":"IF(L209>0,VLOOKUP(L209,Punten!$B$3:$C$109,2,FALSE),\" \")","v":" "},null," ",null,null,null,"","","","","","",{"$f":"SEARCH(T209,'Eigen QTH LOc'!$I$1)*10-100+V209","v":{"$error":"#VALUE!"}},{"$f":"TRUNC(ROUND((SEARCH(X209,'Eigen QTH LOc'!$I$1)-0.5)*2.5,2))","v":1},{"$f":"IF(Z209>0,(MOD(ROUND((SEARCH(X209,'Eigen QTH LOc'!$I$1)-0.5)*2.5,2),TRUNC(Z209)))*60,0)","v":15},{"$f":"SEARCH(S209,'Eigen QTH LOc'!$I$1)*20-200+U209*2","v":{"$error":"#VALUE!"}},{"$f":"TRUNC((SEARCH(W209,'Eigen QTH LOc'!$I$1)-0.5)*5)","v":2},{"$f":"IF(AC209>0,(MOD((SEARCH(W209,'Eigen QTH LOc'!$I$1)-0.5)*5,TRUNC(AC209)))*60,0)","v":30},{"$error":"#VALUE!"},{"$error":"#VALUE!"},{"$f":"COS('Eigen QTH LOc'!$G$4-AF209)*SIN(PI()/2-AE209)*SIN(PI()/2-'Eigen QTH LOc'!$G$3)+COS(PI()/2-AE209)*COS(PI()/2-'Eigen QTH LOc'!$G$3)","v":{"$error":"#VALUE!"}},{"$error":"#VALUE!"},"ABCDEFGHIJKLMNOPQRSTUVWXABCDEFGHIJKLMNOPQRSTUVWX","\"0123456789\"",{"$f":"IF(B209>0,IF(K209=Infoblad!$C$6,0.5,0.5+AH209*40076.59/2/PI()),\" \")","v":" "},""]
[null,null," ",{"$f":"IF(B210>0,VASTETIJD(C210)-Infoblad!$C$29,\" \")","v":" "}," ",198," ",null,null,null,null,null,{"$f":"IF(L210>0,VLOOKUP(L210,Punten!$B$3:$C$109,2,FALSE),\" \")","v":" "},null," ",null,null,null,"","","","","","",{"$f":"SEARCH(T210,'Eigen QTH LOc'!$I$1)*10-100+V210","v":{"$error":"#VALUE!"}},{"$f":"TRUNC(ROUND((SEARCH(X210,'Eigen QTH LOc'!$I$1)-0.5)*2.5,2))","v":1},{"$f":"IF(Z210>0,(MOD(ROUND((SEARCH(X210,'Eigen QTH LOc'!$I$1)-0.5)*2.5,2),TRUNC(Z210)))*60,0)","v":15},{"$f":"SEARCH(S210,'Eigen QTH LOc'!$I$1)*20-200+U210*2","v":{"$error":"#VALUE!"}},{"$f":"TRUNC((SEARCH(W210,'Eigen QTH LOc'!$I$1)-0.5)*5)","v":2},{"$f":"IF(AC210>0,(MOD((SEARCH(W210,'Eigen QTH LOc'!$I$1)-0.5)*5,TRUNC(AC210)))*60,0)","v":30},{"$error":"#VALUE!"},{"$error":"#VALUE!"},{"$f":"COS('Eigen QTH LOc'!$G$4-AF210)*SIN(PI()/2-AE210)*SIN(PI()/2-'Eigen QTH LOc'!$G$3)+COS(PI()/2-AE210)*COS(PI()/2-'Eigen QTH LOc'!$G$3)","v":{"$error":"#VALUE!"}},{"$error":"#VALUE!"},"ABCDEFGHIJKLMNOPQRSTUVWXABCDEFGHIJKLMNOPQRSTUVWX","\"0123456789\"",{"$f":"IF(B210>0,IF(K210=Infoblad!$C$6,0.5,0.5+AH210*40076.59/2/PI()),\" \")","v":" "},""]
[null,null," ",{"$f":"IF(B211>0,VASTETIJD(C211)-Infoblad!$C$29,\" \")","v":" "}," ",199," ",null,null,null,null,null,{"$f":"IF(L211>0,VLOOKUP(L211,Punten!$B$3:$C$109,2,FALSE),\" \")","v":" "},null," ",null,null,null,"","","","","","",{"$f":"SEARCH(T211,'Eigen QTH LOc'!$I$1)*10-100+V211","v":{"$error":"#VALUE!"}},{"$f":"TRUNC(ROUND((SEARCH(X211,'Eigen QTH LOc'!$I$1)-0.5)*2.5,2))","v":1},{"$f":"IF(Z211>0,(MOD(ROUND((SEARCH(X211,'Eigen QTH LOc'!$I$1)-0.5)*2.5,2),TRUNC(Z211)))*60,0)","v":15},{"$f":"SEARCH(S211,'Eigen QTH LOc'!$I$1)*20-200+U211*2","v":{"$error":"#VALUE!"}},{"$f":"TRUNC((SEARCH(W211,'Eigen QTH LOc'!$I$1)-0.5)*5)","v":2},{"$f":"IF(AC211>0,(MOD((SEARCH(W211,'Eigen QTH LOc'!$I$1)-0.5)*5,TRUNC(AC211)))*60,0)","v":30},{"$error":"#VALUE!"},{"$error":"#VALUE!"},{"$f":"COS('Eigen QTH LOc'!$G$4-AF211)*SIN(PI()/2-AE211)*SIN(PI()/2-'Eigen QTH LOc'!$G$3)+COS(PI()/2-AE211)*COS(PI()/2-'Eigen QTH LOc'!$G$3)","v":{"$error":"#VALUE!"}},{"$error":"#VALUE!"},"ABCDEFGHIJKLMNOPQRSTUVWXABCDEFGHIJKLMNOPQRSTUVWX","\"0123456789\"",{"$f":"IF(B211>0,IF(K211=Infoblad!$C$6,0.5,0.5+AH211*40076.59/2/PI()),\" \")","v":" "},""]
[null,null," ",{"$f":"IF(B212>0,VASTETIJD(C212)-Infoblad!$C$29,\" \")","v":" "}," ",200," ",null,null,null,null,null,{"$f":"IF(L212>0,VLOOKUP(L212,Punten!$B$3:$C$109,2,FALSE),\" \")","v":" "},null," ",null,null,null,"","","","","","",{"$f":"SEARCH(T212,'Eigen QTH LOc'!$I$1)*10-100+V212","v":{"$error":"#VALUE!"}},{"$f":"TRUNC(ROUND((SEARCH(X212,'Eigen QTH LOc'!$I$1)-0.5)*2.5,2))","v":1},{"$f":"IF(Z212>0,(MOD(ROUND((SEARCH(X212,'Eigen QTH LOc'!$I$1)-0.5)*2.5,2),TRUNC(Z212)))*60,0)","v":15},{"$f":"SEARCH(S212,'Eigen QTH LOc'!$I$1)*20-200+U212*2","v":{"$error":"#VALUE!"}},{"$f":"TRUNC((SEARCH(W212,'Eigen QTH LOc'!$I$1)-0.5)*5)","v":2},{"$f":"IF(AC212>0,(MOD((SEARCH(W212,'Eigen QTH LOc'!$I$1)-0.5)*5,TRUNC(AC212)))*60,0)","v":30},{"$error":"#VALUE!"},{"$error":"#VALUE!"},{"$f":"COS('Eigen QTH LOc'!$G$4-AF212)*SIN(PI()/2-AE212)*SIN(PI()/2-'Eigen QTH LOc'!$G$3)+COS(PI()/2-AE212)*COS(PI()/2-'Eigen QTH LOc'!$G$3)","v":{"$error":"#VALUE!"}},{"$error":"#VALUE!"},"ABCDEFGHIJKLMNOPQRSTUVWXABCDEFGHIJKLMNOPQRSTUVWX","\"0123456789\"",{"$f":"IF(B212>0,IF(K212=Infoblad!$C$6,0.5,0.5+AH212*40076.59/2/PI()),\" \")","v":" "},""]
[null,null," ",{"$f":"IF(B213>0,VASTETIJD(C213)-Infoblad!$C$29,\" \")","v":" "}," ",201," ",null,null,null,null,null,{"$f":"IF(L213>0,VLOOKUP(L213,Punten!$B$3:$C$109,2,FALSE),\" \")","v":" "},null," ",null,null,null,"","","","","","",{"$f":"SEARCH(T213,'Eigen QTH LOc'!$I$1)*10-100+V213","v":{"$error":"#VALUE!"}},{"$f":"TRUNC(ROUND((SEARCH(X213,'Eigen QTH LOc'!$I$1)-0.5)*2.5,2))","v":1},{"$f":"IF(Z213>0,(MOD(ROUND((SEARCH(X213,'Eigen QTH LOc'!$I$1)-0.5)*2.5,2),TRUNC(Z213)))*60,0)","v":15},{"$f":"SEARCH(S213,'Eigen QTH LOc'!$I$1)*20-200+U213*2","v":{"$error":"#VALUE!"}},{"$f":"TRUNC((SEARCH(W213,'Eigen QTH LOc'!$I$1)-0.5)*5)","v":2},{"$f":"IF(AC213>0,(MOD((SEARCH(W213,'Eigen QTH LOc'!$I$1)-0.5)*5,TRUNC(AC213)))*60,0)","v":30},{"$error":"#VALUE!"},{"$error":"#VALUE!"},{"$f":"COS('Eigen QTH LOc'!$G$4-AF213)*SIN(PI()/2-AE213)*SIN(PI()/2-'Eigen QTH LOc'!$G$3)+COS(PI()/2-AE213)*COS(PI()/2-'Eigen QTH LOc'!$G$3)","v":{"$error":"#VALUE!"}},{"$error":"#VALUE!"},"ABCDEFGHIJKLMNOPQRSTUVWXABCDEFGHIJKLMNOPQRSTUVWX","\"0123456789\"",{"$f":"IF(B213>0,IF(K213=Infoblad!$C$6,0.5,0.5+AH213*40076.59/2/PI()),\" \")","v":" "},""]
[null,null," ",{"$f":"IF(B214>0,VASTETIJD(C214)-Infoblad!$C$29,\" \")","v":" "}," ",202," ",null,null,null,null,null,{"$f":"IF(L214>0,VLOOKUP(L214,Punten!$B$3:$C$109,2,FALSE),\" \")","v":" "},null," ",null,null,null,"","","","","","",{"$f":"SEARCH(T214,'Eigen QTH LOc'!$I$1)*10-100+V214","v":{"$error":"#VALUE!"}},{"$f":"TRUNC(ROUND((SEARCH(X214,'Eigen QTH LOc'!$I$1)-0.5)*2.5,2))","v":1},{"$f":"IF(Z214>0,(MOD(ROUND((SEARCH(X214,'Eigen QTH LOc'!$I$1)-0.5)*2.5,2),TRUNC(Z214)))*60,0)","v":15},{"$f":"SEARCH(S214,'Eigen QTH LOc'!$I$1)*20-200+U214*2","v":{"$error":"#VALUE!"}},{"$f":"TRUNC((SEARCH(W214,'Eigen QTH LOc'!$I$1)-0.5)*5)","v":2},{"$f":"IF(AC214>0,(MOD((SEARCH(W214,'Eigen QTH LOc'!$I$1)-0.5)*5,TRUNC(AC214)))*60,0)","v":30},{"$error":"#VALUE!"},{"$error":"#VALUE!"},{"$f":"COS('Eigen QTH LOc'!$G$4-AF214)*SIN(PI()/2-AE214)*SIN(PI()/2-'Eigen QTH LOc'!$G$3)+COS(PI()/2-AE214)*COS(PI()/2-'Eigen QTH LOc'!$G$3)","v":{"$error":"#VALUE!"}},{"$error":"#VALUE!"},"ABCDEFGHIJKLMNOPQRSTUVWXABCDEFGHIJKLMNOPQRSTUVWX","\"0123456789\"",{"$f":"IF(B214>0,IF(K214=Infoblad!$C$6,0.5,0.5+AH214*40076.59/2/PI()),\" \")","v":" "},""]
[null,null," ",{"$f":"IF(B215>0,VASTETIJD(C215)-Infoblad!$C$29,\" \")","v":" "}," ",203," ",null,null,null,null,null,{"$f":"IF(L215>0,VLOOKUP(L215,Punten!$B$3:$C$109,2,FALSE),\" \")","v":" "},null," ",null,null,null,"","","","","","",{"$f":"SEARCH(T215,'Eigen QTH LOc'!$I$1)*10-100+V215","v":{"$error":"#VALUE!"}},{"$f":"TRUNC(ROUND((SEARCH(X215,'Eigen QTH LOc'!$I$1)-0.5)*2.5,2))","v":1},{"$f":"IF(Z215>0,(MOD(ROUND((SEARCH(X215,'Eigen QTH LOc'!$I$1)-0.5)*2.5,2),TRUNC(Z215)))*60,0)","v":15},{"$f":"SEARCH(S215,'Eigen QTH LOc'!$I$1)*20-200+U215*2","v":{"$error":"#VALUE!"}},{"$f":"TRUNC((SEARCH(W215,'Eigen QTH LOc'!$I$1)-0.5)*5)","v":2},{"$f":"IF(AC215>0,(MOD((SEARCH(W215,'Eigen QTH LOc'!$I$1)-0.5)*5,TRUNC(AC215)))*60,0)","v":30},{"$error":"#VALUE!"},{"$error":"#VALUE!"},{"$f":"COS('Eigen QTH LOc'!$G$4-AF215)*SIN(PI()/2-AE215)*SIN(PI()/2-'Eigen QTH LOc'!$G$3)+COS(PI()/2-AE215)*COS(PI()/2-'Eigen QTH LOc'!$G$3)","v":{"$error":"#VALUE!"}},{"$error":"#VALUE!"},"ABCDEFGHIJKLMNOPQRSTUVWXABCDEFGHIJKLMNOPQRSTUVWX","\"0123456789\"",{"$f":"IF(B215>0,IF(K215=Infoblad!$C$6,0.5,0.5+AH215*40076.59/2/PI()),\" \")","v":" "},""]
[null,null," ",{"$f":"IF(B216>0,VASTETIJD(C216)-Infoblad!$C$29,\" \")","v":" "}," ",204," ",null,null,null,null,null,{"$f":"IF(L216>0,VLOOKUP(L216,Punten!$B$3:$C$109,2,FALSE),\" \")","v":" "},null," ",null,null,null,"","","","","","",{"$f":"SEARCH(T216,'Eigen QTH LOc'!$I$1)*10-100+V216","v":{"$error":"#VALUE!"}},{"$f":"TRUNC(ROUND((SEARCH(X216,'Eigen QTH LOc'!$I$1)-0.5)*2.5,2))","v":1},{"$f":"IF(Z216>0,(MOD(ROUND((SEARCH(X216,'Eigen QTH LOc'!$I$1)-0.5)*2.5,2),TRUNC(Z216)))*60,0)","v":15},{"$f":"SEARCH(S216,'Eigen QTH LOc'!$I$1)*20-200+U216*2","v":{"$error":"#VALUE!"}},{"$f":"TRUNC((SEARCH(W216,'Eigen QTH LOc'!$I$1)-0.5)*5)","v":2},{"$f":"IF(AC216>0,(MOD((SEARCH(W216,'Eigen QTH LOc'!$I$1)-0.5)*5,TRUNC(AC216)))*60,0)","v":30},{"$error":"#VALUE!"},{"$error":"#VALUE!"},{"$f":"COS('Eigen QTH LOc'!$G$4-AF216)*SIN(PI()/2-AE216)*SIN(PI()/2-'Eigen QTH LOc'!$G$3)+COS(PI()/2-AE216)*COS(PI()/2-'Eigen QTH LOc'!$G$3)","v":{"$error":"#VALUE!"}},{"$error":"#VALUE!"},"ABCDEFGHIJKLMNOPQRSTUVWXABCDEFGHIJKLMNOPQRSTUVWX","\"0123456789\"",{"$f":"IF(B216>0,IF(K216=Infoblad!$C$6,0.5,0.5+AH216*40076.59/2/PI()),\" \")","v":" "},""]
[null,null," ",{"$f":"IF(B217>0,VASTETIJD(C217)-Infoblad!$C$29,\" \")","v":" "}," ",205," ",null,null,null,null,null,{"$f":"IF(L217>0,VLOOKUP(L217,Punten!$B$3:$C$109,2,FALSE),\" \")","v":" "},null," ",null,null,null,{"$f":"MID(K217,1,1)","v":""},{"$f":"MID(K217,2,1)","v":""},{"$f":"MID(K217,3,1)","v":""},{"$f":"MID(K217,4,1)","v":""},{"$f":"MID(K217,5,1)","v":""},{"$f":"MID(K217,6,1)","v":""},{"$f":"SEARCH(T217,'Eigen QTH LOc'!$I$1)*10-100+V217","v":{"$error":"#VALUE!"}},{"$f":"TRUNC(ROUND((SEARCH(X217,'Eigen QTH LOc'!$I$1)-0.5)*2.5,2))","v":1},{"$f":"IF(Z217>0,(MOD(ROUND((SEARCH(X217,'Eigen QTH LOc'!$I$1)-0.5)*2.5,2),TRUNC(Z217)))*60,0)","v":15},{"$f":"SEARCH(S217,'Eigen QTH LOc'!$I$1)*20-200+U217*2","v":{"$error":"#VALUE!"}},{"$f":"TRUNC((SEARCH(W217,'Eigen QTH LOc'!$I$1)-0.5)*5)","v":2},{"$f":"IF(AC217>0,(MOD((SEARCH(W217,'Eigen QTH LOc'!$I$1)-0.5)*5,TRUNC(AC217)))*60,0)","v":30},{"$f":"(Y217+(Z217/60)+(AA217/3600))*PI()/180","v":{"$error":"#VALUE!"}},{"$f":"(AB217+(AC217/60)+(AD217/100/60))*PI()/180","v":{"$error":"#VALUE!"}},{"$f":"COS('Eigen QTH LOc'!$G$4-AF217)*SIN(PI()/2-AE217)*SIN(PI()/2-'Eigen QTH LOc'!$G$3)+COS(PI()/2-AE217)*COS(PI()/2-'Eigen QTH LOc'!$G$3)","v":{"$error":"#VALUE!"}},{"$error":"#VALUE!"},"ABCDEFGHIJKLMNOPQRSTUVWXABCDEFGHIJKLMNOPQRSTUVWX","\"0123456789\"",{"$f":"IF(B217>0,IF(K217=Infoblad!$C$6,0.5,0.5+AH217*40076.59/2/PI()),\" \")","v":" "},""]
[null,null," ",{"$f":"IF(B218>0,VASTETIJD(C218)-Infoblad!$C$29,\" \")","v":" "}," ",206," ",null,null,null,null,null,{"$f":"IF(L218>0,VLOOKUP(L218,Punten!$B$3:$C$109,2,FALSE),\" \")","v":" "},null," ",null,null,null,"","","","","","",{"$f":"SEARCH(T218,'Eigen QTH LOc'!$I$1)*10-100+V218","v":{"$error":"#VALUE!"}},{"$f":"TRUNC(ROUND((SEARCH(X218,'Eigen QTH LOc'!$I$1)-0.5)*2.5,2))","v":1},{"$f":"IF(Z218>0,(MOD(ROUND((SEARCH(X218,'Eigen QTH LOc'!$I$1)-0.5)*2.5,2),TRUNC(Z218)))*60,0)","v":15},{"$f":"SEARCH(S218,'Eigen QTH LOc'!$I$1)*20-200+U218*2","v":{"$error":"#VALUE!"}},{"$f":"TRUNC((SEARCH(W218,'Eigen QTH LOc'!$I$1)-0.5)*5)","v":2},{"$f":"IF(AC218>0,(MOD((SEARCH(W218,'Eigen QTH LOc'!$I$1)-0.5)*5,TRUNC(AC218)))*60,0)","v":30},{"$error":"#VALUE!"},{"$error":"#VALUE!"},{"$f":"COS('Eigen QTH LOc'!$G$4-AF218)*SIN(PI()/2-AE218)*SIN(PI()/2-'Eigen QTH LOc'!$G$3)+COS(PI()/2-AE218)*COS(PI()/2-'Eigen QTH LOc'!$G$3)","v":{"$error":"#VALUE!"}},{"$error":"#VALUE!"},"ABCDEFGHIJKLMNOPQRSTUVWXABCDEFGHIJKLMNOPQRSTUVWX","\"0123456789\"",{"$f":"IF(B218>0,IF(K218=Infoblad!$C$6,0.5,0.5+AH218*40076.59/2/PI()),\" \")","v":" "},""]
[null,null," ",{"$f":"IF(B219>0,VASTETIJD(C219)-Infoblad!$C$29,\" \")","v":" "}," ",207," ",null,null,null,null,null,{"$f":"IF(L219>0,VLOOKUP(L219,Punten!$B$3:$C$109,2,FALSE),\" \")","v":" "},null," ",null,null,null,"","","","","","",{"$f":"SEARCH(T219,'Eigen QTH LOc'!$I$1)*10-100+V219","v":{"$error":"#VALUE!"}},{"$f":"TRUNC(ROUND((SEARCH(X219,'Eigen QTH LOc'!$I$1)-0.5)*2.5,2))","v":1},{"$f":"IF(Z219>0,(MOD(ROUND((SEARCH(X219,'Eigen QTH LOc'!$I$1)-0.5)*2.5,2),TRUNC(Z219)))*60,0)","v":15},{"$f":"SEARCH(S219,'Eigen QTH LOc'!$I$1)*20-200+U219*2","v":{"$error":"#VALUE!"}},{"$f":"TRUNC((SEARCH(W219,'Eigen QTH LOc'!$I$1)-0.5)*5)","v":2},{"$f":"IF(AC219>0,(MOD((SEARCH(W219,'Eigen QTH LOc'!$I$1)-0.5)*5,TRUNC(AC219)))*60,0)","v":30},{"$error":"#VALUE!"},{"$error":"#VALUE!"},{"$f":"COS('Eigen QTH LOc'!$G$4-AF219)*SIN(PI()/2-AE219)*SIN(PI()/2-'Eigen QTH LOc'!$G$3)+COS(PI()/2-AE219)*COS(PI()/2-'Eigen QTH LOc'!$G$3)","v":{"$error":"#VALUE!"}},{"$error":"#VALUE!"},"ABCDEFGHIJKLMNOPQRSTUVWXABCDEFGHIJKLMNOPQRSTUVWX","\"0123456789\"",{"$f":"IF(B219>0,IF(K219=Infoblad!$C$6,0.5,0.5+AH219*40076.59/2/PI()),\" \")","v":" "},""]
[null,null," ",{"$f":"IF(B220>0,VASTETIJD(C220)-Infoblad!$C$29,\" \")","v":" "}," ",208," ",null,null,null,null,null,{"$f":"IF(L220>0,VLOOKUP(L220,Punten!$B$3:$C$109,2,FALSE),\" \")","v":" "},null," ",null,null,null,"","","","","","",{"$f":"SEARCH(T220,'Eigen QTH LOc'!$I$1)*10-100+V220","v":{"$error":"#VALUE!"}},{"$f":"TRUNC(ROUND((SEARCH(X220,'Eigen QTH LOc'!$I$1)-0.5)*2.5,2))","v":1},{"$f":"IF(Z220>0,(MOD(ROUND((SEARCH(X220,'Eigen QTH LOc'!$I$1)-0.5)*2.5,2),TRUNC(Z220)))*60,0)","v":15},{"$f":"SEARCH(S220,'Eigen QTH LOc'!$I$1)*20-200+U220*2","v":{"$error":"#VALUE!"}},{"$f":"TRUNC((SEARCH(W220,'Eigen QTH LOc'!$I$1)-0.5)*5)","v":2},{"$f":"IF(AC220>0,(MOD((SEARCH(W220,'Eigen QTH LOc'!$I$1)-0.5)*5,TRUNC(AC220)))*60,0)","v":30},{"$error":"#VALUE!"},{"$error":"#VALUE!"},{"$f":"COS('Eigen QTH LOc'!$G$4-AF220)*SIN(PI()/2-AE220)*SIN(PI()/2-'Eigen QTH LOc'!$G$3)+COS(PI()/2-AE220)*COS(PI()/2-'Eigen QTH LOc'!$G$3)","v":{"$error":"#VALUE!"}},{"$error":"#VALUE!"},"ABCDEFGHIJKLMNOPQRSTUVWXABCDEFGHIJKLMNOPQRSTUVWX","\"0123456789\"",{"$f":"IF(B220>0,IF(K220=Infoblad!$C$6,0.5,0.5+AH220*40076.59/2/PI()),\" \")","v":" "},""]
[null,null," ",{"$f":"IF(B221>0,VASTETIJD(C221)-Infoblad!$C$29,\" \")","v":" "}," ",209," ",null,null,null,null,null,{"$f":"IF(L221>0,VLOOKUP(L221,Punten!$B$3:$C$109,2,FALSE),\" \")","v":" "},null," ",null,null,null,"","","","","","",{"$f":"SEARCH(T221,'Eigen QTH LOc'!$I$1)*10-100+V221","v":{"$error":"#VALUE!"}},{"$f":"TRUNC(ROUND((SEARCH(X221,'Eigen QTH LOc'!$I$1)-0.5)*2.5,2))","v":1},{"$f":"IF(Z221>0,(MOD(ROUND((SEARCH(X221,'Eigen QTH LOc'!$I$1)-0.5)*2.5,2),TRUNC(Z221)))*60,0)","v":15},{"$f":"SEARCH(S221,'Eigen QTH LOc'!$I$1)*20-200+U221*2","v":{"$error":"#VALUE!"}},{"$f":"TRUNC((SEARCH(W221,'Eigen QTH LOc'!$I$1)-0.5)*5)","v":2},{"$f":"IF(AC221>0,(MOD((SEARCH(W221,'Eigen QTH LOc'!$I$1)-0.5)*5,TRUNC(AC221)))*60,0)","v":30},{"$error":"#VALUE!"},{"$error":"#VALUE!"},{"$f":"COS('Eigen QTH LOc'!$G$4-AF221)*SIN(PI()/2-AE221)*SIN(PI()/2-'Eigen QTH LOc'!$G$3)+COS(PI()/2-AE221)*COS(PI()/2-'Eigen QTH LOc'!$G$3)","v":{"$error":"#VALUE!"}},{"$error":"#VALUE!"},"ABCDEFGHIJKLMNOPQRSTUVWXABCDEFGHIJKLMNOPQRSTUVWX","\"0123456789\"",{"$f":"IF(B221>0,IF(K221=Infoblad!$C$6,0.5,0.5+AH221*40076.59/2/PI()),\" \")","v":" "},""]
[null,null," ",{"$f":"IF(B222>0,VASTETIJD(C222)-Infoblad!$C$29,\" \")","v":" "}," ",210," ",null,null,null,null,null,{"$f":"IF(L222>0,VLOOKUP(L222,Punten!$B$3:$C$109,2,FALSE),\" \")","v":" "},null," ",null,null,null,"","","","","","",{"$f":"SEARCH(T222,'Eigen QTH LOc'!$I$1)*10-100+V222","v":{"$error":"#VALUE!"}},{"$f":"TRUNC(ROUND((SEARCH(X222,'Eigen QTH LOc'!$I$1)-0.5)*2.5,2))","v":1},{"$f":"IF(Z222>0,(MOD(ROUND((SEARCH(X222,'Eigen QTH LOc'!$I$1)-0.5)*2.5,2),TRUNC(Z222)))*60,0)","v":15},{"$f":"SEARCH(S222,'Eigen QTH LOc'!$I$1)*20-200+U222*2","v":{"$error":"#VALUE!"}},{"$f":"TRUNC((SEARCH(W222,'Eigen QTH LOc'!$I$1)-0.5)*5)","v":2},{"$f":"IF(AC222>0,(MOD((SEARCH(W222,'Eigen QTH LOc'!$I$1)-0.5)*5,TRUNC(AC222)))*60,0)","v":30},{"$error":"#VALUE!"},{"$error":"#VALUE!"},{"$f":"COS('Eigen QTH LOc'!$G$4-AF222)*SIN(PI()/2-AE222)*SIN(PI()/2-'Eigen QTH LOc'!$G$3)+COS(PI()/2-AE222)*COS(PI()/2-'Eigen QTH LOc'!$G$3)","v":{"$error":"#VALUE!"}},{"$error":"#VALUE!"},"ABCDEFGHIJKLMNOPQRSTUVWXABCDEFGHIJKLMNOPQRSTUVWX","\"0123456789\"",{"$f":"IF(B222>0,IF(K222=Infoblad!$C$6,0.5,0.5+AH222*40076.59/2/PI()),\" \")","v":" "},""]
[null,null," ",{"$f":"IF(B223>0,VASTETIJD(C223)-Infoblad!$C$29,\" \")","v":" "}," ",211," ",null,null,null,null,null,{"$f":"IF(L223>0,VLOOKUP(L223,Punten!$B$3:$C$109,2,FALSE),\" \")","v":" "},null," ",null,null,null,"","","","","","",{"$f":"SEARCH(T223,'Eigen QTH LOc'!$I$1)*10-100+V223","v":{"$error":"#VALUE!"}},{"$f":"TRUNC(ROUND((SEARCH(X223,'Eigen QTH LOc'!$I$1)-0.5)*2.5,2))","v":1},{"$f":"IF(Z223>0,(MOD(ROUND((SEARCH(X223,'Eigen QTH LOc'!$I$1)-0.5)*2.5,2),TRUNC(Z223)))*60,0)","v":15},{"$f":"SEARCH(S223,'Eigen QTH LOc'!$I$1)*20-200+U223*2","v":{"$error":"#VALUE!"}},{"$f":"TRUNC((SEARCH(W223,'Eigen QTH LOc'!$I$1)-0.5)*5)","v":2},{"$f":"IF(AC223>0,(MOD((SEARCH(W223,'Eigen QTH LOc'!$I$1)-0.5)*5,TRUNC(AC223)))*60,0)","v":30},{"$error":"#VALUE!"},{"$error":"#VALUE!"},{"$f":"COS('Eigen QTH LOc'!$G$4-AF223)*SIN(PI()/2-AE223)*SIN(PI()/2-'Eigen QTH LOc'!$G$3)+COS(PI()/2-AE223)*COS(PI()/2-'Eigen QTH LOc'!$G$3)","v":{"$error":"#VALUE!"}},{"$error":"#VALUE!"},"ABCDEFGHIJKLMNOPQRSTUVWXABCDEFGHIJKLMNOPQRSTUVWX","\"0123456789\"",{"$f":"IF(B223>0,IF(K223=Infoblad!$C$6,0.5,0.5+AH223*40076.59/2/PI()),\" \")","v":" "},""]
[null,null," ",{"$f":"IF(B224>0,VASTETIJD(C224)-Infoblad!$C$29,\" \")","v":" "}," ",212," ",null,null,null,null,null,{"$f":"IF(L224>0,VLOOKUP(L224,Punten!$B$3:$C$109,2,FALSE),\" \")","v":" "},null," ",null,null,null,"","","","","","",{"$f":"SEARCH(T224,'Eigen QTH LOc'!$I$1)*10-100+V224","v":{"$error":"#VALUE!"}},{"$f":"TRUNC(ROUND((SEARCH(X224,'Eigen QTH LOc'!$I$1)-0.5)*2.5,2))","v":1},{"$f":"IF(Z224>0,(MOD(ROUND((SEARCH(X224,'Eigen QTH LOc'!$I$1)-0.5)*2.5,2),TRUNC(Z224)))*60,0)","v":15},{"$f":"SEARCH(S224,'Eigen QTH LOc'!$I$1)*20-200+U224*2","v":{"$error":"#VALUE!"}},{"$f":"TRUNC((SEARCH(W224,'Eigen QTH LOc'!$I$1)-0.5)*5)","v":2},{"$f":"IF(AC224>0,(MOD((SEARCH(W224,'Eigen QTH LOc'!$I$1)-0.5)*5,TRUNC(AC224)))*60,0)","v":30},{"$error":"#VALUE!"},{"$error":"#VALUE!"},{"$f":"COS('Eigen QTH LOc'!$G$4-AF224)*SIN(PI()/2-AE224)*SIN(PI()/2-'Eigen QTH LOc'!$G$3)+COS(PI()/2-AE224)*COS(PI()/2-'Eigen QTH LOc'!$G$3)","v":{"$error":"#VALUE!"}},{"$error":"#VALUE!"},"ABCDEFGHIJKLMNOPQRSTUVWXABCDEFGHIJKLMNOPQRSTUVWX","\"0123456789\"",{"$f":"IF(B224>0,IF(K224=Infoblad!$C$6,0.5,0.5+AH224*40076.59/2/PI()),\" \")","v":" "},""]
[null,null," ",{"$f":"IF(B225>0,VASTETIJD(C225)-Infoblad!$C$29,\" \")","v":" "}," ",213," ",null,null,null,null,null,{"$f":"IF(L225>0,VLOOKUP(L225,Punten!$B$3:$C$109,2,FALSE),\" \")","v":" "},null," ",null,null,null,"","","","","","",{"$f":"SEARCH(T225,'Eigen QTH LOc'!$I$1)*10-100+V225","v":{"$error":"#VALUE!"}},{"$f":"TRUNC(ROUND((SEARCH(X225,'Eigen QTH LOc'!$I$1)-0.5)*2.5,2))","v":1},{"$f":"IF(Z225>0,(MOD(ROUND((SEARCH(X225,'Eigen QTH LOc'!$I$1)-0.5)*2.5,2),TRUNC(Z225)))*60,0)","v":15},{"$f":"SEARCH(S225,'Eigen QTH LOc'!$I$1)*20-200+U225*2","v":{"$error":"#VALUE!"}},{"$f":"TRUNC((SEARCH(W225,'Eigen QTH LOc'!$I$1)-0.5)*5)","v":2},{"$f":"IF(AC225>0,(MOD((SEARCH(W225,'Eigen QTH LOc'!$I$1)-0.5)*5,TRUNC(AC225)))*60,0)","v":30},{"$error":"#VALUE!"},{"$error":"#VALUE!"},{"$f":"COS('Eigen QTH LOc'!$G$4-AF225)*SIN(PI()/2-AE225)*SIN(PI()/2-'Eigen QTH LOc'!$G$3)+COS(PI()/2-AE225)*COS(PI()/2-'Eigen QTH LOc'!$G$3)","v":{"$error":"#VALUE!"}},{"$error":"#VALUE!"},"ABCDEFGHIJKLMNOPQRSTUVWXABCDEFGHIJKLMNOPQRSTUVWX","\"0123456789\"",{"$f":"IF(B225>0,IF(K225=Infoblad!$C$6,0.5,0.5+AH225*40076.59/2/PI()),\" \")","v":" "},""]
[null,null," ",{"$f":"IF(B226>0,VASTETIJD(C226)-Infoblad!$C$29,\" \")","v":" "}," ",214," ",null,null,null,null,null,{"$f":"IF(L226>0,VLOOKUP(L226,Punten!$B$3:$C$109,2,FALSE),\" \")","v":" "},null," ",null,null,null,"","","","","","",{"$f":"SEARCH(T226,'Eigen QTH LOc'!$I$1)*10-100+V226","v":{"$error":"#VALUE!"}},{"$f":"TRUNC(ROUND((SEARCH(X226,'Eigen QTH LOc'!$I$1)-0.5)*2.5,2))","v":1},{"$f":"IF(Z226>0,(MOD(ROUND((SEARCH(X226,'Eigen QTH LOc'!$I$1)-0.5)*2.5,2),TRUNC(Z226)))*60,0)","v":15},{"$f":"SEARCH(S226,'Eigen QTH LOc'!$I$1)*20-200+U226*2","v":{"$error":"#VALUE!"}},{"$f":"TRUNC((SEARCH(W226,'Eigen QTH LOc'!$I$1)-0.5)*5)","v":2},{"$f":"IF(AC226>0,(MOD((SEARCH(W226,'Eigen QTH LOc'!$I$1)-0.5)*5,TRUNC(AC226)))*60,0)","v":30},{"$error":"#VALUE!"},{"$error":"#VALUE!"},{"$f":"COS('Eigen QTH LOc'!$G$4-AF226)*SIN(PI()/2-AE226)*SIN(PI()/2-'Eigen QTH LOc'!$G$3)+COS(PI()/2-AE226)*COS(PI()/2-'Eigen QTH LOc'!$G$3)","v":{"$error":"#VALUE!"}},{"$error":"#VALUE!"},"ABCDEFGHIJKLMNOPQRSTUVWXABCDEFGHIJKLMNOPQRSTUVWX","\"0123456789\"",{"$f":"IF(B226>0,IF(K226=Infoblad!$C$6,0.5,0.5+AH226*40076.59/2/PI()),\" \")","v":" "},""]
[null,null," ",{"$f":"IF(B227>0,VASTETIJD(C227)-Infoblad!$C$29,\" \")","v":" "}," ",215," ",null,null,null,null,null,{"$f":"IF(L227>0,VLOOKUP(L227,Punten!$B$3:$C$109,2,FALSE),\" \")","v":" "},null," ",null,null,null,"","","","","","",{"$f":"SEARCH(T227,'Eigen QTH LOc'!$I$1)*10-100+V227","v":{"$error":"#VALUE!"}},{"$f":"TRUNC(ROUND((SEARCH(X227,'Eigen QTH LOc'!$I$1)-0.5)*2.5,2))","v":1},{"$f":"IF(Z227>0,(MOD(ROUND((SEARCH(X227,'Eigen QTH LOc'!$I$1)-0.5)*2.5,2),TRUNC(Z227)))*60,0)","v":15},{"$f":"SEARCH(S227,'Eigen QTH LOc'!$I$1)*20-200+U227*2","v":{"$error":"#VALUE!"}},{"$f":"TRUNC((SEARCH(W227,'Eigen QTH LOc'!$I$1)-0.5)*5)","v":2},{"$f":"IF(AC227>0,(MOD((SEARCH(W227,'Eigen QTH LOc'!$I$1)-0.5)*5,TRUNC(AC227)))*60,0)","v":30},{"$error":"#VALUE!"},{"$error":"#VALUE!"},{"$f":"COS('Eigen QTH LOc'!$G$4-AF227)*SIN(PI()/2-AE227)*SIN(PI()/2-'Eigen QTH LOc'!$G$3)+COS(PI()/2-AE227)*COS(PI()/2-'Eigen QTH LOc'!$G$3)","v":{"$error":"#VALUE!"}},{"$error":"#VALUE!"},"ABCDEFGHIJKLMNOPQRSTUVWXABCDEFGHIJKLMNOPQRSTUVWX","\"0123456789\"",{"$f":"IF(B227>0,IF(K227=Infoblad!$C$6,0.5,0.5+AH227*40076.59/2/PI()),\" \")","v":" "},""]
[null,null," ",{"$f":"IF(B228>0,VASTETIJD(C228)-Infoblad!$C$29,\" \")","v":" "}," ",216," ",null,null,null,null,null,{"$f":"IF(L228>0,VLOOKUP(L228,Punten!$B$3:$C$109,2,FALSE),\" \")","v":" "},null," ",null,null,null,"","","","","","",{"$f":"SEARCH(T228,'Eigen QTH LOc'!$I$1)*10-100+V228","v":{"$error":"#VALUE!"}},{"$f":"TRUNC(ROUND((SEARCH(X228,'Eigen QTH LOc'!$I$1)-0.5)*2.5,2))","v":1},{"$f":"IF(Z228>0,(MOD(ROUND((SEARCH(X228,'Eigen QTH LOc'!$I$1)-0.5)*2.5,2),TRUNC(Z228)))*60,0)","v":15},{"$f":"SEARCH(S228,'Eigen QTH LOc'!$I$1)*20-200+U228*2","v":{"$error":"#VALUE!"}},{"$f":"TRUNC((SEARCH(W228,'Eigen QTH LOc'!$I$1)-0.5)*5)","v":2},{"$f":"IF(AC228>0,(MOD((SEARCH(W228,'Eigen QTH LOc'!$I$1)-0.5)*5,TRUNC(AC228)))*60,0)","v":30},{"$error":"#VALUE!"},{"$error":"#VALUE!"},{"$f":"COS('Eigen QTH LOc'!$G$4-AF228)*SIN(PI()/2-AE228)*SIN(PI()/2-'Eigen QTH LOc'!$G$3)+COS(PI()/2-AE228)*COS(PI()/2-'Eigen QTH LOc'!$G$3)","v":{"$error":"#VALUE!"}},{"$error":"#VALUE!"},"ABCDEFGHIJKLMNOPQRSTUVWXABCDEFGHIJKLMNOPQRSTUVWX","\"0123456789\"",{"$f":"IF(B228>0,IF(K228=Infoblad!$C$6,0.5,0.5+AH228*40076.59/2/PI()),\" \")","v":" "},""]
[null,null," ",{"$f":"IF(B229>0,VASTETIJD(C229)-Infoblad!$C$29,\" \")","v":" "}," ",217," ",null,null,null,null,null,{"$f":"IF(L229>0,VLOOKUP(L229,Punten!$B$3:$C$109,2,FALSE),\" \")","v":" "},null," ",null,null,null,"","","","","","",{"$f":"SEARCH(T229,'Eigen QTH LOc'!$I$1)*10-100+V229","v":{"$error":"#VALUE!"}},{"$f":"TRUNC(ROUND((SEARCH(X229,'Eigen QTH LOc'!$I$1)-0.5)*2.5,2))","v":1},{"$f":"IF(Z229>0,(MOD(ROUND((SEARCH(X229,'Eigen QTH LOc'!$I$1)-0.5)*2.5,2),TRUNC(Z229)))*60,0)","v":15},{"$f":"SEARCH(S229,'Eigen QTH LOc'!$I$1)*20-200+U229*2","v":{"$error":"#VALUE!"}},{"$f":"TRUNC((SEARCH(W229,'Eigen QTH LOc'!$I$1)-0.5)*5)","v":2},{"$f":"IF(AC229>0,(MOD((SEARCH(W229,'Eigen QTH LOc'!$I$1)-0.5)*5,TRUNC(AC229)))*60,0)","v":30},{"$error":"#VALUE!"},{"$error":"#VALUE!"},{"$f":"COS('Eigen QTH LOc'!$G$4-AF229)*SIN(PI()/2-AE229)*SIN(PI()/2-'Eigen QTH LOc'!$G$3)+COS(PI()/2-AE229)*COS(PI()/2-'Eigen QTH LOc'!$G$3)","v":{"$error":"#VALUE!"}},{"$error":"#VALUE!"},"ABCDEFGHIJKLMNOPQRSTUVWXABCDEFGHIJKLMNOPQRSTUVWX","\"0123456789\"",{"$f":"IF(B229>0,IF(K229=Infoblad!$C$6,0.5,0.5+AH229*40076.59/2/PI()),\" \")","v":" "},""]
[null,null," ",{"$f":"IF(B230>0,VASTETIJD(C230)-Infoblad!$C$29,\" \")","v":" "}," ",218," ",null,null,null,null,null,{"$f":"IF(L230>0,VLOOKUP(L230,Punten!$B$3:$C$109,2,FALSE),\" \")","v":" "},null," ",null,null,null,"","","","","","",{"$f":"SEARCH(T230,'Eigen QTH LOc'!$I$1)*10-100+V230","v":{"$error":"#VALUE!"}},{"$f":"TRUNC(ROUND((SEARCH(X230,'Eigen QTH LOc'!$I$1)-0.5)*2.5,2))","v":1},{"$f":"IF(Z230>0,(MOD(ROUND((SEARCH(X230,'Eigen QTH LOc'!$I$1)-0.5)*2.5,2),TRUNC(Z230)))*60,0)","v":15},{"$f":"SEARCH(S230,'Eigen QTH LOc'!$I$1)*20-200+U230*2","v":{"$error":"#VALUE!"}},{"$f":"TRUNC((SEARCH(W230,'Eigen QTH LOc'!$I$1)-0.5)*5)","v":2},{"$f":"IF(AC230>0,(MOD((SEARCH(W230,'Eigen QTH LOc'!$I$1)-0.5)*5,TRUNC(AC230)))*60,0)","v":30},{"$error":"#VALUE!"},{"$error":"#VALUE!"},{"$f":"COS('Eigen QTH LOc'!$G$4-AF230)*SIN(PI()/2-AE230)*SIN(PI()/2-'Eigen QTH LOc'!$G$3)+COS(PI()/2-AE230)*COS(PI()/2-'Eigen QTH LOc'!$G$3)","v":{"$error":"#VALUE!"}},{"$error":"#VALUE!"},"ABCDEFGHIJKLMNOPQRSTUVWXABCDEFGHIJKLMNOPQRSTUVWX","\"0123456789\"",{"$f":"IF(B230>0,IF(K230=Infoblad!$C$6,0.5,0.5+AH230*40076.59/2/PI()),\" \")","v":" "},""]
[null,null," ",{"$f":"IF(B231>0,VASTETIJD(C231)-Infoblad!$C$29,\" \")","v":" "}," ",219," ",null,null,null,null,null,{"$f":"IF(L231>0,VLOOKUP(L231,Punten!$B$3:$C$109,2,FALSE),\" \")","v":" "},null," ",null,null,null,"","","","","","",{"$f":"SEARCH(T231,'Eigen QTH LOc'!$I$1)*10-100+V231","v":{"$error":"#VALUE!"}},{"$f":"TRUNC(ROUND((SEARCH(X231,'Eigen QTH LOc'!$I$1)-0.5)*2.5,2))","v":1},{"$f":"IF(Z231>0,(MOD(ROUND((SEARCH(X231,'Eigen QTH LOc'!$I$1)-0.5)*2.5,2),TRUNC(Z231)))*60,0)","v":15},{"$f":"SEARCH(S231,'Eigen QTH LOc'!$I$1)*20-200+U231*2","v":{"$error":"#VALUE!"}},{"$f":"TRUNC((SEARCH(W231,'Eigen QTH LOc'!$I$1)-0.5)*5)","v":2},{"$f":"IF(AC231>0,(MOD((SEARCH(W231,'Eigen QTH LOc'!$I$1)-0.5)*5,TRUNC(AC231)))*60,0)","v":30},{"$error":"#VALUE!"},{"$error":"#VALUE!"},{"$f":"COS('Eigen QTH LOc'!$G$4-AF231)*SIN(PI()/2-AE231)*SIN(PI()/2-'Eigen QTH LOc'!$G$3)+COS(PI()/2-AE231)*COS(PI()/2-'Eigen QTH LOc'!$G$3)","v":{"$error":"#VALUE!"}},{"$error":"#VALUE!"},"ABCDEFGHIJKLMNOPQRSTUVWXABCDEFGHIJKLMNOPQRSTUVWX","\"0123456789\"",{"$f":"IF(B231>0,IF(K231=Infoblad!$C$6,0.5,0.5+AH231*40076.59/2/PI()),\" \")","v":" "},""]
[null,null," ",{"$f":"IF(B232>0,VASTETIJD(C232)-Infoblad!$C$29,\" \")","v":" "}," ",220," ",null,null,null,null,null,{"$f":"IF(L232>0,VLOOKUP(L232,Punten!$B$3:$C$109,2,FALSE),\" \")","v":" "},null," ",null,null,null,"","","","","","",{"$f":"SEARCH(T232,'Eigen QTH LOc'!$I$1)*10-100+V232","v":{"$error":"#VALUE!"}},{"$f":"TRUNC(ROUND((SEARCH(X232,'Eigen QTH LOc'!$I$1)-0.5)*2.5,2))","v":1},{"$f":"IF(Z232>0,(MOD(ROUND((SEARCH(X232,'Eigen QTH LOc'!$I$1)-0.5)*2.5,2),TRUNC(Z232)))*60,0)","v":15},{"$f":"SEARCH(S232,'Eigen QTH LOc'!$I$1)*20-200+U232*2","v":{"$error":"#VALUE!"}},{"$f":"TRUNC((SEARCH(W232,'Eigen QTH LOc'!$I$1)-0.5)*5)","v":2},{"$f":"IF(AC232>0,(MOD((SEARCH(W232,'Eigen QTH LOc'!$I$1)-0.5)*5,TRUNC(AC232)))*60,0)","v":30},{"$error":"#VALUE!"},{"$error":"#VALUE!"},{"$f":"COS('Eigen QTH LOc'!$G$4-AF232)*SIN(PI()/2-AE232)*SIN(PI()/2-'Eigen QTH LOc'!$G$3)+COS(PI()/2-AE232)*COS(PI()/2-'Eigen QTH LOc'!$G$3)","v":{"$error":"#VALUE!"}},{"$error":"#VALUE!"},"ABCDEFGHIJKLMNOPQRSTUVWXABCDEFGHIJKLMNOPQRSTUVWX","\"0123456789\"",{"$f":"IF(B232>0,IF(K232=Infoblad!$C$6,0.5,0.5+AH232*40076.59/2/PI()),\" \")","v":" "},""]
[null,null," ",{"$f":"IF(B233>0,VASTETIJD(C233)-Infoblad!$C$29,\" \")","v":" "}," ",221," ",null,null,null,null,null,{"$f":"IF(L233>0,VLOOKUP(L233,Punten!$B$3:$C$109,2,FALSE),\" \")","v":" "},null," ",null,null,null,"","","","","","",{"$f":"SEARCH(T233,'Eigen QTH LOc'!$I$1)*10-100+V233","v":{"$error":"#VALUE!"}},{"$f":"TRUNC(ROUND((SEARCH(X233,'Eigen QTH LOc'!$I$1)-0.5)*2.5,2))","v":1},{"$f":"IF(Z233>0,(MOD(ROUND((SEARCH(X233,'Eigen QTH LOc'!$I$1)-0.5)*2.5,2),TRUNC(Z233)))*60,0)","v":15},{"$f":"SEARCH(S233,'Eigen QTH LOc'!$I$1)*20-200+U233*2","v":{"$error":"#VALUE!"}},{"$f":"TRUNC((SEARCH(W233,'Eigen QTH LOc'!$I$1)-0.5)*5)","v":2},{"$f":"IF(AC233>0,(MOD((SEARCH(W233,'Eigen QTH LOc'!$I$1)-0.5)*5,TRUNC(AC233)))*60,0)","v":30},{"$error":"#VALUE!"},{"$error":"#VALUE!"},{"$f":"COS('Eigen QTH LOc'!$G$4-AF233)*SIN(PI()/2-AE233)*SIN(PI()/2-'Eigen QTH LOc'!$G$3)+COS(PI()/2-AE233)*COS(PI()/2-'Eigen QTH LOc'!$G$3)","v":{"$error":"#VALUE!"}},{"$error":"#VALUE!"},"ABCDEFGHIJKLMNOPQRSTUVWXABCDEFGHIJKLMNOPQRSTUVWX","\"0123456789\"",{"$f":"IF(B233>0,IF(K233=Infoblad!$C$6,0.5,0.5+AH233*40076.59/2/PI()),\" \")","v":" "},""]
[null,null," ",{"$f":"IF(B234>0,VASTETIJD(C234)-Infoblad!$C$29,\" \")","v":" "}," ",222," ",null,null,null,null,null,{"$f":"IF(L234>0,VLOOKUP(L234,Punten!$B$3:$C$109,2,FALSE),\" \")","v":" "},null," ",null,null,null,"","","","","","",{"$f":"SEARCH(T234,'Eigen QTH LOc'!$I$1)*10-100+V234","v":{"$error":"#VALUE!"}},{"$f":"TRUNC(ROUND((SEARCH(X234,'Eigen QTH LOc'!$I$1)-0.5)*2.5,2))","v":1},{"$f":"IF(Z234>0,(MOD(ROUND((SEARCH(X234,'Eigen QTH LOc'!$I$1)-0.5)*2.5,2),TRUNC(Z234)))*60,0)","v":15},{"$f":"SEARCH(S234,'Eigen QTH LOc'!$I$1)*20-200+U234*2","v":{"$error":"#VALUE!"}},{"$f":"TRUNC((SEARCH(W234,'Eigen QTH LOc'!$I$1)-0.5)*5)","v":2},{"$f":"IF(AC234>0,(MOD((SEARCH(W234,'Eigen QTH LOc'!$I$1)-0.5)*5,TRUNC(AC234)))*60,0)","v":30},{"$error":"#VALUE!"},{"$error":"#VALUE!"},{"$f":"COS('Eigen QTH LOc'!$G$4-AF234)*SIN(PI()/2-AE234)*SIN(PI()/2-'Eigen QTH LOc'!$G$3)+COS(PI()/2-AE234)*COS(PI()/2-'Eigen QTH LOc'!$G$3)","v":{"$error":"#VALUE!"}},{"$error":"#VALUE!"},"ABCDEFGHIJKLMNOPQRSTUVWXABCDEFGHIJKLMNOPQRSTUVWX","\"0123456789\"",{"$f":"IF(B234>0,IF(K234=Infoblad!$C$6,0.5,0.5+AH234*40076.59/2/PI()),\" \")","v":" "},""]
[null,null," ",{"$f":"IF(B235>0,VASTETIJD(C235)-Infoblad!$C$29,\" \")","v":" "}," ",223," ",null,null,null,null,null,{"$f":"IF(L235>0,VLOOKUP(L235,Punten!$B$3:$C$109,2,FALSE),\" \")","v":" "},null," ",null,null,null,"","","","","","",{"$f":"SEARCH(T235,'Eigen QTH LOc'!$I$1)*10-100+V235","v":{"$error":"#VALUE!"}},{"$f":"TRUNC(ROUND((SEARCH(X235,'Eigen QTH LOc'!$I$1)-0.5)*2.5,2))","v":1},{"$f":"IF(Z235>0,(MOD(ROUND((SEARCH(X235,'Eigen QTH LOc'!$I$1)-0.5)*2.5,2),TRUNC(Z235)))*60,0)","v":15},{"$f":"SEARCH(S235,'Eigen QTH LOc'!$I$1)*20-200+U235*2","v":{"$error":"#VALUE!"}},{"$f":"TRUNC((SEARCH(W235,'Eigen QTH LOc'!$I$1)-0.5)*5)","v":2},{"$f":"IF(AC235>0,(MOD((SEARCH(W235,'Eigen QTH LOc'!$I$1)-0.5)*5,TRUNC(AC235)))*60,0)","v":30},{"$error":"#VALUE!"},{"$error":"#VALUE!"},{"$f":"COS('Eigen QTH LOc'!$G$4-AF235)*SIN(PI()/2-AE235)*SIN(PI()/2-'Eigen QTH LOc'!$G$3)+COS(PI()/2-AE235)*COS(PI()/2-'Eigen QTH LOc'!$G$3)","v":{"$error":"#VALUE!"}},{"$error":"#VALUE!"},"ABCDEFGHIJKLMNOPQRSTUVWXABCDEFGHIJKLMNOPQRSTUVWX","\"0123456789\"",{"$f":"IF(B235>0,IF(K235=Infoblad!$C$6,0.5,0.5+AH235*40076.59/2/PI()),\" \")","v":" "},""]
[null,null," ",{"$f":"IF(B236>0,VASTETIJD(C236)-Infoblad!$C$29,\" \")","v":" "}," ",224," ",null,null,null,null,null,{"$f":"IF(L236>0,VLOOKUP(L236,Punten!$B$3:$C$109,2,FALSE),\" \")","v":" "},null," ",null,null,null,"","","","","","",{"$f":"SEARCH(T236,'Eigen QTH LOc'!$I$1)*10-100+V236","v":{"$error":"#VALUE!"}},{"$f":"TRUNC(ROUND((SEARCH(X236,'Eigen QTH LOc'!$I$1)-0.5)*2.5,2))","v":1},{"$f":"IF(Z236>0,(MOD(ROUND((SEARCH(X236,'Eigen QTH LOc'!$I$1)-0.5)*2.5,2),TRUNC(Z236)))*60,0)","v":15},{"$f":"SEARCH(S236,'Eigen QTH LOc'!$I$1)*20-200+U236*2","v":{"$error":"#VALUE!"}},{"$f":"TRUNC((SEARCH(W236,'Eigen QTH LOc'!$I$1)-0.5)*5)","v":2},{"$f":"IF(AC236>0,(MOD((SEARCH(W236,'Eigen QTH LOc'!$I$1)-0.5)*5,TRUNC(AC236)))*60,0)","v":30},{"$error":"#VALUE!"},{"$error":"#VALUE!"},{"$f":"COS('Eigen QTH LOc'!$G$4-AF236)*SIN(PI()/2-AE236)*SIN(PI()/2-'Eigen QTH LOc'!$G$3)+COS(PI()/2-AE236)*COS(PI()/2-'Eigen QTH LOc'!$G$3)","v":{"$error":"#VALUE!"}},{"$error":"#VALUE!"},"ABCDEFGHIJKLMNOPQRSTUVWXABCDEFGHIJKLMNOPQRSTUVWX","\"0123456789\"",{"$f":"IF(B236>0,IF(K236=Infoblad!$C$6,0.5,0.5+AH236*40076.59/2/PI()),\" \")","v":" "},""]
[null,null," ",{"$f":"IF(B237>0,VASTETIJD(C237)-Infoblad!$C$29,\" \")","v":" "}," ",225," ",null,null,null,null,null,{"$f":"IF(L237>0,VLOOKUP(L237,Punten!$B$3:$C$109,2,FALSE),\" \")","v":" "},null," ",null,null,null,"","","","","","",{"$f":"SEARCH(T237,'Eigen QTH LOc'!$I$1)*10-100+V237","v":{"$error":"#VALUE!"}},{"$f":"TRUNC(ROUND((SEARCH(X237,'Eigen QTH LOc'!$I$1)-0.5)*2.5,2))","v":1},{"$f":"IF(Z237>0,(MOD(ROUND((SEARCH(X237,'Eigen QTH LOc'!$I$1)-0.5)*2.5,2),TRUNC(Z237)))*60,0)","v":15},{"$f":"SEARCH(S237,'Eigen QTH LOc'!$I$1)*20-200+U237*2","v":{"$error":"#VALUE!"}},{"$f":"TRUNC((SEARCH(W237,'Eigen QTH LOc'!$I$1)-0.5)*5)","v":2},{"$f":"IF(AC237>0,(MOD((SEARCH(W237,'Eigen QTH LOc'!$I$1)-0.5)*5,TRUNC(AC237)))*60,0)","v":30},{"$error":"#VALUE!"},{"$error":"#VALUE!"},{"$f":"COS('Eigen QTH LOc'!$G$4-AF237)*SIN(PI()/2-AE237)*SIN(PI()/2-'Eigen QTH LOc'!$G$3)+COS(PI()/2-AE237)*COS(PI()/2-'Eigen QTH LOc'!$G$3)","v":{"$error":"#VALUE!"}},{"$error":"#VALUE!"},"ABCDEFGHIJKLMNOPQRSTUVWXABCDEFGHIJKLMNOPQRSTUVWX","\"0123456789\"",{"$f":"IF(B237>0,IF(K237=Infoblad!$C$6,0.5,0.5+AH237*40076.59/2/PI()),\" \")","v":" "},""]
[null,null," ",{"$f":"IF(B238>0,VASTETIJD(C238)-Infoblad!$C$29,\" \")","v":" "}," ",226," ",null,null,null,null,null,{"$f":"IF(L238>0,VLOOKUP(L238,Punten!$B$3:$C$109,2,FALSE),\" \")","v":" "},null," ",null,null,null,"","","","","","",{"$f":"SEARCH(T238,'Eigen QTH LOc'!$I$1)*10-100+V238","v":{"$error":"#VALUE!"}},{"$f":"TRUNC(ROUND((SEARCH(X238,'Eigen QTH LOc'!$I$1)-0.5)*2.5,2))","v":1},{"$f":"IF(Z238>0,(MOD(ROUND((SEARCH(X238,'Eigen QTH LOc'!$I$1)-0.5)*2.5,2),TRUNC(Z238)))*60,0)","v":15},{"$f":"SEARCH(S238,'Eigen QTH LOc'!$I$1)*20-200+U238*2","v":{"$error":"#VALUE!"}},{"$f":"TRUNC((SEARCH(W238,'Eigen QTH LOc'!$I$1)-0.5)*5)","v":2},{"$f":"IF(AC238>0,(MOD((SEARCH(W238,'Eigen QTH LOc'!$I$1)-0.5)*5,TRUNC(AC238)))*60,0)","v":30},{"$error":"#VALUE!"},{"$error":"#VALUE!"},{"$f":"COS('Eigen QTH LOc'!$G$4-AF238)*SIN(PI()/2-AE238)*SIN(PI()/2-'Eigen QTH LOc'!$G$3)+COS(PI()/2-AE238)*COS(PI()/2-'Eigen QTH LOc'!$G$3)","v":{"$error":"#VALUE!"}},{"$error":"#VALUE!"},"ABCDEFGHIJKLMNOPQRSTUVWXABCDEFGHIJKLMNOPQRSTUVWX","\"0123456789\"",{"$f":"IF(B238>0,IF(K238=Infoblad!$C$6,0.5,0.5+AH238*40076.59/2/PI()),\" \")","v":" "},""]
[null,null," ",{"$f":"IF(B239>0,VASTETIJD(C239)-Infoblad!$C$29,\" \")","v":" "}," ",227," ",null,null,null,null,null,{"$f":"IF(L239>0,VLOOKUP(L239,Punten!$B$3:$C$109,2,FALSE),\" \")","v":" "},null," ",null,null,null,"","","","","","",{"$f":"SEARCH(T239,'Eigen QTH LOc'!$I$1)*10-100+V239","v":{"$error":"#VALUE!"}},{"$f":"TRUNC(ROUND((SEARCH(X239,'Eigen QTH LOc'!$I$1)-0.5)*2.5,2))","v":1},{"$f":"IF(Z239>0,(MOD(ROUND((SEARCH(X239,'Eigen QTH LOc'!$I$1)-0.5)*2.5,2),TRUNC(Z239)))*60,0)","v":15},{"$f":"SEARCH(S239,'Eigen QTH LOc'!$I$1)*20-200+U239*2","v":{"$error":"#VALUE!"}},{"$f":"TRUNC((SEARCH(W239,'Eigen QTH LOc'!$I$1)-0.5)*5)","v":2},{"$f":"IF(AC239>0,(MOD((SEARCH(W239,'Eigen QTH LOc'!$I$1)-0.5)*5,TRUNC(AC239)))*60,0)","v":30},{"$error":"#VALUE!"},{"$error":"#VALUE!"},{"$f":"COS('Eigen QTH LOc'!$G$4-AF239)*SIN(PI()/2-AE239)*SIN(PI()/2-'Eigen QTH LOc'!$G$3)+COS(PI()/2-AE239)*COS(PI()/2-'Eigen QTH LOc'!$G$3)","v":{"$error":"#VALUE!"}},{"$error":"#VALUE!"},"ABCDEFGHIJKLMNOPQRSTUVWXABCDEFGHIJKLMNOPQRSTUVWX","\"0123456789\"",{"$f":"IF(B239>0,IF(K239=Infoblad!$C$6,0.5,0.5+AH239*40076.59/2/PI()),\" \")","v":" "},""]
[null,null," ",{"$f":"IF(B240>0,VASTETIJD(C240)-Infoblad!$C$29,\" \")","v":" "}," ",228," ",null,null,null,null,null,{"$f":"IF(L240>0,VLOOKUP(L240,Punten!$B$3:$C$109,2,FALSE),\" \")","v":" "},null," ",null,null,null,"","","","","","",{"$f":"SEARCH(T240,'Eigen QTH LOc'!$I$1)*10-100+V240","v":{"$error":"#VALUE!"}},{"$f":"TRUNC(ROUND((SEARCH(X240,'Eigen QTH LOc'!$I$1)-0.5)*2.5,2))","v":1},{"$f":"IF(Z240>0,(MOD(ROUND((SEARCH(X240,'Eigen QTH LOc'!$I$1)-0.5)*2.5,2),TRUNC(Z240)))*60,0)","v":15},{"$f":"SEARCH(S240,'Eigen QTH LOc'!$I$1)*20-200+U240*2","v":{"$error":"#VALUE!"}},{"$f":"TRUNC((SEARCH(W240,'Eigen QTH LOc'!$I$1)-0.5)*5)","v":2},{"$f":"IF(AC240>0,(MOD((SEARCH(W240,'Eigen QTH LOc'!$I$1)-0.5)*5,TRUNC(AC240)))*60,0)","v":30},{"$error":"#VALUE!"},{"$error":"#VALUE!"},{"$f":"COS('Eigen QTH LOc'!$G$4-AF240)*SIN(PI()/2-AE240)*SIN(PI()/2-'Eigen QTH LOc'!$G$3)+COS(PI()/2-AE240)*COS(PI()/2-'Eigen QTH LOc'!$G$3)","v":{"$error":"#VALUE!"}},{"$error":"#VALUE!"},"ABCDEFGHIJKLMNOPQRSTUVWXABCDEFGHIJKLMNOPQRSTUVWX","\"0123456789\"",{"$f":"IF(B240>0,IF(K240=Infoblad!$C$6,0.5,0.5+AH240*40076.59/2/PI()),\" \")","v":" "},""]
[null,null," ",{"$f":"IF(B241>0,VASTETIJD(C241)-Infoblad!$C$29,\" \")","v":" "}," ",229," ",null,null,null,null,null,{"$f":"IF(L241>0,VLOOKUP(L241,Punten!$B$3:$C$109,2,FALSE),\" \")","v":" "},null," ",null,null,null,"","","","","","",{"$f":"SEARCH(T241,'Eigen QTH LOc'!$I$1)*10-100+V241","v":{"$error":"#VALUE!"}},{"$f":"TRUNC(ROUND((SEARCH(X241,'Eigen QTH LOc'!$I$1)-0.5)*2.5,2))","v":1},{"$f":"IF(Z241>0,(MOD(ROUND((SEARCH(X241,'Eigen QTH LOc'!$I$1)-0.5)*2.5,2),TRUNC(Z241)))*60,0)","v":15},{"$f":"SEARCH(S241,'Eigen QTH LOc'!$I$1)*20-200+U241*2","v":{"$error":"#VALUE!"}},{"$f":"TRUNC((SEARCH(W241,'Eigen QTH LOc'!$I$1)-0.5)*5)","v":2},{"$f":"IF(AC241>0,(MOD((SEARCH(W241,'Eigen QTH LOc'!$I$1)-0.5)*5,TRUNC(AC241)))*60,0)","v":30},{"$error":"#VALUE!"},{"$error":"#VALUE!"},{"$f":"COS('Eigen QTH LOc'!$G$4-AF241)*SIN(PI()/2-AE241)*SIN(PI()/2-'Eigen QTH LOc'!$G$3)+COS(PI()/2-AE241)*COS(PI()/2-'Eigen QTH LOc'!$G$3)","v":{"$error":"#VALUE!"}},{"$error":"#VALUE!"},"ABCDEFGHIJKLMNOPQRSTUVWXABCDEFGHIJKLMNOPQRSTUVWX","\"0123456789\"",{"$f":"IF(B241>0,IF(K241=Infoblad!$C$6,0.5,0.5+AH241*40076.59/2/PI()),\" \")","v":" "},""]
[null,null," ",{"$f":"IF(B242>0,VASTETIJD(C242)-Infoblad!$C$29,\" \")","v":" "}," ",230," ",null,null,null,null,null,{"$f":"IF(L242>0,VLOOKUP(L242,Punten!$B$3:$C$109,2,FALSE),\" \")","v":" "},null," ",null,null,null,"","","","","","",{"$f":"SEARCH(T242,'Eigen QTH LOc'!$I$1)*10-100+V242","v":{"$error":"#VALUE!"}},{"$f":"TRUNC(ROUND((SEARCH(X242,'Eigen QTH LOc'!$I$1)-0.5)*2.5,2))","v":1},{"$f":"IF(Z242>0,(MOD(ROUND((SEARCH(X242,'Eigen QTH LOc'!$I$1)-0.5)*2.5,2),TRUNC(Z242)))*60,0)","v":15},{"$f":"SEARCH(S242,'Eigen QTH LOc'!$I$1)*20-200+U242*2","v":{"$error":"#VALUE!"}},{"$f":"TRUNC((SEARCH(W242,'Eigen QTH LOc'!$I$1)-0.5)*5)","v":2},{"$f":"IF(AC242>0,(MOD((SEARCH(W242,'Eigen QTH LOc'!$I$1)-0.5)*5,TRUNC(AC242)))*60,0)","v":30},{"$error":"#VALUE!"},{"$error":"#VALUE!"},{"$f":"COS('Eigen QTH LOc'!$G$4-AF242)*SIN(PI()/2-AE242)*SIN(PI()/2-'Eigen QTH LOc'!$G$3)+COS(PI()/2-AE242)*COS(PI()/2-'Eigen QTH LOc'!$G$3)","v":{"$error":"#VALUE!"}},{"$error":"#VALUE!"},"ABCDEFGHIJKLMNOPQRSTUVWXABCDEFGHIJKLMNOPQRSTUVWX","\"0123456789\"",{"$f":"IF(B242>0,IF(K242=Infoblad!$C$6,0.5,0.5+AH242*40076.59/2/PI()),\" \")","v":" "},""]
[null,null," ",{"$f":"IF(B243>0,VASTETIJD(C243)-Infoblad!$C$29,\" \")","v":" "}," ",231," ",null,null,null,null,null,{"$f":"IF(L243>0,VLOOKUP(L243,Punten!$B$3:$C$109,2,FALSE),\" \")","v":" "},null," ",null,null,null,"","","","","","",{"$f":"SEARCH(T243,'Eigen QTH LOc'!$I$1)*10-100+V243","v":{"$error":"#VALUE!"}},{"$f":"TRUNC(ROUND((SEARCH(X243,'Eigen QTH LOc'!$I$1)-0.5)*2.5,2))","v":1},{"$f":"IF(Z243>0,(MOD(ROUND((SEARCH(X243,'Eigen QTH LOc'!$I$1)-0.5)*2.5,2),TRUNC(Z243)))*60,0)","v":15},{"$f":"SEARCH(S243,'Eigen QTH LOc'!$I$1)*20-200+U243*2","v":{"$error":"#VALUE!"}},{"$f":"TRUNC((SEARCH(W243,'Eigen QTH LOc'!$I$1)-0.5)*5)","v":2},{"$f":"IF(AC243>0,(MOD((SEARCH(W243,'Eigen QTH LOc'!$I$1)-0.5)*5,TRUNC(AC243)))*60,0)","v":30},{"$error":"#VALUE!"},{"$error":"#VALUE!"},{"$f":"COS('Eigen QTH LOc'!$G$4-AF243)*SIN(PI()/2-AE243)*SIN(PI()/2-'Eigen QTH LOc'!$G$3)+COS(PI()/2-AE243)*COS(PI()/2-'Eigen QTH LOc'!$G$3)","v":{"$error":"#VALUE!"}},{"$error":"#VALUE!"},"ABCDEFGHIJKLMNOPQRSTUVWXABCDEFGHIJKLMNOPQRSTUVWX","\"0123456789\"",{"$f":"IF(B243>0,IF(K243=Infoblad!$C$6,0.5,0.5+AH243*40076.59/2/PI()),\" \")","v":" "},""]
[null,null," ",{"$f":"IF(B244>0,VASTETIJD(C244)-Infoblad!$C$29,\" \")","v":" "}," ",232," ",null,null,null,null,null,{"$f":"IF(L244>0,VLOOKUP(L244,Punten!$B$3:$C$109,2,FALSE),\" \")","v":" "},null," ",null,null,null,"","","","","","",{"$f":"SEARCH(T244,'Eigen QTH LOc'!$I$1)*10-100+V244","v":{"$error":"#VALUE!"}},{"$f":"TRUNC(ROUND((SEARCH(X244,'Eigen QTH LOc'!$I$1)-0.5)*2.5,2))","v":1},{"$f":"IF(Z244>0,(MOD(ROUND((SEARCH(X244,'Eigen QTH LOc'!$I$1)-0.5)*2.5,2),TRUNC(Z244)))*60,0)","v":15},{"$f":"SEARCH(S244,'Eigen QTH LOc'!$I$1)*20-200+U244*2","v":{"$error":"#VALUE!"}},{"$f":"TRUNC((SEARCH(W244,'Eigen QTH LOc'!$I$1)-0.5)*5)","v":2},{"$f":"IF(AC244>0,(MOD((SEARCH(W244,'Eigen QTH LOc'!$I$1)-0.5)*5,TRUNC(AC244)))*60,0)","v":30},{"$error":"#VALUE!"},{"$error":"#VALUE!"},{"$f":"COS('Eigen QTH LOc'!$G$4-AF244)*SIN(PI()/2-AE244)*SIN(PI()/2-'Eigen QTH LOc'!$G$3)+COS(PI()/2-AE244)*COS(PI()/2-'Eigen QTH LOc'!$G$3)","v":{"$error":"#VALUE!"}},{"$error":"#VALUE!"},"ABCDEFGHIJKLMNOPQRSTUVWXABCDEFGHIJKLMNOPQRSTUVWX","\"0123456789\"",{"$f":"IF(B244>0,IF(K244=Infoblad!$C$6,0.5,0.5+AH244*40076.59/2/PI()),\" \")","v":" "},""]
[null,null," ",{"$f":"IF(B245>0,VASTETIJD(C245)-Infoblad!$C$29,\" \")","v":" "}," ",233," ",null,null,null,null,null,{"$f":"IF(L245>0,VLOOKUP(L245,Punten!$B$3:$C$109,2,FALSE),\" \")","v":" "},null," ",null,null,null,"","","","","","",{"$f":"SEARCH(T245,'Eigen QTH LOc'!$I$1)*10-100+V245","v":{"$error":"#VALUE!"}},{"$f":"TRUNC(ROUND((SEARCH(X245,'Eigen QTH LOc'!$I$1)-0.5)*2.5,2))","v":1},{"$f":"IF(Z245>0,(MOD(ROUND((SEARCH(X245,'Eigen QTH LOc'!$I$1)-0.5)*2.5,2),TRUNC(Z245)))*60,0)","v":15},{"$f":"SEARCH(S245,'Eigen QTH LOc'!$I$1)*20-200+U245*2","v":{"$error":"#VALUE!"}},{"$f":"TRUNC((SEARCH(W245,'Eigen QTH LOc'!$I$1)-0.5)*5)","v":2},{"$f":"IF(AC245>0,(MOD((SEARCH(W245,'Eigen QTH LOc'!$I$1)-0.5)*5,TRUNC(AC245)))*60,0)","v":30},{"$error":"#VALUE!"},{"$error":"#VALUE!"},{"$f":"COS('Eigen QTH LOc'!$G$4-AF245)*SIN(PI()/2-AE245)*SIN(PI()/2-'Eigen QTH LOc'!$G$3)+COS(PI()/2-AE245)*COS(PI()/2-'Eigen QTH LOc'!$G$3)","v":{"$error":"#VALUE!"}},{"$error":"#VALUE!"},"ABCDEFGHIJKLMNOPQRSTUVWXABCDEFGHIJKLMNOPQRSTUVWX","\"0123456789\"",{"$f":"IF(B245>0,IF(K245=Infoblad!$C$6,0.5,0.5+AH245*40076.59/2/PI()),\" \")","v":" "},""]
[null,null," ",{"$f":"IF(B246>0,VASTETIJD(C246)-Infoblad!$C$29,\" \")","v":" "}," ",234," ",null,null,null,null,null,{"$f":"IF(L246>0,VLOOKUP(L246,Punten!$B$3:$C$109,2,FALSE),\" \")","v":" "},null," ",null,null,null,"","","","","","",{"$f":"SEARCH(T246,'Eigen QTH LOc'!$I$1)*10-100+V246","v":{"$error":"#VALUE!"}},{"$f":"TRUNC(ROUND((SEARCH(X246,'Eigen QTH LOc'!$I$1)-0.5)*2.5,2))","v":1},{"$f":"IF(Z246>0,(MOD(ROUND((SEARCH(X246,'Eigen QTH LOc'!$I$1)-0.5)*2.5,2),TRUNC(Z246)))*60,0)","v":15},{"$f":"SEARCH(S246,'Eigen QTH LOc'!$I$1)*20-200+U246*2","v":{"$error":"#VALUE!"}},{"$f":"TRUNC((SEARCH(W246,'Eigen QTH LOc'!$I$1)-0.5)*5)","v":2},{"$f":"IF(AC246>0,(MOD((SEARCH(W246,'Eigen QTH LOc'!$I$1)-0.5)*5,TRUNC(AC246)))*60,0)","v":30},{"$error":"#VALUE!"},{"$error":"#VALUE!"},{"$f":"COS('Eigen QTH LOc'!$G$4-AF246)*SIN(PI()/2-AE246)*SIN(PI()/2-'Eigen QTH LOc'!$G$3)+COS(PI()/2-AE246)*COS(PI()/2-'Eigen QTH LOc'!$G$3)","v":{"$error":"#VALUE!"}},{"$error":"#VALUE!"},"ABCDEFGHIJKLMNOPQRSTUVWXABCDEFGHIJKLMNOPQRSTUVWX","\"0123456789\"",{"$f":"IF(B246>0,IF(K246=Infoblad!$C$6,0.5,0.5+AH246*40076.59/2/PI()),\" \")","v":" "},""]
[null,null," ",{"$f":"IF(B247>0,VASTETIJD(C247)-Infoblad!$C$29,\" \")","v":" "}," ",235," ",null,null,null,null,null,{"$f":"IF(L247>0,VLOOKUP(L247,Punten!$B$3:$C$109,2,FALSE),\" \")","v":" "},null," ",null,null,null,"","","","","","",{"$f":"SEARCH(T247,'Eigen QTH LOc'!$I$1)*10-100+V247","v":{"$error":"#VALUE!"}},{"$f":"TRUNC(ROUND((SEARCH(X247,'Eigen QTH LOc'!$I$1)-0.5)*2.5,2))","v":1},{"$f":"IF(Z247>0,(MOD(ROUND((SEARCH(X247,'Eigen QTH LOc'!$I$1)-0.5)*2.5,2),TRUNC(Z247)))*60,0)","v":15},{"$f":"SEARCH(S247,'Eigen QTH LOc'!$I$1)*20-200+U247*2","v":{"$error":"#VALUE!"}},{"$f":"TRUNC((SEARCH(W247,'Eigen QTH LOc'!$I$1)-0.5)*5)","v":2},{"$f":"IF(AC247>0,(MOD((SEARCH(W247,'Eigen QTH LOc'!$I$1)-0.5)*5,TRUNC(AC247)))*60,0)","v":30},{"$error":"#VALUE!"},{"$error":"#VALUE!"},{"$f":"COS('Eigen QTH LOc'!$G$4-AF247)*SIN(PI()/2-AE247)*SIN(PI()/2-'Eigen QTH LOc'!$G$3)+COS(PI()/2-AE247)*COS(PI()/2-'Eigen QTH LOc'!$G$3)","v":{"$error":"#VALUE!"}},{"$error":"#VALUE!"},"ABCDEFGHIJKLMNOPQRSTUVWXABCDEFGHIJKLMNOPQRSTUVWX","\"0123456789\"",{"$f":"IF(B247>0,IF(K247=Infoblad!$C$6,0.5,0.5+AH247*40076.59/2/PI()),\" \")","v":" "},""]
[null,null," ",{"$f":"IF(B248>0,VASTETIJD(C248)-Infoblad!$C$29,\" \")","v":" "}," ",236," ",null,null,null,null,null,{"$f":"IF(L248>0,VLOOKUP(L248,Punten!$B$3:$C$109,2,FALSE),\" \")","v":" "},null," ",null,null,null,"","","","","","",{"$f":"SEARCH(T248,'Eigen QTH LOc'!$I$1)*10-100+V248","v":{"$error":"#VALUE!"}},{"$f":"TRUNC(ROUND((SEARCH(X248,'Eigen QTH LOc'!$I$1)-0.5)*2.5,2))","v":1},{"$f":"IF(Z248>0,(MOD(ROUND((SEARCH(X248,'Eigen QTH LOc'!$I$1)-0.5)*2.5,2),TRUNC(Z248)))*60,0)","v":15},{"$f":"SEARCH(S248,'Eigen QTH LOc'!$I$1)*20-200+U248*2","v":{"$error":"#VALUE!"}},{"$f":"TRUNC((SEARCH(W248,'Eigen QTH LOc'!$I$1)-0.5)*5)","v":2},{"$f":"IF(AC248>0,(MOD((SEARCH(W248,'Eigen QTH LOc'!$I$1)-0.5)*5,TRUNC(AC248)))*60,0)","v":30},{"$error":"#VALUE!"},{"$error":"#VALUE!"},{"$f":"COS('Eigen QTH LOc'!$G$4-AF248)*SIN(PI()/2-AE248)*SIN(PI()/2-'Eigen QTH LOc'!$G$3)+COS(PI()/2-AE248)*COS(PI()/2-'Eigen QTH LOc'!$G$3)","v":{"$error":"#VALUE!"}},{"$error":"#VALUE!"},"ABCDEFGHIJKLMNOPQRSTUVWXABCDEFGHIJKLMNOPQRSTUVWX","\"0123456789\"",{"$f":"IF(B248>0,IF(K248=Infoblad!$C$6,0.5,0.5+AH248*40076.59/2/PI()),\" \")","v":" "},""]
[null,null," ",{"$f":"IF(B249>0,VASTETIJD(C249)-Infoblad!$C$29,\" \")","v":" "}," ",237," ",null,null,null,null,null,{"$f":"IF(L249>0,VLOOKUP(L249,Punten!$B$3:$C$109,2,FALSE),\" \")","v":" "},null," ",null,null,null,"","","","","","",{"$f":"SEARCH(T249,'Eigen QTH LOc'!$I$1)*10-100+V249","v":{"$error":"#VALUE!"}},{"$f":"TRUNC(ROUND((SEARCH(X249,'Eigen QTH LOc'!$I$1)-0.5)*2.5,2))","v":1},{"$f":"IF(Z249>0,(MOD(ROUND((SEARCH(X249,'Eigen QTH LOc'!$I$1)-0.5)*2.5,2),TRUNC(Z249)))*60,0)","v":15},{"$f":"SEARCH(S249,'Eigen QTH LOc'!$I$1)*20-200+U249*2","v":{"$error":"#VALUE!"}},{"$f":"TRUNC((SEARCH(W249,'Eigen QTH LOc'!$I$1)-0.5)*5)","v":2},{"$f":"IF(AC249>0,(MOD((SEARCH(W249,'Eigen QTH LOc'!$I$1)-0.5)*5,TRUNC(AC249)))*60,0)","v":30},{"$error":"#VALUE!"},{"$error":"#VALUE!"},{"$f":"COS('Eigen QTH LOc'!$G$4-AF249)*SIN(PI()/2-AE249)*SIN(PI()/2-'Eigen QTH LOc'!$G$3)+COS(PI()/2-AE249)*COS(PI()/2-'Eigen QTH LOc'!$G$3)","v":{"$error":"#VALUE!"}},{"$error":"#VALUE!"},"ABCDEFGHIJKLMNOPQRSTUVWXABCDEFGHIJKLMNOPQRSTUVWX","\"0123456789\"",{"$f":"IF(B249>0,IF(K249=Infoblad!$C$6,0.5,0.5+AH249*40076.59/2/PI()),\" \")","v":" "},""]
[null,null," ",{"$f":"IF(B250>0,VASTETIJD(C250)-Infoblad!$C$29,\" \")","v":" "}," ",238," ",null,null,null,null,null,{"$f":"IF(L250>0,VLOOKUP(L250,Punten!$B$3:$C$109,2,FALSE),\" \")","v":" "},null," ",null,null,null,"","","","","","",{"$f":"SEARCH(T250,'Eigen QTH LOc'!$I$1)*10-100+V250","v":{"$error":"#VALUE!"}},{"$f":"TRUNC(ROUND((SEARCH(X250,'Eigen QTH LOc'!$I$1)-0.5)*2.5,2))","v":1},{"$f":"IF(Z250>0,(MOD(ROUND((SEARCH(X250,'Eigen QTH LOc'!$I$1)-0.5)*2.5,2),TRUNC(Z250)))*60,0)","v":15},{"$f":"SEARCH(S250,'Eigen QTH LOc'!$I$1)*20-200+U250*2","v":{"$error":"#VALUE!"}},{"$f":"TRUNC((SEARCH(W250,'Eigen QTH LOc'!$I$1)-0.5)*5)","v":2},{"$f":"IF(AC250>0,(MOD((SEARCH(W250,'Eigen QTH LOc'!$I$1)-0.5)*5,TRUNC(AC250)))*60,0)","v":30},{"$error":"#VALUE!"},{"$error":"#VALUE!"},{"$f":"COS('Eigen QTH LOc'!$G$4-AF250)*SIN(PI()/2-AE250)*SIN(PI()/2-'Eigen QTH LOc'!$G$3)+COS(PI()/2-AE250)*COS(PI()/2-'Eigen QTH LOc'!$G$3)","v":{"$error":"#VALUE!"}},{"$error":"#VALUE!"},"ABCDEFGHIJKLMNOPQRSTUVWXABCDEFGHIJKLMNOPQRSTUVWX","\"0123456789\"",{"$f":"IF(B250>0,IF(K250=Infoblad!$C$6,0.5,0.5+AH250*40076.59/2/PI()),\" \")","v":" "},""]
[null,null," ",{"$f":"IF(B251>0,VASTETIJD(C251)-Infoblad!$C$29,\" \")","v":" "}," ",239," ",null,null,null,null,null,{"$f":"IF(L251>0,VLOOKUP(L251,Punten!$B$3:$C$109,2,FALSE),\" \")","v":" "},null," ",null,null,null,"","","","","","",{"$f":"SEARCH(T251,'Eigen QTH LOc'!$I$1)*10-100+V251","v":{"$error":"#VALUE!"}},{"$f":"TRUNC(ROUND((SEARCH(X251,'Eigen QTH LOc'!$I$1)-0.5)*2.5,2))","v":1},{"$f":"IF(Z251>0,(MOD(ROUND((SEARCH(X251,'Eigen QTH LOc'!$I$1)-0.5)*2.5,2),TRUNC(Z251)))*60,0)","v":15},{"$f":"SEARCH(S251,'Eigen QTH LOc'!$I$1)*20-200+U251*2","v":{"$error":"#VALUE!"}},{"$f":"TRUNC((SEARCH(W251,'Eigen QTH LOc'!$I$1)-0.5)*5)","v":2},{"$f":"IF(AC251>0,(MOD((SEARCH(W251,'Eigen QTH LOc'!$I$1)-0.5)*5,TRUNC(AC251)))*60,0)","v":30},{"$error":"#VALUE!"},{"$error":"#VALUE!"},{"$f":"COS('Eigen QTH LOc'!$G$4-AF251)*SIN(PI()/2-AE251)*SIN(PI()/2-'Eigen QTH LOc'!$G$3)+COS(PI()/2-AE251)*COS(PI()/2-'Eigen QTH LOc'!$G$3)","v":{"$error":"#VALUE!"}},{"$error":"#VALUE!"},"ABCDEFGHIJKLMNOPQRSTUVWXABCDEFGHIJKLMNOPQRSTUVWX","\"0123456789\"",{"$f":"IF(B251>0,IF(K251=Infoblad!$C$6,0.5,0.5+AH251*40076.59/2/PI()),\" \")","v":" "},""]
[null,null," ",{"$f":"IF(B252>0,VASTETIJD(C252)-Infoblad!$C$29,\" \")","v":" "}," ",240," ",null,null,null,null,null,{"$f":"IF(L252>0,VLOOKUP(L252,Punten!$B$3:$C$109,2,FALSE),\" \")","v":" "},null," ",null,null,null,"","","","","","",{"$f":"SEARCH(T252,'Eigen QTH LOc'!$I$1)*10-100+V252","v":{"$error":"#VALUE!"}},{"$f":"TRUNC(ROUND((SEARCH(X252,'Eigen QTH LOc'!$I$1)-0.5)*2.5,2))","v":1},{"$f":"IF(Z252>0,(MOD(ROUND((SEARCH(X252,'Eigen QTH LOc'!$I$1)-0.5)*2.5,2),TRUNC(Z252)))*60,0)","v":15},{"$f":"SEARCH(S252,'Eigen QTH LOc'!$I$1)*20-200+U252*2","v":{"$error":"#VALUE!"}},{"$f":"TRUNC((SEARCH(W252,'Eigen QTH LOc'!$I$1)-0.5)*5)","v":2},{"$f":"IF(AC252>0,(MOD((SEARCH(W252,'Eigen QTH LOc'!$I$1)-0.5)*5,TRUNC(AC252)))*60,0)","v":30},{"$error":"#VALUE!"},{"$error":"#VALUE!"},{"$f":"COS('Eigen QTH LOc'!$G$4-AF252)*SIN(PI()/2-AE252)*SIN(PI()/2-'Eigen QTH LOc'!$G$3)+COS(PI()/2-AE252)*COS(PI()/2-'Eigen QTH LOc'!$G$3)","v":{"$error":"#VALUE!"}},{"$error":"#VALUE!"},"ABCDEFGHIJKLMNOPQRSTUVWXABCDEFGHIJKLMNOPQRSTUVWX","\"0123456789\"",{"$f":"IF(B252>0,IF(K252=Infoblad!$C$6,0.5,0.5+AH252*40076.59/2/PI()),\" \")","v":" "},""]
[null,null," ",{"$f":"IF(B253>0,VASTETIJD(C253)-Infoblad!$C$29,\" \")","v":" "}," ",241," ",null,null,null,null,null,{"$f":"IF(L253>0,VLOOKUP(L253,Punten!$B$3:$C$109,2,FALSE),\" \")","v":" "},null," ",null,null,null,"","","","","","",{"$f":"SEARCH(T253,'Eigen QTH LOc'!$I$1)*10-100+V253","v":{"$error":"#VALUE!"}},{"$f":"TRUNC(ROUND((SEARCH(X253,'Eigen QTH LOc'!$I$1)-0.5)*2.5,2))","v":1},{"$f":"IF(Z253>0,(MOD(ROUND((SEARCH(X253,'Eigen QTH LOc'!$I$1)-0.5)*2.5,2),TRUNC(Z253)))*60,0)","v":15},{"$f":"SEARCH(S253,'Eigen QTH LOc'!$I$1)*20-200+U253*2","v":{"$error":"#VALUE!"}},{"$f":"TRUNC((SEARCH(W253,'Eigen QTH LOc'!$I$1)-0.5)*5)","v":2},{"$f":"IF(AC253>0,(MOD((SEARCH(W253,'Eigen QTH LOc'!$I$1)-0.5)*5,TRUNC(AC253)))*60,0)","v":30},{"$error":"#VALUE!"},{"$error":"#VALUE!"},{"$f":"COS('Eigen QTH LOc'!$G$4-AF253)*SIN(PI()/2-AE253)*SIN(PI()/2-'Eigen QTH LOc'!$G$3)+COS(PI()/2-AE253)*COS(PI()/2-'Eigen QTH LOc'!$G$3)","v":{"$error":"#VALUE!"}},{"$error":"#VALUE!"},"ABCDEFGHIJKLMNOPQRSTUVWXABCDEFGHIJKLMNOPQRSTUVWX","\"0123456789\"",{"$f":"IF(B253>0,IF(K253=Infoblad!$C$6,0.5,0.5+AH253*40076.59/2/PI()),\" \")","v":" "},""]
[null,null," ",{"$f":"IF(B254>0,VASTETIJD(C254)-Infoblad!$C$29,\" \")","v":" "}," ",242," ",null,null,null,null,null,{"$f":"IF(L254>0,VLOOKUP(L254,Punten!$B$3:$C$109,2,FALSE),\" \")","v":" "},null," ",null,null,null,"","","","","","",{"$f":"SEARCH(T254,'Eigen QTH LOc'!$I$1)*10-100+V254","v":{"$error":"#VALUE!"}},{"$f":"TRUNC(ROUND((SEARCH(X254,'Eigen QTH LOc'!$I$1)-0.5)*2.5,2))","v":1},{"$f":"IF(Z254>0,(MOD(ROUND((SEARCH(X254,'Eigen QTH LOc'!$I$1)-0.5)*2.5,2),TRUNC(Z254)))*60,0)","v":15},{"$f":"SEARCH(S254,'Eigen QTH LOc'!$I$1)*20-200+U254*2","v":{"$error":"#VALUE!"}},{"$f":"TRUNC((SEARCH(W254,'Eigen QTH LOc'!$I$1)-0.5)*5)","v":2},{"$f":"IF(AC254>0,(MOD((SEARCH(W254,'Eigen QTH LOc'!$I$1)-0.5)*5,TRUNC(AC254)))*60,0)","v":30},{"$error":"#VALUE!"},{"$error":"#VALUE!"},{"$f":"COS('Eigen QTH LOc'!$G$4-AF254)*SIN(PI()/2-AE254)*SIN(PI()/2-'Eigen QTH LOc'!$G$3)+COS(PI()/2-AE254)*COS(PI()/2-'Eigen QTH LOc'!$G$3)","v":{"$error":"#VALUE!"}},{"$error":"#VALUE!"},"ABCDEFGHIJKLMNOPQRSTUVWXABCDEFGHIJKLMNOPQRSTUVWX","\"0123456789\"",{"$f":"IF(B254>0,IF(K254=Infoblad!$C$6,0.5,0.5+AH254*40076.59/2/PI()),\" \")","v":" "},""]
[null,null," ",{"$f":"IF(B255>0,VASTETIJD(C255)-Infoblad!$C$29,\" \")","v":" "}," ",243," ",null,null,null,null,null,{"$f":"IF(L255>0,VLOOKUP(L255,Punten!$B$3:$C$109,2,FALSE),\" \")","v":" "},null," ",null,null,null,"","","","","","",{"$f":"SEARCH(T255,'Eigen QTH LOc'!$I$1)*10-100+V255","v":{"$error":"#VALUE!"}},{"$f":"TRUNC(ROUND((SEARCH(X255,'Eigen QTH LOc'!$I$1)-0.5)*2.5,2))","v":1},{"$f":"IF(Z255>0,(MOD(ROUND((SEARCH(X255,'Eigen QTH LOc'!$I$1)-0.5)*2.5,2),TRUNC(Z255)))*60,0)","v":15},{"$f":"SEARCH(S255,'Eigen QTH LOc'!$I$1)*20-200+U255*2","v":{"$error":"#VALUE!"}},{"$f":"TRUNC((SEARCH(W255,'Eigen QTH LOc'!$I$1)-0.5)*5)","v":2},{"$f":"IF(AC255>0,(MOD((SEARCH(W255,'Eigen QTH LOc'!$I$1)-0.5)*5,TRUNC(AC255)))*60,0)","v":30},{"$error":"#VALUE!"},{"$error":"#VALUE!"},{"$f":"COS('Eigen QTH LOc'!$G$4-AF255)*SIN(PI()/2-AE255)*SIN(PI()/2-'Eigen QTH LOc'!$G$3)+COS(PI()/2-AE255)*COS(PI()/2-'Eigen QTH LOc'!$G$3)","v":{"$error":"#VALUE!"}},{"$error":"#VALUE!"},"ABCDEFGHIJKLMNOPQRSTUVWXABCDEFGHIJKLMNOPQRSTUVWX","\"0123456789\"",{"$f":"IF(B255>0,IF(K255=Infoblad!$C$6,0.5,0.5+AH255*40076.59/2/PI()),\" \")","v":" "},""]
[null,null," ",{"$f":"IF(B256>0,VASTETIJD(C256)-Infoblad!$C$29,\" \")","v":" "}," ",244," ",null,null,null,null,null,{"$f":"IF(L256>0,VLOOKUP(L256,Punten!$B$3:$C$109,2,FALSE),\" \")","v":" "},null," ",null,null,null,"","","","","","",{"$f":"SEARCH(T256,'Eigen QTH LOc'!$I$1)*10-100+V256","v":{"$error":"#VALUE!"}},{"$f":"TRUNC(ROUND((SEARCH(X256,'Eigen QTH LOc'!$I$1)-0.5)*2.5,2))","v":1},{"$f":"IF(Z256>0,(MOD(ROUND((SEARCH(X256,'Eigen QTH LOc'!$I$1)-0.5)*2.5,2),TRUNC(Z256)))*60,0)","v":15},{"$f":"SEARCH(S256,'Eigen QTH LOc'!$I$1)*20-200+U256*2","v":{"$error":"#VALUE!"}},{"$f":"TRUNC((SEARCH(W256,'Eigen QTH LOc'!$I$1)-0.5)*5)","v":2},{"$f":"IF(AC256>0,(MOD((SEARCH(W256,'Eigen QTH LOc'!$I$1)-0.5)*5,TRUNC(AC256)))*60,0)","v":30},{"$error":"#VALUE!"},{"$error":"#VALUE!"},{"$f":"COS('Eigen QTH LOc'!$G$4-AF256)*SIN(PI()/2-AE256)*SIN(PI()/2-'Eigen QTH LOc'!$G$3)+COS(PI()/2-AE256)*COS(PI()/2-'Eigen QTH LOc'!$G$3)","v":{"$error":"#VALUE!"}},{"$error":"#VALUE!"},"ABCDEFGHIJKLMNOPQRSTUVWXABCDEFGHIJKLMNOPQRSTUVWX","\"0123456789\"",{"$f":"IF(B256>0,IF(K256=Infoblad!$C$6,0.5,0.5+AH256*40076.59/2/PI()),\" \")","v":" "},""]
[null,null," ",{"$f":"IF(B257>0,VASTETIJD(C257)-Infoblad!$C$29,\" \")","v":" "}," ",245," ",null,null,null,null,null,{"$f":"IF(L257>0,VLOOKUP(L257,Punten!$B$3:$C$109,2,FALSE),\" \")","v":" "},null," ",null,null,null,"","","","","","",{"$f":"SEARCH(T257,'Eigen QTH LOc'!$I$1)*10-100+V257","v":{"$error":"#VALUE!"}},{"$f":"TRUNC(ROUND((SEARCH(X257,'Eigen QTH LOc'!$I$1)-0.5)*2.5,2))","v":1},{"$f":"IF(Z257>0,(MOD(ROUND((SEARCH(X257,'Eigen QTH LOc'!$I$1)-0.5)*2.5,2),TRUNC(Z257)))*60,0)","v":15},{"$f":"SEARCH(S257,'Eigen QTH LOc'!$I$1)*20-200+U257*2","v":{"$error":"#VALUE!"}},{"$f":"TRUNC((SEARCH(W257,'Eigen QTH LOc'!$I$1)-0.5)*5)","v":2},{"$f":"IF(AC257>0,(MOD((SEARCH(W257,'Eigen QTH LOc'!$I$1)-0.5)*5,TRUNC(AC257)))*60,0)","v":30},{"$error":"#VALUE!"},{"$error":"#VALUE!"},{"$f":"COS('Eigen QTH LOc'!$G$4-AF257)*SIN(PI()/2-AE257)*SIN(PI()/2-'Eigen QTH LOc'!$G$3)+COS(PI()/2-AE257)*COS(PI()/2-'Eigen QTH LOc'!$G$3)","v":{"$error":"#VALUE!"}},{"$error":"#VALUE!"},"ABCDEFGHIJKLMNOPQRSTUVWXABCDEFGHIJKLMNOPQRSTUVWX","\"0123456789\"",{"$f":"IF(B257>0,IF(K257=Infoblad!$C$6,0.5,0.5+AH257*40076.59/2/PI()),\" \")","v":" "},""]
[null,null," ",{"$f":"IF(B258>0,VASTETIJD(C258)-Infoblad!$C$29,\" \")","v":" "}," ",246," ",null,null,null,null,null,{"$f":"IF(L258>0,VLOOKUP(L258,Punten!$B$3:$C$109,2,FALSE),\" \")","v":" "},null," ",null,null,null,"","","","","","",{"$f":"SEARCH(T258,'Eigen QTH LOc'!$I$1)*10-100+V258","v":{"$error":"#VALUE!"}},{"$f":"TRUNC(ROUND((SEARCH(X258,'Eigen QTH LOc'!$I$1)-0.5)*2.5,2))","v":1},{"$f":"IF(Z258>0,(MOD(ROUND((SEARCH(X258,'Eigen QTH LOc'!$I$1)-0.5)*2.5,2),TRUNC(Z258)))*60,0)","v":15},{"$f":"SEARCH(S258,'Eigen QTH LOc'!$I$1)*20-200+U258*2","v":{"$error":"#VALUE!"}},{"$f":"TRUNC((SEARCH(W258,'Eigen QTH LOc'!$I$1)-0.5)*5)","v":2},{"$f":"IF(AC258>0,(MOD((SEARCH(W258,'Eigen QTH LOc'!$I$1)-0.5)*5,TRUNC(AC258)))*60,0)","v":30},{"$error":"#VALUE!"},{"$error":"#VALUE!"},{"$f":"COS('Eigen QTH LOc'!$G$4-AF258)*SIN(PI()/2-AE258)*SIN(PI()/2-'Eigen QTH LOc'!$G$3)+COS(PI()/2-AE258)*COS(PI()/2-'Eigen QTH LOc'!$G$3)","v":{"$error":"#VALUE!"}},{"$error":"#VALUE!"},"ABCDEFGHIJKLMNOPQRSTUVWXABCDEFGHIJKLMNOPQRSTUVWX","\"0123456789\"",{"$f":"IF(B258>0,IF(K258=Infoblad!$C$6,0.5,0.5+AH258*40076.59/2/PI()),\" \")","v":" "},""]
[null,null," ",{"$f":"IF(B259>0,VASTETIJD(C259)-Infoblad!$C$29,\" \")","v":" "}," ",247," ",null,null,null,null,null,{"$f":"IF(L259>0,VLOOKUP(L259,Punten!$B$3:$C$109,2,FALSE),\" \")","v":" "},null," ",null,null,null,"","","","","","",{"$f":"SEARCH(T259,'Eigen QTH LOc'!$I$1)*10-100+V259","v":{"$error":"#VALUE!"}},{"$f":"TRUNC(ROUND((SEARCH(X259,'Eigen QTH LOc'!$I$1)-0.5)*2.5,2))","v":1},{"$f":"IF(Z259>0,(MOD(ROUND((SEARCH(X259,'Eigen QTH LOc'!$I$1)-0.5)*2.5,2),TRUNC(Z259)))*60,0)","v":15},{"$f":"SEARCH(S259,'Eigen QTH LOc'!$I$1)*20-200+U259*2","v":{"$error":"#VALUE!"}},{"$f":"TRUNC((SEARCH(W259,'Eigen QTH LOc'!$I$1)-0.5)*5)","v":2},{"$f":"IF(AC259>0,(MOD((SEARCH(W259,'Eigen QTH LOc'!$I$1)-0.5)*5,TRUNC(AC259)))*60,0)","v":30},{"$error":"#VALUE!"},{"$error":"#VALUE!"},{"$f":"COS('Eigen QTH LOc'!$G$4-AF259)*SIN(PI()/2-AE259)*SIN(PI()/2-'Eigen QTH LOc'!$G$3)+COS(PI()/2-AE259)*COS(PI()/2-'Eigen QTH LOc'!$G$3)","v":{"$error":"#VALUE!"}},{"$error":"#VALUE!"},"ABCDEFGHIJKLMNOPQRSTUVWXABCDEFGHIJKLMNOPQRSTUVWX","\"0123456789\"",{"$f":"IF(B259>0,IF(K259=Infoblad!$C$6,0.5,0.5+AH259*40076.59/2/PI()),\" \")","v":" "},""]
[null,null," ",{"$f":"IF(B260>0,VASTETIJD(C260)-Infoblad!$C$29,\" \")","v":" "}," ",248," ",null,null,null,null,null,{"$f":"IF(L260>0,VLOOKUP(L260,Punten!$B$3:$C$109,2,FALSE),\" \")","v":" "},null," ",null,null,null,"","","","","","",{"$f":"SEARCH(T260,'Eigen QTH LOc'!$I$1)*10-100+V260","v":{"$error":"#VALUE!"}},{"$f":"TRUNC(ROUND((SEARCH(X260,'Eigen QTH LOc'!$I$1)-0.5)*2.5,2))","v":1},{"$f":"IF(Z260>0,(MOD(ROUND((SEARCH(X260,'Eigen QTH LOc'!$I$1)-0.5)*2.5,2),TRUNC(Z260)))*60,0)","v":15},{"$f":"SEARCH(S260,'Eigen QTH LOc'!$I$1)*20-200+U260*2","v":{"$error":"#VALUE!"}},{"$f":"TRUNC((SEARCH(W260,'Eigen QTH LOc'!$I$1)-0.5)*5)","v":2},{"$f":"IF(AC260>0,(MOD((SEARCH(W260,'Eigen QTH LOc'!$I$1)-0.5)*5,TRUNC(AC260)))*60,0)","v":30},{"$error":"#VALUE!"},{"$error":"#VALUE!"},{"$f":"COS('Eigen QTH LOc'!$G$4-AF260)*SIN(PI()/2-AE260)*SIN(PI()/2-'Eigen QTH LOc'!$G$3)+COS(PI()/2-AE260)*COS(PI()/2-'Eigen QTH LOc'!$G$3)","v":{"$error":"#VALUE!"}},{"$error":"#VALUE!"},"ABCDEFGHIJKLMNOPQRSTUVWXABCDEFGHIJKLMNOPQRSTUVWX","\"0123456789\"",{"$f":"IF(B260>0,IF(K260=Infoblad!$C$6,0.5,0.5+AH260*40076.59/2/PI()),\" \")","v":" "},""]
[null,null," ",{"$f":"IF(B261>0,VASTETIJD(C261)-Infoblad!$C$29,\" \")","v":" "}," ",249," ",null,null,null,null,null,{"$f":"IF(L261>0,VLOOKUP(L261,Punten!$B$3:$C$109,2,FALSE),\" \")","v":" "},null," ",null,null,null,"","","","","","",{"$f":"SEARCH(T261,'Eigen QTH LOc'!$I$1)*10-100+V261","v":{"$error":"#VALUE!"}},{"$f":"TRUNC(ROUND((SEARCH(X261,'Eigen QTH LOc'!$I$1)-0.5)*2.5,2))","v":1},{"$f":"IF(Z261>0,(MOD(ROUND((SEARCH(X261,'Eigen QTH LOc'!$I$1)-0.5)*2.5,2),TRUNC(Z261)))*60,0)","v":15},{"$f":"SEARCH(S261,'Eigen QTH LOc'!$I$1)*20-200+U261*2","v":{"$error":"#VALUE!"}},{"$f":"TRUNC((SEARCH(W261,'Eigen QTH LOc'!$I$1)-0.5)*5)","v":2},{"$f":"IF(AC261>0,(MOD((SEARCH(W261,'Eigen QTH LOc'!$I$1)-0.5)*5,TRUNC(AC261)))*60,0)","v":30},{"$error":"#VALUE!"},{"$error":"#VALUE!"},{"$f":"COS('Eigen QTH LOc'!$G$4-AF261)*SIN(PI()/2-AE261)*SIN(PI()/2-'Eigen QTH LOc'!$G$3)+COS(PI()/2-AE261)*COS(PI()/2-'Eigen QTH LOc'!$G$3)","v":{"$error":"#VALUE!"}},{"$error":"#VALUE!"},"ABCDEFGHIJKLMNOPQRSTUVWXABCDEFGHIJKLMNOPQRSTUVWX","\"0123456789\"",{"$f":"IF(B261>0,IF(K261=Infoblad!$C$6,0.5,0.5+AH261*40076.59/2/PI()),\" \")","v":" "},""]
[null,null," ",{"$f":"IF(B262>0,VASTETIJD(C262)-Infoblad!$C$29,\" \")","v":" "}," ",250," ",null,null,null,null,null,{"$f":"IF(L262>0,VLOOKUP(L262,Punten!$B$3:$C$109,2,FALSE),\" \")","v":" "},null," ",null,null,null,"","","","","","",{"$f":"SEARCH(T262,'Eigen QTH LOc'!$I$1)*10-100+V262","v":{"$error":"#VALUE!"}},{"$f":"TRUNC(ROUND((SEARCH(X262,'Eigen QTH LOc'!$I$1)-0.5)*2.5,2))","v":1},{"$f":"IF(Z262>0,(MOD(ROUND((SEARCH(X262,'Eigen QTH LOc'!$I$1)-0.5)*2.5,2),TRUNC(Z262)))*60,0)","v":15},{"$f":"SEARCH(S262,'Eigen QTH LOc'!$I$1)*20-200+U262*2","v":{"$error":"#VALUE!"}},{"$f":"TRUNC((SEARCH(W262,'Eigen QTH LOc'!$I$1)-0.5)*5)","v":2},{"$f":"IF(AC262>0,(MOD((SEARCH(W262,'Eigen QTH LOc'!$I$1)-0.5)*5,TRUNC(AC262)))*60,0)","v":30},{"$error":"#VALUE!"},{"$error":"#VALUE!"},{"$f":"COS('Eigen QTH LOc'!$G$4-AF262)*SIN(PI()/2-AE262)*SIN(PI()/2-'Eigen QTH LOc'!$G$3)+COS(PI()/2-AE262)*COS(PI()/2-'Eigen QTH LOc'!$G$3)","v":{"$error":"#VALUE!"}},{"$error":"#VALUE!"},"ABCDEFGHIJKLMNOPQRSTUVWXABCDEFGHIJKLMNOPQRSTUVWX","\"0123456789\"",{"$f":"IF(B262>0,IF(K262=Infoblad!$C$6,0.5,0.5+AH262*40076.59/2/PI()),\" \")","v":" "},""]
[null,null," ",{"$f":"IF(B263>0,VASTETIJD(C263)-Infoblad!$C$29,\" \")","v":" "}," ",251," ",null,null,null,null,null,{"$f":"IF(L263>0,VLOOKUP(L263,Punten!$B$3:$C$109,2,FALSE),\" \")","v":" "},null," ",null,null,null,"","","","","","",{"$f":"SEARCH(T263,'Eigen QTH LOc'!$I$1)*10-100+V263","v":{"$error":"#VALUE!"}},{"$f":"TRUNC(ROUND((SEARCH(X263,'Eigen QTH LOc'!$I$1)-0.5)*2.5,2))","v":1},{"$f":"IF(Z263>0,(MOD(ROUND((SEARCH(X263,'Eigen QTH LOc'!$I$1)-0.5)*2.5,2),TRUNC(Z263)))*60,0)","v":15},{"$f":"SEARCH(S263,'Eigen QTH LOc'!$I$1)*20-200+U263*2","v":{"$error":"#VALUE!"}},{"$f":"TRUNC((SEARCH(W263,'Eigen QTH LOc'!$I$1)-0.5)*5)","v":2},{"$f":"IF(AC263>0,(MOD((SEARCH(W263,'Eigen QTH LOc'!$I$1)-0.5)*5,TRUNC(AC263)))*60,0)","v":30},{"$error":"#VALUE!"},{"$error":"#VALUE!"},{"$f":"COS('Eigen QTH LOc'!$G$4-AF263)*SIN(PI()/2-AE263)*SIN(PI()/2-'Eigen QTH LOc'!$G$3)+COS(PI()/2-AE263)*COS(PI()/2-'Eigen QTH LOc'!$G$3)","v":{"$error":"#VALUE!"}},{"$error":"#VALUE!"},"ABCDEFGHIJKLMNOPQRSTUVWXABCDEFGHIJKLMNOPQRSTUVWX","\"0123456789\"",{"$f":"IF(B263>0,IF(K263=Infoblad!$C$6,0.5,0.5+AH263*40076.59/2/PI()),\" \")","v":" "},""]
[null,null," ",{"$f":"IF(B264>0,VASTETIJD(C264)-Infoblad!$C$29,\" \")","v":" "}," ",252," ",null,null,null,null,null,{"$f":"IF(L264>0,VLOOKUP(L264,Punten!$B$3:$C$109,2,FALSE),\" \")","v":" "},null," ",null,null,null,"","","","","","",{"$f":"SEARCH(T264,'Eigen QTH LOc'!$I$1)*10-100+V264","v":{"$error":"#VALUE!"}},{"$f":"TRUNC(ROUND((SEARCH(X264,'Eigen QTH LOc'!$I$1)-0.5)*2.5,2))","v":1},{"$f":"IF(Z264>0,(MOD(ROUND((SEARCH(X264,'Eigen QTH LOc'!$I$1)-0.5)*2.5,2),TRUNC(Z264)))*60,0)","v":15},{"$f":"SEARCH(S264,'Eigen QTH LOc'!$I$1)*20-200+U264*2","v":{"$error":"#VALUE!"}},{"$f":"TRUNC((SEARCH(W264,'Eigen QTH LOc'!$I$1)-0.5)*5)","v":2},{"$f":"IF(AC264>0,(MOD((SEARCH(W264,'Eigen QTH LOc'!$I$1)-0.5)*5,TRUNC(AC264)))*60,0)","v":30},{"$error":"#VALUE!"},{"$error":"#VALUE!"},{"$f":"COS('Eigen QTH LOc'!$G$4-AF264)*SIN(PI()/2-AE264)*SIN(PI()/2-'Eigen QTH LOc'!$G$3)+COS(PI()/2-AE264)*COS(PI()/2-'Eigen QTH LOc'!$G$3)","v":{"$error":"#VALUE!"}},{"$error":"#VALUE!"},"ABCDEFGHIJKLMNOPQRSTUVWXABCDEFGHIJKLMNOPQRSTUVWX","\"0123456789\"",{"$f":"IF(B264>0,IF(K264=Infoblad!$C$6,0.5,0.5+AH264*40076.59/2/PI()),\" \")","v":" "},""]
[null,null," ",{"$f":"IF(B265>0,VASTETIJD(C265)-Infoblad!$C$29,\" \")","v":" "}," ",253," ",null,null,null,null,null,{"$f":"IF(L265>0,VLOOKUP(L265,Punten!$B$3:$C$109,2,FALSE),\" \")","v":" "},null," ",null,null,null,"","","","","","",{"$f":"SEARCH(T265,'Eigen QTH LOc'!$I$1)*10-100+V265","v":{"$error":"#VALUE!"}},{"$f":"TRUNC(ROUND((SEARCH(X265,'Eigen QTH LOc'!$I$1)-0.5)*2.5,2))","v":1},{"$f":"IF(Z265>0,(MOD(ROUND((SEARCH(X265,'Eigen QTH LOc'!$I$1)-0.5)*2.5,2),TRUNC(Z265)))*60,0)","v":15},{"$f":"SEARCH(S265,'Eigen QTH LOc'!$I$1)*20-200+U265*2","v":{"$error":"#VALUE!"}},{"$f":"TRUNC((SEARCH(W265,'Eigen QTH LOc'!$I$1)-0.5)*5)","v":2},{"$f":"IF(AC265>0,(MOD((SEARCH(W265,'Eigen QTH LOc'!$I$1)-0.5)*5,TRUNC(AC265)))*60,0)","v":30},{"$error":"#VALUE!"},{"$error":"#VALUE!"},{"$f":"COS('Eigen QTH LOc'!$G$4-AF265)*SIN(PI()/2-AE265)*SIN(PI()/2-'Eigen QTH LOc'!$G$3)+COS(PI()/2-AE265)*COS(PI()/2-'Eigen QTH LOc'!$G$3)","v":{"$error":"#VALUE!"}},{"$error":"#VALUE!"},"ABCDEFGHIJKLMNOPQRSTUVWXABCDEFGHIJKLMNOPQRSTUVWX","\"0123456789\"",{"$f":"IF(B265>0,IF(K265=Infoblad!$C$6,0.5,0.5+AH265*40076.59/2/PI()),\" \")","v":" "},""]
[null,null," ",{"$f":"IF(B266>0,VASTETIJD(C266)-Infoblad!$C$29,\" \")","v":" "}," ",254," ",null,null,null,null,null,{"$f":"IF(L266>0,VLOOKUP(L266,Punten!$B$3:$C$109,2,FALSE),\" \")","v":" "},null," ",null,null,null,"","","","","","",{"$f":"SEARCH(T266,'Eigen QTH LOc'!$I$1)*10-100+V266","v":{"$error":"#VALUE!"}},{"$f":"TRUNC(ROUND((SEARCH(X266,'Eigen QTH LOc'!$I$1)-0.5)*2.5,2))","v":1},{"$f":"IF(Z266>0,(MOD(ROUND((SEARCH(X266,'Eigen QTH LOc'!$I$1)-0.5)*2.5,2),TRUNC(Z266)))*60,0)","v":15},{"$f":"SEARCH(S266,'Eigen QTH LOc'!$I$1)*20-200+U266*2","v":{"$error":"#VALUE!"}},{"$f":"TRUNC((SEARCH(W266,'Eigen QTH LOc'!$I$1)-0.5)*5)","v":2},{"$f":"IF(AC266>0,(MOD((SEARCH(W266,'Eigen QTH LOc'!$I$1)-0.5)*5,TRUNC(AC266)))*60,0)","v":30},{"$error":"#VALUE!"},{"$error":"#VALUE!"},{"$f":"COS('Eigen QTH LOc'!$G$4-AF266)*SIN(PI()/2-AE266)*SIN(PI()/2-'Eigen QTH LOc'!$G$3)+COS(PI()/2-AE266)*COS(PI()/2-'Eigen QTH LOc'!$G$3)","v":{"$error":"#VALUE!"}},{"$error":"#VALUE!"},"ABCDEFGHIJKLMNOPQRSTUVWXABCDEFGHIJKLMNOPQRSTUVWX","\"0123456789\"",{"$f":"IF(B266>0,IF(K266=Infoblad!$C$6,0.5,0.5+AH266*40076.59/2/PI()),\" \")","v":" "},""]
[null,null," ",{"$f":"IF(B267>0,VASTETIJD(C267)-Infoblad!$C$29,\" \")","v":" "}," ",255," ",null,null,null,null,null,{"$f":"IF(L267>0,VLOOKUP(L267,Punten!$B$3:$C$109,2,FALSE),\" \")","v":" "},null," ",null,null,null,"","","","","","",{"$f":"SEARCH(T267,'Eigen QTH LOc'!$I$1)*10-100+V267","v":{"$error":"#VALUE!"}},{"$f":"TRUNC(ROUND((SEARCH(X267,'Eigen QTH LOc'!$I$1)-0.5)*2.5,2))","v":1},{"$f":"IF(Z267>0,(MOD(ROUND((SEARCH(X267,'Eigen QTH LOc'!$I$1)-0.5)*2.5,2),TRUNC(Z267)))*60,0)","v":15},{"$f":"SEARCH(S267,'Eigen QTH LOc'!$I$1)*20-200+U267*2","v":{"$error":"#VALUE!"}},{"$f":"TRUNC((SEARCH(W267,'Eigen QTH LOc'!$I$1)-0.5)*5)","v":2},{"$f":"IF(AC267>0,(MOD((SEARCH(W267,'Eigen QTH LOc'!$I$1)-0.5)*5,TRUNC(AC267)))*60,0)","v":30},{"$error":"#VALUE!"},{"$error":"#VALUE!"},{"$f":"COS('Eigen QTH LOc'!$G$4-AF267)*SIN(PI()/2-AE267)*SIN(PI()/2-'Eigen QTH LOc'!$G$3)+COS(PI()/2-AE267)*COS(PI()/2-'Eigen QTH LOc'!$G$3)","v":{"$error":"#VALUE!"}},{"$error":"#VALUE!"},"ABCDEFGHIJKLMNOPQRSTUVWXABCDEFGHIJKLMNOPQRSTUVWX","\"0123456789\"",{"$f":"IF(B267>0,IF(K267=Infoblad!$C$6,0.5,0.5+AH267*40076.59/2/PI()),\" \")","v":" "},""]
[null,null," ",{"$f":"IF(B268>0,VASTETIJD(C268)-Infoblad!$C$29,\" \")","v":" "}," ",256," ",null,null,null,null,null,{"$f":"IF(L268>0,VLOOKUP(L268,Punten!$B$3:$C$109,2,FALSE),\" \")","v":" "},null," ",null,null,null,"","","","","","",{"$f":"SEARCH(T268,'Eigen QTH LOc'!$I$1)*10-100+V268","v":{"$error":"#VALUE!"}},{"$f":"TRUNC(ROUND((SEARCH(X268,'Eigen QTH LOc'!$I$1)-0.5)*2.5,2))","v":1},{"$f":"IF(Z268>0,(MOD(ROUND((SEARCH(X268,'Eigen QTH LOc'!$I$1)-0.5)*2.5,2),TRUNC(Z268)))*60,0)","v":15},{"$f":"SEARCH(S268,'Eigen QTH LOc'!$I$1)*20-200+U268*2","v":{"$error":"#VALUE!"}},{"$f":"TRUNC((SEARCH(W268,'Eigen QTH LOc'!$I$1)-0.5)*5)","v":2},{"$f":"IF(AC268>0,(MOD((SEARCH(W268,'Eigen QTH LOc'!$I$1)-0.5)*5,TRUNC(AC268)))*60,0)","v":30},{"$error":"#VALUE!"},{"$error":"#VALUE!"},{"$f":"COS('Eigen QTH LOc'!$G$4-AF268)*SIN(PI()/2-AE268)*SIN(PI()/2-'Eigen QTH LOc'!$G$3)+COS(PI()/2-AE268)*COS(PI()/2-'Eigen QTH LOc'!$G$3)","v":{"$error":"#VALUE!"}},{"$error":"#VALUE!"},"ABCDEFGHIJKLMNOPQRSTUVWXABCDEFGHIJKLMNOPQRSTUVWX","\"0123456789\"",{"$f":"IF(B268>0,IF(K268=Infoblad!$C$6,0.5,0.5+AH268*40076.59/2/PI()),\" \")","v":" "},""]
[null,null," ",{"$f":"IF(B269>0,VASTETIJD(C269)-Infoblad!$C$29,\" \")","v":" "}," ",257," ",null,null,null,null,null,{"$f":"IF(L269>0,VLOOKUP(L269,Punten!$B$3:$C$109,2,FALSE),\" \")","v":" "},null," ",null,null,null,"","","","","","",{"$f":"SEARCH(T269,'Eigen QTH LOc'!$I$1)*10-100+V269","v":{"$error":"#VALUE!"}},{"$f":"TRUNC(ROUND((SEARCH(X269,'Eigen QTH LOc'!$I$1)-0.5)*2.5,2))","v":1},{"$f":"IF(Z269>0,(MOD(ROUND((SEARCH(X269,'Eigen QTH LOc'!$I$1)-0.5)*2.5,2),TRUNC(Z269)))*60,0)","v":15},{"$f":"SEARCH(S269,'Eigen QTH LOc'!$I$1)*20-200+U269*2","v":{"$error":"#VALUE!"}},{"$f":"TRUNC((SEARCH(W269,'Eigen QTH LOc'!$I$1)-0.5)*5)","v":2},{"$f":"IF(AC269>0,(MOD((SEARCH(W269,'Eigen QTH LOc'!$I$1)-0.5)*5,TRUNC(AC269)))*60,0)","v":30},{"$error":"#VALUE!"},{"$error":"#VALUE!"},{"$f":"COS('Eigen QTH LOc'!$G$4-AF269)*SIN(PI()/2-AE269)*SIN(PI()/2-'Eigen QTH LOc'!$G$3)+COS(PI()/2-AE269)*COS(PI()/2-'Eigen QTH LOc'!$G$3)","v":{"$error":"#VALUE!"}},{"$error":"#VALUE!"},"ABCDEFGHIJKLMNOPQRSTUVWXABCDEFGHIJKLMNOPQRSTUVWX","\"0123456789\"",{"$f":"IF(B269>0,IF(K269=Infoblad!$C$6,0.5,0.5+AH269*40076.59/2/PI()),\" \")","v":" "},""]
[null,null,{"$f":"IF(B270>0,$C$7,\" \")","v":" "},{"$f":"IF(B270>0,VASTETIJD(C270)-Infoblad!$C$29,\" \")","v":" "},{"$f":"IF(B270>0,\"59\",\" \")","v":" "},258,{"$f":"IF(B270>0,\"59\",\" \")","v":" "},null,null,null,null,null,{"$f":"IF(L270>0,VLOOKUP(L270,Punten!$B$3:$C$109,2,FALSE),\" \")","v":" "},null,{"$f":"IF(K270>0,AK270,\" \")","v":" "},null,null,null,"","","","","","",{"$f":"SEARCH(T270,'Eigen QTH LOc'!$I$1)*10-100+V270","v":{"$error":"#VALUE!"}},{"$f":"TRUNC(ROUND((SEARCH(X270,'Eigen QTH LOc'!$I$1)-0.5)*2.5,2))","v":1},{"$f":"IF(Z270>0,(MOD(ROUND((SEARCH(X270,'Eigen QTH LOc'!$I$1)-0.5)*2.5,2),TRUNC(Z270)))*60,0)","v":15},{"$f":"SEARCH(S270,'Eigen QTH LOc'!$I$1)*20-200+U270*2","v":{"$error":"#VALUE!"}},{"$f":"TRUNC((SEARCH(W270,'Eigen QTH LOc'!$I$1)-0.5)*5)","v":2},{"$f":"IF(AC270>0,(MOD((SEARCH(W270,'Eigen QTH LOc'!$I$1)-0.5)*5,TRUNC(AC270)))*60,0)","v":30},{"$error":"#VALUE!"},{"$error":"#VALUE!"},{"$f":"COS('Eigen QTH LOc'!$G$4-AF270)*SIN(PI()/2-AE270)*SIN(PI()/2-'Eigen QTH LOc'!$G$3)+COS(PI()/2-AE270)*COS(PI()/2-'Eigen QTH LOc'!$G$3)","v":{"$error":"#VALUE!"}},{"$f":"-ATAN($AG270/SQRT(1-$AG270*$AG270))+PI()/2","v":{"$error":"#VALUE!"}},"ABCDEFGHIJKLMNOPQRSTUVWXABCDEFGHIJKLMNOPQRSTUVWX","\"0123456789\"",{"$f":"IF(B270>0,IF(K270=Infoblad!$C$6,0.5,0.5+AH270*40076.59/2/PI()),\" \")","v":" "},{"$f":"CONCATENATE(B270,I270,J270)","v":""}]
[null,null," ",{"$f":"IF(B271>0,VASTETIJD(C271)-Infoblad!$C$29,\" \")","v":" "}," ",259," ",null,null,null,null,null,{"$f":"IF(L271>0,VLOOKUP(L271,Punten!$B$3:$C$109,2,FALSE),\" \")","v":" "},null," ",null,null,null,"","","","","","",{"$f":"SEARCH(T271,'Eigen QTH LOc'!$I$1)*10-100+V271","v":{"$error":"#VALUE!"}},{"$f":"TRUNC(ROUND((SEARCH(X271,'Eigen QTH LOc'!$I$1)-0.5)*2.5,2))","v":1},{"$f":"IF(Z271>0,(MOD(ROUND((SEARCH(X271,'Eigen QTH LOc'!$I$1)-0.5)*2.5,2),TRUNC(Z271)))*60,0)","v":15},{"$f":"SEARCH(S271,'Eigen QTH LOc'!$I$1)*20-200+U271*2","v":{"$error":"#VALUE!"}},{"$f":"TRUNC((SEARCH(W271,'Eigen QTH LOc'!$I$1)-0.5)*5)","v":2},{"$f":"IF(AC271>0,(MOD((SEARCH(W271,'Eigen QTH LOc'!$I$1)-0.5)*5,TRUNC(AC271)))*60,0)","v":30},{"$error":"#VALUE!"},{"$error":"#VALUE!"},{"$f":"COS('Eigen QTH LOc'!$G$4-AF271)*SIN(PI()/2-AE271)*SIN(PI()/2-'Eigen QTH LOc'!$G$3)+COS(PI()/2-AE271)*COS(PI()/2-'Eigen QTH LOc'!$G$3)","v":{"$error":"#VALUE!"}},{"$error":"#VALUE!"},"ABCDEFGHIJKLMNOPQRSTUVWXABCDEFGHIJKLMNOPQRSTUVWX","\"0123456789\"",{"$f":"IF(B271>0,IF(K271=Infoblad!$C$6,0.5,0.5+AH271*40076.59/2/PI()),\" \")","v":" "},""]
[null,null," ",{"$f":"IF(B272>0,VASTETIJD(C272)-Infoblad!$C$29,\" \")","v":" "}," ",260," ",null,null,null,null,null,{"$f":"IF(L272>0,VLOOKUP(L272,Punten!$B$3:$C$109,2,FALSE),\" \")","v":" "},null," ",null,null,null,"","","","","","",{"$f":"SEARCH(T272,'Eigen QTH LOc'!$I$1)*10-100+V272","v":{"$error":"#VALUE!"}},{"$f":"TRUNC(ROUND((SEARCH(X272,'Eigen QTH LOc'!$I$1)-0.5)*2.5,2))","v":1},{"$f":"IF(Z272>0,(MOD(ROUND((SEARCH(X272,'Eigen QTH LOc'!$I$1)-0.5)*2.5,2),TRUNC(Z272)))*60,0)","v":15},{"$f":"SEARCH(S272,'Eigen QTH LOc'!$I$1)*20-200+U272*2","v":{"$error":"#VALUE!"}},{"$f":"TRUNC((SEARCH(W272,'Eigen QTH LOc'!$I$1)-0.5)*5)","v":2},{"$f":"IF(AC272>0,(MOD((SEARCH(W272,'Eigen QTH LOc'!$I$1)-0.5)*5,TRUNC(AC272)))*60,0)","v":30},{"$error":"#VALUE!"},{"$error":"#VALUE!"},{"$f":"COS('Eigen QTH LOc'!$G$4-AF272)*SIN(PI()/2-AE272)*SIN(PI()/2-'Eigen QTH LOc'!$G$3)+COS(PI()/2-AE272)*COS(PI()/2-'Eigen QTH LOc'!$G$3)","v":{"$error":"#VALUE!"}},{"$error":"#VALUE!"},"ABCDEFGHIJKLMNOPQRSTUVWXABCDEFGHIJKLMNOPQRSTUVWX","\"0123456789\"",{"$f":"IF(B272>0,IF(K272=Infoblad!$C$6,0.5,0.5+AH272*40076.59/2/PI()),\" \")","v":" "},""]
[null,null," ",{"$f":"IF(B273>0,VASTETIJD(C273)-Infoblad!$C$29,\" \")","v":" "}," ",261," ",null,null,null,null,null,{"$f":"IF(L273>0,VLOOKUP(L273,Punten!$B$3:$C$109,2,FALSE),\" \")","v":" "},null," ",null,null,null,"","","","","","",{"$f":"SEARCH(T273,'Eigen QTH LOc'!$I$1)*10-100+V273","v":{"$error":"#VALUE!"}},{"$f":"TRUNC(ROUND((SEARCH(X273,'Eigen QTH LOc'!$I$1)-0.5)*2.5,2))","v":1},{"$f":"IF(Z273>0,(MOD(ROUND((SEARCH(X273,'Eigen QTH LOc'!$I$1)-0.5)*2.5,2),TRUNC(Z273)))*60,0)","v":15},{"$f":"SEARCH(S273,'Eigen QTH LOc'!$I$1)*20-200+U273*2","v":{"$error":"#VALUE!"}},{"$f":"TRUNC((SEARCH(W273,'Eigen QTH LOc'!$I$1)-0.5)*5)","v":2},{"$f":"IF(AC273>0,(MOD((SEARCH(W273,'Eigen QTH LOc'!$I$1)-0.5)*5,TRUNC(AC273)))*60,0)","v":30},{"$error":"#VALUE!"},{"$error":"#VALUE!"},{"$f":"COS('Eigen QTH LOc'!$G$4-AF273)*SIN(PI()/2-AE273)*SIN(PI()/2-'Eigen QTH LOc'!$G$3)+COS(PI()/2-AE273)*COS(PI()/2-'Eigen QTH LOc'!$G$3)","v":{"$error":"#VALUE!"}},{"$error":"#VALUE!"},"ABCDEFGHIJKLMNOPQRSTUVWXABCDEFGHIJKLMNOPQRSTUVWX","\"0123456789\"",{"$f":"IF(B273>0,IF(K273=Infoblad!$C$6,0.5,0.5+AH273*40076.59/2/PI()),\" \")","v":" "},""]
[null,null," ",{"$f":"IF(B274>0,VASTETIJD(C274)-Infoblad!$C$29,\" \")","v":" "}," ",262," ",null,null,null,null,null,{"$f":"IF(L274>0,VLOOKUP(L274,Punten!$B$3:$C$109,2,FALSE),\" \")","v":" "},null," ",null,null,null,"","","","","","",{"$f":"SEARCH(T274,'Eigen QTH LOc'!$I$1)*10-100+V274","v":{"$error":"#VALUE!"}},{"$f":"TRUNC(ROUND((SEARCH(X274,'Eigen QTH LOc'!$I$1)-0.5)*2.5,2))","v":1},{"$f":"IF(Z274>0,(MOD(ROUND((SEARCH(X274,'Eigen QTH LOc'!$I$1)-0.5)*2.5,2),TRUNC(Z274)))*60,0)","v":15},{"$f":"SEARCH(S274,'Eigen QTH LOc'!$I$1)*20-200+U274*2","v":{"$error":"#VALUE!"}},{"$f":"TRUNC((SEARCH(W274,'Eigen QTH LOc'!$I$1)-0.5)*5)","v":2},{"$f":"IF(AC274>0,(MOD((SEARCH(W274,'Eigen QTH LOc'!$I$1)-0.5)*5,TRUNC(AC274)))*60,0)","v":30},{"$error":"#VALUE!"},{"$error":"#VALUE!"},{"$f":"COS('Eigen QTH LOc'!$G$4-AF274)*SIN(PI()/2-AE274)*SIN(PI()/2-'Eigen QTH LOc'!$G$3)+COS(PI()/2-AE274)*COS(PI()/2-'Eigen QTH LOc'!$G$3)","v":{"$error":"#VALUE!"}},{"$error":"#VALUE!"},"ABCDEFGHIJKLMNOPQRSTUVWXABCDEFGHIJKLMNOPQRSTUVWX","\"0123456789\"",{"$f":"IF(B274>0,IF(K274=Infoblad!$C$6,0.5,0.5+AH274*40076.59/2/PI()),\" \")","v":" "},""]
[null,null," ",{"$f":"IF(B275>0,VASTETIJD(C275)-Infoblad!$C$29,\" \")","v":" "}," ",263," ",null,null,null,null,null,{"$f":"IF(L275>0,VLOOKUP(L275,Punten!$B$3:$C$109,2,FALSE),\" \")","v":" "},null," ",null,null,null,"","","","","","",{"$f":"SEARCH(T275,'Eigen QTH LOc'!$I$1)*10-100+V275","v":{"$error":"#VALUE!"}},{"$f":"TRUNC(ROUND((SEARCH(X275,'Eigen QTH LOc'!$I$1)-0.5)*2.5,2))","v":1},{"$f":"IF(Z275>0,(MOD(ROUND((SEARCH(X275,'Eigen QTH LOc'!$I$1)-0.5)*2.5,2),TRUNC(Z275)))*60,0)","v":15},{"$f":"SEARCH(S275,'Eigen QTH LOc'!$I$1)*20-200+U275*2","v":{"$error":"#VALUE!"}},{"$f":"TRUNC((SEARCH(W275,'Eigen QTH LOc'!$I$1)-0.5)*5)","v":2},{"$f":"IF(AC275>0,(MOD((SEARCH(W275,'Eigen QTH LOc'!$I$1)-0.5)*5,TRUNC(AC275)))*60,0)","v":30},{"$error":"#VALUE!"},{"$error":"#VALUE!"},{"$f":"COS('Eigen QTH LOc'!$G$4-AF275)*SIN(PI()/2-AE275)*SIN(PI()/2-'Eigen QTH LOc'!$G$3)+COS(PI()/2-AE275)*COS(PI()/2-'Eigen QTH LOc'!$G$3)","v":{"$error":"#VALUE!"}},{"$error":"#VALUE!"},"ABCDEFGHIJKLMNOPQRSTUVWXABCDEFGHIJKLMNOPQRSTUVWX","\"0123456789\"",{"$f":"IF(B275>0,IF(K275=Infoblad!$C$6,0.5,0.5+AH275*40076.59/2/PI()),\" \")","v":" "},""]
[null,null," ",{"$f":"IF(B276>0,VASTETIJD(C276)-Infoblad!$C$29,\" \")","v":" "}," ",264," ",null,null,null,null,null,{"$f":"IF(L276>0,VLOOKUP(L276,Punten!$B$3:$C$109,2,FALSE),\" \")","v":" "},null," ",null,null,null,"","","","","","",{"$f":"SEARCH(T276,'Eigen QTH LOc'!$I$1)*10-100+V276","v":{"$error":"#VALUE!"}},{"$f":"TRUNC(ROUND((SEARCH(X276,'Eigen QTH LOc'!$I$1)-0.5)*2.5,2))","v":1},{"$f":"IF(Z276>0,(MOD(ROUND((SEARCH(X276,'Eigen QTH LOc'!$I$1)-0.5)*2.5,2),TRUNC(Z276)))*60,0)","v":15},{"$f":"SEARCH(S276,'Eigen QTH LOc'!$I$1)*20-200+U276*2","v":{"$error":"#VALUE!"}},{"$f":"TRUNC((SEARCH(W276,'Eigen QTH LOc'!$I$1)-0.5)*5)","v":2},{"$f":"IF(AC276>0,(MOD((SEARCH(W276,'Eigen QTH LOc'!$I$1)-0.5)*5,TRUNC(AC276)))*60,0)","v":30},{"$error":"#VALUE!"},{"$error":"#VALUE!"},{"$f":"COS('Eigen QTH LOc'!$G$4-AF276)*SIN(PI()/2-AE276)*SIN(PI()/2-'Eigen QTH LOc'!$G$3)+COS(PI()/2-AE276)*COS(PI()/2-'Eigen QTH LOc'!$G$3)","v":{"$error":"#VALUE!"}},{"$error":"#VALUE!"},"ABCDEFGHIJKLMNOPQRSTUVWXABCDEFGHIJKLMNOPQRSTUVWX","\"0123456789\"",{"$f":"IF(B276>0,IF(K276=Infoblad!$C$6,0.5,0.5+AH276*40076.59/2/PI()),\" \")","v":" "},""]
[null,null," ",{"$f":"IF(B277>0,VASTETIJD(C277)-Infoblad!$C$29,\" \")","v":" "}," ",265," ",null,null,null,null,null,{"$f":"IF(L277>0,VLOOKUP(L277,Punten!$B$3:$C$109,2,FALSE),\" \")","v":" "},null," ",null,null,null,"","","","","","",{"$f":"SEARCH(T277,'Eigen QTH LOc'!$I$1)*10-100+V277","v":{"$error":"#VALUE!"}},{"$f":"TRUNC(ROUND((SEARCH(X277,'Eigen QTH LOc'!$I$1)-0.5)*2.5,2))","v":1},{"$f":"IF(Z277>0,(MOD(ROUND((SEARCH(X277,'Eigen QTH LOc'!$I$1)-0.5)*2.5,2),TRUNC(Z277)))*60,0)","v":15},{"$f":"SEARCH(S277,'Eigen QTH LOc'!$I$1)*20-200+U277*2","v":{"$error":"#VALUE!"}},{"$f":"TRUNC((SEARCH(W277,'Eigen QTH LOc'!$I$1)-0.5)*5)","v":2},{"$f":"IF(AC277>0,(MOD((SEARCH(W277,'Eigen QTH LOc'!$I$1)-0.5)*5,TRUNC(AC277)))*60,0)","v":30},{"$error":"#VALUE!"},{"$error":"#VALUE!"},{"$f":"COS('Eigen QTH LOc'!$G$4-AF277)*SIN(PI()/2-AE277)*SIN(PI()/2-'Eigen QTH LOc'!$G$3)+COS(PI()/2-AE277)*COS(PI()/2-'Eigen QTH LOc'!$G$3)","v":{"$error":"#VALUE!"}},{"$error":"#VALUE!"},"ABCDEFGHIJKLMNOPQRSTUVWXABCDEFGHIJKLMNOPQRSTUVWX","\"0123456789\"",{"$f":"IF(B277>0,IF(K277=Infoblad!$C$6,0.5,0.5+AH277*40076.59/2/PI()),\" \")","v":" "},""]
[null,null," ",{"$f":"IF(B278>0,VASTETIJD(C278)-Infoblad!$C$29,\" \")","v":" "}," ",266," ",null,null,null,null,null,{"$f":"IF(L278>0,VLOOKUP(L278,Punten!$B$3:$C$109,2,FALSE),\" \")","v":" "},null," ",null,null,null,"","","","","","",{"$f":"SEARCH(T278,'Eigen QTH LOc'!$I$1)*10-100+V278","v":{"$error":"#VALUE!"}},{"$f":"TRUNC(ROUND((SEARCH(X278,'Eigen QTH LOc'!$I$1)-0.5)*2.5,2))","v":1},{"$f":"IF(Z278>0,(MOD(ROUND((SEARCH(X278,'Eigen QTH LOc'!$I$1)-0.5)*2.5,2),TRUNC(Z278)))*60,0)","v":15},{"$f":"SEARCH(S278,'Eigen QTH LOc'!$I$1)*20-200+U278*2","v":{"$error":"#VALUE!"}},{"$f":"TRUNC((SEARCH(W278,'Eigen QTH LOc'!$I$1)-0.5)*5)","v":2},{"$f":"IF(AC278>0,(MOD((SEARCH(W278,'Eigen QTH LOc'!$I$1)-0.5)*5,TRUNC(AC278)))*60,0)","v":30},{"$error":"#VALUE!"},{"$error":"#VALUE!"},{"$f":"COS('Eigen QTH LOc'!$G$4-AF278)*SIN(PI()/2-AE278)*SIN(PI()/2-'Eigen QTH LOc'!$G$3)+COS(PI()/2-AE278)*COS(PI()/2-'Eigen QTH LOc'!$G$3)","v":{"$error":"#VALUE!"}},{"$error":"#VALUE!"},"ABCDEFGHIJKLMNOPQRSTUVWXABCDEFGHIJKLMNOPQRSTUVWX","\"0123456789\"",{"$f":"IF(B278>0,IF(K278=Infoblad!$C$6,0.5,0.5+AH278*40076.59/2/PI()),\" \")","v":" "},""]
[null,null," ",{"$f":"IF(B279>0,VASTETIJD(C279)-Infoblad!$C$29,\" \")","v":" "}," ",267," ",null,null,null,null,null,{"$f":"IF(L279>0,VLOOKUP(L279,Punten!$B$3:$C$109,2,FALSE),\" \")","v":" "},null," ",null,null,null,"","","","","","",{"$f":"SEARCH(T279,'Eigen QTH LOc'!$I$1)*10-100+V279","v":{"$error":"#VALUE!"}},{"$f":"TRUNC(ROUND((SEARCH(X279,'Eigen QTH LOc'!$I$1)-0.5)*2.5,2))","v":1},{"$f":"IF(Z279>0,(MOD(ROUND((SEARCH(X279,'Eigen QTH LOc'!$I$1)-0.5)*2.5,2),TRUNC(Z279)))*60,0)","v":15},{"$f":"SEARCH(S279,'Eigen QTH LOc'!$I$1)*20-200+U279*2","v":{"$error":"#VALUE!"}},{"$f":"TRUNC((SEARCH(W279,'Eigen QTH LOc'!$I$1)-0.5)*5)","v":2},{"$f":"IF(AC279>0,(MOD((SEARCH(W279,'Eigen QTH LOc'!$I$1)-0.5)*5,TRUNC(AC279)))*60,0)","v":30},{"$error":"#VALUE!"},{"$error":"#VALUE!"},{"$f":"COS('Eigen QTH LOc'!$G$4-AF279)*SIN(PI()/2-AE279)*SIN(PI()/2-'Eigen QTH LOc'!$G$3)+COS(PI()/2-AE279)*COS(PI()/2-'Eigen QTH LOc'!$G$3)","v":{"$error":"#VALUE!"}},{"$error":"#VALUE!"},"ABCDEFGHIJKLMNOPQRSTUVWXABCDEFGHIJKLMNOPQRSTUVWX","\"0123456789\"",{"$f":"IF(B279>0,IF(K279=Infoblad!$C$6,0.5,0.5+AH279*40076.59/2/PI()),\" \")","v":" "},""]
[null,null," ",{"$f":"IF(B280>0,VASTETIJD(C280)-Infoblad!$C$29,\" \")","v":" "}," ",268," ",null,null,null,null,null,{"$f":"IF(L280>0,VLOOKUP(L280,Punten!$B$3:$C$109,2,FALSE),\" \")","v":" "},null," ",null,null,null,"","","","","","",{"$f":"SEARCH(T280,'Eigen QTH LOc'!$I$1)*10-100+V280","v":{"$error":"#VALUE!"}},{"$f":"TRUNC(ROUND((SEARCH(X280,'Eigen QTH LOc'!$I$1)-0.5)*2.5,2))","v":1},{"$f":"IF(Z280>0,(MOD(ROUND((SEARCH(X280,'Eigen QTH LOc'!$I$1)-0.5)*2.5,2),TRUNC(Z280)))*60,0)","v":15},{"$f":"SEARCH(S280,'Eigen QTH LOc'!$I$1)*20-200+U280*2","v":{"$error":"#VALUE!"}},{"$f":"TRUNC((SEARCH(W280,'Eigen QTH LOc'!$I$1)-0.5)*5)","v":2},{"$f":"IF(AC280>0,(MOD((SEARCH(W280,'Eigen QTH LOc'!$I$1)-0.5)*5,TRUNC(AC280)))*60,0)","v":30},{"$error":"#VALUE!"},{"$error":"#VALUE!"},{"$f":"COS('Eigen QTH LOc'!$G$4-AF280)*SIN(PI()/2-AE280)*SIN(PI()/2-'Eigen QTH LOc'!$G$3)+COS(PI()/2-AE280)*COS(PI()/2-'Eigen QTH LOc'!$G$3)","v":{"$error":"#VALUE!"}},{"$error":"#VALUE!"},"ABCDEFGHIJKLMNOPQRSTUVWXABCDEFGHIJKLMNOPQRSTUVWX","\"0123456789\"",{"$f":"IF(B280>0,IF(K280=Infoblad!$C$6,0.5,0.5+AH280*40076.59/2/PI()),\" \")","v":" "},""]
[null,null," ",{"$f":"IF(B281>0,VASTETIJD(C281)-Infoblad!$C$29,\" \")","v":" "}," ",269," ",null,null,null,null,null,{"$f":"IF(L281>0,VLOOKUP(L281,Punten!$B$3:$C$109,2,FALSE),\" \")","v":" "},null," ",null,null,null,{"$f":"MID(K281,1,1)","v":""},{"$f":"MID(K281,2,1)","v":""},{"$f":"MID(K281,3,1)","v":""},{"$f":"MID(K281,4,1)","v":""},{"$f":"MID(K281,5,1)","v":""},{"$f":"MID(K281,6,1)","v":""},{"$f":"SEARCH(T281,'Eigen QTH LOc'!$I$1)*10-100+V281","v":{"$error":"#VALUE!"}},{"$f":"TRUNC(ROUND((SEARCH(X281,'Eigen QTH LOc'!$I$1)-0.5)*2.5,2))","v":1},{"$f":"IF(Z281>0,(MOD(ROUND((SEARCH(X281,'Eigen QTH LOc'!$I$1)-0.5)*2.5,2),TRUNC(Z281)))*60,0)","v":15},{"$f":"SEARCH(S281,'Eigen QTH LOc'!$I$1)*20-200+U281*2","v":{"$error":"#VALUE!"}},{"$f":"TRUNC((SEARCH(W281,'Eigen QTH LOc'!$I$1)-0.5)*5)","v":2},{"$f":"IF(AC281>0,(MOD((SEARCH(W281,'Eigen QTH LOc'!$I$1)-0.5)*5,TRUNC(AC281)))*60,0)","v":30},{"$f":"(Y281+(Z281/60)+(AA281/3600))*PI()/180","v":{"$error":"#VALUE!"}},{"$f":"(AB281+(AC281/60)+(AD281/100/60))*PI()/180","v":{"$error":"#VALUE!"}},{"$f":"COS('Eigen QTH LOc'!$G$4-AF281)*SIN(PI()/2-AE281)*SIN(PI()/2-'Eigen QTH LOc'!$G$3)+COS(PI()/2-AE281)*COS(PI()/2-'Eigen QTH LOc'!$G$3)","v":{"$error":"#VALUE!"}},{"$error":"#VALUE!"},"ABCDEFGHIJKLMNOPQRSTUVWXABCDEFGHIJKLMNOPQRSTUVWX","\"0123456789\"",{"$f":"IF(B281>0,IF(K281=Infoblad!$C$6,0.5,0.5+AH281*40076.59/2/PI()),\" \")","v":" "},""]
[null,null," ",{"$f":"IF(B282>0,VASTETIJD(C282)-Infoblad!$C$29,\" \")","v":" "}," ",270," ",null,null,null,null,null,{"$f":"IF(L282>0,VLOOKUP(L282,Punten!$B$3:$C$109,2,FALSE),\" \")","v":" "},null," ",null,null,null,"","","","","","",{"$f":"SEARCH(T282,'Eigen QTH LOc'!$I$1)*10-100+V282","v":{"$error":"#VALUE!"}},{"$f":"TRUNC(ROUND((SEARCH(X282,'Eigen QTH LOc'!$I$1)-0.5)*2.5,2))","v":1},{"$f":"IF(Z282>0,(MOD(ROUND((SEARCH(X282,'Eigen QTH LOc'!$I$1)-0.5)*2.5,2),TRUNC(Z282)))*60,0)","v":15},{"$f":"SEARCH(S282,'Eigen QTH LOc'!$I$1)*20-200+U282*2","v":{"$error":"#VALUE!"}},{"$f":"TRUNC((SEARCH(W282,'Eigen QTH LOc'!$I$1)-0.5)*5)","v":2},{"$f":"IF(AC282>0,(MOD((SEARCH(W282,'Eigen QTH LOc'!$I$1)-0.5)*5,TRUNC(AC282)))*60,0)","v":30},{"$error":"#VALUE!"},{"$error":"#VALUE!"},{"$f":"COS('Eigen QTH LOc'!$G$4-AF282)*SIN(PI()/2-AE282)*SIN(PI()/2-'Eigen QTH LOc'!$G$3)+COS(PI()/2-AE282)*COS(PI()/2-'Eigen QTH LOc'!$G$3)","v":{"$error":"#VALUE!"}},{"$error":"#VALUE!"},"ABCDEFGHIJKLMNOPQRSTUVWXABCDEFGHIJKLMNOPQRSTUVWX","\"0123456789\"",{"$f":"IF(B282>0,IF(K282=Infoblad!$C$6,0.5,0.5+AH282*40076.59/2/PI()),\" \")","v":" "},""]
[null,null," ",{"$f":"IF(B283>0,VASTETIJD(C283)-Infoblad!$C$29,\" \")","v":" "}," ",271," ",null,null,null,null,null,{"$f":"IF(L283>0,VLOOKUP(L283,Punten!$B$3:$C$109,2,FALSE),\" \")","v":" "},null," ",null,null,null,"","","","","","",{"$f":"SEARCH(T283,'Eigen QTH LOc'!$I$1)*10-100+V283","v":{"$error":"#VALUE!"}},{"$f":"TRUNC(ROUND((SEARCH(X283,'Eigen QTH LOc'!$I$1)-0.5)*2.5,2))","v":1},{"$f":"IF(Z283>0,(MOD(ROUND((SEARCH(X283,'Eigen QTH LOc'!$I$1)-0.5)*2.5,2),TRUNC(Z283)))*60,0)","v":15},{"$f":"SEARCH(S283,'Eigen QTH LOc'!$I$1)*20-200+U283*2","v":{"$error":"#VALUE!"}},{"$f":"TRUNC((SEARCH(W283,'Eigen QTH LOc'!$I$1)-0.5)*5)","v":2},{"$f":"IF(AC283>0,(MOD((SEARCH(W283,'Eigen QTH LOc'!$I$1)-0.5)*5,TRUNC(AC283)))*60,0)","v":30},{"$error":"#VALUE!"},{"$error":"#VALUE!"},{"$f":"COS('Eigen QTH LOc'!$G$4-AF283)*SIN(PI()/2-AE283)*SIN(PI()/2-'Eigen QTH LOc'!$G$3)+COS(PI()/2-AE283)*COS(PI()/2-'Eigen QTH LOc'!$G$3)","v":{"$error":"#VALUE!"}},{"$error":"#VALUE!"},"ABCDEFGHIJKLMNOPQRSTUVWXABCDEFGHIJKLMNOPQRSTUVWX","\"0123456789\"",{"$f":"IF(B283>0,IF(K283=Infoblad!$C$6,0.5,0.5+AH283*40076.59/2/PI()),\" \")","v":" "},""]
[null,null," ",{"$f":"IF(B284>0,VASTETIJD(C284)-Infoblad!$C$29,\" \")","v":" "}," ",272," ",null,null,null,null,null,{"$f":"IF(L284>0,VLOOKUP(L284,Punten!$B$3:$C$109,2,FALSE),\" \")","v":" "},null," ",null,null,null,"","","","","","",{"$f":"SEARCH(T284,'Eigen QTH LOc'!$I$1)*10-100+V284","v":{"$error":"#VALUE!"}},{"$f":"TRUNC(ROUND((SEARCH(X284,'Eigen QTH LOc'!$I$1)-0.5)*2.5,2))","v":1},{"$f":"IF(Z284>0,(MOD(ROUND((SEARCH(X284,'Eigen QTH LOc'!$I$1)-0.5)*2.5,2),TRUNC(Z284)))*60,0)","v":15},{"$f":"SEARCH(S284,'Eigen QTH LOc'!$I$1)*20-200+U284*2","v":{"$error":"#VALUE!"}},{"$f":"TRUNC((SEARCH(W284,'Eigen QTH LOc'!$I$1)-0.5)*5)","v":2},{"$f":"IF(AC284>0,(MOD((SEARCH(W284,'Eigen QTH LOc'!$I$1)-0.5)*5,TRUNC(AC284)))*60,0)","v":30},{"$error":"#VALUE!"},{"$error":"#VALUE!"},{"$f":"COS('Eigen QTH LOc'!$G$4-AF284)*SIN(PI()/2-AE284)*SIN(PI()/2-'Eigen QTH LOc'!$G$3)+COS(PI()/2-AE284)*COS(PI()/2-'Eigen QTH LOc'!$G$3)","v":{"$error":"#VALUE!"}},{"$error":"#VALUE!"},"ABCDEFGHIJKLMNOPQRSTUVWXABCDEFGHIJKLMNOPQRSTUVWX","\"0123456789\"",{"$f":"IF(B284>0,IF(K284=Infoblad!$C$6,0.5,0.5+AH284*40076.59/2/PI()),\" \")","v":" "},""]
[null,null," ",{"$f":"IF(B285>0,VASTETIJD(C285)-Infoblad!$C$29,\" \")","v":" "}," ",273," ",null,null,null,null,null,{"$f":"IF(L285>0,VLOOKUP(L285,Punten!$B$3:$C$109,2,FALSE),\" \")","v":" "},null," ",null,null,null,"","","","","","",{"$f":"SEARCH(T285,'Eigen QTH LOc'!$I$1)*10-100+V285","v":{"$error":"#VALUE!"}},{"$f":"TRUNC(ROUND((SEARCH(X285,'Eigen QTH LOc'!$I$1)-0.5)*2.5,2))","v":1},{"$f":"IF(Z285>0,(MOD(ROUND((SEARCH(X285,'Eigen QTH LOc'!$I$1)-0.5)*2.5,2),TRUNC(Z285)))*60,0)","v":15},{"$f":"SEARCH(S285,'Eigen QTH LOc'!$I$1)*20-200+U285*2","v":{"$error":"#VALUE!"}},{"$f":"TRUNC((SEARCH(W285,'Eigen QTH LOc'!$I$1)-0.5)*5)","v":2},{"$f":"IF(AC285>0,(MOD((SEARCH(W285,'Eigen QTH LOc'!$I$1)-0.5)*5,TRUNC(AC285)))*60,0)","v":30},{"$error":"#VALUE!"},{"$error":"#VALUE!"},{"$f":"COS('Eigen QTH LOc'!$G$4-AF285)*SIN(PI()/2-AE285)*SIN(PI()/2-'Eigen QTH LOc'!$G$3)+COS(PI()/2-AE285)*COS(PI()/2-'Eigen QTH LOc'!$G$3)","v":{"$error":"#VALUE!"}},{"$error":"#VALUE!"},"ABCDEFGHIJKLMNOPQRSTUVWXABCDEFGHIJKLMNOPQRSTUVWX","\"0123456789\"",{"$f":"IF(B285>0,IF(K285=Infoblad!$C$6,0.5,0.5+AH285*40076.59/2/PI()),\" \")","v":" "},""]
[null,null," ",{"$f":"IF(B286>0,VASTETIJD(C286)-Infoblad!$C$29,\" \")","v":" "}," ",274," ",null,null,null,null,null,{"$f":"IF(L286>0,VLOOKUP(L286,Punten!$B$3:$C$109,2,FALSE),\" \")","v":" "},null," ",null,null,null,"","","","","","",{"$f":"SEARCH(T286,'Eigen QTH LOc'!$I$1)*10-100+V286","v":{"$error":"#VALUE!"}},{"$f":"TRUNC(ROUND((SEARCH(X286,'Eigen QTH LOc'!$I$1)-0.5)*2.5,2))","v":1},{"$f":"IF(Z286>0,(MOD(ROUND((SEARCH(X286,'Eigen QTH LOc'!$I$1)-0.5)*2.5,2),TRUNC(Z286)))*60,0)","v":15},{"$f":"SEARCH(S286,'Eigen QTH LOc'!$I$1)*20-200+U286*2","v":{"$error":"#VALUE!"}},{"$f":"TRUNC((SEARCH(W286,'Eigen QTH LOc'!$I$1)-0.5)*5)","v":2},{"$f":"IF(AC286>0,(MOD((SEARCH(W286,'Eigen QTH LOc'!$I$1)-0.5)*5,TRUNC(AC286)))*60,0)","v":30},{"$error":"#VALUE!"},{"$error":"#VALUE!"},{"$f":"COS('Eigen QTH LOc'!$G$4-AF286)*SIN(PI()/2-AE286)*SIN(PI()/2-'Eigen QTH LOc'!$G$3)+COS(PI()/2-AE286)*COS(PI()/2-'Eigen QTH LOc'!$G$3)","v":{"$error":"#VALUE!"}},{"$error":"#VALUE!"},"ABCDEFGHIJKLMNOPQRSTUVWXABCDEFGHIJKLMNOPQRSTUVWX","\"0123456789\"",{"$f":"IF(B286>0,IF(K286=Infoblad!$C$6,0.5,0.5+AH286*40076.59/2/PI()),\" \")","v":" "},""]
[null,null," ",{"$f":"IF(B287>0,VASTETIJD(C287)-Infoblad!$C$29,\" \")","v":" "}," ",275," ",null,null,null,null,null,{"$f":"IF(L287>0,VLOOKUP(L287,Punten!$B$3:$C$109,2,FALSE),\" \")","v":" "},null," ",null,null,null,"","","","","","",{"$f":"SEARCH(T287,'Eigen QTH LOc'!$I$1)*10-100+V287","v":{"$error":"#VALUE!"}},{"$f":"TRUNC(ROUND((SEARCH(X287,'Eigen QTH LOc'!$I$1)-0.5)*2.5,2))","v":1},{"$f":"IF(Z287>0,(MOD(ROUND((SEARCH(X287,'Eigen QTH LOc'!$I$1)-0.5)*2.5,2),TRUNC(Z287)))*60,0)","v":15},{"$f":"SEARCH(S287,'Eigen QTH LOc'!$I$1)*20-200+U287*2","v":{"$error":"#VALUE!"}},{"$f":"TRUNC((SEARCH(W287,'Eigen QTH LOc'!$I$1)-0.5)*5)","v":2},{"$f":"IF(AC287>0,(MOD((SEARCH(W287,'Eigen QTH LOc'!$I$1)-0.5)*5,TRUNC(AC287)))*60,0)","v":30},{"$error":"#VALUE!"},{"$error":"#VALUE!"},{"$f":"COS('Eigen QTH LOc'!$G$4-AF287)*SIN(PI()/2-AE287)*SIN(PI()/2-'Eigen QTH LOc'!$G$3)+COS(PI()/2-AE287)*COS(PI()/2-'Eigen QTH LOc'!$G$3)","v":{"$error":"#VALUE!"}},{"$error":"#VALUE!"},"ABCDEFGHIJKLMNOPQRSTUVWXABCDEFGHIJKLMNOPQRSTUVWX","\"0123456789\"",{"$f":"IF(B287>0,IF(K287=Infoblad!$C$6,0.5,0.5+AH287*40076.59/2/PI()),\" \")","v":" "},""]
[null,null," ",{"$f":"IF(B288>0,VASTETIJD(C288)-Infoblad!$C$29,\" \")","v":" "}," ",276," ",null,null,null,null,null,{"$f":"IF(L288>0,VLOOKUP(L288,Punten!$B$3:$C$109,2,FALSE),\" \")","v":" "},null," ",null,null,null,"","","","","","",{"$f":"SEARCH(T288,'Eigen QTH LOc'!$I$1)*10-100+V288","v":{"$error":"#VALUE!"}},{"$f":"TRUNC(ROUND((SEARCH(X288,'Eigen QTH LOc'!$I$1)-0.5)*2.5,2))","v":1},{"$f":"IF(Z288>0,(MOD(ROUND((SEARCH(X288,'Eigen QTH LOc'!$I$1)-0.5)*2.5,2),TRUNC(Z288)))*60,0)","v":15},{"$f":"SEARCH(S288,'Eigen QTH LOc'!$I$1)*20-200+U288*2","v":{"$error":"#VALUE!"}},{"$f":"TRUNC((SEARCH(W288,'Eigen QTH LOc'!$I$1)-0.5)*5)","v":2},{"$f":"IF(AC288>0,(MOD((SEARCH(W288,'Eigen QTH LOc'!$I$1)-0.5)*5,TRUNC(AC288)))*60,0)","v":30},{"$error":"#VALUE!"},{"$error":"#VALUE!"},{"$f":"COS('Eigen QTH LOc'!$G$4-AF288)*SIN(PI()/2-AE288)*SIN(PI()/2-'Eigen QTH LOc'!$G$3)+COS(PI()/2-AE288)*COS(PI()/2-'Eigen QTH LOc'!$G$3)","v":{"$error":"#VALUE!"}},{"$error":"#VALUE!"},"ABCDEFGHIJKLMNOPQRSTUVWXABCDEFGHIJKLMNOPQRSTUVWX","\"0123456789\"",{"$f":"IF(B288>0,IF(K288=Infoblad!$C$6,0.5,0.5+AH288*40076.59/2/PI()),\" \")","v":" "},""]
[null,null," ",{"$f":"IF(B289>0,VASTETIJD(C289)-Infoblad!$C$29,\" \")","v":" "}," ",277," ",null,null,null,null,null,{"$f":"IF(L289>0,VLOOKUP(L289,Punten!$B$3:$C$109,2,FALSE),\" \")","v":" "},null," ",null,null,null,"","","","","","",{"$f":"SEARCH(T289,'Eigen QTH LOc'!$I$1)*10-100+V289","v":{"$error":"#VALUE!"}},{"$f":"TRUNC(ROUND((SEARCH(X289,'Eigen QTH LOc'!$I$1)-0.5)*2.5,2))","v":1},{"$f":"IF(Z289>0,(MOD(ROUND((SEARCH(X289,'Eigen QTH LOc'!$I$1)-0.5)*2.5,2),TRUNC(Z289)))*60,0)","v":15},{"$f":"SEARCH(S289,'Eigen QTH LOc'!$I$1)*20-200+U289*2","v":{"$error":"#VALUE!"}},{"$f":"TRUNC((SEARCH(W289,'Eigen QTH LOc'!$I$1)-0.5)*5)","v":2},{"$f":"IF(AC289>0,(MOD((SEARCH(W289,'Eigen QTH LOc'!$I$1)-0.5)*5,TRUNC(AC289)))*60,0)","v":30},{"$error":"#VALUE!"},{"$error":"#VALUE!"},{"$f":"COS('Eigen QTH LOc'!$G$4-AF289)*SIN(PI()/2-AE289)*SIN(PI()/2-'Eigen QTH LOc'!$G$3)+COS(PI()/2-AE289)*COS(PI()/2-'Eigen QTH LOc'!$G$3)","v":{"$error":"#VALUE!"}},{"$error":"#VALUE!"},"ABCDEFGHIJKLMNOPQRSTUVWXABCDEFGHIJKLMNOPQRSTUVWX","\"0123456789\"",{"$f":"IF(B289>0,IF(K289=Infoblad!$C$6,0.5,0.5+AH289*40076.59/2/PI()),\" \")","v":" "},""]
[null,null," ",{"$f":"IF(B290>0,VASTETIJD(C290)-Infoblad!$C$29,\" \")","v":" "}," ",278," ",null,null,null,null,null,{"$f":"IF(L290>0,VLOOKUP(L290,Punten!$B$3:$C$109,2,FALSE),\" \")","v":" "},null," ",null,null,null,"","","","","","",{"$f":"SEARCH(T290,'Eigen QTH LOc'!$I$1)*10-100+V290","v":{"$error":"#VALUE!"}},{"$f":"TRUNC(ROUND((SEARCH(X290,'Eigen QTH LOc'!$I$1)-0.5)*2.5,2))","v":1},{"$f":"IF(Z290>0,(MOD(ROUND((SEARCH(X290,'Eigen QTH LOc'!$I$1)-0.5)*2.5,2),TRUNC(Z290)))*60,0)","v":15},{"$f":"SEARCH(S290,'Eigen QTH LOc'!$I$1)*20-200+U290*2","v":{"$error":"#VALUE!"}},{"$f":"TRUNC((SEARCH(W290,'Eigen QTH LOc'!$I$1)-0.5)*5)","v":2},{"$f":"IF(AC290>0,(MOD((SEARCH(W290,'Eigen QTH LOc'!$I$1)-0.5)*5,TRUNC(AC290)))*60,0)","v":30},{"$error":"#VALUE!"},{"$error":"#VALUE!"},{"$f":"COS('Eigen QTH LOc'!$G$4-AF290)*SIN(PI()/2-AE290)*SIN(PI()/2-'Eigen QTH LOc'!$G$3)+COS(PI()/2-AE290)*COS(PI()/2-'Eigen QTH LOc'!$G$3)","v":{"$error":"#VALUE!"}},{"$error":"#VALUE!"},"ABCDEFGHIJKLMNOPQRSTUVWXABCDEFGHIJKLMNOPQRSTUVWX","\"0123456789\"",{"$f":"IF(B290>0,IF(K290=Infoblad!$C$6,0.5,0.5+AH290*40076.59/2/PI()),\" \")","v":" "},""]
[null,null," ",{"$f":"IF(B291>0,VASTETIJD(C291)-Infoblad!$C$29,\" \")","v":" "}," ",279," ",null,null,null,null,null,{"$f":"IF(L291>0,VLOOKUP(L291,Punten!$B$3:$C$109,2,FALSE),\" \")","v":" "},null," ",null,null,null,"","","","","","",{"$f":"SEARCH(T291,'Eigen QTH LOc'!$I$1)*10-100+V291","v":{"$error":"#VALUE!"}},{"$f":"TRUNC(ROUND((SEARCH(X291,'Eigen QTH LOc'!$I$1)-0.5)*2.5,2))","v":1},{"$f":"IF(Z291>0,(MOD(ROUND((SEARCH(X291,'Eigen QTH LOc'!$I$1)-0.5)*2.5,2),TRUNC(Z291)))*60,0)","v":15},{"$f":"SEARCH(S291,'Eigen QTH LOc'!$I$1)*20-200+U291*2","v":{"$error":"#VALUE!"}},{"$f":"TRUNC((SEARCH(W291,'Eigen QTH LOc'!$I$1)-0.5)*5)","v":2},{"$f":"IF(AC291>0,(MOD((SEARCH(W291,'Eigen QTH LOc'!$I$1)-0.5)*5,TRUNC(AC291)))*60,0)","v":30},{"$error":"#VALUE!"},{"$error":"#VALUE!"},{"$f":"COS('Eigen QTH LOc'!$G$4-AF291)*SIN(PI()/2-AE291)*SIN(PI()/2-'Eigen QTH LOc'!$G$3)+COS(PI()/2-AE291)*COS(PI()/2-'Eigen QTH LOc'!$G$3)","v":{"$error":"#VALUE!"}},{"$error":"#VALUE!"},"ABCDEFGHIJKLMNOPQRSTUVWXABCDEFGHIJKLMNOPQRSTUVWX","\"0123456789\"",{"$f":"IF(B291>0,IF(K291=Infoblad!$C$6,0.5,0.5+AH291*40076.59/2/PI()),\" \")","v":" "},""]
[null,null," ",{"$f":"IF(B292>0,VASTETIJD(C292)-Infoblad!$C$29,\" \")","v":" "}," ",280," ",null,null,null,null,null,{"$f":"IF(L292>0,VLOOKUP(L292,Punten!$B$3:$C$109,2,FALSE),\" \")","v":" "},null," ",null,null,null,"","","","","","",{"$f":"SEARCH(T292,'Eigen QTH LOc'!$I$1)*10-100+V292","v":{"$error":"#VALUE!"}},{"$f":"TRUNC(ROUND((SEARCH(X292,'Eigen QTH LOc'!$I$1)-0.5)*2.5,2))","v":1},{"$f":"IF(Z292>0,(MOD(ROUND((SEARCH(X292,'Eigen QTH LOc'!$I$1)-0.5)*2.5,2),TRUNC(Z292)))*60,0)","v":15},{"$f":"SEARCH(S292,'Eigen QTH LOc'!$I$1)*20-200+U292*2","v":{"$error":"#VALUE!"}},{"$f":"TRUNC((SEARCH(W292,'Eigen QTH LOc'!$I$1)-0.5)*5)","v":2},{"$f":"IF(AC292>0,(MOD((SEARCH(W292,'Eigen QTH LOc'!$I$1)-0.5)*5,TRUNC(AC292)))*60,0)","v":30},{"$error":"#VALUE!"},{"$error":"#VALUE!"},{"$f":"COS('Eigen QTH LOc'!$G$4-AF292)*SIN(PI()/2-AE292)*SIN(PI()/2-'Eigen QTH LOc'!$G$3)+COS(PI()/2-AE292)*COS(PI()/2-'Eigen QTH LOc'!$G$3)","v":{"$error":"#VALUE!"}},{"$error":"#VALUE!"},"ABCDEFGHIJKLMNOPQRSTUVWXABCDEFGHIJKLMNOPQRSTUVWX","\"0123456789\"",{"$f":"IF(B292>0,IF(K292=Infoblad!$C$6,0.5,0.5+AH292*40076.59/2/PI()),\" \")","v":" "},""]
[null,null," ",{"$f":"IF(B293>0,VASTETIJD(C293)-Infoblad!$C$29,\" \")","v":" "}," ",281," ",null,null,null,null,null,{"$f":"IF(L293>0,VLOOKUP(L293,Punten!$B$3:$C$109,2,FALSE),\" \")","v":" "},null," ",null,null,null,"","","","","","",{"$f":"SEARCH(T293,'Eigen QTH LOc'!$I$1)*10-100+V293","v":{"$error":"#VALUE!"}},{"$f":"TRUNC(ROUND((SEARCH(X293,'Eigen QTH LOc'!$I$1)-0.5)*2.5,2))","v":1},{"$f":"IF(Z293>0,(MOD(ROUND((SEARCH(X293,'Eigen QTH LOc'!$I$1)-0.5)*2.5,2),TRUNC(Z293)))*60,0)","v":15},{"$f":"SEARCH(S293,'Eigen QTH LOc'!$I$1)*20-200+U293*2","v":{"$error":"#VALUE!"}},{"$f":"TRUNC((SEARCH(W293,'Eigen QTH LOc'!$I$1)-0.5)*5)","v":2},{"$f":"IF(AC293>0,(MOD((SEARCH(W293,'Eigen QTH LOc'!$I$1)-0.5)*5,TRUNC(AC293)))*60,0)","v":30},{"$error":"#VALUE!"},{"$error":"#VALUE!"},{"$f":"COS('Eigen QTH LOc'!$G$4-AF293)*SIN(PI()/2-AE293)*SIN(PI()/2-'Eigen QTH LOc'!$G$3)+COS(PI()/2-AE293)*COS(PI()/2-'Eigen QTH LOc'!$G$3)","v":{"$error":"#VALUE!"}},{"$error":"#VALUE!"},"ABCDEFGHIJKLMNOPQRSTUVWXABCDEFGHIJKLMNOPQRSTUVWX","\"0123456789\"",{"$f":"IF(B293>0,IF(K293=Infoblad!$C$6,0.5,0.5+AH293*40076.59/2/PI()),\" \")","v":" "},""]
[null,null," ",{"$f":"IF(B294>0,VASTETIJD(C294)-Infoblad!$C$29,\" \")","v":" "}," ",282," ",null,null,null,null,null,{"$f":"IF(L294>0,VLOOKUP(L294,Punten!$B$3:$C$109,2,FALSE),\" \")","v":" "},null," ",null,null,null,"","","","","","",{"$f":"SEARCH(T294,'Eigen QTH LOc'!$I$1)*10-100+V294","v":{"$error":"#VALUE!"}},{"$f":"TRUNC(ROUND((SEARCH(X294,'Eigen QTH LOc'!$I$1)-0.5)*2.5,2))","v":1},{"$f":"IF(Z294>0,(MOD(ROUND((SEARCH(X294,'Eigen QTH LOc'!$I$1)-0.5)*2.5,2),TRUNC(Z294)))*60,0)","v":15},{"$f":"SEARCH(S294,'Eigen QTH LOc'!$I$1)*20-200+U294*2","v":{"$error":"#VALUE!"}},{"$f":"TRUNC((SEARCH(W294,'Eigen QTH LOc'!$I$1)-0.5)*5)","v":2},{"$f":"IF(AC294>0,(MOD((SEARCH(W294,'Eigen QTH LOc'!$I$1)-0.5)*5,TRUNC(AC294)))*60,0)","v":30},{"$error":"#VALUE!"},{"$error":"#VALUE!"},{"$f":"COS('Eigen QTH LOc'!$G$4-AF294)*SIN(PI()/2-AE294)*SIN(PI()/2-'Eigen QTH LOc'!$G$3)+COS(PI()/2-AE294)*COS(PI()/2-'Eigen QTH LOc'!$G$3)","v":{"$error":"#VALUE!"}},{"$error":"#VALUE!"},"ABCDEFGHIJKLMNOPQRSTUVWXABCDEFGHIJKLMNOPQRSTUVWX","\"0123456789\"",{"$f":"IF(B294>0,IF(K294=Infoblad!$C$6,0.5,0.5+AH294*40076.59/2/PI()),\" \")","v":" "},""]
[null,null," ",{"$f":"IF(B295>0,VASTETIJD(C295)-Infoblad!$C$29,\" \")","v":" "}," ",283," ",null,null,null,null,null,{"$f":"IF(L295>0,VLOOKUP(L295,Punten!$B$3:$C$109,2,FALSE),\" \")","v":" "},null," ",null,null,null,"","","","","","",{"$f":"SEARCH(T295,'Eigen QTH LOc'!$I$1)*10-100+V295","v":{"$error":"#VALUE!"}},{"$f":"TRUNC(ROUND((SEARCH(X295,'Eigen QTH LOc'!$I$1)-0.5)*2.5,2))","v":1},{"$f":"IF(Z295>0,(MOD(ROUND((SEARCH(X295,'Eigen QTH LOc'!$I$1)-0.5)*2.5,2),TRUNC(Z295)))*60,0)","v":15},{"$f":"SEARCH(S295,'Eigen QTH LOc'!$I$1)*20-200+U295*2","v":{"$error":"#VALUE!"}},{"$f":"TRUNC((SEARCH(W295,'Eigen QTH LOc'!$I$1)-0.5)*5)","v":2},{"$f":"IF(AC295>0,(MOD((SEARCH(W295,'Eigen QTH LOc'!$I$1)-0.5)*5,TRUNC(AC295)))*60,0)","v":30},{"$error":"#VALUE!"},{"$error":"#VALUE!"},{"$f":"COS('Eigen QTH LOc'!$G$4-AF295)*SIN(PI()/2-AE295)*SIN(PI()/2-'Eigen QTH LOc'!$G$3)+COS(PI()/2-AE295)*COS(PI()/2-'Eigen QTH LOc'!$G$3)","v":{"$error":"#VALUE!"}},{"$error":"#VALUE!"},"ABCDEFGHIJKLMNOPQRSTUVWXABCDEFGHIJKLMNOPQRSTUVWX","\"0123456789\"",{"$f":"IF(B295>0,IF(K295=Infoblad!$C$6,0.5,0.5+AH295*40076.59/2/PI()),\" \")","v":" "},""]
[null,null," ",{"$f":"IF(B296>0,VASTETIJD(C296)-Infoblad!$C$29,\" \")","v":" "}," ",284," ",null,null,null,null,null,{"$f":"IF(L296>0,VLOOKUP(L296,Punten!$B$3:$C$109,2,FALSE),\" \")","v":" "},null," ",null,null,null,"","","","","","",{"$f":"SEARCH(T296,'Eigen QTH LOc'!$I$1)*10-100+V296","v":{"$error":"#VALUE!"}},{"$f":"TRUNC(ROUND((SEARCH(X296,'Eigen QTH LOc'!$I$1)-0.5)*2.5,2))","v":1},{"$f":"IF(Z296>0,(MOD(ROUND((SEARCH(X296,'Eigen QTH LOc'!$I$1)-0.5)*2.5,2),TRUNC(Z296)))*60,0)","v":15},{"$f":"SEARCH(S296,'Eigen QTH LOc'!$I$1)*20-200+U296*2","v":{"$error":"#VALUE!"}},{"$f":"TRUNC((SEARCH(W296,'Eigen QTH LOc'!$I$1)-0.5)*5)","v":2},{"$f":"IF(AC296>0,(MOD((SEARCH(W296,'Eigen QTH LOc'!$I$1)-0.5)*5,TRUNC(AC296)))*60,0)","v":30},{"$error":"#VALUE!"},{"$error":"#VALUE!"},{"$f":"COS('Eigen QTH LOc'!$G$4-AF296)*SIN(PI()/2-AE296)*SIN(PI()/2-'Eigen QTH LOc'!$G$3)+COS(PI()/2-AE296)*COS(PI()/2-'Eigen QTH LOc'!$G$3)","v":{"$error":"#VALUE!"}},{"$error":"#VALUE!"},"ABCDEFGHIJKLMNOPQRSTUVWXABCDEFGHIJKLMNOPQRSTUVWX","\"0123456789\"",{"$f":"IF(B296>0,IF(K296=Infoblad!$C$6,0.5,0.5+AH296*40076.59/2/PI()),\" \")","v":" "},""]
[null,null," ",{"$f":"IF(B297>0,VASTETIJD(C297)-Infoblad!$C$29,\" \")","v":" "}," ",285," ",null,null,null,null,null,{"$f":"IF(L297>0,VLOOKUP(L297,Punten!$B$3:$C$109,2,FALSE),\" \")","v":" "},null," ",null,null,null,"","","","","","",{"$f":"SEARCH(T297,'Eigen QTH LOc'!$I$1)*10-100+V297","v":{"$error":"#VALUE!"}},{"$f":"TRUNC(ROUND((SEARCH(X297,'Eigen QTH LOc'!$I$1)-0.5)*2.5,2))","v":1},{"$f":"IF(Z297>0,(MOD(ROUND((SEARCH(X297,'Eigen QTH LOc'!$I$1)-0.5)*2.5,2),TRUNC(Z297)))*60,0)","v":15},{"$f":"SEARCH(S297,'Eigen QTH LOc'!$I$1)*20-200+U297*2","v":{"$error":"#VALUE!"}},{"$f":"TRUNC((SEARCH(W297,'Eigen QTH LOc'!$I$1)-0.5)*5)","v":2},{"$f":"IF(AC297>0,(MOD((SEARCH(W297,'Eigen QTH LOc'!$I$1)-0.5)*5,TRUNC(AC297)))*60,0)","v":30},{"$error":"#VALUE!"},{"$error":"#VALUE!"},{"$f":"COS('Eigen QTH LOc'!$G$4-AF297)*SIN(PI()/2-AE297)*SIN(PI()/2-'Eigen QTH LOc'!$G$3)+COS(PI()/2-AE297)*COS(PI()/2-'Eigen QTH LOc'!$G$3)","v":{"$error":"#VALUE!"}},{"$error":"#VALUE!"},"ABCDEFGHIJKLMNOPQRSTUVWXABCDEFGHIJKLMNOPQRSTUVWX","\"0123456789\"",{"$f":"IF(B297>0,IF(K297=Infoblad!$C$6,0.5,0.5+AH297*40076.59/2/PI()),\" \")","v":" "},""]
[null,null," ",{"$f":"IF(B298>0,VASTETIJD(C298)-Infoblad!$C$29,\" \")","v":" "}," ",286," ",null,null,null,null,null,{"$f":"IF(L298>0,VLOOKUP(L298,Punten!$B$3:$C$109,2,FALSE),\" \")","v":" "},null," ",null,null,null,"","","","","","",{"$f":"SEARCH(T298,'Eigen QTH LOc'!$I$1)*10-100+V298","v":{"$error":"#VALUE!"}},{"$f":"TRUNC(ROUND((SEARCH(X298,'Eigen QTH LOc'!$I$1)-0.5)*2.5,2))","v":1},{"$f":"IF(Z298>0,(MOD(ROUND((SEARCH(X298,'Eigen QTH LOc'!$I$1)-0.5)*2.5,2),TRUNC(Z298)))*60,0)","v":15},{"$f":"SEARCH(S298,'Eigen QTH LOc'!$I$1)*20-200+U298*2","v":{"$error":"#VALUE!"}},{"$f":"TRUNC((SEARCH(W298,'Eigen QTH LOc'!$I$1)-0.5)*5)","v":2},{"$f":"IF(AC298>0,(MOD((SEARCH(W298,'Eigen QTH LOc'!$I$1)-0.5)*5,TRUNC(AC298)))*60,0)","v":30},{"$error":"#VALUE!"},{"$error":"#VALUE!"},{"$f":"COS('Eigen QTH LOc'!$G$4-AF298)*SIN(PI()/2-AE298)*SIN(PI()/2-'Eigen QTH LOc'!$G$3)+COS(PI()/2-AE298)*COS(PI()/2-'Eigen QTH LOc'!$G$3)","v":{"$error":"#VALUE!"}},{"$error":"#VALUE!"},"ABCDEFGHIJKLMNOPQRSTUVWXABCDEFGHIJKLMNOPQRSTUVWX","\"0123456789\"",{"$f":"IF(B298>0,IF(K298=Infoblad!$C$6,0.5,0.5+AH298*40076.59/2/PI()),\" \")","v":" "},""]
[null,null," ",{"$f":"IF(B299>0,VASTETIJD(C299)-Infoblad!$C$29,\" \")","v":" "}," ",287," ",null,null,null,null,null,{"$f":"IF(L299>0,VLOOKUP(L299,Punten!$B$3:$C$109,2,FALSE),\" \")","v":" "},null," ",null,null,null,"","","","","","",{"$f":"SEARCH(T299,'Eigen QTH LOc'!$I$1)*10-100+V299","v":{"$error":"#VALUE!"}},{"$f":"TRUNC(ROUND((SEARCH(X299,'Eigen QTH LOc'!$I$1)-0.5)*2.5,2))","v":1},{"$f":"IF(Z299>0,(MOD(ROUND((SEARCH(X299,'Eigen QTH LOc'!$I$1)-0.5)*2.5,2),TRUNC(Z299)))*60,0)","v":15},{"$f":"SEARCH(S299,'Eigen QTH LOc'!$I$1)*20-200+U299*2","v":{"$error":"#VALUE!"}},{"$f":"TRUNC((SEARCH(W299,'Eigen QTH LOc'!$I$1)-0.5)*5)","v":2},{"$f":"IF(AC299>0,(MOD((SEARCH(W299,'Eigen QTH LOc'!$I$1)-0.5)*5,TRUNC(AC299)))*60,0)","v":30},{"$error":"#VALUE!"},{"$error":"#VALUE!"},{"$f":"COS('Eigen QTH LOc'!$G$4-AF299)*SIN(PI()/2-AE299)*SIN(PI()/2-'Eigen QTH LOc'!$G$3)+COS(PI()/2-AE299)*COS(PI()/2-'Eigen QTH LOc'!$G$3)","v":{"$error":"#VALUE!"}},{"$error":"#VALUE!"},"ABCDEFGHIJKLMNOPQRSTUVWXABCDEFGHIJKLMNOPQRSTUVWX","\"0123456789\"",{"$f":"IF(B299>0,IF(K299=Infoblad!$C$6,0.5,0.5+AH299*40076.59/2/PI()),\" \")","v":" "},""]
[null,null," ",{"$f":"IF(B300>0,VASTETIJD(C300)-Infoblad!$C$29,\" \")","v":" "}," ",288," ",null,null,null,null,null,{"$f":"IF(L300>0,VLOOKUP(L300,Punten!$B$3:$C$109,2,FALSE),\" \")","v":" "},null," ",null,null,null,"","","","","","",{"$f":"SEARCH(T300,'Eigen QTH LOc'!$I$1)*10-100+V300","v":{"$error":"#VALUE!"}},{"$f":"TRUNC(ROUND((SEARCH(X300,'Eigen QTH LOc'!$I$1)-0.5)*2.5,2))","v":1},{"$f":"IF(Z300>0,(MOD(ROUND((SEARCH(X300,'Eigen QTH LOc'!$I$1)-0.5)*2.5,2),TRUNC(Z300)))*60,0)","v":15},{"$f":"SEARCH(S300,'Eigen QTH LOc'!$I$1)*20-200+U300*2","v":{"$error":"#VALUE!"}},{"$f":"TRUNC((SEARCH(W300,'Eigen QTH LOc'!$I$1)-0.5)*5)","v":2},{"$f":"IF(AC300>0,(MOD((SEARCH(W300,'Eigen QTH LOc'!$I$1)-0.5)*5,TRUNC(AC300)))*60,0)","v":30},{"$error":"#VALUE!"},{"$error":"#VALUE!"},{"$f":"COS('Eigen QTH LOc'!$G$4-AF300)*SIN(PI()/2-AE300)*SIN(PI()/2-'Eigen QTH LOc'!$G$3)+COS(PI()/2-AE300)*COS(PI()/2-'Eigen QTH LOc'!$G$3)","v":{"$error":"#VALUE!"}},{"$error":"#VALUE!"},"ABCDEFGHIJKLMNOPQRSTUVWXABCDEFGHIJKLMNOPQRSTUVWX","\"0123456789\"",{"$f":"IF(B300>0,IF(K300=Infoblad!$C$6,0.5,0.5+AH300*40076.59/2/PI()),\" \")","v":" "},""]
[null,null," ",{"$f":"IF(B301>0,VASTETIJD(C301)-Infoblad!$C$29,\" \")","v":" "}," ",289," ",null,null,null,null,null,{"$f":"IF(L301>0,VLOOKUP(L301,Punten!$B$3:$C$109,2,FALSE),\" \")","v":" "},null," ",null,null,null,"","","","","","",{"$f":"SEARCH(T301,'Eigen QTH LOc'!$I$1)*10-100+V301","v":{"$error":"#VALUE!"}},{"$f":"TRUNC(ROUND((SEARCH(X301,'Eigen QTH LOc'!$I$1)-0.5)*2.5,2))","v":1},{"$f":"IF(Z301>0,(MOD(ROUND((SEARCH(X301,'Eigen QTH LOc'!$I$1)-0.5)*2.5,2),TRUNC(Z301)))*60,0)","v":15},{"$f":"SEARCH(S301,'Eigen QTH LOc'!$I$1)*20-200+U301*2","v":{"$error":"#VALUE!"}},{"$f":"TRUNC((SEARCH(W301,'Eigen QTH LOc'!$I$1)-0.5)*5)","v":2},{"$f":"IF(AC301>0,(MOD((SEARCH(W301,'Eigen QTH LOc'!$I$1)-0.5)*5,TRUNC(AC301)))*60,0)","v":30},{"$error":"#VALUE!"},{"$error":"#VALUE!"},{"$f":"COS('Eigen QTH LOc'!$G$4-AF301)*SIN(PI()/2-AE301)*SIN(PI()/2-'Eigen QTH LOc'!$G$3)+COS(PI()/2-AE301)*COS(PI()/2-'Eigen QTH LOc'!$G$3)","v":{"$error":"#VALUE!"}},{"$error":"#VALUE!"},"ABCDEFGHIJKLMNOPQRSTUVWXABCDEFGHIJKLMNOPQRSTUVWX","\"0123456789\"",{"$f":"IF(B301>0,IF(K301=Infoblad!$C$6,0.5,0.5+AH301*40076.59/2/PI()),\" \")","v":" "},""]
[null,null," ",{"$f":"IF(B302>0,VASTETIJD(C302)-Infoblad!$C$29,\" \")","v":" "}," ",290," ",null,null,null,null,null,{"$f":"IF(L302>0,VLOOKUP(L302,Punten!$B$3:$C$109,2,FALSE),\" \")","v":" "},null," ",null,null,null,"","","","","","",{"$f":"SEARCH(T302,'Eigen QTH LOc'!$I$1)*10-100+V302","v":{"$error":"#VALUE!"}},{"$f":"TRUNC(ROUND((SEARCH(X302,'Eigen QTH LOc'!$I$1)-0.5)*2.5,2))","v":1},{"$f":"IF(Z302>0,(MOD(ROUND((SEARCH(X302,'Eigen QTH LOc'!$I$1)-0.5)*2.5,2),TRUNC(Z302)))*60,0)","v":15},{"$f":"SEARCH(S302,'Eigen QTH LOc'!$I$1)*20-200+U302*2","v":{"$error":"#VALUE!"}},{"$f":"TRUNC((SEARCH(W302,'Eigen QTH LOc'!$I$1)-0.5)*5)","v":2},{"$f":"IF(AC302>0,(MOD((SEARCH(W302,'Eigen QTH LOc'!$I$1)-0.5)*5,TRUNC(AC302)))*60,0)","v":30},{"$error":"#VALUE!"},{"$error":"#VALUE!"},{"$f":"COS('Eigen QTH LOc'!$G$4-AF302)*SIN(PI()/2-AE302)*SIN(PI()/2-'Eigen QTH LOc'!$G$3)+COS(PI()/2-AE302)*COS(PI()/2-'Eigen QTH LOc'!$G$3)","v":{"$error":"#VALUE!"}},{"$error":"#VALUE!"},"ABCDEFGHIJKLMNOPQRSTUVWXABCDEFGHIJKLMNOPQRSTUVWX","\"0123456789\"",{"$f":"IF(B302>0,IF(K302=Infoblad!$C$6,0.5,0.5+AH302*40076.59/2/PI()),\" \")","v":" "},""]
[null,null," ",{"$f":"IF(B303>0,VASTETIJD(C303)-Infoblad!$C$29,\" \")","v":" "}," ",291," ",null,null,null,null,null,{"$f":"IF(L303>0,VLOOKUP(L303,Punten!$B$3:$C$109,2,FALSE),\" \")","v":" "},null," ",null,null,null,"","","","","","",{"$f":"SEARCH(T303,'Eigen QTH LOc'!$I$1)*10-100+V303","v":{"$error":"#VALUE!"}},{"$f":"TRUNC(ROUND((SEARCH(X303,'Eigen QTH LOc'!$I$1)-0.5)*2.5,2))","v":1},{"$f":"IF(Z303>0,(MOD(ROUND((SEARCH(X303,'Eigen QTH LOc'!$I$1)-0.5)*2.5,2),TRUNC(Z303)))*60,0)","v":15},{"$f":"SEARCH(S303,'Eigen QTH LOc'!$I$1)*20-200+U303*2","v":{"$error":"#VALUE!"}},{"$f":"TRUNC((SEARCH(W303,'Eigen QTH LOc'!$I$1)-0.5)*5)","v":2},{"$f":"IF(AC303>0,(MOD((SEARCH(W303,'Eigen QTH LOc'!$I$1)-0.5)*5,TRUNC(AC303)))*60,0)","v":30},{"$error":"#VALUE!"},{"$error":"#VALUE!"},{"$f":"COS('Eigen QTH LOc'!$G$4-AF303)*SIN(PI()/2-AE303)*SIN(PI()/2-'Eigen QTH LOc'!$G$3)+COS(PI()/2-AE303)*COS(PI()/2-'Eigen QTH LOc'!$G$3)","v":{"$error":"#VALUE!"}},{"$error":"#VALUE!"},"ABCDEFGHIJKLMNOPQRSTUVWXABCDEFGHIJKLMNOPQRSTUVWX","\"0123456789\"",{"$f":"IF(B303>0,IF(K303=Infoblad!$C$6,0.5,0.5+AH303*40076.59/2/PI()),\" \")","v":" "},""]
[null,null," ",{"$f":"IF(B304>0,VASTETIJD(C304)-Infoblad!$C$29,\" \")","v":" "}," ",292," ",null,null,null,null,null,{"$f":"IF(L304>0,VLOOKUP(L304,Punten!$B$3:$C$109,2,FALSE),\" \")","v":" "},null," ",null,null,null,"","","","","","",{"$f":"SEARCH(T304,'Eigen QTH LOc'!$I$1)*10-100+V304","v":{"$error":"#VALUE!"}},{"$f":"TRUNC(ROUND((SEARCH(X304,'Eigen QTH LOc'!$I$1)-0.5)*2.5,2))","v":1},{"$f":"IF(Z304>0,(MOD(ROUND((SEARCH(X304,'Eigen QTH LOc'!$I$1)-0.5)*2.5,2),TRUNC(Z304)))*60,0)","v":15},{"$f":"SEARCH(S304,'Eigen QTH LOc'!$I$1)*20-200+U304*2","v":{"$error":"#VALUE!"}},{"$f":"TRUNC((SEARCH(W304,'Eigen QTH LOc'!$I$1)-0.5)*5)","v":2},{"$f":"IF(AC304>0,(MOD((SEARCH(W304,'Eigen QTH LOc'!$I$1)-0.5)*5,TRUNC(AC304)))*60,0)","v":30},{"$error":"#VALUE!"},{"$error":"#VALUE!"},{"$f":"COS('Eigen QTH LOc'!$G$4-AF304)*SIN(PI()/2-AE304)*SIN(PI()/2-'Eigen QTH LOc'!$G$3)+COS(PI()/2-AE304)*COS(PI()/2-'Eigen QTH LOc'!$G$3)","v":{"$error":"#VALUE!"}},{"$error":"#VALUE!"},"ABCDEFGHIJKLMNOPQRSTUVWXABCDEFGHIJKLMNOPQRSTUVWX","\"0123456789\"",{"$f":"IF(B304>0,IF(K304=Infoblad!$C$6,0.5,0.5+AH304*40076.59/2/PI()),\" \")","v":" "},""]
[null,null," ",{"$f":"IF(B305>0,VASTETIJD(C305)-Infoblad!$C$29,\" \")","v":" "}," ",293," ",null,null,null,null,null,{"$f":"IF(L305>0,VLOOKUP(L305,Punten!$B$3:$C$109,2,FALSE),\" \")","v":" "},null," ",null,null,null,"","","","","","",{"$f":"SEARCH(T305,'Eigen QTH LOc'!$I$1)*10-100+V305","v":{"$error":"#VALUE!"}},{"$f":"TRUNC(ROUND((SEARCH(X305,'Eigen QTH LOc'!$I$1)-0.5)*2.5,2))","v":1},{"$f":"IF(Z305>0,(MOD(ROUND((SEARCH(X305,'Eigen QTH LOc'!$I$1)-0.5)*2.5,2),TRUNC(Z305)))*60,0)","v":15},{"$f":"SEARCH(S305,'Eigen QTH LOc'!$I$1)*20-200+U305*2","v":{"$error":"#VALUE!"}},{"$f":"TRUNC((SEARCH(W305,'Eigen QTH LOc'!$I$1)-0.5)*5)","v":2},{"$f":"IF(AC305>0,(MOD((SEARCH(W305,'Eigen QTH LOc'!$I$1)-0.5)*5,TRUNC(AC305)))*60,0)","v":30},{"$error":"#VALUE!"},{"$error":"#VALUE!"},{"$f":"COS('Eigen QTH LOc'!$G$4-AF305)*SIN(PI()/2-AE305)*SIN(PI()/2-'Eigen QTH LOc'!$G$3)+COS(PI()/2-AE305)*COS(PI()/2-'Eigen QTH LOc'!$G$3)","v":{"$error":"#VALUE!"}},{"$error":"#VALUE!"},"ABCDEFGHIJKLMNOPQRSTUVWXABCDEFGHIJKLMNOPQRSTUVWX","\"0123456789\"",{"$f":"IF(B305>0,IF(K305=Infoblad!$C$6,0.5,0.5+AH305*40076.59/2/PI()),\" \")","v":" "},""]
[null,null," ",{"$f":"IF(B306>0,VASTETIJD(C306)-Infoblad!$C$29,\" \")","v":" "}," ",294," ",null,null,null,null,null,{"$f":"IF(L306>0,VLOOKUP(L306,Punten!$B$3:$C$109,2,FALSE),\" \")","v":" "},null," ",null,null,null,"","","","","","",{"$f":"SEARCH(T306,'Eigen QTH LOc'!$I$1)*10-100+V306","v":{"$error":"#VALUE!"}},{"$f":"TRUNC(ROUND((SEARCH(X306,'Eigen QTH LOc'!$I$1)-0.5)*2.5,2))","v":1},{"$f":"IF(Z306>0,(MOD(ROUND((SEARCH(X306,'Eigen QTH LOc'!$I$1)-0.5)*2.5,2),TRUNC(Z306)))*60,0)","v":15},{"$f":"SEARCH(S306,'Eigen QTH LOc'!$I$1)*20-200+U306*2","v":{"$error":"#VALUE!"}},{"$f":"TRUNC((SEARCH(W306,'Eigen QTH LOc'!$I$1)-0.5)*5)","v":2},{"$f":"IF(AC306>0,(MOD((SEARCH(W306,'Eigen QTH LOc'!$I$1)-0.5)*5,TRUNC(AC306)))*60,0)","v":30},{"$error":"#VALUE!"},{"$error":"#VALUE!"},{"$f":"COS('Eigen QTH LOc'!$G$4-AF306)*SIN(PI()/2-AE306)*SIN(PI()/2-'Eigen QTH LOc'!$G$3)+COS(PI()/2-AE306)*COS(PI()/2-'Eigen QTH LOc'!$G$3)","v":{"$error":"#VALUE!"}},{"$error":"#VALUE!"},"ABCDEFGHIJKLMNOPQRSTUVWXABCDEFGHIJKLMNOPQRSTUVWX","\"0123456789\"",{"$f":"IF(B306>0,IF(K306=Infoblad!$C$6,0.5,0.5+AH306*40076.59/2/PI()),\" \")","v":" "},""]
[null,null," ",{"$f":"IF(B307>0,VASTETIJD(C307)-Infoblad!$C$29,\" \")","v":" "}," ",295," ",null,null,null,null,null,{"$f":"IF(L307>0,VLOOKUP(L307,Punten!$B$3:$C$109,2,FALSE),\" \")","v":" "},null," ",null,null,null,"","","","","","",{"$f":"SEARCH(T307,'Eigen QTH LOc'!$I$1)*10-100+V307","v":{"$error":"#VALUE!"}},{"$f":"TRUNC(ROUND((SEARCH(X307,'Eigen QTH LOc'!$I$1)-0.5)*2.5,2))","v":1},{"$f":"IF(Z307>0,(MOD(ROUND((SEARCH(X307,'Eigen QTH LOc'!$I$1)-0.5)*2.5,2),TRUNC(Z307)))*60,0)","v":15},{"$f":"SEARCH(S307,'Eigen QTH LOc'!$I$1)*20-200+U307*2","v":{"$error":"#VALUE!"}},{"$f":"TRUNC((SEARCH(W307,'Eigen QTH LOc'!$I$1)-0.5)*5)","v":2},{"$f":"IF(AC307>0,(MOD((SEARCH(W307,'Eigen QTH LOc'!$I$1)-0.5)*5,TRUNC(AC307)))*60,0)","v":30},{"$error":"#VALUE!"},{"$error":"#VALUE!"},{"$f":"COS('Eigen QTH LOc'!$G$4-AF307)*SIN(PI()/2-AE307)*SIN(PI()/2-'Eigen QTH LOc'!$G$3)+COS(PI()/2-AE307)*COS(PI()/2-'Eigen QTH LOc'!$G$3)","v":{"$error":"#VALUE!"}},{"$error":"#VALUE!"},"ABCDEFGHIJKLMNOPQRSTUVWXABCDEFGHIJKLMNOPQRSTUVWX","\"0123456789\"",{"$f":"IF(B307>0,IF(K307=Infoblad!$C$6,0.5,0.5+AH307*40076.59/2/PI()),\" \")","v":" "},""]
[null,null," ",{"$f":"IF(B308>0,VASTETIJD(C308)-Infoblad!$C$29,\" \")","v":" "}," ",296," ",null,null,null,null,null,{"$f":"IF(L308>0,VLOOKUP(L308,Punten!$B$3:$C$109,2,FALSE),\" \")","v":" "},null," ",null,null,null,"","","","","","",{"$f":"SEARCH(T308,'Eigen QTH LOc'!$I$1)*10-100+V308","v":{"$error":"#VALUE!"}},{"$f":"TRUNC(ROUND((SEARCH(X308,'Eigen QTH LOc'!$I$1)-0.5)*2.5,2))","v":1},{"$f":"IF(Z308>0,(MOD(ROUND((SEARCH(X308,'Eigen QTH LOc'!$I$1)-0.5)*2.5,2),TRUNC(Z308)))*60,0)","v":15},{"$f":"SEARCH(S308,'Eigen QTH LOc'!$I$1)*20-200+U308*2","v":{"$error":"#VALUE!"}},{"$f":"TRUNC((SEARCH(W308,'Eigen QTH LOc'!$I$1)-0.5)*5)","v":2},{"$f":"IF(AC308>0,(MOD((SEARCH(W308,'Eigen QTH LOc'!$I$1)-0.5)*5,TRUNC(AC308)))*60,0)","v":30},{"$error":"#VALUE!"},{"$error":"#VALUE!"},{"$f":"COS('Eigen QTH LOc'!$G$4-AF308)*SIN(PI()/2-AE308)*SIN(PI()/2-'Eigen QTH LOc'!$G$3)+COS(PI()/2-AE308)*COS(PI()/2-'Eigen QTH LOc'!$G$3)","v":{"$error":"#VALUE!"}},{"$error":"#VALUE!"},"ABCDEFGHIJKLMNOPQRSTUVWXABCDEFGHIJKLMNOPQRSTUVWX","\"0123456789\"",{"$f":"IF(B308>0,IF(K308=Infoblad!$C$6,0.5,0.5+AH308*40076.59/2/PI()),\" \")","v":" "},""]
[null,null," ",{"$f":"IF(B309>0,VASTETIJD(C309)-Infoblad!$C$29,\" \")","v":" "}," ",297," ",null,null,null,null,null,{"$f":"IF(L309>0,VLOOKUP(L309,Punten!$B$3:$C$109,2,FALSE),\" \")","v":" "},null," ",null,null,null,"","","","","","",{"$f":"SEARCH(T309,'Eigen QTH LOc'!$I$1)*10-100+V309","v":{"$error":"#VALUE!"}},{"$f":"TRUNC(ROUND((SEARCH(X309,'Eigen QTH LOc'!$I$1)-0.5)*2.5,2))","v":1},{"$f":"IF(Z309>0,(MOD(ROUND((SEARCH(X309,'Eigen QTH LOc'!$I$1)-0.5)*2.5,2),TRUNC(Z309)))*60,0)","v":15},{"$f":"SEARCH(S309,'Eigen QTH LOc'!$I$1)*20-200+U309*2","v":{"$error":"#VALUE!"}},{"$f":"TRUNC((SEARCH(W309,'Eigen QTH LOc'!$I$1)-0.5)*5)","v":2},{"$f":"IF(AC309>0,(MOD((SEARCH(W309,'Eigen QTH LOc'!$I$1)-0.5)*5,TRUNC(AC309)))*60,0)","v":30},{"$error":"#VALUE!"},{"$error":"#VALUE!"},{"$f":"COS('Eigen QTH LOc'!$G$4-AF309)*SIN(PI()/2-AE309)*SIN(PI()/2-'Eigen QTH LOc'!$G$3)+COS(PI()/2-AE309)*COS(PI()/2-'Eigen QTH LOc'!$G$3)","v":{"$error":"#VALUE!"}},{"$error":"#VALUE!"},"ABCDEFGHIJKLMNOPQRSTUVWXABCDEFGHIJKLMNOPQRSTUVWX","\"0123456789\"",{"$f":"IF(B309>0,IF(K309=Infoblad!$C$6,0.5,0.5+AH309*40076.59/2/PI()),\" \")","v":" "},""]
[null,null," ",{"$f":"IF(B310>0,VASTETIJD(C310)-Infoblad!$C$29,\" \")","v":" "}," ",298," ",null,null,null,null,null,{"$f":"IF(L310>0,VLOOKUP(L310,Punten!$B$3:$C$109,2,FALSE),\" \")","v":" "},null," ",null,null,null,"","","","","","",{"$f":"SEARCH(T310,'Eigen QTH LOc'!$I$1)*10-100+V310","v":{"$error":"#VALUE!"}},{"$f":"TRUNC(ROUND((SEARCH(X310,'Eigen QTH LOc'!$I$1)-0.5)*2.5,2))","v":1},{"$f":"IF(Z310>0,(MOD(ROUND((SEARCH(X310,'Eigen QTH LOc'!$I$1)-0.5)*2.5,2),TRUNC(Z310)))*60,0)","v":15},{"$f":"SEARCH(S310,'Eigen QTH LOc'!$I$1)*20-200+U310*2","v":{"$error":"#VALUE!"}},{"$f":"TRUNC((SEARCH(W310,'Eigen QTH LOc'!$I$1)-0.5)*5)","v":2},{"$f":"IF(AC310>0,(MOD((SEARCH(W310,'Eigen QTH LOc'!$I$1)-0.5)*5,TRUNC(AC310)))*60,0)","v":30},{"$error":"#VALUE!"},{"$error":"#VALUE!"},{"$f":"COS('Eigen QTH LOc'!$G$4-AF310)*SIN(PI()/2-AE310)*SIN(PI()/2-'Eigen QTH LOc'!$G$3)+COS(PI()/2-AE310)*COS(PI()/2-'Eigen QTH LOc'!$G$3)","v":{"$error":"#VALUE!"}},{"$error":"#VALUE!"},"ABCDEFGHIJKLMNOPQRSTUVWXABCDEFGHIJKLMNOPQRSTUVWX","\"0123456789\"",{"$f":"IF(B310>0,IF(K310=Infoblad!$C$6,0.5,0.5+AH310*40076.59/2/PI()),\" \")","v":" "},""]
[null,null," ",{"$f":"IF(B311>0,VASTETIJD(C311)-Infoblad!$C$29,\" \")","v":" "}," ",299," ",null,null,null,null,null,{"$f":"IF(L311>0,VLOOKUP(L311,Punten!$B$3:$C$109,2,FALSE),\" \")","v":" "},null," ",null,null,null,"","","","","","",{"$f":"SEARCH(T311,'Eigen QTH LOc'!$I$1)*10-100+V311","v":{"$error":"#VALUE!"}},{"$f":"TRUNC(ROUND((SEARCH(X311,'Eigen QTH LOc'!$I$1)-0.5)*2.5,2))","v":1},{"$f":"IF(Z311>0,(MOD(ROUND((SEARCH(X311,'Eigen QTH LOc'!$I$1)-0.5)*2.5,2),TRUNC(Z311)))*60,0)","v":15},{"$f":"SEARCH(S311,'Eigen QTH LOc'!$I$1)*20-200+U311*2","v":{"$error":"#VALUE!"}},{"$f":"TRUNC((SEARCH(W311,'Eigen QTH LOc'!$I$1)-0.5)*5)","v":2},{"$f":"IF(AC311>0,(MOD((SEARCH(W311,'Eigen QTH LOc'!$I$1)-0.5)*5,TRUNC(AC311)))*60,0)","v":30},{"$error":"#VALUE!"},{"$error":"#VALUE!"},{"$f":"COS('Eigen QTH LOc'!$G$4-AF311)*SIN(PI()/2-AE311)*SIN(PI()/2-'Eigen QTH LOc'!$G$3)+COS(PI()/2-AE311)*COS(PI()/2-'Eigen QTH LOc'!$G$3)","v":{"$error":"#VALUE!"}},{"$error":"#VALUE!"},"ABCDEFGHIJKLMNOPQRSTUVWXABCDEFGHIJKLMNOPQRSTUVWX","\"0123456789\"",{"$f":"IF(B311>0,IF(K311=Infoblad!$C$6,0.5,0.5+AH311*40076.59/2/PI()),\" \")","v":" "},""]
[null,null," ",{"$f":"IF(B312>0,VASTETIJD(C312)-Infoblad!$C$29,\" \")","v":" "}," ",300," ",null,null,null,null,null,{"$f":"IF(L312>0,VLOOKUP(L312,Punten!$B$3:$C$109,2,FALSE),\" \")","v":" "},null," ",null,null,null,"","","","","","",{"$f":"SEARCH(T312,'Eigen QTH LOc'!$I$1)*10-100+V312","v":{"$error":"#VALUE!"}},{"$f":"TRUNC(ROUND((SEARCH(X312,'Eigen QTH LOc'!$I$1)-0.5)*2.5,2))","v":1},{"$f":"IF(Z312>0,(MOD(ROUND((SEARCH(X312,'Eigen QTH LOc'!$I$1)-0.5)*2.5,2),TRUNC(Z312)))*60,0)","v":15},{"$f":"SEARCH(S312,'Eigen QTH LOc'!$I$1)*20-200+U312*2","v":{"$error":"#VALUE!"}},{"$f":"TRUNC((SEARCH(W312,'Eigen QTH LOc'!$I$1)-0.5)*5)","v":2},{"$f":"IF(AC312>0,(MOD((SEARCH(W312,'Eigen QTH LOc'!$I$1)-0.5)*5,TRUNC(AC312)))*60,0)","v":30},{"$error":"#VALUE!"},{"$error":"#VALUE!"},{"$f":"COS('Eigen QTH LOc'!$G$4-AF312)*SIN(PI()/2-AE312)*SIN(PI()/2-'Eigen QTH LOc'!$G$3)+COS(PI()/2-AE312)*COS(PI()/2-'Eigen QTH LOc'!$G$3)","v":{"$error":"#VALUE!"}},{"$error":"#VALUE!"},"ABCDEFGHIJKLMNOPQRSTUVWXABCDEFGHIJKLMNOPQRSTUVWX","\"0123456789\"",{"$f":"IF(B312>0,IF(K312=Infoblad!$C$6,0.5,0.5+AH312*40076.59/2/PI()),\" \")","v":" "},""]
[null,null," ",{"$f":"IF(B313>0,VASTETIJD(C313)-Infoblad!$C$29,\" \")","v":" "}," ",301," ",null,null,null,null,null,{"$f":"IF(L313>0,VLOOKUP(L313,Punten!$B$3:$C$109,2,FALSE),\" \")","v":" "},null," ",null,null,null,"","","","","","",{"$f":"SEARCH(T313,'Eigen QTH LOc'!$I$1)*10-100+V313","v":{"$error":"#VALUE!"}},{"$f":"TRUNC(ROUND((SEARCH(X313,'Eigen QTH LOc'!$I$1)-0.5)*2.5,2))","v":1},{"$f":"IF(Z313>0,(MOD(ROUND((SEARCH(X313,'Eigen QTH LOc'!$I$1)-0.5)*2.5,2),TRUNC(Z313)))*60,0)","v":15},{"$f":"SEARCH(S313,'Eigen QTH LOc'!$I$1)*20-200+U313*2","v":{"$error":"#VALUE!"}},{"$f":"TRUNC((SEARCH(W313,'Eigen QTH LOc'!$I$1)-0.5)*5)","v":2},{"$f":"IF(AC313>0,(MOD((SEARCH(W313,'Eigen QTH LOc'!$I$1)-0.5)*5,TRUNC(AC313)))*60,0)","v":30},{"$error":"#VALUE!"},{"$error":"#VALUE!"},{"$f":"COS('Eigen QTH LOc'!$G$4-AF313)*SIN(PI()/2-AE313)*SIN(PI()/2-'Eigen QTH LOc'!$G$3)+COS(PI()/2-AE313)*COS(PI()/2-'Eigen QTH LOc'!$G$3)","v":{"$error":"#VALUE!"}},{"$error":"#VALUE!"},"ABCDEFGHIJKLMNOPQRSTUVWXABCDEFGHIJKLMNOPQRSTUVWX","\"0123456789\"",{"$f":"IF(B313>0,IF(K313=Infoblad!$C$6,0.5,0.5+AH313*40076.59/2/PI()),\" \")","v":" "},""]
[null,null," ",{"$f":"IF(B314>0,VASTETIJD(C314)-Infoblad!$C$29,\" \")","v":" "}," ",302," ",null,null,null,null,null,{"$f":"IF(L314>0,VLOOKUP(L314,Punten!$B$3:$C$109,2,FALSE),\" \")","v":" "},null," ",null,null,null,"","","","","","",{"$f":"SEARCH(T314,'Eigen QTH LOc'!$I$1)*10-100+V314","v":{"$error":"#VALUE!"}},{"$f":"TRUNC(ROUND((SEARCH(X314,'Eigen QTH LOc'!$I$1)-0.5)*2.5,2))","v":1},{"$f":"IF(Z314>0,(MOD(ROUND((SEARCH(X314,'Eigen QTH LOc'!$I$1)-0.5)*2.5,2),TRUNC(Z314)))*60,0)","v":15},{"$f":"SEARCH(S314,'Eigen QTH LOc'!$I$1)*20-200+U314*2","v":{"$error":"#VALUE!"}},{"$f":"TRUNC((SEARCH(W314,'Eigen QTH LOc'!$I$1)-0.5)*5)","v":2},{"$f":"IF(AC314>0,(MOD((SEARCH(W314,'Eigen QTH LOc'!$I$1)-0.5)*5,TRUNC(AC314)))*60,0)","v":30},{"$error":"#VALUE!"},{"$error":"#VALUE!"},{"$f":"COS('Eigen QTH LOc'!$G$4-AF314)*SIN(PI()/2-AE314)*SIN(PI()/2-'Eigen QTH LOc'!$G$3)+COS(PI()/2-AE314)*COS(PI()/2-'Eigen QTH LOc'!$G$3)","v":{"$error":"#VALUE!"}},{"$error":"#VALUE!"},"ABCDEFGHIJKLMNOPQRSTUVWXABCDEFGHIJKLMNOPQRSTUVWX","\"0123456789\"",{"$f":"IF(B314>0,IF(K314=Infoblad!$C$6,0.5,0.5+AH314*40076.59/2/PI()),\" \")","v":" "},""]
[null,null," ",{"$f":"IF(B315>0,VASTETIJD(C315)-Infoblad!$C$29,\" \")","v":" "}," ",303," ",null,null,null,null,null,{"$f":"IF(L315>0,VLOOKUP(L315,Punten!$B$3:$C$109,2,FALSE),\" \")","v":" "},null," ",null,null,null,"","","","","","",{"$f":"SEARCH(T315,'Eigen QTH LOc'!$I$1)*10-100+V315","v":{"$error":"#VALUE!"}},{"$f":"TRUNC(ROUND((SEARCH(X315,'Eigen QTH LOc'!$I$1)-0.5)*2.5,2))","v":1},{"$f":"IF(Z315>0,(MOD(ROUND((SEARCH(X315,'Eigen QTH LOc'!$I$1)-0.5)*2.5,2),TRUNC(Z315)))*60,0)","v":15},{"$f":"SEARCH(S315,'Eigen QTH LOc'!$I$1)*20-200+U315*2","v":{"$error":"#VALUE!"}},{"$f":"TRUNC((SEARCH(W315,'Eigen QTH LOc'!$I$1)-0.5)*5)","v":2},{"$f":"IF(AC315>0,(MOD((SEARCH(W315,'Eigen QTH LOc'!$I$1)-0.5)*5,TRUNC(AC315)))*60,0)","v":30},{"$error":"#VALUE!"},{"$error":"#VALUE!"},{"$f":"COS('Eigen QTH LOc'!$G$4-AF315)*SIN(PI()/2-AE315)*SIN(PI()/2-'Eigen QTH LOc'!$G$3)+COS(PI()/2-AE315)*COS(PI()/2-'Eigen QTH LOc'!$G$3)","v":{"$error":"#VALUE!"}},{"$error":"#VALUE!"},"ABCDEFGHIJKLMNOPQRSTUVWXABCDEFGHIJKLMNOPQRSTUVWX","\"0123456789\"",{"$f":"IF(B315>0,IF(K315=Infoblad!$C$6,0.5,0.5+AH315*40076.59/2/PI()),\" \")","v":" "},""]
[null,null," ",{"$f":"IF(B316>0,VASTETIJD(C316)-Infoblad!$C$29,\" \")","v":" "}," ",304," ",null,null,null,null,null,{"$f":"IF(L316>0,VLOOKUP(L316,Punten!$B$3:$C$109,2,FALSE),\" \")","v":" "},null," ",null,null,null,"","","","","","",{"$f":"SEARCH(T316,'Eigen QTH LOc'!$I$1)*10-100+V316","v":{"$error":"#VALUE!"}},{"$f":"TRUNC(ROUND((SEARCH(X316,'Eigen QTH LOc'!$I$1)-0.5)*2.5,2))","v":1},{"$f":"IF(Z316>0,(MOD(ROUND((SEARCH(X316,'Eigen QTH LOc'!$I$1)-0.5)*2.5,2),TRUNC(Z316)))*60,0)","v":15},{"$f":"SEARCH(S316,'Eigen QTH LOc'!$I$1)*20-200+U316*2","v":{"$error":"#VALUE!"}},{"$f":"TRUNC((SEARCH(W316,'Eigen QTH LOc'!$I$1)-0.5)*5)","v":2},{"$f":"IF(AC316>0,(MOD((SEARCH(W316,'Eigen QTH LOc'!$I$1)-0.5)*5,TRUNC(AC316)))*60,0)","v":30},{"$error":"#VALUE!"},{"$error":"#VALUE!"},{"$f":"COS('Eigen QTH LOc'!$G$4-AF316)*SIN(PI()/2-AE316)*SIN(PI()/2-'Eigen QTH LOc'!$G$3)+COS(PI()/2-AE316)*COS(PI()/2-'Eigen QTH LOc'!$G$3)","v":{"$error":"#VALUE!"}},{"$error":"#VALUE!"},"ABCDEFGHIJKLMNOPQRSTUVWXABCDEFGHIJKLMNOPQRSTUVWX","\"0123456789\"",{"$f":"IF(B316>0,IF(K316=Infoblad!$C$6,0.5,0.5+AH316*40076.59/2/PI()),\" \")","v":" "},""]
[null,null," ",{"$f":"IF(B317>0,VASTETIJD(C317)-Infoblad!$C$29,\" \")","v":" "}," ",305," ",null,null,null,null,null,{"$f":"IF(L317>0,VLOOKUP(L317,Punten!$B$3:$C$109,2,FALSE),\" \")","v":" "},null," ",null,null,null,"","","","","","",{"$f":"SEARCH(T317,'Eigen QTH LOc'!$I$1)*10-100+V317","v":{"$error":"#VALUE!"}},{"$f":"TRUNC(ROUND((SEARCH(X317,'Eigen QTH LOc'!$I$1)-0.5)*2.5,2))","v":1},{"$f":"IF(Z317>0,(MOD(ROUND((SEARCH(X317,'Eigen QTH LOc'!$I$1)-0.5)*2.5,2),TRUNC(Z317)))*60,0)","v":15},{"$f":"SEARCH(S317,'Eigen QTH LOc'!$I$1)*20-200+U317*2","v":{"$error":"#VALUE!"}},{"$f":"TRUNC((SEARCH(W317,'Eigen QTH LOc'!$I$1)-0.5)*5)","v":2},{"$f":"IF(AC317>0,(MOD((SEARCH(W317,'Eigen QTH LOc'!$I$1)-0.5)*5,TRUNC(AC317)))*60,0)","v":30},{"$error":"#VALUE!"},{"$error":"#VALUE!"},{"$f":"COS('Eigen QTH LOc'!$G$4-AF317)*SIN(PI()/2-AE317)*SIN(PI()/2-'Eigen QTH LOc'!$G$3)+COS(PI()/2-AE317)*COS(PI()/2-'Eigen QTH LOc'!$G$3)","v":{"$error":"#VALUE!"}},{"$error":"#VALUE!"},"ABCDEFGHIJKLMNOPQRSTUVWXABCDEFGHIJKLMNOPQRSTUVWX","\"0123456789\"",{"$f":"IF(B317>0,IF(K317=Infoblad!$C$6,0.5,0.5+AH317*40076.59/2/PI()),\" \")","v":" "},""]
[null,null," ",{"$f":"IF(B318>0,VASTETIJD(C318)-Infoblad!$C$29,\" \")","v":" "}," ",306," ",null,null,null,null,null,{"$f":"IF(L318>0,VLOOKUP(L318,Punten!$B$3:$C$109,2,FALSE),\" \")","v":" "},null," ",null,null,null,"","","","","","",{"$f":"SEARCH(T318,'Eigen QTH LOc'!$I$1)*10-100+V318","v":{"$error":"#VALUE!"}},{"$f":"TRUNC(ROUND((SEARCH(X318,'Eigen QTH LOc'!$I$1)-0.5)*2.5,2))","v":1},{"$f":"IF(Z318>0,(MOD(ROUND((SEARCH(X318,'Eigen QTH LOc'!$I$1)-0.5)*2.5,2),TRUNC(Z318)))*60,0)","v":15},{"$f":"SEARCH(S318,'Eigen QTH LOc'!$I$1)*20-200+U318*2","v":{"$error":"#VALUE!"}},{"$f":"TRUNC((SEARCH(W318,'Eigen QTH LOc'!$I$1)-0.5)*5)","v":2},{"$f":"IF(AC318>0,(MOD((SEARCH(W318,'Eigen QTH LOc'!$I$1)-0.5)*5,TRUNC(AC318)))*60,0)","v":30},{"$error":"#VALUE!"},{"$error":"#VALUE!"},{"$f":"COS('Eigen QTH LOc'!$G$4-AF318)*SIN(PI()/2-AE318)*SIN(PI()/2-'Eigen QTH LOc'!$G$3)+COS(PI()/2-AE318)*COS(PI()/2-'Eigen QTH LOc'!$G$3)","v":{"$error":"#VALUE!"}},{"$error":"#VALUE!"},"ABCDEFGHIJKLMNOPQRSTUVWXABCDEFGHIJKLMNOPQRSTUVWX","\"0123456789\"",{"$f":"IF(B318>0,IF(K318=Infoblad!$C$6,0.5,0.5+AH318*40076.59/2/PI()),\" \")","v":" "},""]
[null,null," ",{"$f":"IF(B319>0,VASTETIJD(C319)-Infoblad!$C$29,\" \")","v":" "}," ",307," ",null,null,null,null,null,{"$f":"IF(L319>0,VLOOKUP(L319,Punten!$B$3:$C$109,2,FALSE),\" \")","v":" "},null," ",null,null,null,"","","","","","",{"$f":"SEARCH(T319,'Eigen QTH LOc'!$I$1)*10-100+V319","v":{"$error":"#VALUE!"}},{"$f":"TRUNC(ROUND((SEARCH(X319,'Eigen QTH LOc'!$I$1)-0.5)*2.5,2))","v":1},{"$f":"IF(Z319>0,(MOD(ROUND((SEARCH(X319,'Eigen QTH LOc'!$I$1)-0.5)*2.5,2),TRUNC(Z319)))*60,0)","v":15},{"$f":"SEARCH(S319,'Eigen QTH LOc'!$I$1)*20-200+U319*2","v":{"$error":"#VALUE!"}},{"$f":"TRUNC((SEARCH(W319,'Eigen QTH LOc'!$I$1)-0.5)*5)","v":2},{"$f":"IF(AC319>0,(MOD((SEARCH(W319,'Eigen QTH LOc'!$I$1)-0.5)*5,TRUNC(AC319)))*60,0)","v":30},{"$error":"#VALUE!"},{"$error":"#VALUE!"},{"$f":"COS('Eigen QTH LOc'!$G$4-AF319)*SIN(PI()/2-AE319)*SIN(PI()/2-'Eigen QTH LOc'!$G$3)+COS(PI()/2-AE319)*COS(PI()/2-'Eigen QTH LOc'!$G$3)","v":{"$error":"#VALUE!"}},{"$error":"#VALUE!"},"ABCDEFGHIJKLMNOPQRSTUVWXABCDEFGHIJKLMNOPQRSTUVWX","\"0123456789\"",{"$f":"IF(B319>0,IF(K319=Infoblad!$C$6,0.5,0.5+AH319*40076.59/2/PI()),\" \")","v":" "},""]
[null,null," ",{"$f":"IF(B320>0,VASTETIJD(C320)-Infoblad!$C$29,\" \")","v":" "}," ",308," ",null,null,null,null,null,{"$f":"IF(L320>0,VLOOKUP(L320,Punten!$B$3:$C$109,2,FALSE),\" \")","v":" "},null," ",null,null,null,"","","","","","",{"$f":"SEARCH(T320,'Eigen QTH LOc'!$I$1)*10-100+V320","v":{"$error":"#VALUE!"}},{"$f":"TRUNC(ROUND((SEARCH(X320,'Eigen QTH LOc'!$I$1)-0.5)*2.5,2))","v":1},{"$f":"IF(Z320>0,(MOD(ROUND((SEARCH(X320,'Eigen QTH LOc'!$I$1)-0.5)*2.5,2),TRUNC(Z320)))*60,0)","v":15},{"$f":"SEARCH(S320,'Eigen QTH LOc'!$I$1)*20-200+U320*2","v":{"$error":"#VALUE!"}},{"$f":"TRUNC((SEARCH(W320,'Eigen QTH LOc'!$I$1)-0.5)*5)","v":2},{"$f":"IF(AC320>0,(MOD((SEARCH(W320,'Eigen QTH LOc'!$I$1)-0.5)*5,TRUNC(AC320)))*60,0)","v":30},{"$error":"#VALUE!"},{"$error":"#VALUE!"},{"$f":"COS('Eigen QTH LOc'!$G$4-AF320)*SIN(PI()/2-AE320)*SIN(PI()/2-'Eigen QTH LOc'!$G$3)+COS(PI()/2-AE320)*COS(PI()/2-'Eigen QTH LOc'!$G$3)","v":{"$error":"#VALUE!"}},{"$error":"#VALUE!"},"ABCDEFGHIJKLMNOPQRSTUVWXABCDEFGHIJKLMNOPQRSTUVWX","\"0123456789\"",{"$f":"IF(B320>0,IF(K320=Infoblad!$C$6,0.5,0.5+AH320*40076.59/2/PI()),\" \")","v":" "},""]
[null,null," ",{"$f":"IF(B321>0,VASTETIJD(C321)-Infoblad!$C$29,\" \")","v":" "}," ",309," ",null,null,null,null,null,{"$f":"IF(L321>0,VLOOKUP(L321,Punten!$B$3:$C$109,2,FALSE),\" \")","v":" "},null," ",null,null,null,"","","","","","",{"$f":"SEARCH(T321,'Eigen QTH LOc'!$I$1)*10-100+V321","v":{"$error":"#VALUE!"}},{"$f":"TRUNC(ROUND((SEARCH(X321,'Eigen QTH LOc'!$I$1)-0.5)*2.5,2))","v":1},{"$f":"IF(Z321>0,(MOD(ROUND((SEARCH(X321,'Eigen QTH LOc'!$I$1)-0.5)*2.5,2),TRUNC(Z321)))*60,0)","v":15},{"$f":"SEARCH(S321,'Eigen QTH LOc'!$I$1)*20-200+U321*2","v":{"$error":"#VALUE!"}},{"$f":"TRUNC((SEARCH(W321,'Eigen QTH LOc'!$I$1)-0.5)*5)","v":2},{"$f":"IF(AC321>0,(MOD((SEARCH(W321,'Eigen QTH LOc'!$I$1)-0.5)*5,TRUNC(AC321)))*60,0)","v":30},{"$error":"#VALUE!"},{"$error":"#VALUE!"},{"$f":"COS('Eigen QTH LOc'!$G$4-AF321)*SIN(PI()/2-AE321)*SIN(PI()/2-'Eigen QTH LOc'!$G$3)+COS(PI()/2-AE321)*COS(PI()/2-'Eigen QTH LOc'!$G$3)","v":{"$error":"#VALUE!"}},{"$error":"#VALUE!"},"ABCDEFGHIJKLMNOPQRSTUVWXABCDEFGHIJKLMNOPQRSTUVWX","\"0123456789\"",{"$f":"IF(B321>0,IF(K321=Infoblad!$C$6,0.5,0.5+AH321*40076.59/2/PI()),\" \")","v":" "},""]
[null,null," ",{"$f":"IF(B322>0,VASTETIJD(C322)-Infoblad!$C$29,\" \")","v":" "}," ",310," ",null,null,null,null,null,{"$f":"IF(L322>0,VLOOKUP(L322,Punten!$B$3:$C$109,2,FALSE),\" \")","v":" "},null," ",null,null,null,"","","","","","",{"$f":"SEARCH(T322,'Eigen QTH LOc'!$I$1)*10-100+V322","v":{"$error":"#VALUE!"}},{"$f":"TRUNC(ROUND((SEARCH(X322,'Eigen QTH LOc'!$I$1)-0.5)*2.5,2))","v":1},{"$f":"IF(Z322>0,(MOD(ROUND((SEARCH(X322,'Eigen QTH LOc'!$I$1)-0.5)*2.5,2),TRUNC(Z322)))*60,0)","v":15},{"$f":"SEARCH(S322,'Eigen QTH LOc'!$I$1)*20-200+U322*2","v":{"$error":"#VALUE!"}},{"$f":"TRUNC((SEARCH(W322,'Eigen QTH LOc'!$I$1)-0.5)*5)","v":2},{"$f":"IF(AC322>0,(MOD((SEARCH(W322,'Eigen QTH LOc'!$I$1)-0.5)*5,TRUNC(AC322)))*60,0)","v":30},{"$error":"#VALUE!"},{"$error":"#VALUE!"},{"$f":"COS('Eigen QTH LOc'!$G$4-AF322)*SIN(PI()/2-AE322)*SIN(PI()/2-'Eigen QTH LOc'!$G$3)+COS(PI()/2-AE322)*COS(PI()/2-'Eigen QTH LOc'!$G$3)","v":{"$error":"#VALUE!"}},{"$error":"#VALUE!"},"ABCDEFGHIJKLMNOPQRSTUVWXABCDEFGHIJKLMNOPQRSTUVWX","\"0123456789\"",{"$f":"IF(B322>0,IF(K322=Infoblad!$C$6,0.5,0.5+AH322*40076.59/2/PI()),\" \")","v":" "},""]
[null,null," ",{"$f":"IF(B323>0,VASTETIJD(C323)-Infoblad!$C$29,\" \")","v":" "}," ",311," ",null,null,null,null,null,{"$f":"IF(L323>0,VLOOKUP(L323,Punten!$B$3:$C$109,2,FALSE),\" \")","v":" "},null," ",null,null,null,"","","","","","",{"$f":"SEARCH(T323,'Eigen QTH LOc'!$I$1)*10-100+V323","v":{"$error":"#VALUE!"}},{"$f":"TRUNC(ROUND((SEARCH(X323,'Eigen QTH LOc'!$I$1)-0.5)*2.5,2))","v":1},{"$f":"IF(Z323>0,(MOD(ROUND((SEARCH(X323,'Eigen QTH LOc'!$I$1)-0.5)*2.5,2),TRUNC(Z323)))*60,0)","v":15},{"$f":"SEARCH(S323,'Eigen QTH LOc'!$I$1)*20-200+U323*2","v":{"$error":"#VALUE!"}},{"$f":"TRUNC((SEARCH(W323,'Eigen QTH LOc'!$I$1)-0.5)*5)","v":2},{"$f":"IF(AC323>0,(MOD((SEARCH(W323,'Eigen QTH LOc'!$I$1)-0.5)*5,TRUNC(AC323)))*60,0)","v":30},{"$error":"#VALUE!"},{"$error":"#VALUE!"},{"$f":"COS('Eigen QTH LOc'!$G$4-AF323)*SIN(PI()/2-AE323)*SIN(PI()/2-'Eigen QTH LOc'!$G$3)+COS(PI()/2-AE323)*COS(PI()/2-'Eigen QTH LOc'!$G$3)","v":{"$error":"#VALUE!"}},{"$error":"#VALUE!"},"ABCDEFGHIJKLMNOPQRSTUVWXABCDEFGHIJKLMNOPQRSTUVWX","\"0123456789\"",{"$f":"IF(B323>0,IF(K323=Infoblad!$C$6,0.5,0.5+AH323*40076.59/2/PI()),\" \")","v":" "},""]
[null,null," ",{"$f":"IF(B324>0,VASTETIJD(C324)-Infoblad!$C$29,\" \")","v":" "}," ",312," ",null,null,null,null,null,{"$f":"IF(L324>0,VLOOKUP(L324,Punten!$B$3:$C$109,2,FALSE),\" \")","v":" "},null," ",null,null,null,"","","","","","",{"$f":"SEARCH(T324,'Eigen QTH LOc'!$I$1)*10-100+V324","v":{"$error":"#VALUE!"}},{"$f":"TRUNC(ROUND((SEARCH(X324,'Eigen QTH LOc'!$I$1)-0.5)*2.5,2))","v":1},{"$f":"IF(Z324>0,(MOD(ROUND((SEARCH(X324,'Eigen QTH LOc'!$I$1)-0.5)*2.5,2),TRUNC(Z324)))*60,0)","v":15},{"$f":"SEARCH(S324,'Eigen QTH LOc'!$I$1)*20-200+U324*2","v":{"$error":"#VALUE!"}},{"$f":"TRUNC((SEARCH(W324,'Eigen QTH LOc'!$I$1)-0.5)*5)","v":2},{"$f":"IF(AC324>0,(MOD((SEARCH(W324,'Eigen QTH LOc'!$I$1)-0.5)*5,TRUNC(AC324)))*60,0)","v":30},{"$error":"#VALUE!"},{"$error":"#VALUE!"},{"$f":"COS('Eigen QTH LOc'!$G$4-AF324)*SIN(PI()/2-AE324)*SIN(PI()/2-'Eigen QTH LOc'!$G$3)+COS(PI()/2-AE324)*COS(PI()/2-'Eigen QTH LOc'!$G$3)","v":{"$error":"#VALUE!"}},{"$error":"#VALUE!"},"ABCDEFGHIJKLMNOPQRSTUVWXABCDEFGHIJKLMNOPQRSTUVWX","\"0123456789\"",{"$f":"IF(B324>0,IF(K324=Infoblad!$C$6,0.5,0.5+AH324*40076.59/2/PI()),\" \")","v":" "},""]
[null,null," ",{"$f":"IF(B325>0,VASTETIJD(C325)-Infoblad!$C$29,\" \")","v":" "}," ",313," ",null,null,null,null,null,{"$f":"IF(L325>0,VLOOKUP(L325,Punten!$B$3:$C$109,2,FALSE),\" \")","v":" "},null," ",null,null,null,"","","","","","",{"$f":"SEARCH(T325,'Eigen QTH LOc'!$I$1)*10-100+V325","v":{"$error":"#VALUE!"}},{"$f":"TRUNC(ROUND((SEARCH(X325,'Eigen QTH LOc'!$I$1)-0.5)*2.5,2))","v":1},{"$f":"IF(Z325>0,(MOD(ROUND((SEARCH(X325,'Eigen QTH LOc'!$I$1)-0.5)*2.5,2),TRUNC(Z325)))*60,0)","v":15},{"$f":"SEARCH(S325,'Eigen QTH LOc'!$I$1)*20-200+U325*2","v":{"$error":"#VALUE!"}},{"$f":"TRUNC((SEARCH(W325,'Eigen QTH LOc'!$I$1)-0.5)*5)","v":2},{"$f":"IF(AC325>0,(MOD((SEARCH(W325,'Eigen QTH LOc'!$I$1)-0.5)*5,TRUNC(AC325)))*60,0)","v":30},{"$error":"#VALUE!"},{"$error":"#VALUE!"},{"$f":"COS('Eigen QTH LOc'!$G$4-AF325)*SIN(PI()/2-AE325)*SIN(PI()/2-'Eigen QTH LOc'!$G$3)+COS(PI()/2-AE325)*COS(PI()/2-'Eigen QTH LOc'!$G$3)","v":{"$error":"#VALUE!"}},{"$error":"#VALUE!"},"ABCDEFGHIJKLMNOPQRSTUVWXABCDEFGHIJKLMNOPQRSTUVWX","\"0123456789\"",{"$f":"IF(B325>0,IF(K325=Infoblad!$C$6,0.5,0.5+AH325*40076.59/2/PI()),\" \")","v":" "},""]
[null,null," ",{"$f":"IF(B326>0,VASTETIJD(C326)-Infoblad!$C$29,\" \")","v":" "}," ",314," ",null,null,null,null,null,{"$f":"IF(L326>0,VLOOKUP(L326,Punten!$B$3:$C$109,2,FALSE),\" \")","v":" "},null," ",null,null,null,"","","","","","",{"$f":"SEARCH(T326,'Eigen QTH LOc'!$I$1)*10-100+V326","v":{"$error":"#VALUE!"}},{"$f":"TRUNC(ROUND((SEARCH(X326,'Eigen QTH LOc'!$I$1)-0.5)*2.5,2))","v":1},{"$f":"IF(Z326>0,(MOD(ROUND((SEARCH(X326,'Eigen QTH LOc'!$I$1)-0.5)*2.5,2),TRUNC(Z326)))*60,0)","v":15},{"$f":"SEARCH(S326,'Eigen QTH LOc'!$I$1)*20-200+U326*2","v":{"$error":"#VALUE!"}},{"$f":"TRUNC((SEARCH(W326,'Eigen QTH LOc'!$I$1)-0.5)*5)","v":2},{"$f":"IF(AC326>0,(MOD((SEARCH(W326,'Eigen QTH LOc'!$I$1)-0.5)*5,TRUNC(AC326)))*60,0)","v":30},{"$error":"#VALUE!"},{"$error":"#VALUE!"},{"$f":"COS('Eigen QTH LOc'!$G$4-AF326)*SIN(PI()/2-AE326)*SIN(PI()/2-'Eigen QTH LOc'!$G$3)+COS(PI()/2-AE326)*COS(PI()/2-'Eigen QTH LOc'!$G$3)","v":{"$error":"#VALUE!"}},{"$error":"#VALUE!"},"ABCDEFGHIJKLMNOPQRSTUVWXABCDEFGHIJKLMNOPQRSTUVWX","\"0123456789\"",{"$f":"IF(B326>0,IF(K326=Infoblad!$C$6,0.5,0.5+AH326*40076.59/2/PI()),\" \")","v":" "},""]
[null,null," ",{"$f":"IF(B327>0,VASTETIJD(C327)-Infoblad!$C$29,\" \")","v":" "}," ",315," ",null,null,null,null,null,{"$f":"IF(L327>0,VLOOKUP(L327,Punten!$B$3:$C$109,2,FALSE),\" \")","v":" "},null," ",null,null,null,"","","","","","",{"$f":"SEARCH(T327,'Eigen QTH LOc'!$I$1)*10-100+V327","v":{"$error":"#VALUE!"}},{"$f":"TRUNC(ROUND((SEARCH(X327,'Eigen QTH LOc'!$I$1)-0.5)*2.5,2))","v":1},{"$f":"IF(Z327>0,(MOD(ROUND((SEARCH(X327,'Eigen QTH LOc'!$I$1)-0.5)*2.5,2),TRUNC(Z327)))*60,0)","v":15},{"$f":"SEARCH(S327,'Eigen QTH LOc'!$I$1)*20-200+U327*2","v":{"$error":"#VALUE!"}},{"$f":"TRUNC((SEARCH(W327,'Eigen QTH LOc'!$I$1)-0.5)*5)","v":2},{"$f":"IF(AC327>0,(MOD((SEARCH(W327,'Eigen QTH LOc'!$I$1)-0.5)*5,TRUNC(AC327)))*60,0)","v":30},{"$error":"#VALUE!"},{"$error":"#VALUE!"},{"$f":"COS('Eigen QTH LOc'!$G$4-AF327)*SIN(PI()/2-AE327)*SIN(PI()/2-'Eigen QTH LOc'!$G$3)+COS(PI()/2-AE327)*COS(PI()/2-'Eigen QTH LOc'!$G$3)","v":{"$error":"#VALUE!"}},{"$error":"#VALUE!"},"ABCDEFGHIJKLMNOPQRSTUVWXABCDEFGHIJKLMNOPQRSTUVWX","\"0123456789\"",{"$f":"IF(B327>0,IF(K327=Infoblad!$C$6,0.5,0.5+AH327*40076.59/2/PI()),\" \")","v":" "},""]
[null,null," ",{"$f":"IF(B328>0,VASTETIJD(C328)-Infoblad!$C$29,\" \")","v":" "}," ",316," ",null,null,null,null,null,{"$f":"IF(L328>0,VLOOKUP(L328,Punten!$B$3:$C$109,2,FALSE),\" \")","v":" "},null," ",null,null,null,"","","","","","",{"$f":"SEARCH(T328,'Eigen QTH LOc'!$I$1)*10-100+V328","v":{"$error":"#VALUE!"}},{"$f":"TRUNC(ROUND((SEARCH(X328,'Eigen QTH LOc'!$I$1)-0.5)*2.5,2))","v":1},{"$f":"IF(Z328>0,(MOD(ROUND((SEARCH(X328,'Eigen QTH LOc'!$I$1)-0.5)*2.5,2),TRUNC(Z328)))*60,0)","v":15},{"$f":"SEARCH(S328,'Eigen QTH LOc'!$I$1)*20-200+U328*2","v":{"$error":"#VALUE!"}},{"$f":"TRUNC((SEARCH(W328,'Eigen QTH LOc'!$I$1)-0.5)*5)","v":2},{"$f":"IF(AC328>0,(MOD((SEARCH(W328,'Eigen QTH LOc'!$I$1)-0.5)*5,TRUNC(AC328)))*60,0)","v":30},{"$error":"#VALUE!"},{"$error":"#VALUE!"},{"$f":"COS('Eigen QTH LOc'!$G$4-AF328)*SIN(PI()/2-AE328)*SIN(PI()/2-'Eigen QTH LOc'!$G$3)+COS(PI()/2-AE328)*COS(PI()/2-'Eigen QTH LOc'!$G$3)","v":{"$error":"#VALUE!"}},{"$error":"#VALUE!"},"ABCDEFGHIJKLMNOPQRSTUVWXABCDEFGHIJKLMNOPQRSTUVWX","\"0123456789\"",{"$f":"IF(B328>0,IF(K328=Infoblad!$C$6,0.5,0.5+AH328*40076.59/2/PI()),\" \")","v":" "},""]
[null,null," ",{"$f":"IF(B329>0,VASTETIJD(C329)-Infoblad!$C$29,\" \")","v":" "}," ",317," ",null,null,null,null,null,{"$f":"IF(L329>0,VLOOKUP(L329,Punten!$B$3:$C$109,2,FALSE),\" \")","v":" "},null," ",null,null,null,"","","","","","",{"$f":"SEARCH(T329,'Eigen QTH LOc'!$I$1)*10-100+V329","v":{"$error":"#VALUE!"}},{"$f":"TRUNC(ROUND((SEARCH(X329,'Eigen QTH LOc'!$I$1)-0.5)*2.5,2))","v":1},{"$f":"IF(Z329>0,(MOD(ROUND((SEARCH(X329,'Eigen QTH LOc'!$I$1)-0.5)*2.5,2),TRUNC(Z329)))*60,0)","v":15},{"$f":"SEARCH(S329,'Eigen QTH LOc'!$I$1)*20-200+U329*2","v":{"$error":"#VALUE!"}},{"$f":"TRUNC((SEARCH(W329,'Eigen QTH LOc'!$I$1)-0.5)*5)","v":2},{"$f":"IF(AC329>0,(MOD((SEARCH(W329,'Eigen QTH LOc'!$I$1)-0.5)*5,TRUNC(AC329)))*60,0)","v":30},{"$error":"#VALUE!"},{"$error":"#VALUE!"},{"$f":"COS('Eigen QTH LOc'!$G$4-AF329)*SIN(PI()/2-AE329)*SIN(PI()/2-'Eigen QTH LOc'!$G$3)+COS(PI()/2-AE329)*COS(PI()/2-'Eigen QTH LOc'!$G$3)","v":{"$error":"#VALUE!"}},{"$error":"#VALUE!"},"ABCDEFGHIJKLMNOPQRSTUVWXABCDEFGHIJKLMNOPQRSTUVWX","\"0123456789\"",{"$f":"IF(B329>0,IF(K329=Infoblad!$C$6,0.5,0.5+AH329*40076.59/2/PI()),\" \")","v":" "},""]
[null,null," ",{"$f":"IF(B330>0,VASTETIJD(C330)-Infoblad!$C$29,\" \")","v":" "}," ",318," ",null,null,null,null,null,{"$f":"IF(L330>0,VLOOKUP(L330,Punten!$B$3:$C$109,2,FALSE),\" \")","v":" "},null," ",null,null,null,"","","","","","",{"$f":"SEARCH(T330,'Eigen QTH LOc'!$I$1)*10-100+V330","v":{"$error":"#VALUE!"}},{"$f":"TRUNC(ROUND((SEARCH(X330,'Eigen QTH LOc'!$I$1)-0.5)*2.5,2))","v":1},{"$f":"IF(Z330>0,(MOD(ROUND((SEARCH(X330,'Eigen QTH LOc'!$I$1)-0.5)*2.5,2),TRUNC(Z330)))*60,0)","v":15},{"$f":"SEARCH(S330,'Eigen QTH LOc'!$I$1)*20-200+U330*2","v":{"$error":"#VALUE!"}},{"$f":"TRUNC((SEARCH(W330,'Eigen QTH LOc'!$I$1)-0.5)*5)","v":2},{"$f":"IF(AC330>0,(MOD((SEARCH(W330,'Eigen QTH LOc'!$I$1)-0.5)*5,TRUNC(AC330)))*60,0)","v":30},{"$error":"#VALUE!"},{"$error":"#VALUE!"},{"$f":"COS('Eigen QTH LOc'!$G$4-AF330)*SIN(PI()/2-AE330)*SIN(PI()/2-'Eigen QTH LOc'!$G$3)+COS(PI()/2-AE330)*COS(PI()/2-'Eigen QTH LOc'!$G$3)","v":{"$error":"#VALUE!"}},{"$error":"#VALUE!"},"ABCDEFGHIJKLMNOPQRSTUVWXABCDEFGHIJKLMNOPQRSTUVWX","\"0123456789\"",{"$f":"IF(B330>0,IF(K330=Infoblad!$C$6,0.5,0.5+AH330*40076.59/2/PI()),\" \")","v":" "},""]
[null,null," ",{"$f":"IF(B331>0,VASTETIJD(C331)-Infoblad!$C$29,\" \")","v":" "}," ",319," ",null,null,null,null,null,{"$f":"IF(L331>0,VLOOKUP(L331,Punten!$B$3:$C$109,2,FALSE),\" \")","v":" "},null," ",null,null,null,"","","","","","",{"$f":"SEARCH(T331,'Eigen QTH LOc'!$I$1)*10-100+V331","v":{"$error":"#VALUE!"}},{"$f":"TRUNC(ROUND((SEARCH(X331,'Eigen QTH LOc'!$I$1)-0.5)*2.5,2))","v":1},{"$f":"IF(Z331>0,(MOD(ROUND((SEARCH(X331,'Eigen QTH LOc'!$I$1)-0.5)*2.5,2),TRUNC(Z331)))*60,0)","v":15},{"$f":"SEARCH(S331,'Eigen QTH LOc'!$I$1)*20-200+U331*2","v":{"$error":"#VALUE!"}},{"$f":"TRUNC((SEARCH(W331,'Eigen QTH LOc'!$I$1)-0.5)*5)","v":2},{"$f":"IF(AC331>0,(MOD((SEARCH(W331,'Eigen QTH LOc'!$I$1)-0.5)*5,TRUNC(AC331)))*60,0)","v":30},{"$error":"#VALUE!"},{"$error":"#VALUE!"},{"$f":"COS('Eigen QTH LOc'!$G$4-AF331)*SIN(PI()/2-AE331)*SIN(PI()/2-'Eigen QTH LOc'!$G$3)+COS(PI()/2-AE331)*COS(PI()/2-'Eigen QTH LOc'!$G$3)","v":{"$error":"#VALUE!"}},{"$error":"#VALUE!"},"ABCDEFGHIJKLMNOPQRSTUVWXABCDEFGHIJKLMNOPQRSTUVWX","\"0123456789\"",{"$f":"IF(B331>0,IF(K331=Infoblad!$C$6,0.5,0.5+AH331*40076.59/2/PI()),\" \")","v":" "},""]
[null,null," ",{"$f":"IF(B332>0,VASTETIJD(C332)-Infoblad!$C$29,\" \")","v":" "}," ",320," ",null,null,null,null,null,{"$f":"IF(L332>0,VLOOKUP(L332,Punten!$B$3:$C$109,2,FALSE),\" \")","v":" "},null," ",null,null,null,"","","","","","",{"$f":"SEARCH(T332,'Eigen QTH LOc'!$I$1)*10-100+V332","v":{"$error":"#VALUE!"}},{"$f":"TRUNC(ROUND((SEARCH(X332,'Eigen QTH LOc'!$I$1)-0.5)*2.5,2))","v":1},{"$f":"IF(Z332>0,(MOD(ROUND((SEARCH(X332,'Eigen QTH LOc'!$I$1)-0.5)*2.5,2),TRUNC(Z332)))*60,0)","v":15},{"$f":"SEARCH(S332,'Eigen QTH LOc'!$I$1)*20-200+U332*2","v":{"$error":"#VALUE!"}},{"$f":"TRUNC((SEARCH(W332,'Eigen QTH LOc'!$I$1)-0.5)*5)","v":2},{"$f":"IF(AC332>0,(MOD((SEARCH(W332,'Eigen QTH LOc'!$I$1)-0.5)*5,TRUNC(AC332)))*60,0)","v":30},{"$error":"#VALUE!"},{"$error":"#VALUE!"},{"$f":"COS('Eigen QTH LOc'!$G$4-AF332)*SIN(PI()/2-AE332)*SIN(PI()/2-'Eigen QTH LOc'!$G$3)+COS(PI()/2-AE332)*COS(PI()/2-'Eigen QTH LOc'!$G$3)","v":{"$error":"#VALUE!"}},{"$error":"#VALUE!"},"ABCDEFGHIJKLMNOPQRSTUVWXABCDEFGHIJKLMNOPQRSTUVWX","\"0123456789\"",{"$f":"IF(B332>0,IF(K332=Infoblad!$C$6,0.5,0.5+AH332*40076.59/2/PI()),\" \")","v":" "},""]
[null,null," ",{"$f":"IF(B333>0,VASTETIJD(C333)-Infoblad!$C$29,\" \")","v":" "}," ",321," ",null,null,null,null,null,{"$f":"IF(L333>0,VLOOKUP(L333,Punten!$B$3:$C$109,2,FALSE),\" \")","v":" "},null," ",null,null,null,"","","","","","",{"$f":"SEARCH(T333,'Eigen QTH LOc'!$I$1)*10-100+V333","v":{"$error":"#VALUE!"}},{"$f":"TRUNC(ROUND((SEARCH(X333,'Eigen QTH LOc'!$I$1)-0.5)*2.5,2))","v":1},{"$f":"IF(Z333>0,(MOD(ROUND((SEARCH(X333,'Eigen QTH LOc'!$I$1)-0.5)*2.5,2),TRUNC(Z333)))*60,0)","v":15},{"$f":"SEARCH(S333,'Eigen QTH LOc'!$I$1)*20-200+U333*2","v":{"$error":"#VALUE!"}},{"$f":"TRUNC((SEARCH(W333,'Eigen QTH LOc'!$I$1)-0.5)*5)","v":2},{"$f":"IF(AC333>0,(MOD((SEARCH(W333,'Eigen QTH LOc'!$I$1)-0.5)*5,TRUNC(AC333)))*60,0)","v":30},{"$error":"#VALUE!"},{"$error":"#VALUE!"},{"$f":"COS('Eigen QTH LOc'!$G$4-AF333)*SIN(PI()/2-AE333)*SIN(PI()/2-'Eigen QTH LOc'!$G$3)+COS(PI()/2-AE333)*COS(PI()/2-'Eigen QTH LOc'!$G$3)","v":{"$error":"#VALUE!"}},{"$error":"#VALUE!"},"ABCDEFGHIJKLMNOPQRSTUVWXABCDEFGHIJKLMNOPQRSTUVWX","\"0123456789\"",{"$f":"IF(B333>0,IF(K333=Infoblad!$C$6,0.5,0.5+AH333*40076.59/2/PI()),\" \")","v":" "},""]
[null,null,{"$f":"IF(B334>0,$C$7,\" \")","v":" "},{"$f":"IF(B334>0,VASTETIJD(C334)-Infoblad!$C$29,\" \")","v":" "},{"$f":"IF(B334>0,\"59\",\" \")","v":" "},322,{"$f":"IF(B334>0,\"59\",\" \")","v":" "},null,null,null,null,null,{"$f":"IF(L334>0,VLOOKUP(L334,Punten!$B$3:$C$109,2,FALSE),\" \")","v":" "},null,{"$f":"IF(K334>0,AK334,\" \")","v":" "},null,null,null,"","","","","","",{"$f":"SEARCH(T334,'Eigen QTH LOc'!$I$1)*10-100+V334","v":{"$error":"#VALUE!"}},{"$f":"TRUNC(ROUND((SEARCH(X334,'Eigen QTH LOc'!$I$1)-0.5)*2.5,2))","v":1},{"$f":"IF(Z334>0,(MOD(ROUND((SEARCH(X334,'Eigen QTH LOc'!$I$1)-0.5)*2.5,2),TRUNC(Z334)))*60,0)","v":15},{"$f":"SEARCH(S334,'Eigen QTH LOc'!$I$1)*20-200+U334*2","v":{"$error":"#VALUE!"}},{"$f":"TRUNC((SEARCH(W334,'Eigen QTH LOc'!$I$1)-0.5)*5)","v":2},{"$f":"IF(AC334>0,(MOD((SEARCH(W334,'Eigen QTH LOc'!$I$1)-0.5)*5,TRUNC(AC334)))*60,0)","v":30},{"$error":"#VALUE!"},{"$error":"#VALUE!"},{"$f":"COS('Eigen QTH LOc'!$G$4-AF334)*SIN(PI()/2-AE334)*SIN(PI()/2-'Eigen QTH LOc'!$G$3)+COS(PI()/2-AE334)*COS(PI()/2-'Eigen QTH LOc'!$G$3)","v":{"$error":"#VALUE!"}},{"$f":"-ATAN($AG334/SQRT(1-$AG334*$AG334))+PI()/2","v":{"$error":"#VALUE!"}},"ABCDEFGHIJKLMNOPQRSTUVWXABCDEFGHIJKLMNOPQRSTUVWX","\"0123456789\"",{"$f":"IF(B334>0,IF(K334=Infoblad!$C$6,0.5,0.5+AH334*40076.59/2/PI()),\" \")","v":" "},{"$f":"CONCATENATE(B334,I334,J334)","v":""}]
[null,null," ",{"$f":"IF(B335>0,VASTETIJD(C335)-Infoblad!$C$29,\" \")","v":" "}," ",323," ",null,null,null,null,null,{"$f":"IF(L335>0,VLOOKUP(L335,Punten!$B$3:$C$109,2,FALSE),\" \")","v":" "},null," ",null,null,null,"","","","","","",{"$f":"SEARCH(T335,'Eigen QTH LOc'!$I$1)*10-100+V335","v":{"$error":"#VALUE!"}},{"$f":"TRUNC(ROUND((SEARCH(X335,'Eigen QTH LOc'!$I$1)-0.5)*2.5,2))","v":1},{"$f":"IF(Z335>0,(MOD(ROUND((SEARCH(X335,'Eigen QTH LOc'!$I$1)-0.5)*2.5,2),TRUNC(Z335)))*60,0)","v":15},{"$f":"SEARCH(S335,'Eigen QTH LOc'!$I$1)*20-200+U335*2","v":{"$error":"#VALUE!"}},{"$f":"TRUNC((SEARCH(W335,'Eigen QTH LOc'!$I$1)-0.5)*5)","v":2},{"$f":"IF(AC335>0,(MOD((SEARCH(W335,'Eigen QTH LOc'!$I$1)-0.5)*5,TRUNC(AC335)))*60,0)","v":30},{"$error":"#VALUE!"},{"$error":"#VALUE!"},{"$f":"COS('Eigen QTH LOc'!$G$4-AF335)*SIN(PI()/2-AE335)*SIN(PI()/2-'Eigen QTH LOc'!$G$3)+COS(PI()/2-AE335)*COS(PI()/2-'Eigen QTH LOc'!$G$3)","v":{"$error":"#VALUE!"}},{"$error":"#VALUE!"},"ABCDEFGHIJKLMNOPQRSTUVWXABCDEFGHIJKLMNOPQRSTUVWX","\"0123456789\"",{"$f":"IF(B335>0,IF(K335=Infoblad!$C$6,0.5,0.5+AH335*40076.59/2/PI()),\" \")","v":" "},""]
[null,null," ",{"$f":"IF(B336>0,VASTETIJD(C336)-Infoblad!$C$29,\" \")","v":" "}," ",324," ",null,null,null,null,null,{"$f":"IF(L336>0,VLOOKUP(L336,Punten!$B$3:$C$109,2,FALSE),\" \")","v":" "},null," ",null,null,null,"","","","","","",{"$f":"SEARCH(T336,'Eigen QTH LOc'!$I$1)*10-100+V336","v":{"$error":"#VALUE!"}},{"$f":"TRUNC(ROUND((SEARCH(X336,'Eigen QTH LOc'!$I$1)-0.5)*2.5,2))","v":1},{"$f":"IF(Z336>0,(MOD(ROUND((SEARCH(X336,'Eigen QTH LOc'!$I$1)-0.5)*2.5,2),TRUNC(Z336)))*60,0)","v":15},{"$f":"SEARCH(S336,'Eigen QTH LOc'!$I$1)*20-200+U336*2","v":{"$error":"#VALUE!"}},{"$f":"TRUNC((SEARCH(W336,'Eigen QTH LOc'!$I$1)-0.5)*5)","v":2},{"$f":"IF(AC336>0,(MOD((SEARCH(W336,'Eigen QTH LOc'!$I$1)-0.5)*5,TRUNC(AC336)))*60,0)","v":30},{"$error":"#VALUE!"},{"$error":"#VALUE!"},{"$f":"COS('Eigen QTH LOc'!$G$4-AF336)*SIN(PI()/2-AE336)*SIN(PI()/2-'Eigen QTH LOc'!$G$3)+COS(PI()/2-AE336)*COS(PI()/2-'Eigen QTH LOc'!$G$3)","v":{"$error":"#VALUE!"}},{"$error":"#VALUE!"},"ABCDEFGHIJKLMNOPQRSTUVWXABCDEFGHIJKLMNOPQRSTUVWX","\"0123456789\"",{"$f":"IF(B336>0,IF(K336=Infoblad!$C$6,0.5,0.5+AH336*40076.59/2/PI()),\" \")","v":" "},""]
[null,null," ",{"$f":"IF(B337>0,VASTETIJD(C337)-Infoblad!$C$29,\" \")","v":" "}," ",325," ",null,null,null,null,null,{"$f":"IF(L337>0,VLOOKUP(L337,Punten!$B$3:$C$109,2,FALSE),\" \")","v":" "},null," ",null,null,null,"","","","","","",{"$f":"SEARCH(T337,'Eigen QTH LOc'!$I$1)*10-100+V337","v":{"$error":"#VALUE!"}},{"$f":"TRUNC(ROUND((SEARCH(X337,'Eigen QTH LOc'!$I$1)-0.5)*2.5,2))","v":1},{"$f":"IF(Z337>0,(MOD(ROUND((SEARCH(X337,'Eigen QTH LOc'!$I$1)-0.5)*2.5,2),TRUNC(Z337)))*60,0)","v":15},{"$f":"SEARCH(S337,'Eigen QTH LOc'!$I$1)*20-200+U337*2","v":{"$error":"#VALUE!"}},{"$f":"TRUNC((SEARCH(W337,'Eigen QTH LOc'!$I$1)-0.5)*5)","v":2},{"$f":"IF(AC337>0,(MOD((SEARCH(W337,'Eigen QTH LOc'!$I$1)-0.5)*5,TRUNC(AC337)))*60,0)","v":30},{"$error":"#VALUE!"},{"$error":"#VALUE!"},{"$f":"COS('Eigen QTH LOc'!$G$4-AF337)*SIN(PI()/2-AE337)*SIN(PI()/2-'Eigen QTH LOc'!$G$3)+COS(PI()/2-AE337)*COS(PI()/2-'Eigen QTH LOc'!$G$3)","v":{"$error":"#VALUE!"}},{"$error":"#VALUE!"},"ABCDEFGHIJKLMNOPQRSTUVWXABCDEFGHIJKLMNOPQRSTUVWX","\"0123456789\"",{"$f":"IF(B337>0,IF(K337=Infoblad!$C$6,0.5,0.5+AH337*40076.59/2/PI()),\" \")","v":" "},""]
[null,null," ",{"$f":"IF(B338>0,VASTETIJD(C338)-Infoblad!$C$29,\" \")","v":" "}," ",326," ",null,null,null,null,null,{"$f":"IF(L338>0,VLOOKUP(L338,Punten!$B$3:$C$109,2,FALSE),\" \")","v":" "},null," ",null,null,null,"","","","","","",{"$f":"SEARCH(T338,'Eigen QTH LOc'!$I$1)*10-100+V338","v":{"$error":"#VALUE!"}},{"$f":"TRUNC(ROUND((SEARCH(X338,'Eigen QTH LOc'!$I$1)-0.5)*2.5,2))","v":1},{"$f":"IF(Z338>0,(MOD(ROUND((SEARCH(X338,'Eigen QTH LOc'!$I$1)-0.5)*2.5,2),TRUNC(Z338)))*60,0)","v":15},{"$f":"SEARCH(S338,'Eigen QTH LOc'!$I$1)*20-200+U338*2","v":{"$error":"#VALUE!"}},{"$f":"TRUNC((SEARCH(W338,'Eigen QTH LOc'!$I$1)-0.5)*5)","v":2},{"$f":"IF(AC338>0,(MOD((SEARCH(W338,'Eigen QTH LOc'!$I$1)-0.5)*5,TRUNC(AC338)))*60,0)","v":30},{"$error":"#VALUE!"},{"$error":"#VALUE!"},{"$f":"COS('Eigen QTH LOc'!$G$4-AF338)*SIN(PI()/2-AE338)*SIN(PI()/2-'Eigen QTH LOc'!$G$3)+COS(PI()/2-AE338)*COS(PI()/2-'Eigen QTH LOc'!$G$3)","v":{"$error":"#VALUE!"}},{"$error":"#VALUE!"},"ABCDEFGHIJKLMNOPQRSTUVWXABCDEFGHIJKLMNOPQRSTUVWX","\"0123456789\"",{"$f":"IF(B338>0,IF(K338=Infoblad!$C$6,0.5,0.5+AH338*40076.59/2/PI()),\" \")","v":" "},""]
[null,null," ",{"$f":"IF(B339>0,VASTETIJD(C339)-Infoblad!$C$29,\" \")","v":" "}," ",327," ",null,null,null,null,null,{"$f":"IF(L339>0,VLOOKUP(L339,Punten!$B$3:$C$109,2,FALSE),\" \")","v":" "},null," ",null,null,null,"","","","","","",{"$f":"SEARCH(T339,'Eigen QTH LOc'!$I$1)*10-100+V339","v":{"$error":"#VALUE!"}},{"$f":"TRUNC(ROUND((SEARCH(X339,'Eigen QTH LOc'!$I$1)-0.5)*2.5,2))","v":1},{"$f":"IF(Z339>0,(MOD(ROUND((SEARCH(X339,'Eigen QTH LOc'!$I$1)-0.5)*2.5,2),TRUNC(Z339)))*60,0)","v":15},{"$f":"SEARCH(S339,'Eigen QTH LOc'!$I$1)*20-200+U339*2","v":{"$error":"#VALUE!"}},{"$f":"TRUNC((SEARCH(W339,'Eigen QTH LOc'!$I$1)-0.5)*5)","v":2},{"$f":"IF(AC339>0,(MOD((SEARCH(W339,'Eigen QTH LOc'!$I$1)-0.5)*5,TRUNC(AC339)))*60,0)","v":30},{"$error":"#VALUE!"},{"$error":"#VALUE!"},{"$f":"COS('Eigen QTH LOc'!$G$4-AF339)*SIN(PI()/2-AE339)*SIN(PI()/2-'Eigen QTH LOc'!$G$3)+COS(PI()/2-AE339)*COS(PI()/2-'Eigen QTH LOc'!$G$3)","v":{"$error":"#VALUE!"}},{"$error":"#VALUE!"},"ABCDEFGHIJKLMNOPQRSTUVWXABCDEFGHIJKLMNOPQRSTUVWX","\"0123456789\"",{"$f":"IF(B339>0,IF(K339=Infoblad!$C$6,0.5,0.5+AH339*40076.59/2/PI()),\" \")","v":" "},""]
[null,null," ",{"$f":"IF(B340>0,VASTETIJD(C340)-Infoblad!$C$29,\" \")","v":" "}," ",328," ",null,null,null,null,null,{"$f":"IF(L340>0,VLOOKUP(L340,Punten!$B$3:$C$109,2,FALSE),\" \")","v":" "},null," ",null,null,null,"","","","","","",{"$f":"SEARCH(T340,'Eigen QTH LOc'!$I$1)*10-100+V340","v":{"$error":"#VALUE!"}},{"$f":"TRUNC(ROUND((SEARCH(X340,'Eigen QTH LOc'!$I$1)-0.5)*2.5,2))","v":1},{"$f":"IF(Z340>0,(MOD(ROUND((SEARCH(X340,'Eigen QTH LOc'!$I$1)-0.5)*2.5,2),TRUNC(Z340)))*60,0)","v":15},{"$f":"SEARCH(S340,'Eigen QTH LOc'!$I$1)*20-200+U340*2","v":{"$error":"#VALUE!"}},{"$f":"TRUNC((SEARCH(W340,'Eigen QTH LOc'!$I$1)-0.5)*5)","v":2},{"$f":"IF(AC340>0,(MOD((SEARCH(W340,'Eigen QTH LOc'!$I$1)-0.5)*5,TRUNC(AC340)))*60,0)","v":30},{"$error":"#VALUE!"},{"$error":"#VALUE!"},{"$f":"COS('Eigen QTH LOc'!$G$4-AF340)*SIN(PI()/2-AE340)*SIN(PI()/2-'Eigen QTH LOc'!$G$3)+COS(PI()/2-AE340)*COS(PI()/2-'Eigen QTH LOc'!$G$3)","v":{"$error":"#VALUE!"}},{"$error":"#VALUE!"},"ABCDEFGHIJKLMNOPQRSTUVWXABCDEFGHIJKLMNOPQRSTUVWX","\"0123456789\"",{"$f":"IF(B340>0,IF(K340=Infoblad!$C$6,0.5,0.5+AH340*40076.59/2/PI()),\" \")","v":" "},""]
[null,null," ",{"$f":"IF(B341>0,VASTETIJD(C341)-Infoblad!$C$29,\" \")","v":" "}," ",329," ",null,null,null,null,null,{"$f":"IF(L341>0,VLOOKUP(L341,Punten!$B$3:$C$109,2,FALSE),\" \")","v":" "},null," ",null,null,null,"","","","","","",{"$f":"SEARCH(T341,'Eigen QTH LOc'!$I$1)*10-100+V341","v":{"$error":"#VALUE!"}},{"$f":"TRUNC(ROUND((SEARCH(X341,'Eigen QTH LOc'!$I$1)-0.5)*2.5,2))","v":1},{"$f":"IF(Z341>0,(MOD(ROUND((SEARCH(X341,'Eigen QTH LOc'!$I$1)-0.5)*2.5,2),TRUNC(Z341)))*60,0)","v":15},{"$f":"SEARCH(S341,'Eigen QTH LOc'!$I$1)*20-200+U341*2","v":{"$error":"#VALUE!"}},{"$f":"TRUNC((SEARCH(W341,'Eigen QTH LOc'!$I$1)-0.5)*5)","v":2},{"$f":"IF(AC341>0,(MOD((SEARCH(W341,'Eigen QTH LOc'!$I$1)-0.5)*5,TRUNC(AC341)))*60,0)","v":30},{"$error":"#VALUE!"},{"$error":"#VALUE!"},{"$f":"COS('Eigen QTH LOc'!$G$4-AF341)*SIN(PI()/2-AE341)*SIN(PI()/2-'Eigen QTH LOc'!$G$3)+COS(PI()/2-AE341)*COS(PI()/2-'Eigen QTH LOc'!$G$3)","v":{"$error":"#VALUE!"}},{"$error":"#VALUE!"},"ABCDEFGHIJKLMNOPQRSTUVWXABCDEFGHIJKLMNOPQRSTUVWX","\"0123456789\"",{"$f":"IF(B341>0,IF(K341=Infoblad!$C$6,0.5,0.5+AH341*40076.59/2/PI()),\" \")","v":" "},""]
[null,null," ",{"$f":"IF(B342>0,VASTETIJD(C342)-Infoblad!$C$29,\" \")","v":" "}," ",330," ",null,null,null,null,null,{"$f":"IF(L342>0,VLOOKUP(L342,Punten!$B$3:$C$109,2,FALSE),\" \")","v":" "},null," ",null,null,null,"","","","","","",{"$f":"SEARCH(T342,'Eigen QTH LOc'!$I$1)*10-100+V342","v":{"$error":"#VALUE!"}},{"$f":"TRUNC(ROUND((SEARCH(X342,'Eigen QTH LOc'!$I$1)-0.5)*2.5,2))","v":1},{"$f":"IF(Z342>0,(MOD(ROUND((SEARCH(X342,'Eigen QTH LOc'!$I$1)-0.5)*2.5,2),TRUNC(Z342)))*60,0)","v":15},{"$f":"SEARCH(S342,'Eigen QTH LOc'!$I$1)*20-200+U342*2","v":{"$error":"#VALUE!"}},{"$f":"TRUNC((SEARCH(W342,'Eigen QTH LOc'!$I$1)-0.5)*5)","v":2},{"$f":"IF(AC342>0,(MOD((SEARCH(W342,'Eigen QTH LOc'!$I$1)-0.5)*5,TRUNC(AC342)))*60,0)","v":30},{"$error":"#VALUE!"},{"$error":"#VALUE!"},{"$f":"COS('Eigen QTH LOc'!$G$4-AF342)*SIN(PI()/2-AE342)*SIN(PI()/2-'Eigen QTH LOc'!$G$3)+COS(PI()/2-AE342)*COS(PI()/2-'Eigen QTH LOc'!$G$3)","v":{"$error":"#VALUE!"}},{"$error":"#VALUE!"},"ABCDEFGHIJKLMNOPQRSTUVWXABCDEFGHIJKLMNOPQRSTUVWX","\"0123456789\"",{"$f":"IF(B342>0,IF(K342=Infoblad!$C$6,0.5,0.5+AH342*40076.59/2/PI()),\" \")","v":" "},""]
[null,null," ",{"$f":"IF(B343>0,VASTETIJD(C343)-Infoblad!$C$29,\" \")","v":" "}," ",331," ",null,null,null,null,null,{"$f":"IF(L343>0,VLOOKUP(L343,Punten!$B$3:$C$109,2,FALSE),\" \")","v":" "},null," ",null,null,null,"","","","","","",{"$f":"SEARCH(T343,'Eigen QTH LOc'!$I$1)*10-100+V343","v":{"$error":"#VALUE!"}},{"$f":"TRUNC(ROUND((SEARCH(X343,'Eigen QTH LOc'!$I$1)-0.5)*2.5,2))","v":1},{"$f":"IF(Z343>0,(MOD(ROUND((SEARCH(X343,'Eigen QTH LOc'!$I$1)-0.5)*2.5,2),TRUNC(Z343)))*60,0)","v":15},{"$f":"SEARCH(S343,'Eigen QTH LOc'!$I$1)*20-200+U343*2","v":{"$error":"#VALUE!"}},{"$f":"TRUNC((SEARCH(W343,'Eigen QTH LOc'!$I$1)-0.5)*5)","v":2},{"$f":"IF(AC343>0,(MOD((SEARCH(W343,'Eigen QTH LOc'!$I$1)-0.5)*5,TRUNC(AC343)))*60,0)","v":30},{"$error":"#VALUE!"},{"$error":"#VALUE!"},{"$f":"COS('Eigen QTH LOc'!$G$4-AF343)*SIN(PI()/2-AE343)*SIN(PI()/2-'Eigen QTH LOc'!$G$3)+COS(PI()/2-AE343)*COS(PI()/2-'Eigen QTH LOc'!$G$3)","v":{"$error":"#VALUE!"}},{"$error":"#VALUE!"},"ABCDEFGHIJKLMNOPQRSTUVWXABCDEFGHIJKLMNOPQRSTUVWX","\"0123456789\"",{"$f":"IF(B343>0,IF(K343=Infoblad!$C$6,0.5,0.5+AH343*40076.59/2/PI()),\" \")","v":" "},""]
[null,null," ",{"$f":"IF(B344>0,VASTETIJD(C344)-Infoblad!$C$29,\" \")","v":" "}," ",332," ",null,null,null,null,null,{"$f":"IF(L344>0,VLOOKUP(L344,Punten!$B$3:$C$109,2,FALSE),\" \")","v":" "},null," ",null,null,null,"","","","","","",{"$f":"SEARCH(T344,'Eigen QTH LOc'!$I$1)*10-100+V344","v":{"$error":"#VALUE!"}},{"$f":"TRUNC(ROUND((SEARCH(X344,'Eigen QTH LOc'!$I$1)-0.5)*2.5,2))","v":1},{"$f":"IF(Z344>0,(MOD(ROUND((SEARCH(X344,'Eigen QTH LOc'!$I$1)-0.5)*2.5,2),TRUNC(Z344)))*60,0)","v":15},{"$f":"SEARCH(S344,'Eigen QTH LOc'!$I$1)*20-200+U344*2","v":{"$error":"#VALUE!"}},{"$f":"TRUNC((SEARCH(W344,'Eigen QTH LOc'!$I$1)-0.5)*5)","v":2},{"$f":"IF(AC344>0,(MOD((SEARCH(W344,'Eigen QTH LOc'!$I$1)-0.5)*5,TRUNC(AC344)))*60,0)","v":30},{"$error":"#VALUE!"},{"$error":"#VALUE!"},{"$f":"COS('Eigen QTH LOc'!$G$4-AF344)*SIN(PI()/2-AE344)*SIN(PI()/2-'Eigen QTH LOc'!$G$3)+COS(PI()/2-AE344)*COS(PI()/2-'Eigen QTH LOc'!$G$3)","v":{"$error":"#VALUE!"}},{"$error":"#VALUE!"},"ABCDEFGHIJKLMNOPQRSTUVWXABCDEFGHIJKLMNOPQRSTUVWX","\"0123456789\"",{"$f":"IF(B344>0,IF(K344=Infoblad!$C$6,0.5,0.5+AH344*40076.59/2/PI()),\" \")","v":" "},""]
[null,null," ",{"$f":"IF(B345>0,VASTETIJD(C345)-Infoblad!$C$29,\" \")","v":" "}," ",333," ",null,null,null,null,null,{"$f":"IF(L345>0,VLOOKUP(L345,Punten!$B$3:$C$109,2,FALSE),\" \")","v":" "},null," ",null,null,null,{"$f":"MID(K345,1,1)","v":""},{"$f":"MID(K345,2,1)","v":""},{"$f":"MID(K345,3,1)","v":""},{"$f":"MID(K345,4,1)","v":""},{"$f":"MID(K345,5,1)","v":""},{"$f":"MID(K345,6,1)","v":""},{"$f":"SEARCH(T345,'Eigen QTH LOc'!$I$1)*10-100+V345","v":{"$error":"#VALUE!"}},{"$f":"TRUNC(ROUND((SEARCH(X345,'Eigen QTH LOc'!$I$1)-0.5)*2.5,2))","v":1},{"$f":"IF(Z345>0,(MOD(ROUND((SEARCH(X345,'Eigen QTH LOc'!$I$1)-0.5)*2.5,2),TRUNC(Z345)))*60,0)","v":15},{"$f":"SEARCH(S345,'Eigen QTH LOc'!$I$1)*20-200+U345*2","v":{"$error":"#VALUE!"}},{"$f":"TRUNC((SEARCH(W345,'Eigen QTH LOc'!$I$1)-0.5)*5)","v":2},{"$f":"IF(AC345>0,(MOD((SEARCH(W345,'Eigen QTH LOc'!$I$1)-0.5)*5,TRUNC(AC345)))*60,0)","v":30},{"$f":"(Y345+(Z345/60)+(AA345/3600))*PI()/180","v":{"$error":"#VALUE!"}},{"$f":"(AB345+(AC345/60)+(AD345/100/60))*PI()/180","v":{"$error":"#VALUE!"}},{"$f":"COS('Eigen QTH LOc'!$G$4-AF345)*SIN(PI()/2-AE345)*SIN(PI()/2-'Eigen QTH LOc'!$G$3)+COS(PI()/2-AE345)*COS(PI()/2-'Eigen QTH LOc'!$G$3)","v":{"$error":"#VALUE!"}},{"$error":"#VALUE!"},"ABCDEFGHIJKLMNOPQRSTUVWXABCDEFGHIJKLMNOPQRSTUVWX","\"0123456789\"",{"$f":"IF(B345>0,IF(K345=Infoblad!$C$6,0.5,0.5+AH345*40076.59/2/PI()),\" \")","v":" "},""]
[null,null," ",{"$f":"IF(B346>0,VASTETIJD(C346)-Infoblad!$C$29,\" \")","v":" "}," ",334," ",null,null,null,null,null,{"$f":"IF(L346>0,VLOOKUP(L346,Punten!$B$3:$C$109,2,FALSE),\" \")","v":" "},null," ",null,null,null,"","","","","","",{"$f":"SEARCH(T346,'Eigen QTH LOc'!$I$1)*10-100+V346","v":{"$error":"#VALUE!"}},{"$f":"TRUNC(ROUND((SEARCH(X346,'Eigen QTH LOc'!$I$1)-0.5)*2.5,2))","v":1},{"$f":"IF(Z346>0,(MOD(ROUND((SEARCH(X346,'Eigen QTH LOc'!$I$1)-0.5)*2.5,2),TRUNC(Z346)))*60,0)","v":15},{"$f":"SEARCH(S346,'Eigen QTH LOc'!$I$1)*20-200+U346*2","v":{"$error":"#VALUE!"}},{"$f":"TRUNC((SEARCH(W346,'Eigen QTH LOc'!$I$1)-0.5)*5)","v":2},{"$f":"IF(AC346>0,(MOD((SEARCH(W346,'Eigen QTH LOc'!$I$1)-0.5)*5,TRUNC(AC346)))*60,0)","v":30},{"$error":"#VALUE!"},{"$error":"#VALUE!"},{"$f":"COS('Eigen QTH LOc'!$G$4-AF346)*SIN(PI()/2-AE346)*SIN(PI()/2-'Eigen QTH LOc'!$G$3)+COS(PI()/2-AE346)*COS(PI()/2-'Eigen QTH LOc'!$G$3)","v":{"$error":"#VALUE!"}},{"$error":"#VALUE!"},"ABCDEFGHIJKLMNOPQRSTUVWXABCDEFGHIJKLMNOPQRSTUVWX","\"0123456789\"",{"$f":"IF(B346>0,IF(K346=Infoblad!$C$6,0.5,0.5+AH346*40076.59/2/PI()),\" \")","v":" "},""]
[null,null," ",{"$f":"IF(B347>0,VASTETIJD(C347)-Infoblad!$C$29,\" \")","v":" "}," ",335," ",null,null,null,null,null,{"$f":"IF(L347>0,VLOOKUP(L347,Punten!$B$3:$C$109,2,FALSE),\" \")","v":" "},null," ",null,null,null,"","","","","","",{"$f":"SEARCH(T347,'Eigen QTH LOc'!$I$1)*10-100+V347","v":{"$error":"#VALUE!"}},{"$f":"TRUNC(ROUND((SEARCH(X347,'Eigen QTH LOc'!$I$1)-0.5)*2.5,2))","v":1},{"$f":"IF(Z347>0,(MOD(ROUND((SEARCH(X347,'Eigen QTH LOc'!$I$1)-0.5)*2.5,2),TRUNC(Z347)))*60,0)","v":15},{"$f":"SEARCH(S347,'Eigen QTH LOc'!$I$1)*20-200+U347*2","v":{"$error":"#VALUE!"}},{"$f":"TRUNC((SEARCH(W347,'Eigen QTH LOc'!$I$1)-0.5)*5)","v":2},{"$f":"IF(AC347>0,(MOD((SEARCH(W347,'Eigen QTH LOc'!$I$1)-0.5)*5,TRUNC(AC347)))*60,0)","v":30},{"$error":"#VALUE!"},{"$error":"#VALUE!"},{"$f":"COS('Eigen QTH LOc'!$G$4-AF347)*SIN(PI()/2-AE347)*SIN(PI()/2-'Eigen QTH LOc'!$G$3)+COS(PI()/2-AE347)*COS(PI()/2-'Eigen QTH LOc'!$G$3)","v":{"$error":"#VALUE!"}},{"$error":"#VALUE!"},"ABCDEFGHIJKLMNOPQRSTUVWXABCDEFGHIJKLMNOPQRSTUVWX","\"0123456789\"",{"$f":"IF(B347>0,IF(K347=Infoblad!$C$6,0.5,0.5+AH347*40076.59/2/PI()),\" \")","v":" "},""]
[null,null," ",{"$f":"IF(B348>0,VASTETIJD(C348)-Infoblad!$C$29,\" \")","v":" "}," ",336," ",null,null,null,null,null,{"$f":"IF(L348>0,VLOOKUP(L348,Punten!$B$3:$C$109,2,FALSE),\" \")","v":" "},null," ",null,null,null,"","","","","","",{"$f":"SEARCH(T348,'Eigen QTH LOc'!$I$1)*10-100+V348","v":{"$error":"#VALUE!"}},{"$f":"TRUNC(ROUND((SEARCH(X348,'Eigen QTH LOc'!$I$1)-0.5)*2.5,2))","v":1},{"$f":"IF(Z348>0,(MOD(ROUND((SEARCH(X348,'Eigen QTH LOc'!$I$1)-0.5)*2.5,2),TRUNC(Z348)))*60,0)","v":15},{"$f":"SEARCH(S348,'Eigen QTH LOc'!$I$1)*20-200+U348*2","v":{"$error":"#VALUE!"}},{"$f":"TRUNC((SEARCH(W348,'Eigen QTH LOc'!$I$1)-0.5)*5)","v":2},{"$f":"IF(AC348>0,(MOD((SEARCH(W348,'Eigen QTH LOc'!$I$1)-0.5)*5,TRUNC(AC348)))*60,0)","v":30},{"$error":"#VALUE!"},{"$error":"#VALUE!"},{"$f":"COS('Eigen QTH LOc'!$G$4-AF348)*SIN(PI()/2-AE348)*SIN(PI()/2-'Eigen QTH LOc'!$G$3)+COS(PI()/2-AE348)*COS(PI()/2-'Eigen QTH LOc'!$G$3)","v":{"$error":"#VALUE!"}},{"$error":"#VALUE!"},"ABCDEFGHIJKLMNOPQRSTUVWXABCDEFGHIJKLMNOPQRSTUVWX","\"0123456789\"",{"$f":"IF(B348>0,IF(K348=Infoblad!$C$6,0.5,0.5+AH348*40076.59/2/PI()),\" \")","v":" "},""]
[null,null," ",{"$f":"IF(B349>0,VASTETIJD(C349)-Infoblad!$C$29,\" \")","v":" "}," ",337," ",null,null,null,null,null,{"$f":"IF(L349>0,VLOOKUP(L349,Punten!$B$3:$C$109,2,FALSE),\" \")","v":" "},null," ",null,null,null,"","","","","","",{"$f":"SEARCH(T349,'Eigen QTH LOc'!$I$1)*10-100+V349","v":{"$error":"#VALUE!"}},{"$f":"TRUNC(ROUND((SEARCH(X349,'Eigen QTH LOc'!$I$1)-0.5)*2.5,2))","v":1},{"$f":"IF(Z349>0,(MOD(ROUND((SEARCH(X349,'Eigen QTH LOc'!$I$1)-0.5)*2.5,2),TRUNC(Z349)))*60,0)","v":15},{"$f":"SEARCH(S349,'Eigen QTH LOc'!$I$1)*20-200+U349*2","v":{"$error":"#VALUE!"}},{"$f":"TRUNC((SEARCH(W349,'Eigen QTH LOc'!$I$1)-0.5)*5)","v":2},{"$f":"IF(AC349>0,(MOD((SEARCH(W349,'Eigen QTH LOc'!$I$1)-0.5)*5,TRUNC(AC349)))*60,0)","v":30},{"$error":"#VALUE!"},{"$error":"#VALUE!"},{"$f":"COS('Eigen QTH LOc'!$G$4-AF349)*SIN(PI()/2-AE349)*SIN(PI()/2-'Eigen QTH LOc'!$G$3)+COS(PI()/2-AE349)*COS(PI()/2-'Eigen QTH LOc'!$G$3)","v":{"$error":"#VALUE!"}},{"$error":"#VALUE!"},"ABCDEFGHIJKLMNOPQRSTUVWXABCDEFGHIJKLMNOPQRSTUVWX","\"0123456789\"",{"$f":"IF(B349>0,IF(K349=Infoblad!$C$6,0.5,0.5+AH349*40076.59/2/PI()),\" \")","v":" "},""]
[null,null," ",{"$f":"IF(B350>0,VASTETIJD(C350)-Infoblad!$C$29,\" \")","v":" "}," ",338," ",null,null,null,null,null,{"$f":"IF(L350>0,VLOOKUP(L350,Punten!$B$3:$C$109,2,FALSE),\" \")","v":" "},null," ",null,null,null,"","","","","","",{"$f":"SEARCH(T350,'Eigen QTH LOc'!$I$1)*10-100+V350","v":{"$error":"#VALUE!"}},{"$f":"TRUNC(ROUND((SEARCH(X350,'Eigen QTH LOc'!$I$1)-0.5)*2.5,2))","v":1},{"$f":"IF(Z350>0,(MOD(ROUND((SEARCH(X350,'Eigen QTH LOc'!$I$1)-0.5)*2.5,2),TRUNC(Z350)))*60,0)","v":15},{"$f":"SEARCH(S350,'Eigen QTH LOc'!$I$1)*20-200+U350*2","v":{"$error":"#VALUE!"}},{"$f":"TRUNC((SEARCH(W350,'Eigen QTH LOc'!$I$1)-0.5)*5)","v":2},{"$f":"IF(AC350>0,(MOD((SEARCH(W350,'Eigen QTH LOc'!$I$1)-0.5)*5,TRUNC(AC350)))*60,0)","v":30},{"$error":"#VALUE!"},{"$error":"#VALUE!"},{"$f":"COS('Eigen QTH LOc'!$G$4-AF350)*SIN(PI()/2-AE350)*SIN(PI()/2-'Eigen QTH LOc'!$G$3)+COS(PI()/2-AE350)*COS(PI()/2-'Eigen QTH LOc'!$G$3)","v":{"$error":"#VALUE!"}},{"$error":"#VALUE!"},"ABCDEFGHIJKLMNOPQRSTUVWXABCDEFGHIJKLMNOPQRSTUVWX","\"0123456789\"",{"$f":"IF(B350>0,IF(K350=Infoblad!$C$6,0.5,0.5+AH350*40076.59/2/PI()),\" \")","v":" "},""]
[null,null," ",{"$f":"IF(B351>0,VASTETIJD(C351)-Infoblad!$C$29,\" \")","v":" "}," ",339," ",null,null,null,null,null,{"$f":"IF(L351>0,VLOOKUP(L351,Punten!$B$3:$C$109,2,FALSE),\" \")","v":" "},null," ",null,null,null,"","","","","","",{"$f":"SEARCH(T351,'Eigen QTH LOc'!$I$1)*10-100+V351","v":{"$error":"#VALUE!"}},{"$f":"TRUNC(ROUND((SEARCH(X351,'Eigen QTH LOc'!$I$1)-0.5)*2.5,2))","v":1},{"$f":"IF(Z351>0,(MOD(ROUND((SEARCH(X351,'Eigen QTH LOc'!$I$1)-0.5)*2.5,2),TRUNC(Z351)))*60,0)","v":15},{"$f":"SEARCH(S351,'Eigen QTH LOc'!$I$1)*20-200+U351*2","v":{"$error":"#VALUE!"}},{"$f":"TRUNC((SEARCH(W351,'Eigen QTH LOc'!$I$1)-0.5)*5)","v":2},{"$f":"IF(AC351>0,(MOD((SEARCH(W351,'Eigen QTH LOc'!$I$1)-0.5)*5,TRUNC(AC351)))*60,0)","v":30},{"$error":"#VALUE!"},{"$error":"#VALUE!"},{"$f":"COS('Eigen QTH LOc'!$G$4-AF351)*SIN(PI()/2-AE351)*SIN(PI()/2-'Eigen QTH LOc'!$G$3)+COS(PI()/2-AE351)*COS(PI()/2-'Eigen QTH LOc'!$G$3)","v":{"$error":"#VALUE!"}},{"$error":"#VALUE!"},"ABCDEFGHIJKLMNOPQRSTUVWXABCDEFGHIJKLMNOPQRSTUVWX","\"0123456789\"",{"$f":"IF(B351>0,IF(K351=Infoblad!$C$6,0.5,0.5+AH351*40076.59/2/PI()),\" \")","v":" "},""]
[null,null," ",{"$f":"IF(B352>0,VASTETIJD(C352)-Infoblad!$C$29,\" \")","v":" "}," ",340," ",null,null,null,null,null,{"$f":"IF(L352>0,VLOOKUP(L352,Punten!$B$3:$C$109,2,FALSE),\" \")","v":" "},null," ",null,null,null,"","","","","","",{"$f":"SEARCH(T352,'Eigen QTH LOc'!$I$1)*10-100+V352","v":{"$error":"#VALUE!"}},{"$f":"TRUNC(ROUND((SEARCH(X352,'Eigen QTH LOc'!$I$1)-0.5)*2.5,2))","v":1},{"$f":"IF(Z352>0,(MOD(ROUND((SEARCH(X352,'Eigen QTH LOc'!$I$1)-0.5)*2.5,2),TRUNC(Z352)))*60,0)","v":15},{"$f":"SEARCH(S352,'Eigen QTH LOc'!$I$1)*20-200+U352*2","v":{"$error":"#VALUE!"}},{"$f":"TRUNC((SEARCH(W352,'Eigen QTH LOc'!$I$1)-0.5)*5)","v":2},{"$f":"IF(AC352>0,(MOD((SEARCH(W352,'Eigen QTH LOc'!$I$1)-0.5)*5,TRUNC(AC352)))*60,0)","v":30},{"$error":"#VALUE!"},{"$error":"#VALUE!"},{"$f":"COS('Eigen QTH LOc'!$G$4-AF352)*SIN(PI()/2-AE352)*SIN(PI()/2-'Eigen QTH LOc'!$G$3)+COS(PI()/2-AE352)*COS(PI()/2-'Eigen QTH LOc'!$G$3)","v":{"$error":"#VALUE!"}},{"$error":"#VALUE!"},"ABCDEFGHIJKLMNOPQRSTUVWXABCDEFGHIJKLMNOPQRSTUVWX","\"0123456789\"",{"$f":"IF(B352>0,IF(K352=Infoblad!$C$6,0.5,0.5+AH352*40076.59/2/PI()),\" \")","v":" "},""]
[null,null," ",{"$f":"IF(B353>0,VASTETIJD(C353)-Infoblad!$C$29,\" \")","v":" "}," ",341," ",null,null,null,null,null,{"$f":"IF(L353>0,VLOOKUP(L353,Punten!$B$3:$C$109,2,FALSE),\" \")","v":" "},null," ",null,null,null,"","","","","","",{"$f":"SEARCH(T353,'Eigen QTH LOc'!$I$1)*10-100+V353","v":{"$error":"#VALUE!"}},{"$f":"TRUNC(ROUND((SEARCH(X353,'Eigen QTH LOc'!$I$1)-0.5)*2.5,2))","v":1},{"$f":"IF(Z353>0,(MOD(ROUND((SEARCH(X353,'Eigen QTH LOc'!$I$1)-0.5)*2.5,2),TRUNC(Z353)))*60,0)","v":15},{"$f":"SEARCH(S353,'Eigen QTH LOc'!$I$1)*20-200+U353*2","v":{"$error":"#VALUE!"}},{"$f":"TRUNC((SEARCH(W353,'Eigen QTH LOc'!$I$1)-0.5)*5)","v":2},{"$f":"IF(AC353>0,(MOD((SEARCH(W353,'Eigen QTH LOc'!$I$1)-0.5)*5,TRUNC(AC353)))*60,0)","v":30},{"$error":"#VALUE!"},{"$error":"#VALUE!"},{"$f":"COS('Eigen QTH LOc'!$G$4-AF353)*SIN(PI()/2-AE353)*SIN(PI()/2-'Eigen QTH LOc'!$G$3)+COS(PI()/2-AE353)*COS(PI()/2-'Eigen QTH LOc'!$G$3)","v":{"$error":"#VALUE!"}},{"$error":"#VALUE!"},"ABCDEFGHIJKLMNOPQRSTUVWXABCDEFGHIJKLMNOPQRSTUVWX","\"0123456789\"",{"$f":"IF(B353>0,IF(K353=Infoblad!$C$6,0.5,0.5+AH353*40076.59/2/PI()),\" \")","v":" "},""]
[null,null," ",{"$f":"IF(B354>0,VASTETIJD(C354)-Infoblad!$C$29,\" \")","v":" "}," ",342," ",null,null,null,null,null,{"$f":"IF(L354>0,VLOOKUP(L354,Punten!$B$3:$C$109,2,FALSE),\" \")","v":" "},null," ",null,null,null,"","","","","","",{"$f":"SEARCH(T354,'Eigen QTH LOc'!$I$1)*10-100+V354","v":{"$error":"#VALUE!"}},{"$f":"TRUNC(ROUND((SEARCH(X354,'Eigen QTH LOc'!$I$1)-0.5)*2.5,2))","v":1},{"$f":"IF(Z354>0,(MOD(ROUND((SEARCH(X354,'Eigen QTH LOc'!$I$1)-0.5)*2.5,2),TRUNC(Z354)))*60,0)","v":15},{"$f":"SEARCH(S354,'Eigen QTH LOc'!$I$1)*20-200+U354*2","v":{"$error":"#VALUE!"}},{"$f":"TRUNC((SEARCH(W354,'Eigen QTH LOc'!$I$1)-0.5)*5)","v":2},{"$f":"IF(AC354>0,(MOD((SEARCH(W354,'Eigen QTH LOc'!$I$1)-0.5)*5,TRUNC(AC354)))*60,0)","v":30},{"$error":"#VALUE!"},{"$error":"#VALUE!"},{"$f":"COS('Eigen QTH LOc'!$G$4-AF354)*SIN(PI()/2-AE354)*SIN(PI()/2-'Eigen QTH LOc'!$G$3)+COS(PI()/2-AE354)*COS(PI()/2-'Eigen QTH LOc'!$G$3)","v":{"$error":"#VALUE!"}},{"$error":"#VALUE!"},"ABCDEFGHIJKLMNOPQRSTUVWXABCDEFGHIJKLMNOPQRSTUVWX","\"0123456789\"",{"$f":"IF(B354>0,IF(K354=Infoblad!$C$6,0.5,0.5+AH354*40076.59/2/PI()),\" \")","v":" "},""]
[null,null," ",{"$f":"IF(B355>0,VASTETIJD(C355)-Infoblad!$C$29,\" \")","v":" "}," ",343," ",null,null,null,null,null,{"$f":"IF(L355>0,VLOOKUP(L355,Punten!$B$3:$C$109,2,FALSE),\" \")","v":" "},null," ",null,null,null,"","","","","","",{"$f":"SEARCH(T355,'Eigen QTH LOc'!$I$1)*10-100+V355","v":{"$error":"#VALUE!"}},{"$f":"TRUNC(ROUND((SEARCH(X355,'Eigen QTH LOc'!$I$1)-0.5)*2.5,2))","v":1},{"$f":"IF(Z355>0,(MOD(ROUND((SEARCH(X355,'Eigen QTH LOc'!$I$1)-0.5)*2.5,2),TRUNC(Z355)))*60,0)","v":15},{"$f":"SEARCH(S355,'Eigen QTH LOc'!$I$1)*20-200+U355*2","v":{"$error":"#VALUE!"}},{"$f":"TRUNC((SEARCH(W355,'Eigen QTH LOc'!$I$1)-0.5)*5)","v":2},{"$f":"IF(AC355>0,(MOD((SEARCH(W355,'Eigen QTH LOc'!$I$1)-0.5)*5,TRUNC(AC355)))*60,0)","v":30},{"$error":"#VALUE!"},{"$error":"#VALUE!"},{"$f":"COS('Eigen QTH LOc'!$G$4-AF355)*SIN(PI()/2-AE355)*SIN(PI()/2-'Eigen QTH LOc'!$G$3)+COS(PI()/2-AE355)*COS(PI()/2-'Eigen QTH LOc'!$G$3)","v":{"$error":"#VALUE!"}},{"$error":"#VALUE!"},"ABCDEFGHIJKLMNOPQRSTUVWXABCDEFGHIJKLMNOPQRSTUVWX","\"0123456789\"",{"$f":"IF(B355>0,IF(K355=Infoblad!$C$6,0.5,0.5+AH355*40076.59/2/PI()),\" \")","v":" "},""]
[null,null," ",{"$f":"IF(B356>0,VASTETIJD(C356)-Infoblad!$C$29,\" \")","v":" "}," ",344," ",null,null,null,null,null,{"$f":"IF(L356>0,VLOOKUP(L356,Punten!$B$3:$C$109,2,FALSE),\" \")","v":" "},null," ",null,null,null,"","","","","","",{"$f":"SEARCH(T356,'Eigen QTH LOc'!$I$1)*10-100+V356","v":{"$error":"#VALUE!"}},{"$f":"TRUNC(ROUND((SEARCH(X356,'Eigen QTH LOc'!$I$1)-0.5)*2.5,2))","v":1},{"$f":"IF(Z356>0,(MOD(ROUND((SEARCH(X356,'Eigen QTH LOc'!$I$1)-0.5)*2.5,2),TRUNC(Z356)))*60,0)","v":15},{"$f":"SEARCH(S356,'Eigen QTH LOc'!$I$1)*20-200+U356*2","v":{"$error":"#VALUE!"}},{"$f":"TRUNC((SEARCH(W356,'Eigen QTH LOc'!$I$1)-0.5)*5)","v":2},{"$f":"IF(AC356>0,(MOD((SEARCH(W356,'Eigen QTH LOc'!$I$1)-0.5)*5,TRUNC(AC356)))*60,0)","v":30},{"$error":"#VALUE!"},{"$error":"#VALUE!"},{"$f":"COS('Eigen QTH LOc'!$G$4-AF356)*SIN(PI()/2-AE356)*SIN(PI()/2-'Eigen QTH LOc'!$G$3)+COS(PI()/2-AE356)*COS(PI()/2-'Eigen QTH LOc'!$G$3)","v":{"$error":"#VALUE!"}},{"$error":"#VALUE!"},"ABCDEFGHIJKLMNOPQRSTUVWXABCDEFGHIJKLMNOPQRSTUVWX","\"0123456789\"",{"$f":"IF(B356>0,IF(K356=Infoblad!$C$6,0.5,0.5+AH356*40076.59/2/PI()),\" \")","v":" "},""]
[null,null," ",{"$f":"IF(B357>0,VASTETIJD(C357)-Infoblad!$C$29,\" \")","v":" "}," ",345," ",null,null,null,null,null,{"$f":"IF(L357>0,VLOOKUP(L357,Punten!$B$3:$C$109,2,FALSE),\" \")","v":" "},null," ",null,null,null,"","","","","","",{"$f":"SEARCH(T357,'Eigen QTH LOc'!$I$1)*10-100+V357","v":{"$error":"#VALUE!"}},{"$f":"TRUNC(ROUND((SEARCH(X357,'Eigen QTH LOc'!$I$1)-0.5)*2.5,2))","v":1},{"$f":"IF(Z357>0,(MOD(ROUND((SEARCH(X357,'Eigen QTH LOc'!$I$1)-0.5)*2.5,2),TRUNC(Z357)))*60,0)","v":15},{"$f":"SEARCH(S357,'Eigen QTH LOc'!$I$1)*20-200+U357*2","v":{"$error":"#VALUE!"}},{"$f":"TRUNC((SEARCH(W357,'Eigen QTH LOc'!$I$1)-0.5)*5)","v":2},{"$f":"IF(AC357>0,(MOD((SEARCH(W357,'Eigen QTH LOc'!$I$1)-0.5)*5,TRUNC(AC357)))*60,0)","v":30},{"$error":"#VALUE!"},{"$error":"#VALUE!"},{"$f":"COS('Eigen QTH LOc'!$G$4-AF357)*SIN(PI()/2-AE357)*SIN(PI()/2-'Eigen QTH LOc'!$G$3)+COS(PI()/2-AE357)*COS(PI()/2-'Eigen QTH LOc'!$G$3)","v":{"$error":"#VALUE!"}},{"$error":"#VALUE!"},"ABCDEFGHIJKLMNOPQRSTUVWXABCDEFGHIJKLMNOPQRSTUVWX","\"0123456789\"",{"$f":"IF(B357>0,IF(K357=Infoblad!$C$6,0.5,0.5+AH357*40076.59/2/PI()),\" \")","v":" "},""]
[null,null," ",{"$f":"IF(B358>0,VASTETIJD(C358)-Infoblad!$C$29,\" \")","v":" "}," ",346," ",null,null,null,null,null,{"$f":"IF(L358>0,VLOOKUP(L358,Punten!$B$3:$C$109,2,FALSE),\" \")","v":" "},null," ",null,null,null,"","","","","","",{"$f":"SEARCH(T358,'Eigen QTH LOc'!$I$1)*10-100+V358","v":{"$error":"#VALUE!"}},{"$f":"TRUNC(ROUND((SEARCH(X358,'Eigen QTH LOc'!$I$1)-0.5)*2.5,2))","v":1},{"$f":"IF(Z358>0,(MOD(ROUND((SEARCH(X358,'Eigen QTH LOc'!$I$1)-0.5)*2.5,2),TRUNC(Z358)))*60,0)","v":15},{"$f":"SEARCH(S358,'Eigen QTH LOc'!$I$1)*20-200+U358*2","v":{"$error":"#VALUE!"}},{"$f":"TRUNC((SEARCH(W358,'Eigen QTH LOc'!$I$1)-0.5)*5)","v":2},{"$f":"IF(AC358>0,(MOD((SEARCH(W358,'Eigen QTH LOc'!$I$1)-0.5)*5,TRUNC(AC358)))*60,0)","v":30},{"$error":"#VALUE!"},{"$error":"#VALUE!"},{"$f":"COS('Eigen QTH LOc'!$G$4-AF358)*SIN(PI()/2-AE358)*SIN(PI()/2-'Eigen QTH LOc'!$G$3)+COS(PI()/2-AE358)*COS(PI()/2-'Eigen QTH LOc'!$G$3)","v":{"$error":"#VALUE!"}},{"$error":"#VALUE!"},"ABCDEFGHIJKLMNOPQRSTUVWXABCDEFGHIJKLMNOPQRSTUVWX","\"0123456789\"",{"$f":"IF(B358>0,IF(K358=Infoblad!$C$6,0.5,0.5+AH358*40076.59/2/PI()),\" \")","v":" "},""]
[null,null," ",{"$f":"IF(B359>0,VASTETIJD(C359)-Infoblad!$C$29,\" \")","v":" "}," ",347," ",null,null,null,null,null,{"$f":"IF(L359>0,VLOOKUP(L359,Punten!$B$3:$C$109,2,FALSE),\" \")","v":" "},null," ",null,null,null,"","","","","","",{"$f":"SEARCH(T359,'Eigen QTH LOc'!$I$1)*10-100+V359","v":{"$error":"#VALUE!"}},{"$f":"TRUNC(ROUND((SEARCH(X359,'Eigen QTH LOc'!$I$1)-0.5)*2.5,2))","v":1},{"$f":"IF(Z359>0,(MOD(ROUND((SEARCH(X359,'Eigen QTH LOc'!$I$1)-0.5)*2.5,2),TRUNC(Z359)))*60,0)","v":15},{"$f":"SEARCH(S359,'Eigen QTH LOc'!$I$1)*20-200+U359*2","v":{"$error":"#VALUE!"}},{"$f":"TRUNC((SEARCH(W359,'Eigen QTH LOc'!$I$1)-0.5)*5)","v":2},{"$f":"IF(AC359>0,(MOD((SEARCH(W359,'Eigen QTH LOc'!$I$1)-0.5)*5,TRUNC(AC359)))*60,0)","v":30},{"$error":"#VALUE!"},{"$error":"#VALUE!"},{"$f":"COS('Eigen QTH LOc'!$G$4-AF359)*SIN(PI()/2-AE359)*SIN(PI()/2-'Eigen QTH LOc'!$G$3)+COS(PI()/2-AE359)*COS(PI()/2-'Eigen QTH LOc'!$G$3)","v":{"$error":"#VALUE!"}},{"$error":"#VALUE!"},"ABCDEFGHIJKLMNOPQRSTUVWXABCDEFGHIJKLMNOPQRSTUVWX","\"0123456789\"",{"$f":"IF(B359>0,IF(K359=Infoblad!$C$6,0.5,0.5+AH359*40076.59/2/PI()),\" \")","v":" "},""]
[null,null," ",{"$f":"IF(B360>0,VASTETIJD(C360)-Infoblad!$C$29,\" \")","v":" "}," ",348," ",null,null,null,null,null,{"$f":"IF(L360>0,VLOOKUP(L360,Punten!$B$3:$C$109,2,FALSE),\" \")","v":" "},null," ",null,null,null,"","","","","","",{"$f":"SEARCH(T360,'Eigen QTH LOc'!$I$1)*10-100+V360","v":{"$error":"#VALUE!"}},{"$f":"TRUNC(ROUND((SEARCH(X360,'Eigen QTH LOc'!$I$1)-0.5)*2.5,2))","v":1},{"$f":"IF(Z360>0,(MOD(ROUND((SEARCH(X360,'Eigen QTH LOc'!$I$1)-0.5)*2.5,2),TRUNC(Z360)))*60,0)","v":15},{"$f":"SEARCH(S360,'Eigen QTH LOc'!$I$1)*20-200+U360*2","v":{"$error":"#VALUE!"}},{"$f":"TRUNC((SEARCH(W360,'Eigen QTH LOc'!$I$1)-0.5)*5)","v":2},{"$f":"IF(AC360>0,(MOD((SEARCH(W360,'Eigen QTH LOc'!$I$1)-0.5)*5,TRUNC(AC360)))*60,0)","v":30},{"$error":"#VALUE!"},{"$error":"#VALUE!"},{"$f":"COS('Eigen QTH LOc'!$G$4-AF360)*SIN(PI()/2-AE360)*SIN(PI()/2-'Eigen QTH LOc'!$G$3)+COS(PI()/2-AE360)*COS(PI()/2-'Eigen QTH LOc'!$G$3)","v":{"$error":"#VALUE!"}},{"$error":"#VALUE!"},"ABCDEFGHIJKLMNOPQRSTUVWXABCDEFGHIJKLMNOPQRSTUVWX","\"0123456789\"",{"$f":"IF(B360>0,IF(K360=Infoblad!$C$6,0.5,0.5+AH360*40076.59/2/PI()),\" \")","v":" "},""]
[null,null," ",{"$f":"IF(B361>0,VASTETIJD(C361)-Infoblad!$C$29,\" \")","v":" "}," ",349," ",null,null,null,null,null,{"$f":"IF(L361>0,VLOOKUP(L361,Punten!$B$3:$C$109,2,FALSE),\" \")","v":" "},null," ",null,null,null,"","","","","","",{"$f":"SEARCH(T361,'Eigen QTH LOc'!$I$1)*10-100+V361","v":{"$error":"#VALUE!"}},{"$f":"TRUNC(ROUND((SEARCH(X361,'Eigen QTH LOc'!$I$1)-0.5)*2.5,2))","v":1},{"$f":"IF(Z361>0,(MOD(ROUND((SEARCH(X361,'Eigen QTH LOc'!$I$1)-0.5)*2.5,2),TRUNC(Z361)))*60,0)","v":15},{"$f":"SEARCH(S361,'Eigen QTH LOc'!$I$1)*20-200+U361*2","v":{"$error":"#VALUE!"}},{"$f":"TRUNC((SEARCH(W361,'Eigen QTH LOc'!$I$1)-0.5)*5)","v":2},{"$f":"IF(AC361>0,(MOD((SEARCH(W361,'Eigen QTH LOc'!$I$1)-0.5)*5,TRUNC(AC361)))*60,0)","v":30},{"$error":"#VALUE!"},{"$error":"#VALUE!"},{"$f":"COS('Eigen QTH LOc'!$G$4-AF361)*SIN(PI()/2-AE361)*SIN(PI()/2-'Eigen QTH LOc'!$G$3)+COS(PI()/2-AE361)*COS(PI()/2-'Eigen QTH LOc'!$G$3)","v":{"$error":"#VALUE!"}},{"$error":"#VALUE!"},"ABCDEFGHIJKLMNOPQRSTUVWXABCDEFGHIJKLMNOPQRSTUVWX","\"0123456789\"",{"$f":"IF(B361>0,IF(K361=Infoblad!$C$6,0.5,0.5+AH361*40076.59/2/PI()),\" \")","v":" "},""]
[null,null," ",{"$f":"IF(B362>0,VASTETIJD(C362)-Infoblad!$C$29,\" \")","v":" "}," ",350," ",null,null,null,null,null,{"$f":"IF(L362>0,VLOOKUP(L362,Punten!$B$3:$C$109,2,FALSE),\" \")","v":" "},null," ",null,null,null,"","","","","","",{"$f":"SEARCH(T362,'Eigen QTH LOc'!$I$1)*10-100+V362","v":{"$error":"#VALUE!"}},{"$f":"TRUNC(ROUND((SEARCH(X362,'Eigen QTH LOc'!$I$1)-0.5)*2.5,2))","v":1},{"$f":"IF(Z362>0,(MOD(ROUND((SEARCH(X362,'Eigen QTH LOc'!$I$1)-0.5)*2.5,2),TRUNC(Z362)))*60,0)","v":15},{"$f":"SEARCH(S362,'Eigen QTH LOc'!$I$1)*20-200+U362*2","v":{"$error":"#VALUE!"}},{"$f":"TRUNC((SEARCH(W362,'Eigen QTH LOc'!$I$1)-0.5)*5)","v":2},{"$f":"IF(AC362>0,(MOD((SEARCH(W362,'Eigen QTH LOc'!$I$1)-0.5)*5,TRUNC(AC362)))*60,0)","v":30},{"$error":"#VALUE!"},{"$error":"#VALUE!"},{"$f":"COS('Eigen QTH LOc'!$G$4-AF362)*SIN(PI()/2-AE362)*SIN(PI()/2-'Eigen QTH LOc'!$G$3)+COS(PI()/2-AE362)*COS(PI()/2-'Eigen QTH LOc'!$G$3)","v":{"$error":"#VALUE!"}},{"$error":"#VALUE!"},"ABCDEFGHIJKLMNOPQRSTUVWXABCDEFGHIJKLMNOPQRSTUVWX","\"0123456789\"",{"$f":"IF(B362>0,IF(K362=Infoblad!$C$6,0.5,0.5+AH362*40076.59/2/PI()),\" \")","v":" "},""]
[null,null," ",{"$f":"IF(B363>0,VASTETIJD(C363)-Infoblad!$C$29,\" \")","v":" "}," ",351," ",null,null,null,null,null,{"$f":"IF(L363>0,VLOOKUP(L363,Punten!$B$3:$C$109,2,FALSE),\" \")","v":" "},null," ",null,null,null,"","","","","","",{"$f":"SEARCH(T363,'Eigen QTH LOc'!$I$1)*10-100+V363","v":{"$error":"#VALUE!"}},{"$f":"TRUNC(ROUND((SEARCH(X363,'Eigen QTH LOc'!$I$1)-0.5)*2.5,2))","v":1},{"$f":"IF(Z363>0,(MOD(ROUND((SEARCH(X363,'Eigen QTH LOc'!$I$1)-0.5)*2.5,2),TRUNC(Z363)))*60,0)","v":15},{"$f":"SEARCH(S363,'Eigen QTH LOc'!$I$1)*20-200+U363*2","v":{"$error":"#VALUE!"}},{"$f":"TRUNC((SEARCH(W363,'Eigen QTH LOc'!$I$1)-0.5)*5)","v":2},{"$f":"IF(AC363>0,(MOD((SEARCH(W363,'Eigen QTH LOc'!$I$1)-0.5)*5,TRUNC(AC363)))*60,0)","v":30},{"$error":"#VALUE!"},{"$error":"#VALUE!"},{"$f":"COS('Eigen QTH LOc'!$G$4-AF363)*SIN(PI()/2-AE363)*SIN(PI()/2-'Eigen QTH LOc'!$G$3)+COS(PI()/2-AE363)*COS(PI()/2-'Eigen QTH LOc'!$G$3)","v":{"$error":"#VALUE!"}},{"$error":"#VALUE!"},"ABCDEFGHIJKLMNOPQRSTUVWXABCDEFGHIJKLMNOPQRSTUVWX","\"0123456789\"",{"$f":"IF(B363>0,IF(K363=Infoblad!$C$6,0.5,0.5+AH363*40076.59/2/PI()),\" \")","v":" "},""]
[null,null," ",{"$f":"IF(B364>0,VASTETIJD(C364)-Infoblad!$C$29,\" \")","v":" "}," ",352," ",null,null,null,null,null,{"$f":"IF(L364>0,VLOOKUP(L364,Punten!$B$3:$C$109,2,FALSE),\" \")","v":" "},null," ",null,null,null,"","","","","","",{"$f":"SEARCH(T364,'Eigen QTH LOc'!$I$1)*10-100+V364","v":{"$error":"#VALUE!"}},{"$f":"TRUNC(ROUND((SEARCH(X364,'Eigen QTH LOc'!$I$1)-0.5)*2.5,2))","v":1},{"$f":"IF(Z364>0,(MOD(ROUND((SEARCH(X364,'Eigen QTH LOc'!$I$1)-0.5)*2.5,2),TRUNC(Z364)))*60,0)","v":15},{"$f":"SEARCH(S364,'Eigen QTH LOc'!$I$1)*20-200+U364*2","v":{"$error":"#VALUE!"}},{"$f":"TRUNC((SEARCH(W364,'Eigen QTH LOc'!$I$1)-0.5)*5)","v":2},{"$f":"IF(AC364>0,(MOD((SEARCH(W364,'Eigen QTH LOc'!$I$1)-0.5)*5,TRUNC(AC364)))*60,0)","v":30},{"$error":"#VALUE!"},{"$error":"#VALUE!"},{"$f":"COS('Eigen QTH LOc'!$G$4-AF364)*SIN(PI()/2-AE364)*SIN(PI()/2-'Eigen QTH LOc'!$G$3)+COS(PI()/2-AE364)*COS(PI()/2-'Eigen QTH LOc'!$G$3)","v":{"$error":"#VALUE!"}},{"$error":"#VALUE!"},"ABCDEFGHIJKLMNOPQRSTUVWXABCDEFGHIJKLMNOPQRSTUVWX","\"0123456789\"",{"$f":"IF(B364>0,IF(K364=Infoblad!$C$6,0.5,0.5+AH364*40076.59/2/PI()),\" \")","v":" "},""]
[null,null," ",{"$f":"IF(B365>0,VASTETIJD(C365)-Infoblad!$C$29,\" \")","v":" "}," ",353," ",null,null,null,null,null,{"$f":"IF(L365>0,VLOOKUP(L365,Punten!$B$3:$C$109,2,FALSE),\" \")","v":" "},null," ",null,null,null,"","","","","","",{"$f":"SEARCH(T365,'Eigen QTH LOc'!$I$1)*10-100+V365","v":{"$error":"#VALUE!"}},{"$f":"TRUNC(ROUND((SEARCH(X365,'Eigen QTH LOc'!$I$1)-0.5)*2.5,2))","v":1},{"$f":"IF(Z365>0,(MOD(ROUND((SEARCH(X365,'Eigen QTH LOc'!$I$1)-0.5)*2.5,2),TRUNC(Z365)))*60,0)","v":15},{"$f":"SEARCH(S365,'Eigen QTH LOc'!$I$1)*20-200+U365*2","v":{"$error":"#VALUE!"}},{"$f":"TRUNC((SEARCH(W365,'Eigen QTH LOc'!$I$1)-0.5)*5)","v":2},{"$f":"IF(AC365>0,(MOD((SEARCH(W365,'Eigen QTH LOc'!$I$1)-0.5)*5,TRUNC(AC365)))*60,0)","v":30},{"$error":"#VALUE!"},{"$error":"#VALUE!"},{"$f":"COS('Eigen QTH LOc'!$G$4-AF365)*SIN(PI()/2-AE365)*SIN(PI()/2-'Eigen QTH LOc'!$G$3)+COS(PI()/2-AE365)*COS(PI()/2-'Eigen QTH LOc'!$G$3)","v":{"$error":"#VALUE!"}},{"$error":"#VALUE!"},"ABCDEFGHIJKLMNOPQRSTUVWXABCDEFGHIJKLMNOPQRSTUVWX","\"0123456789\"",{"$f":"IF(B365>0,IF(K365=Infoblad!$C$6,0.5,0.5+AH365*40076.59/2/PI()),\" \")","v":" "},""]
[null,null," ",{"$f":"IF(B366>0,VASTETIJD(C366)-Infoblad!$C$29,\" \")","v":" "}," ",354," ",null,null,null,null,null,{"$f":"IF(L366>0,VLOOKUP(L366,Punten!$B$3:$C$109,2,FALSE),\" \")","v":" "},null," ",null,null,null,"","","","","","",{"$f":"SEARCH(T366,'Eigen QTH LOc'!$I$1)*10-100+V366","v":{"$error":"#VALUE!"}},{"$f":"TRUNC(ROUND((SEARCH(X366,'Eigen QTH LOc'!$I$1)-0.5)*2.5,2))","v":1},{"$f":"IF(Z366>0,(MOD(ROUND((SEARCH(X366,'Eigen QTH LOc'!$I$1)-0.5)*2.5,2),TRUNC(Z366)))*60,0)","v":15},{"$f":"SEARCH(S366,'Eigen QTH LOc'!$I$1)*20-200+U366*2","v":{"$error":"#VALUE!"}},{"$f":"TRUNC((SEARCH(W366,'Eigen QTH LOc'!$I$1)-0.5)*5)","v":2},{"$f":"IF(AC366>0,(MOD((SEARCH(W366,'Eigen QTH LOc'!$I$1)-0.5)*5,TRUNC(AC366)))*60,0)","v":30},{"$error":"#VALUE!"},{"$error":"#VALUE!"},{"$f":"COS('Eigen QTH LOc'!$G$4-AF366)*SIN(PI()/2-AE366)*SIN(PI()/2-'Eigen QTH LOc'!$G$3)+COS(PI()/2-AE366)*COS(PI()/2-'Eigen QTH LOc'!$G$3)","v":{"$error":"#VALUE!"}},{"$error":"#VALUE!"},"ABCDEFGHIJKLMNOPQRSTUVWXABCDEFGHIJKLMNOPQRSTUVWX","\"0123456789\"",{"$f":"IF(B366>0,IF(K366=Infoblad!$C$6,0.5,0.5+AH366*40076.59/2/PI()),\" \")","v":" "},""]
[null,null," ",{"$f":"IF(B367>0,VASTETIJD(C367)-Infoblad!$C$29,\" \")","v":" "}," ",355," ",null,null,null,null,null,{"$f":"IF(L367>0,VLOOKUP(L367,Punten!$B$3:$C$109,2,FALSE),\" \")","v":" "},null," ",null,null,null,"","","","","","",{"$f":"SEARCH(T367,'Eigen QTH LOc'!$I$1)*10-100+V367","v":{"$error":"#VALUE!"}},{"$f":"TRUNC(ROUND((SEARCH(X367,'Eigen QTH LOc'!$I$1)-0.5)*2.5,2))","v":1},{"$f":"IF(Z367>0,(MOD(ROUND((SEARCH(X367,'Eigen QTH LOc'!$I$1)-0.5)*2.5,2),TRUNC(Z367)))*60,0)","v":15},{"$f":"SEARCH(S367,'Eigen QTH LOc'!$I$1)*20-200+U367*2","v":{"$error":"#VALUE!"}},{"$f":"TRUNC((SEARCH(W367,'Eigen QTH LOc'!$I$1)-0.5)*5)","v":2},{"$f":"IF(AC367>0,(MOD((SEARCH(W367,'Eigen QTH LOc'!$I$1)-0.5)*5,TRUNC(AC367)))*60,0)","v":30},{"$error":"#VALUE!"},{"$error":"#VALUE!"},{"$f":"COS('Eigen QTH LOc'!$G$4-AF367)*SIN(PI()/2-AE367)*SIN(PI()/2-'Eigen QTH LOc'!$G$3)+COS(PI()/2-AE367)*COS(PI()/2-'Eigen QTH LOc'!$G$3)","v":{"$error":"#VALUE!"}},{"$error":"#VALUE!"},"ABCDEFGHIJKLMNOPQRSTUVWXABCDEFGHIJKLMNOPQRSTUVWX","\"0123456789\"",{"$f":"IF(B367>0,IF(K367=Infoblad!$C$6,0.5,0.5+AH367*40076.59/2/PI()),\" \")","v":" "},""]
[null,null," ",{"$f":"IF(B368>0,VASTETIJD(C368)-Infoblad!$C$29,\" \")","v":" "}," ",356," ",null,null,null,null,null,{"$f":"IF(L368>0,VLOOKUP(L368,Punten!$B$3:$C$109,2,FALSE),\" \")","v":" "},null," ",null,null,null,"","","","","","",{"$f":"SEARCH(T368,'Eigen QTH LOc'!$I$1)*10-100+V368","v":{"$error":"#VALUE!"}},{"$f":"TRUNC(ROUND((SEARCH(X368,'Eigen QTH LOc'!$I$1)-0.5)*2.5,2))","v":1},{"$f":"IF(Z368>0,(MOD(ROUND((SEARCH(X368,'Eigen QTH LOc'!$I$1)-0.5)*2.5,2),TRUNC(Z368)))*60,0)","v":15},{"$f":"SEARCH(S368,'Eigen QTH LOc'!$I$1)*20-200+U368*2","v":{"$error":"#VALUE!"}},{"$f":"TRUNC((SEARCH(W368,'Eigen QTH LOc'!$I$1)-0.5)*5)","v":2},{"$f":"IF(AC368>0,(MOD((SEARCH(W368,'Eigen QTH LOc'!$I$1)-0.5)*5,TRUNC(AC368)))*60,0)","v":30},{"$error":"#VALUE!"},{"$error":"#VALUE!"},{"$f":"COS('Eigen QTH LOc'!$G$4-AF368)*SIN(PI()/2-AE368)*SIN(PI()/2-'Eigen QTH LOc'!$G$3)+COS(PI()/2-AE368)*COS(PI()/2-'Eigen QTH LOc'!$G$3)","v":{"$error":"#VALUE!"}},{"$error":"#VALUE!"},"ABCDEFGHIJKLMNOPQRSTUVWXABCDEFGHIJKLMNOPQRSTUVWX","\"0123456789\"",{"$f":"IF(B368>0,IF(K368=Infoblad!$C$6,0.5,0.5+AH368*40076.59/2/PI()),\" \")","v":" "},""]
[null,null," ",{"$f":"IF(B369>0,VASTETIJD(C369)-Infoblad!$C$29,\" \")","v":" "}," ",357," ",null,null,null,null,null,{"$f":"IF(L369>0,VLOOKUP(L369,Punten!$B$3:$C$109,2,FALSE),\" \")","v":" "},null," ",null,null,null,"","","","","","",{"$f":"SEARCH(T369,'Eigen QTH LOc'!$I$1)*10-100+V369","v":{"$error":"#VALUE!"}},{"$f":"TRUNC(ROUND((SEARCH(X369,'Eigen QTH LOc'!$I$1)-0.5)*2.5,2))","v":1},{"$f":"IF(Z369>0,(MOD(ROUND((SEARCH(X369,'Eigen QTH LOc'!$I$1)-0.5)*2.5,2),TRUNC(Z369)))*60,0)","v":15},{"$f":"SEARCH(S369,'Eigen QTH LOc'!$I$1)*20-200+U369*2","v":{"$error":"#VALUE!"}},{"$f":"TRUNC((SEARCH(W369,'Eigen QTH LOc'!$I$1)-0.5)*5)","v":2},{"$f":"IF(AC369>0,(MOD((SEARCH(W369,'Eigen QTH LOc'!$I$1)-0.5)*5,TRUNC(AC369)))*60,0)","v":30},{"$error":"#VALUE!"},{"$error":"#VALUE!"},{"$f":"COS('Eigen QTH LOc'!$G$4-AF369)*SIN(PI()/2-AE369)*SIN(PI()/2-'Eigen QTH LOc'!$G$3)+COS(PI()/2-AE369)*COS(PI()/2-'Eigen QTH LOc'!$G$3)","v":{"$error":"#VALUE!"}},{"$error":"#VALUE!"},"ABCDEFGHIJKLMNOPQRSTUVWXABCDEFGHIJKLMNOPQRSTUVWX","\"0123456789\"",{"$f":"IF(B369>0,IF(K369=Infoblad!$C$6,0.5,0.5+AH369*40076.59/2/PI()),\" \")","v":" "},""]
[null,null," ",{"$f":"IF(B370>0,VASTETIJD(C370)-Infoblad!$C$29,\" \")","v":" "}," ",358," ",null,null,null,null,null,{"$f":"IF(L370>0,VLOOKUP(L370,Punten!$B$3:$C$109,2,FALSE),\" \")","v":" "},null," ",null,null,null,"","","","","","",{"$f":"SEARCH(T370,'Eigen QTH LOc'!$I$1)*10-100+V370","v":{"$error":"#VALUE!"}},{"$f":"TRUNC(ROUND((SEARCH(X370,'Eigen QTH LOc'!$I$1)-0.5)*2.5,2))","v":1},{"$f":"IF(Z370>0,(MOD(ROUND((SEARCH(X370,'Eigen QTH LOc'!$I$1)-0.5)*2.5,2),TRUNC(Z370)))*60,0)","v":15},{"$f":"SEARCH(S370,'Eigen QTH LOc'!$I$1)*20-200+U370*2","v":{"$error":"#VALUE!"}},{"$f":"TRUNC((SEARCH(W370,'Eigen QTH LOc'!$I$1)-0.5)*5)","v":2},{"$f":"IF(AC370>0,(MOD((SEARCH(W370,'Eigen QTH LOc'!$I$1)-0.5)*5,TRUNC(AC370)))*60,0)","v":30},{"$error":"#VALUE!"},{"$error":"#VALUE!"},{"$f":"COS('Eigen QTH LOc'!$G$4-AF370)*SIN(PI()/2-AE370)*SIN(PI()/2-'Eigen QTH LOc'!$G$3)+COS(PI()/2-AE370)*COS(PI()/2-'Eigen QTH LOc'!$G$3)","v":{"$error":"#VALUE!"}},{"$error":"#VALUE!"},"ABCDEFGHIJKLMNOPQRSTUVWXABCDEFGHIJKLMNOPQRSTUVWX","\"0123456789\"",{"$f":"IF(B370>0,IF(K370=Infoblad!$C$6,0.5,0.5+AH370*40076.59/2/PI()),\" \")","v":" "},""]
[null,null," ",{"$f":"IF(B371>0,VASTETIJD(C371)-Infoblad!$C$29,\" \")","v":" "}," ",359," ",null,null,null,null,null,{"$f":"IF(L371>0,VLOOKUP(L371,Punten!$B$3:$C$109,2,FALSE),\" \")","v":" "},null," ",null,null,null,"","","","","","",{"$f":"SEARCH(T371,'Eigen QTH LOc'!$I$1)*10-100+V371","v":{"$error":"#VALUE!"}},{"$f":"TRUNC(ROUND((SEARCH(X371,'Eigen QTH LOc'!$I$1)-0.5)*2.5,2))","v":1},{"$f":"IF(Z371>0,(MOD(ROUND((SEARCH(X371,'Eigen QTH LOc'!$I$1)-0.5)*2.5,2),TRUNC(Z371)))*60,0)","v":15},{"$f":"SEARCH(S371,'Eigen QTH LOc'!$I$1)*20-200+U371*2","v":{"$error":"#VALUE!"}},{"$f":"TRUNC((SEARCH(W371,'Eigen QTH LOc'!$I$1)-0.5)*5)","v":2},{"$f":"IF(AC371>0,(MOD((SEARCH(W371,'Eigen QTH LOc'!$I$1)-0.5)*5,TRUNC(AC371)))*60,0)","v":30},{"$error":"#VALUE!"},{"$error":"#VALUE!"},{"$f":"COS('Eigen QTH LOc'!$G$4-AF371)*SIN(PI()/2-AE371)*SIN(PI()/2-'Eigen QTH LOc'!$G$3)+COS(PI()/2-AE371)*COS(PI()/2-'Eigen QTH LOc'!$G$3)","v":{"$error":"#VALUE!"}},{"$error":"#VALUE!"},"ABCDEFGHIJKLMNOPQRSTUVWXABCDEFGHIJKLMNOPQRSTUVWX","\"0123456789\"",{"$f":"IF(B371>0,IF(K371=Infoblad!$C$6,0.5,0.5+AH371*40076.59/2/PI()),\" \")","v":" "},""]
[null,null," ",{"$f":"IF(B372>0,VASTETIJD(C372)-Infoblad!$C$29,\" \")","v":" "}," ",360," ",null,null,null,null,null,{"$f":"IF(L372>0,VLOOKUP(L372,Punten!$B$3:$C$109,2,FALSE),\" \")","v":" "},null," ",null,null,null,"","","","","","",{"$f":"SEARCH(T372,'Eigen QTH LOc'!$I$1)*10-100+V372","v":{"$error":"#VALUE!"}},{"$f":"TRUNC(ROUND((SEARCH(X372,'Eigen QTH LOc'!$I$1)-0.5)*2.5,2))","v":1},{"$f":"IF(Z372>0,(MOD(ROUND((SEARCH(X372,'Eigen QTH LOc'!$I$1)-0.5)*2.5,2),TRUNC(Z372)))*60,0)","v":15},{"$f":"SEARCH(S372,'Eigen QTH LOc'!$I$1)*20-200+U372*2","v":{"$error":"#VALUE!"}},{"$f":"TRUNC((SEARCH(W372,'Eigen QTH LOc'!$I$1)-0.5)*5)","v":2},{"$f":"IF(AC372>0,(MOD((SEARCH(W372,'Eigen QTH LOc'!$I$1)-0.5)*5,TRUNC(AC372)))*60,0)","v":30},{"$error":"#VALUE!"},{"$error":"#VALUE!"},{"$f":"COS('Eigen QTH LOc'!$G$4-AF372)*SIN(PI()/2-AE372)*SIN(PI()/2-'Eigen QTH LOc'!$G$3)+COS(PI()/2-AE372)*COS(PI()/2-'Eigen QTH LOc'!$G$3)","v":{"$error":"#VALUE!"}},{"$error":"#VALUE!"},"ABCDEFGHIJKLMNOPQRSTUVWXABCDEFGHIJKLMNOPQRSTUVWX","\"0123456789\"",{"$f":"IF(B372>0,IF(K372=Infoblad!$C$6,0.5,0.5+AH372*40076.59/2/PI()),\" \")","v":" "},""]
[null,null," ",{"$f":"IF(B373>0,VASTETIJD(C373)-Infoblad!$C$29,\" \")","v":" "}," ",361," ",null,null,null,null,null,{"$f":"IF(L373>0,VLOOKUP(L373,Punten!$B$3:$C$109,2,FALSE),\" \")","v":" "},null," ",null,null,null,"","","","","","",{"$f":"SEARCH(T373,'Eigen QTH LOc'!$I$1)*10-100+V373","v":{"$error":"#VALUE!"}},{"$f":"TRUNC(ROUND((SEARCH(X373,'Eigen QTH LOc'!$I$1)-0.5)*2.5,2))","v":1},{"$f":"IF(Z373>0,(MOD(ROUND((SEARCH(X373,'Eigen QTH LOc'!$I$1)-0.5)*2.5,2),TRUNC(Z373)))*60,0)","v":15},{"$f":"SEARCH(S373,'Eigen QTH LOc'!$I$1)*20-200+U373*2","v":{"$error":"#VALUE!"}},{"$f":"TRUNC((SEARCH(W373,'Eigen QTH LOc'!$I$1)-0.5)*5)","v":2},{"$f":"IF(AC373>0,(MOD((SEARCH(W373,'Eigen QTH LOc'!$I$1)-0.5)*5,TRUNC(AC373)))*60,0)","v":30},{"$error":"#VALUE!"},{"$error":"#VALUE!"},{"$f":"COS('Eigen QTH LOc'!$G$4-AF373)*SIN(PI()/2-AE373)*SIN(PI()/2-'Eigen QTH LOc'!$G$3)+COS(PI()/2-AE373)*COS(PI()/2-'Eigen QTH LOc'!$G$3)","v":{"$error":"#VALUE!"}},{"$error":"#VALUE!"},"ABCDEFGHIJKLMNOPQRSTUVWXABCDEFGHIJKLMNOPQRSTUVWX","\"0123456789\"",{"$f":"IF(B373>0,IF(K373=Infoblad!$C$6,0.5,0.5+AH373*40076.59/2/PI()),\" \")","v":" "},""]
[null,null," ",{"$f":"IF(B374>0,VASTETIJD(C374)-Infoblad!$C$29,\" \")","v":" "}," ",362," ",null,null,null,null,null,{"$f":"IF(L374>0,VLOOKUP(L374,Punten!$B$3:$C$109,2,FALSE),\" \")","v":" "},null," ",null,null,null,"","","","","","",{"$f":"SEARCH(T374,'Eigen QTH LOc'!$I$1)*10-100+V374","v":{"$error":"#VALUE!"}},{"$f":"TRUNC(ROUND((SEARCH(X374,'Eigen QTH LOc'!$I$1)-0.5)*2.5,2))","v":1},{"$f":"IF(Z374>0,(MOD(ROUND((SEARCH(X374,'Eigen QTH LOc'!$I$1)-0.5)*2.5,2),TRUNC(Z374)))*60,0)","v":15},{"$f":"SEARCH(S374,'Eigen QTH LOc'!$I$1)*20-200+U374*2","v":{"$error":"#VALUE!"}},{"$f":"TRUNC((SEARCH(W374,'Eigen QTH LOc'!$I$1)-0.5)*5)","v":2},{"$f":"IF(AC374>0,(MOD((SEARCH(W374,'Eigen QTH LOc'!$I$1)-0.5)*5,TRUNC(AC374)))*60,0)","v":30},{"$error":"#VALUE!"},{"$error":"#VALUE!"},{"$f":"COS('Eigen QTH LOc'!$G$4-AF374)*SIN(PI()/2-AE374)*SIN(PI()/2-'Eigen QTH LOc'!$G$3)+COS(PI()/2-AE374)*COS(PI()/2-'Eigen QTH LOc'!$G$3)","v":{"$error":"#VALUE!"}},{"$error":"#VALUE!"},"ABCDEFGHIJKLMNOPQRSTUVWXABCDEFGHIJKLMNOPQRSTUVWX","\"0123456789\"",{"$f":"IF(B374>0,IF(K374=Infoblad!$C$6,0.5,0.5+AH374*40076.59/2/PI()),\" \")","v":" "},""]
[null,null," ",{"$f":"IF(B375>0,VASTETIJD(C375)-Infoblad!$C$29,\" \")","v":" "}," ",363," ",null,null,null,null,null,{"$f":"IF(L375>0,VLOOKUP(L375,Punten!$B$3:$C$109,2,FALSE),\" \")","v":" "},null," ",null,null,null,"","","","","","",{"$f":"SEARCH(T375,'Eigen QTH LOc'!$I$1)*10-100+V375","v":{"$error":"#VALUE!"}},{"$f":"TRUNC(ROUND((SEARCH(X375,'Eigen QTH LOc'!$I$1)-0.5)*2.5,2))","v":1},{"$f":"IF(Z375>0,(MOD(ROUND((SEARCH(X375,'Eigen QTH LOc'!$I$1)-0.5)*2.5,2),TRUNC(Z375)))*60,0)","v":15},{"$f":"SEARCH(S375,'Eigen QTH LOc'!$I$1)*20-200+U375*2","v":{"$error":"#VALUE!"}},{"$f":"TRUNC((SEARCH(W375,'Eigen QTH LOc'!$I$1)-0.5)*5)","v":2},{"$f":"IF(AC375>0,(MOD((SEARCH(W375,'Eigen QTH LOc'!$I$1)-0.5)*5,TRUNC(AC375)))*60,0)","v":30},{"$error":"#VALUE!"},{"$error":"#VALUE!"},{"$f":"COS('Eigen QTH LOc'!$G$4-AF375)*SIN(PI()/2-AE375)*SIN(PI()/2-'Eigen QTH LOc'!$G$3)+COS(PI()/2-AE375)*COS(PI()/2-'Eigen QTH LOc'!$G$3)","v":{"$error":"#VALUE!"}},{"$error":"#VALUE!"},"ABCDEFGHIJKLMNOPQRSTUVWXABCDEFGHIJKLMNOPQRSTUVWX","\"0123456789\"",{"$f":"IF(B375>0,IF(K375=Infoblad!$C$6,0.5,0.5+AH375*40076.59/2/PI()),\" \")","v":" "},""]
[null,null," ",{"$f":"IF(B376>0,VASTETIJD(C376)-Infoblad!$C$29,\" \")","v":" "}," ",364," ",null,null,null,null,null,{"$f":"IF(L376>0,VLOOKUP(L376,Punten!$B$3:$C$109,2,FALSE),\" \")","v":" "},null," ",null,null,null,"","","","","","",{"$f":"SEARCH(T376,'Eigen QTH LOc'!$I$1)*10-100+V376","v":{"$error":"#VALUE!"}},{"$f":"TRUNC(ROUND((SEARCH(X376,'Eigen QTH LOc'!$I$1)-0.5)*2.5,2))","v":1},{"$f":"IF(Z376>0,(MOD(ROUND((SEARCH(X376,'Eigen QTH LOc'!$I$1)-0.5)*2.5,2),TRUNC(Z376)))*60,0)","v":15},{"$f":"SEARCH(S376,'Eigen QTH LOc'!$I$1)*20-200+U376*2","v":{"$error":"#VALUE!"}},{"$f":"TRUNC((SEARCH(W376,'Eigen QTH LOc'!$I$1)-0.5)*5)","v":2},{"$f":"IF(AC376>0,(MOD((SEARCH(W376,'Eigen QTH LOc'!$I$1)-0.5)*5,TRUNC(AC376)))*60,0)","v":30},{"$error":"#VALUE!"},{"$error":"#VALUE!"},{"$f":"COS('Eigen QTH LOc'!$G$4-AF376)*SIN(PI()/2-AE376)*SIN(PI()/2-'Eigen QTH LOc'!$G$3)+COS(PI()/2-AE376)*COS(PI()/2-'Eigen QTH LOc'!$G$3)","v":{"$error":"#VALUE!"}},{"$error":"#VALUE!"},"ABCDEFGHIJKLMNOPQRSTUVWXABCDEFGHIJKLMNOPQRSTUVWX","\"0123456789\"",{"$f":"IF(B376>0,IF(K376=Infoblad!$C$6,0.5,0.5+AH376*40076.59/2/PI()),\" \")","v":" "},""]
[null,null," ",{"$f":"IF(B377>0,VASTETIJD(C377)-Infoblad!$C$29,\" \")","v":" "}," ",365," ",null,null,null,null,null,{"$f":"IF(L377>0,VLOOKUP(L377,Punten!$B$3:$C$109,2,FALSE),\" \")","v":" "},null," ",null,null,null,"","","","","","",{"$f":"SEARCH(T377,'Eigen QTH LOc'!$I$1)*10-100+V377","v":{"$error":"#VALUE!"}},{"$f":"TRUNC(ROUND((SEARCH(X377,'Eigen QTH LOc'!$I$1)-0.5)*2.5,2))","v":1},{"$f":"IF(Z377>0,(MOD(ROUND((SEARCH(X377,'Eigen QTH LOc'!$I$1)-0.5)*2.5,2),TRUNC(Z377)))*60,0)","v":15},{"$f":"SEARCH(S377,'Eigen QTH LOc'!$I$1)*20-200+U377*2","v":{"$error":"#VALUE!"}},{"$f":"TRUNC((SEARCH(W377,'Eigen QTH LOc'!$I$1)-0.5)*5)","v":2},{"$f":"IF(AC377>0,(MOD((SEARCH(W377,'Eigen QTH LOc'!$I$1)-0.5)*5,TRUNC(AC377)))*60,0)","v":30},{"$error":"#VALUE!"},{"$error":"#VALUE!"},{"$f":"COS('Eigen QTH LOc'!$G$4-AF377)*SIN(PI()/2-AE377)*SIN(PI()/2-'Eigen QTH LOc'!$G$3)+COS(PI()/2-AE377)*COS(PI()/2-'Eigen QTH LOc'!$G$3)","v":{"$error":"#VALUE!"}},{"$error":"#VALUE!"},"ABCDEFGHIJKLMNOPQRSTUVWXABCDEFGHIJKLMNOPQRSTUVWX","\"0123456789\"",{"$f":"IF(B377>0,IF(K377=Infoblad!$C$6,0.5,0.5+AH377*40076.59/2/PI()),\" \")","v":" "},""]
[null,null," ",{"$f":"IF(B378>0,VASTETIJD(C378)-Infoblad!$C$29,\" \")","v":" "}," ",366," ",null,null,null,null,null,{"$f":"IF(L378>0,VLOOKUP(L378,Punten!$B$3:$C$109,2,FALSE),\" \")","v":" "},null," ",null,null,null,"","","","","","",{"$f":"SEARCH(T378,'Eigen QTH LOc'!$I$1)*10-100+V378","v":{"$error":"#VALUE!"}},{"$f":"TRUNC(ROUND((SEARCH(X378,'Eigen QTH LOc'!$I$1)-0.5)*2.5,2))","v":1},{"$f":"IF(Z378>0,(MOD(ROUND((SEARCH(X378,'Eigen QTH LOc'!$I$1)-0.5)*2.5,2),TRUNC(Z378)))*60,0)","v":15},{"$f":"SEARCH(S378,'Eigen QTH LOc'!$I$1)*20-200+U378*2","v":{"$error":"#VALUE!"}},{"$f":"TRUNC((SEARCH(W378,'Eigen QTH LOc'!$I$1)-0.5)*5)","v":2},{"$f":"IF(AC378>0,(MOD((SEARCH(W378,'Eigen QTH LOc'!$I$1)-0.5)*5,TRUNC(AC378)))*60,0)","v":30},{"$error":"#VALUE!"},{"$error":"#VALUE!"},{"$f":"COS('Eigen QTH LOc'!$G$4-AF378)*SIN(PI()/2-AE378)*SIN(PI()/2-'Eigen QTH LOc'!$G$3)+COS(PI()/2-AE378)*COS(PI()/2-'Eigen QTH LOc'!$G$3)","v":{"$error":"#VALUE!"}},{"$error":"#VALUE!"},"ABCDEFGHIJKLMNOPQRSTUVWXABCDEFGHIJKLMNOPQRSTUVWX","\"0123456789\"",{"$f":"IF(B378>0,IF(K378=Infoblad!$C$6,0.5,0.5+AH378*40076.59/2/PI()),\" \")","v":" "},""]
[null,null," ",{"$f":"IF(B379>0,VASTETIJD(C379)-Infoblad!$C$29,\" \")","v":" "}," ",367," ",null,null,null,null,null,{"$f":"IF(L379>0,VLOOKUP(L379,Punten!$B$3:$C$109,2,FALSE),\" \")","v":" "},null," ",null,null,null,"","","","","","",{"$f":"SEARCH(T379,'Eigen QTH LOc'!$I$1)*10-100+V379","v":{"$error":"#VALUE!"}},{"$f":"TRUNC(ROUND((SEARCH(X379,'Eigen QTH LOc'!$I$1)-0.5)*2.5,2))","v":1},{"$f":"IF(Z379>0,(MOD(ROUND((SEARCH(X379,'Eigen QTH LOc'!$I$1)-0.5)*2.5,2),TRUNC(Z379)))*60,0)","v":15},{"$f":"SEARCH(S379,'Eigen QTH LOc'!$I$1)*20-200+U379*2","v":{"$error":"#VALUE!"}},{"$f":"TRUNC((SEARCH(W379,'Eigen QTH LOc'!$I$1)-0.5)*5)","v":2},{"$f":"IF(AC379>0,(MOD((SEARCH(W379,'Eigen QTH LOc'!$I$1)-0.5)*5,TRUNC(AC379)))*60,0)","v":30},{"$error":"#VALUE!"},{"$error":"#VALUE!"},{"$f":"COS('Eigen QTH LOc'!$G$4-AF379)*SIN(PI()/2-AE379)*SIN(PI()/2-'Eigen QTH LOc'!$G$3)+COS(PI()/2-AE379)*COS(PI()/2-'Eigen QTH LOc'!$G$3)","v":{"$error":"#VALUE!"}},{"$error":"#VALUE!"},"ABCDEFGHIJKLMNOPQRSTUVWXABCDEFGHIJKLMNOPQRSTUVWX","\"0123456789\"",{"$f":"IF(B379>0,IF(K379=Infoblad!$C$6,0.5,0.5+AH379*40076.59/2/PI()),\" \")","v":" "},""]
[null,null," ",{"$f":"IF(B380>0,VASTETIJD(C380)-Infoblad!$C$29,\" \")","v":" "}," ",368," ",null,null,null,null,null,{"$f":"IF(L380>0,VLOOKUP(L380,Punten!$B$3:$C$109,2,FALSE),\" \")","v":" "},null," ",null,null,null,"","","","","","",{"$f":"SEARCH(T380,'Eigen QTH LOc'!$I$1)*10-100+V380","v":{"$error":"#VALUE!"}},{"$f":"TRUNC(ROUND((SEARCH(X380,'Eigen QTH LOc'!$I$1)-0.5)*2.5,2))","v":1},{"$f":"IF(Z380>0,(MOD(ROUND((SEARCH(X380,'Eigen QTH LOc'!$I$1)-0.5)*2.5,2),TRUNC(Z380)))*60,0)","v":15},{"$f":"SEARCH(S380,'Eigen QTH LOc'!$I$1)*20-200+U380*2","v":{"$error":"#VALUE!"}},{"$f":"TRUNC((SEARCH(W380,'Eigen QTH LOc'!$I$1)-0.5)*5)","v":2},{"$f":"IF(AC380>0,(MOD((SEARCH(W380,'Eigen QTH LOc'!$I$1)-0.5)*5,TRUNC(AC380)))*60,0)","v":30},{"$error":"#VALUE!"},{"$error":"#VALUE!"},{"$f":"COS('Eigen QTH LOc'!$G$4-AF380)*SIN(PI()/2-AE380)*SIN(PI()/2-'Eigen QTH LOc'!$G$3)+COS(PI()/2-AE380)*COS(PI()/2-'Eigen QTH LOc'!$G$3)","v":{"$error":"#VALUE!"}},{"$error":"#VALUE!"},"ABCDEFGHIJKLMNOPQRSTUVWXABCDEFGHIJKLMNOPQRSTUVWX","\"0123456789\"",{"$f":"IF(B380>0,IF(K380=Infoblad!$C$6,0.5,0.5+AH380*40076.59/2/PI()),\" \")","v":" "},""]
[null,null," ",{"$f":"IF(B381>0,VASTETIJD(C381)-Infoblad!$C$29,\" \")","v":" "}," ",369," ",null,null,null,null,null,{"$f":"IF(L381>0,VLOOKUP(L381,Punten!$B$3:$C$109,2,FALSE),\" \")","v":" "},null," ",null,null,null,"","","","","","",{"$f":"SEARCH(T381,'Eigen QTH LOc'!$I$1)*10-100+V381","v":{"$error":"#VALUE!"}},{"$f":"TRUNC(ROUND((SEARCH(X381,'Eigen QTH LOc'!$I$1)-0.5)*2.5,2))","v":1},{"$f":"IF(Z381>0,(MOD(ROUND((SEARCH(X381,'Eigen QTH LOc'!$I$1)-0.5)*2.5,2),TRUNC(Z381)))*60,0)","v":15},{"$f":"SEARCH(S381,'Eigen QTH LOc'!$I$1)*20-200+U381*2","v":{"$error":"#VALUE!"}},{"$f":"TRUNC((SEARCH(W381,'Eigen QTH LOc'!$I$1)-0.5)*5)","v":2},{"$f":"IF(AC381>0,(MOD((SEARCH(W381,'Eigen QTH LOc'!$I$1)-0.5)*5,TRUNC(AC381)))*60,0)","v":30},{"$error":"#VALUE!"},{"$error":"#VALUE!"},{"$f":"COS('Eigen QTH LOc'!$G$4-AF381)*SIN(PI()/2-AE381)*SIN(PI()/2-'Eigen QTH LOc'!$G$3)+COS(PI()/2-AE381)*COS(PI()/2-'Eigen QTH LOc'!$G$3)","v":{"$error":"#VALUE!"}},{"$error":"#VALUE!"},"ABCDEFGHIJKLMNOPQRSTUVWXABCDEFGHIJKLMNOPQRSTUVWX","\"0123456789\"",{"$f":"IF(B381>0,IF(K381=Infoblad!$C$6,0.5,0.5+AH381*40076.59/2/PI()),\" \")","v":" "},""]
[null,null," ",{"$f":"IF(B382>0,VASTETIJD(C382)-Infoblad!$C$29,\" \")","v":" "}," ",370," ",null,null,null,null,null,{"$f":"IF(L382>0,VLOOKUP(L382,Punten!$B$3:$C$109,2,FALSE),\" \")","v":" "},null," ",null,null,null,"","","","","","",{"$f":"SEARCH(T382,'Eigen QTH LOc'!$I$1)*10-100+V382","v":{"$error":"#VALUE!"}},{"$f":"TRUNC(ROUND((SEARCH(X382,'Eigen QTH LOc'!$I$1)-0.5)*2.5,2))","v":1},{"$f":"IF(Z382>0,(MOD(ROUND((SEARCH(X382,'Eigen QTH LOc'!$I$1)-0.5)*2.5,2),TRUNC(Z382)))*60,0)","v":15},{"$f":"SEARCH(S382,'Eigen QTH LOc'!$I$1)*20-200+U382*2","v":{"$error":"#VALUE!"}},{"$f":"TRUNC((SEARCH(W382,'Eigen QTH LOc'!$I$1)-0.5)*5)","v":2},{"$f":"IF(AC382>0,(MOD((SEARCH(W382,'Eigen QTH LOc'!$I$1)-0.5)*5,TRUNC(AC382)))*60,0)","v":30},{"$error":"#VALUE!"},{"$error":"#VALUE!"},{"$f":"COS('Eigen QTH LOc'!$G$4-AF382)*SIN(PI()/2-AE382)*SIN(PI()/2-'Eigen QTH LOc'!$G$3)+COS(PI()/2-AE382)*COS(PI()/2-'Eigen QTH LOc'!$G$3)","v":{"$error":"#VALUE!"}},{"$error":"#VALUE!"},"ABCDEFGHIJKLMNOPQRSTUVWXABCDEFGHIJKLMNOPQRSTUVWX","\"0123456789\"",{"$f":"IF(B382>0,IF(K382=Infoblad!$C$6,0.5,0.5+AH382*40076.59/2/PI()),\" \")","v":" "},""]
[null,null," ",{"$f":"IF(B383>0,VASTETIJD(C383)-Infoblad!$C$29,\" \")","v":" "}," ",371," ",null,null,null,null,null,{"$f":"IF(L383>0,VLOOKUP(L383,Punten!$B$3:$C$109,2,FALSE),\" \")","v":" "},null," ",null,null,null,"","","","","","",{"$f":"SEARCH(T383,'Eigen QTH LOc'!$I$1)*10-100+V383","v":{"$error":"#VALUE!"}},{"$f":"TRUNC(ROUND((SEARCH(X383,'Eigen QTH LOc'!$I$1)-0.5)*2.5,2))","v":1},{"$f":"IF(Z383>0,(MOD(ROUND((SEARCH(X383,'Eigen QTH LOc'!$I$1)-0.5)*2.5,2),TRUNC(Z383)))*60,0)","v":15},{"$f":"SEARCH(S383,'Eigen QTH LOc'!$I$1)*20-200+U383*2","v":{"$error":"#VALUE!"}},{"$f":"TRUNC((SEARCH(W383,'Eigen QTH LOc'!$I$1)-0.5)*5)","v":2},{"$f":"IF(AC383>0,(MOD((SEARCH(W383,'Eigen QTH LOc'!$I$1)-0.5)*5,TRUNC(AC383)))*60,0)","v":30},{"$error":"#VALUE!"},{"$error":"#VALUE!"},{"$f":"COS('Eigen QTH LOc'!$G$4-AF383)*SIN(PI()/2-AE383)*SIN(PI()/2-'Eigen QTH LOc'!$G$3)+COS(PI()/2-AE383)*COS(PI()/2-'Eigen QTH LOc'!$G$3)","v":{"$error":"#VALUE!"}},{"$error":"#VALUE!"},"ABCDEFGHIJKLMNOPQRSTUVWXABCDEFGHIJKLMNOPQRSTUVWX","\"0123456789\"",{"$f":"IF(B383>0,IF(K383=Infoblad!$C$6,0.5,0.5+AH383*40076.59/2/PI()),\" \")","v":" "},""]
[null,null," ",{"$f":"IF(B384>0,VASTETIJD(C384)-Infoblad!$C$29,\" \")","v":" "}," ",372," ",null,null,null,null,null,{"$f":"IF(L384>0,VLOOKUP(L384,Punten!$B$3:$C$109,2,FALSE),\" \")","v":" "},null," ",null,null,null,"","","","","","",{"$f":"SEARCH(T384,'Eigen QTH LOc'!$I$1)*10-100+V384","v":{"$error":"#VALUE!"}},{"$f":"TRUNC(ROUND((SEARCH(X384,'Eigen QTH LOc'!$I$1)-0.5)*2.5,2))","v":1},{"$f":"IF(Z384>0,(MOD(ROUND((SEARCH(X384,'Eigen QTH LOc'!$I$1)-0.5)*2.5,2),TRUNC(Z384)))*60,0)","v":15},{"$f":"SEARCH(S384,'Eigen QTH LOc'!$I$1)*20-200+U384*2","v":{"$error":"#VALUE!"}},{"$f":"TRUNC((SEARCH(W384,'Eigen QTH LOc'!$I$1)-0.5)*5)","v":2},{"$f":"IF(AC384>0,(MOD((SEARCH(W384,'Eigen QTH LOc'!$I$1)-0.5)*5,TRUNC(AC384)))*60,0)","v":30},{"$error":"#VALUE!"},{"$error":"#VALUE!"},{"$f":"COS('Eigen QTH LOc'!$G$4-AF384)*SIN(PI()/2-AE384)*SIN(PI()/2-'Eigen QTH LOc'!$G$3)+COS(PI()/2-AE384)*COS(PI()/2-'Eigen QTH LOc'!$G$3)","v":{"$error":"#VALUE!"}},{"$error":"#VALUE!"},"ABCDEFGHIJKLMNOPQRSTUVWXABCDEFGHIJKLMNOPQRSTUVWX","\"0123456789\"",{"$f":"IF(B384>0,IF(K384=Infoblad!$C$6,0.5,0.5+AH384*40076.59/2/PI()),\" \")","v":" "},""]
[null,null," ",{"$f":"IF(B385>0,VASTETIJD(C385)-Infoblad!$C$29,\" \")","v":" "}," ",373," ",null,null,null,null,null,{"$f":"IF(L385>0,VLOOKUP(L385,Punten!$B$3:$C$109,2,FALSE),\" \")","v":" "},null," ",null,null,null,"","","","","","",{"$f":"SEARCH(T385,'Eigen QTH LOc'!$I$1)*10-100+V385","v":{"$error":"#VALUE!"}},{"$f":"TRUNC(ROUND((SEARCH(X385,'Eigen QTH LOc'!$I$1)-0.5)*2.5,2))","v":1},{"$f":"IF(Z385>0,(MOD(ROUND((SEARCH(X385,'Eigen QTH LOc'!$I$1)-0.5)*2.5,2),TRUNC(Z385)))*60,0)","v":15},{"$f":"SEARCH(S385,'Eigen QTH LOc'!$I$1)*20-200+U385*2","v":{"$error":"#VALUE!"}},{"$f":"TRUNC((SEARCH(W385,'Eigen QTH LOc'!$I$1)-0.5)*5)","v":2},{"$f":"IF(AC385>0,(MOD((SEARCH(W385,'Eigen QTH LOc'!$I$1)-0.5)*5,TRUNC(AC385)))*60,0)","v":30},{"$error":"#VALUE!"},{"$error":"#VALUE!"},{"$f":"COS('Eigen QTH LOc'!$G$4-AF385)*SIN(PI()/2-AE385)*SIN(PI()/2-'Eigen QTH LOc'!$G$3)+COS(PI()/2-AE385)*COS(PI()/2-'Eigen QTH LOc'!$G$3)","v":{"$error":"#VALUE!"}},{"$error":"#VALUE!"},"ABCDEFGHIJKLMNOPQRSTUVWXABCDEFGHIJKLMNOPQRSTUVWX","\"0123456789\"",{"$f":"IF(B385>0,IF(K385=Infoblad!$C$6,0.5,0.5+AH385*40076.59/2/PI()),\" \")","v":" "},""]
[null,null," ",{"$f":"IF(B386>0,VASTETIJD(C386)-Infoblad!$C$29,\" \")","v":" "}," ",374," ",null,null,null,null,null,{"$f":"IF(L386>0,VLOOKUP(L386,Punten!$B$3:$C$109,2,FALSE),\" \")","v":" "},null," ",null,null,null,"","","","","","",{"$f":"SEARCH(T386,'Eigen QTH LOc'!$I$1)*10-100+V386","v":{"$error":"#VALUE!"}},{"$f":"TRUNC(ROUND((SEARCH(X386,'Eigen QTH LOc'!$I$1)-0.5)*2.5,2))","v":1},{"$f":"IF(Z386>0,(MOD(ROUND((SEARCH(X386,'Eigen QTH LOc'!$I$1)-0.5)*2.5,2),TRUNC(Z386)))*60,0)","v":15},{"$f":"SEARCH(S386,'Eigen QTH LOc'!$I$1)*20-200+U386*2","v":{"$error":"#VALUE!"}},{"$f":"TRUNC((SEARCH(W386,'Eigen QTH LOc'!$I$1)-0.5)*5)","v":2},{"$f":"IF(AC386>0,(MOD((SEARCH(W386,'Eigen QTH LOc'!$I$1)-0.5)*5,TRUNC(AC386)))*60,0)","v":30},{"$error":"#VALUE!"},{"$error":"#VALUE!"},{"$f":"COS('Eigen QTH LOc'!$G$4-AF386)*SIN(PI()/2-AE386)*SIN(PI()/2-'Eigen QTH LOc'!$G$3)+COS(PI()/2-AE386)*COS(PI()/2-'Eigen QTH LOc'!$G$3)","v":{"$error":"#VALUE!"}},{"$error":"#VALUE!"},"ABCDEFGHIJKLMNOPQRSTUVWXABCDEFGHIJKLMNOPQRSTUVWX","\"0123456789\"",{"$f":"IF(B386>0,IF(K386=Infoblad!$C$6,0.5,0.5+AH386*40076.59/2/PI()),\" \")","v":" "},""]
[null,null," ",{"$f":"IF(B387>0,VASTETIJD(C387)-Infoblad!$C$29,\" \")","v":" "}," ",375," ",null,null,null,null,null,{"$f":"IF(L387>0,VLOOKUP(L387,Punten!$B$3:$C$109,2,FALSE),\" \")","v":" "},null," ",null,null,null,"","","","","","",{"$f":"SEARCH(T387,'Eigen QTH LOc'!$I$1)*10-100+V387","v":{"$error":"#VALUE!"}},{"$f":"TRUNC(ROUND((SEARCH(X387,'Eigen QTH LOc'!$I$1)-0.5)*2.5,2))","v":1},{"$f":"IF(Z387>0,(MOD(ROUND((SEARCH(X387,'Eigen QTH LOc'!$I$1)-0.5)*2.5,2),TRUNC(Z387)))*60,0)","v":15},{"$f":"SEARCH(S387,'Eigen QTH LOc'!$I$1)*20-200+U387*2","v":{"$error":"#VALUE!"}},{"$f":"TRUNC((SEARCH(W387,'Eigen QTH LOc'!$I$1)-0.5)*5)","v":2},{"$f":"IF(AC387>0,(MOD((SEARCH(W387,'Eigen QTH LOc'!$I$1)-0.5)*5,TRUNC(AC387)))*60,0)","v":30},{"$error":"#VALUE!"},{"$error":"#VALUE!"},{"$f":"COS('Eigen QTH LOc'!$G$4-AF387)*SIN(PI()/2-AE387)*SIN(PI()/2-'Eigen QTH LOc'!$G$3)+COS(PI()/2-AE387)*COS(PI()/2-'Eigen QTH LOc'!$G$3)","v":{"$error":"#VALUE!"}},{"$error":"#VALUE!"},"ABCDEFGHIJKLMNOPQRSTUVWXABCDEFGHIJKLMNOPQRSTUVWX","\"0123456789\"",{"$f":"IF(B387>0,IF(K387=Infoblad!$C$6,0.5,0.5+AH387*40076.59/2/PI()),\" \")","v":" "},""]
[null,null," ",{"$f":"IF(B388>0,VASTETIJD(C388)-Infoblad!$C$29,\" \")","v":" "}," ",376," ",null,null,null,null,null,{"$f":"IF(L388>0,VLOOKUP(L388,Punten!$B$3:$C$109,2,FALSE),\" \")","v":" "},null," ",null,null,null,"","","","","","",{"$f":"SEARCH(T388,'Eigen QTH LOc'!$I$1)*10-100+V388","v":{"$error":"#VALUE!"}},{"$f":"TRUNC(ROUND((SEARCH(X388,'Eigen QTH LOc'!$I$1)-0.5)*2.5,2))","v":1},{"$f":"IF(Z388>0,(MOD(ROUND((SEARCH(X388,'Eigen QTH LOc'!$I$1)-0.5)*2.5,2),TRUNC(Z388)))*60,0)","v":15},{"$f":"SEARCH(S388,'Eigen QTH LOc'!$I$1)*20-200+U388*2","v":{"$error":"#VALUE!"}},{"$f":"TRUNC((SEARCH(W388,'Eigen QTH LOc'!$I$1)-0.5)*5)","v":2},{"$f":"IF(AC388>0,(MOD((SEARCH(W388,'Eigen QTH LOc'!$I$1)-0.5)*5,TRUNC(AC388)))*60,0)","v":30},{"$error":"#VALUE!"},{"$error":"#VALUE!"},{"$f":"COS('Eigen QTH LOc'!$G$4-AF388)*SIN(PI()/2-AE388)*SIN(PI()/2-'Eigen QTH LOc'!$G$3)+COS(PI()/2-AE388)*COS(PI()/2-'Eigen QTH LOc'!$G$3)","v":{"$error":"#VALUE!"}},{"$error":"#VALUE!"},"ABCDEFGHIJKLMNOPQRSTUVWXABCDEFGHIJKLMNOPQRSTUVWX","\"0123456789\"",{"$f":"IF(B388>0,IF(K388=Infoblad!$C$6,0.5,0.5+AH388*40076.59/2/PI()),\" \")","v":" "},""]
[null,null," ",{"$f":"IF(B389>0,VASTETIJD(C389)-Infoblad!$C$29,\" \")","v":" "}," ",377," ",null,null,null,null,null,{"$f":"IF(L389>0,VLOOKUP(L389,Punten!$B$3:$C$109,2,FALSE),\" \")","v":" "},null," ",null,null,null,"","","","","","",{"$f":"SEARCH(T389,'Eigen QTH LOc'!$I$1)*10-100+V389","v":{"$error":"#VALUE!"}},{"$f":"TRUNC(ROUND((SEARCH(X389,'Eigen QTH LOc'!$I$1)-0.5)*2.5,2))","v":1},{"$f":"IF(Z389>0,(MOD(ROUND((SEARCH(X389,'Eigen QTH LOc'!$I$1)-0.5)*2.5,2),TRUNC(Z389)))*60,0)","v":15},{"$f":"SEARCH(S389,'Eigen QTH LOc'!$I$1)*20-200+U389*2","v":{"$error":"#VALUE!"}},{"$f":"TRUNC((SEARCH(W389,'Eigen QTH LOc'!$I$1)-0.5)*5)","v":2},{"$f":"IF(AC389>0,(MOD((SEARCH(W389,'Eigen QTH LOc'!$I$1)-0.5)*5,TRUNC(AC389)))*60,0)","v":30},{"$error":"#VALUE!"},{"$error":"#VALUE!"},{"$f":"COS('Eigen QTH LOc'!$G$4-AF389)*SIN(PI()/2-AE389)*SIN(PI()/2-'Eigen QTH LOc'!$G$3)+COS(PI()/2-AE389)*COS(PI()/2-'Eigen QTH LOc'!$G$3)","v":{"$error":"#VALUE!"}},{"$error":"#VALUE!"},"ABCDEFGHIJKLMNOPQRSTUVWXABCDEFGHIJKLMNOPQRSTUVWX","\"0123456789\"",{"$f":"IF(B389>0,IF(K389=Infoblad!$C$6,0.5,0.5+AH389*40076.59/2/PI()),\" \")","v":" "},""]
[null,null," ",{"$f":"IF(B390>0,VASTETIJD(C390)-Infoblad!$C$29,\" \")","v":" "}," ",378," ",null,null,null,null,null,{"$f":"IF(L390>0,VLOOKUP(L390,Punten!$B$3:$C$109,2,FALSE),\" \")","v":" "},null," ",null,null,null,"","","","","","",{"$f":"SEARCH(T390,'Eigen QTH LOc'!$I$1)*10-100+V390","v":{"$error":"#VALUE!"}},{"$f":"TRUNC(ROUND((SEARCH(X390,'Eigen QTH LOc'!$I$1)-0.5)*2.5,2))","v":1},{"$f":"IF(Z390>0,(MOD(ROUND((SEARCH(X390,'Eigen QTH LOc'!$I$1)-0.5)*2.5,2),TRUNC(Z390)))*60,0)","v":15},{"$f":"SEARCH(S390,'Eigen QTH LOc'!$I$1)*20-200+U390*2","v":{"$error":"#VALUE!"}},{"$f":"TRUNC((SEARCH(W390,'Eigen QTH LOc'!$I$1)-0.5)*5)","v":2},{"$f":"IF(AC390>0,(MOD((SEARCH(W390,'Eigen QTH LOc'!$I$1)-0.5)*5,TRUNC(AC390)))*60,0)","v":30},{"$error":"#VALUE!"},{"$error":"#VALUE!"},{"$f":"COS('Eigen QTH LOc'!$G$4-AF390)*SIN(PI()/2-AE390)*SIN(PI()/2-'Eigen QTH LOc'!$G$3)+COS(PI()/2-AE390)*COS(PI()/2-'Eigen QTH LOc'!$G$3)","v":{"$error":"#VALUE!"}},{"$error":"#VALUE!"},"ABCDEFGHIJKLMNOPQRSTUVWXABCDEFGHIJKLMNOPQRSTUVWX","\"0123456789\"",{"$f":"IF(B390>0,IF(K390=Infoblad!$C$6,0.5,0.5+AH390*40076.59/2/PI()),\" \")","v":" "},""]
[null,null," ",{"$f":"IF(B391>0,VASTETIJD(C391)-Infoblad!$C$29,\" \")","v":" "}," ",379," ",null,null,null,null,null,{"$f":"IF(L391>0,VLOOKUP(L391,Punten!$B$3:$C$109,2,FALSE),\" \")","v":" "},null," ",null,null,null,"","","","","","",{"$f":"SEARCH(T391,'Eigen QTH LOc'!$I$1)*10-100+V391","v":{"$error":"#VALUE!"}},{"$f":"TRUNC(ROUND((SEARCH(X391,'Eigen QTH LOc'!$I$1)-0.5)*2.5,2))","v":1},{"$f":"IF(Z391>0,(MOD(ROUND((SEARCH(X391,'Eigen QTH LOc'!$I$1)-0.5)*2.5,2),TRUNC(Z391)))*60,0)","v":15},{"$f":"SEARCH(S391,'Eigen QTH LOc'!$I$1)*20-200+U391*2","v":{"$error":"#VALUE!"}},{"$f":"TRUNC((SEARCH(W391,'Eigen QTH LOc'!$I$1)-0.5)*5)","v":2},{"$f":"IF(AC391>0,(MOD((SEARCH(W391,'Eigen QTH LOc'!$I$1)-0.5)*5,TRUNC(AC391)))*60,0)","v":30},{"$error":"#VALUE!"},{"$error":"#VALUE!"},{"$f":"COS('Eigen QTH LOc'!$G$4-AF391)*SIN(PI()/2-AE391)*SIN(PI()/2-'Eigen QTH LOc'!$G$3)+COS(PI()/2-AE391)*COS(PI()/2-'Eigen QTH LOc'!$G$3)","v":{"$error":"#VALUE!"}},{"$error":"#VALUE!"},"ABCDEFGHIJKLMNOPQRSTUVWXABCDEFGHIJKLMNOPQRSTUVWX","\"0123456789\"",{"$f":"IF(B391>0,IF(K391=Infoblad!$C$6,0.5,0.5+AH391*40076.59/2/PI()),\" \")","v":" "},""]
[null,null," ",{"$f":"IF(B392>0,VASTETIJD(C392)-Infoblad!$C$29,\" \")","v":" "}," ",380," ",null,null,null,null,null,{"$f":"IF(L392>0,VLOOKUP(L392,Punten!$B$3:$C$109,2,FALSE),\" \")","v":" "},null," ",null,null,null,"","","","","","",{"$f":"SEARCH(T392,'Eigen QTH LOc'!$I$1)*10-100+V392","v":{"$error":"#VALUE!"}},{"$f":"TRUNC(ROUND((SEARCH(X392,'Eigen QTH LOc'!$I$1)-0.5)*2.5,2))","v":1},{"$f":"IF(Z392>0,(MOD(ROUND((SEARCH(X392,'Eigen QTH LOc'!$I$1)-0.5)*2.5,2),TRUNC(Z392)))*60,0)","v":15},{"$f":"SEARCH(S392,'Eigen QTH LOc'!$I$1)*20-200+U392*2","v":{"$error":"#VALUE!"}},{"$f":"TRUNC((SEARCH(W392,'Eigen QTH LOc'!$I$1)-0.5)*5)","v":2},{"$f":"IF(AC392>0,(MOD((SEARCH(W392,'Eigen QTH LOc'!$I$1)-0.5)*5,TRUNC(AC392)))*60,0)","v":30},{"$error":"#VALUE!"},{"$error":"#VALUE!"},{"$f":"COS('Eigen QTH LOc'!$G$4-AF392)*SIN(PI()/2-AE392)*SIN(PI()/2-'Eigen QTH LOc'!$G$3)+COS(PI()/2-AE392)*COS(PI()/2-'Eigen QTH LOc'!$G$3)","v":{"$error":"#VALUE!"}},{"$error":"#VALUE!"},"ABCDEFGHIJKLMNOPQRSTUVWXABCDEFGHIJKLMNOPQRSTUVWX","\"0123456789\"",{"$f":"IF(B392>0,IF(K392=Infoblad!$C$6,0.5,0.5+AH392*40076.59/2/PI()),\" \")","v":" "},""]
[null,null," ",{"$f":"IF(B393>0,VASTETIJD(C393)-Infoblad!$C$29,\" \")","v":" "}," ",381," ",null,null,null,null,null,{"$f":"IF(L393>0,VLOOKUP(L393,Punten!$B$3:$C$109,2,FALSE),\" \")","v":" "},null," ",null,null,null,"","","","","","",{"$f":"SEARCH(T393,'Eigen QTH LOc'!$I$1)*10-100+V393","v":{"$error":"#VALUE!"}},{"$f":"TRUNC(ROUND((SEARCH(X393,'Eigen QTH LOc'!$I$1)-0.5)*2.5,2))","v":1},{"$f":"IF(Z393>0,(MOD(ROUND((SEARCH(X393,'Eigen QTH LOc'!$I$1)-0.5)*2.5,2),TRUNC(Z393)))*60,0)","v":15},{"$f":"SEARCH(S393,'Eigen QTH LOc'!$I$1)*20-200+U393*2","v":{"$error":"#VALUE!"}},{"$f":"TRUNC((SEARCH(W393,'Eigen QTH LOc'!$I$1)-0.5)*5)","v":2},{"$f":"IF(AC393>0,(MOD((SEARCH(W393,'Eigen QTH LOc'!$I$1)-0.5)*5,TRUNC(AC393)))*60,0)","v":30},{"$error":"#VALUE!"},{"$error":"#VALUE!"},{"$f":"COS('Eigen QTH LOc'!$G$4-AF393)*SIN(PI()/2-AE393)*SIN(PI()/2-'Eigen QTH LOc'!$G$3)+COS(PI()/2-AE393)*COS(PI()/2-'Eigen QTH LOc'!$G$3)","v":{"$error":"#VALUE!"}},{"$error":"#VALUE!"},"ABCDEFGHIJKLMNOPQRSTUVWXABCDEFGHIJKLMNOPQRSTUVWX","\"0123456789\"",{"$f":"IF(B393>0,IF(K393=Infoblad!$C$6,0.5,0.5+AH393*40076.59/2/PI()),\" \")","v":" "},""]
[null,null," ",{"$f":"IF(B394>0,VASTETIJD(C394)-Infoblad!$C$29,\" \")","v":" "}," ",382," ",null,null,null,null,null,{"$f":"IF(L394>0,VLOOKUP(L394,Punten!$B$3:$C$109,2,FALSE),\" \")","v":" "},null," ",null,null,null,"","","","","","",{"$f":"SEARCH(T394,'Eigen QTH LOc'!$I$1)*10-100+V394","v":{"$error":"#VALUE!"}},{"$f":"TRUNC(ROUND((SEARCH(X394,'Eigen QTH LOc'!$I$1)-0.5)*2.5,2))","v":1},{"$f":"IF(Z394>0,(MOD(ROUND((SEARCH(X394,'Eigen QTH LOc'!$I$1)-0.5)*2.5,2),TRUNC(Z394)))*60,0)","v":15},{"$f":"SEARCH(S394,'Eigen QTH LOc'!$I$1)*20-200+U394*2","v":{"$error":"#VALUE!"}},{"$f":"TRUNC((SEARCH(W394,'Eigen QTH LOc'!$I$1)-0.5)*5)","v":2},{"$f":"IF(AC394>0,(MOD((SEARCH(W394,'Eigen QTH LOc'!$I$1)-0.5)*5,TRUNC(AC394)))*60,0)","v":30},{"$error":"#VALUE!"},{"$error":"#VALUE!"},{"$f":"COS('Eigen QTH LOc'!$G$4-AF394)*SIN(PI()/2-AE394)*SIN(PI()/2-'Eigen QTH LOc'!$G$3)+COS(PI()/2-AE394)*COS(PI()/2-'Eigen QTH LOc'!$G$3)","v":{"$error":"#VALUE!"}},{"$error":"#VALUE!"},"ABCDEFGHIJKLMNOPQRSTUVWXABCDEFGHIJKLMNOPQRSTUVWX","\"0123456789\"",{"$f":"IF(B394>0,IF(K394=Infoblad!$C$6,0.5,0.5+AH394*40076.59/2/PI()),\" \")","v":" "},""]
[null,null," ",{"$f":"IF(B395>0,VASTETIJD(C395)-Infoblad!$C$29,\" \")","v":" "}," ",383," ",null,null,null,null,null,{"$f":"IF(L395>0,VLOOKUP(L395,Punten!$B$3:$C$109,2,FALSE),\" \")","v":" "},null," ",null,null,null,"","","","","","",{"$f":"SEARCH(T395,'Eigen QTH LOc'!$I$1)*10-100+V395","v":{"$error":"#VALUE!"}},{"$f":"TRUNC(ROUND((SEARCH(X395,'Eigen QTH LOc'!$I$1)-0.5)*2.5,2))","v":1},{"$f":"IF(Z395>0,(MOD(ROUND((SEARCH(X395,'Eigen QTH LOc'!$I$1)-0.5)*2.5,2),TRUNC(Z395)))*60,0)","v":15},{"$f":"SEARCH(S395,'Eigen QTH LOc'!$I$1)*20-200+U395*2","v":{"$error":"#VALUE!"}},{"$f":"TRUNC((SEARCH(W395,'Eigen QTH LOc'!$I$1)-0.5)*5)","v":2},{"$f":"IF(AC395>0,(MOD((SEARCH(W395,'Eigen QTH LOc'!$I$1)-0.5)*5,TRUNC(AC395)))*60,0)","v":30},{"$error":"#VALUE!"},{"$error":"#VALUE!"},{"$f":"COS('Eigen QTH LOc'!$G$4-AF395)*SIN(PI()/2-AE395)*SIN(PI()/2-'Eigen QTH LOc'!$G$3)+COS(PI()/2-AE395)*COS(PI()/2-'Eigen QTH LOc'!$G$3)","v":{"$error":"#VALUE!"}},{"$error":"#VALUE!"},"ABCDEFGHIJKLMNOPQRSTUVWXABCDEFGHIJKLMNOPQRSTUVWX","\"0123456789\"",{"$f":"IF(B395>0,IF(K395=Infoblad!$C$6,0.5,0.5+AH395*40076.59/2/PI()),\" \")","v":" "},""]
[null,null," ",{"$f":"IF(B396>0,VASTETIJD(C396)-Infoblad!$C$29,\" \")","v":" "}," ",384," ",null,null,null,null,null,{"$f":"IF(L396>0,VLOOKUP(L396,Punten!$B$3:$C$109,2,FALSE),\" \")","v":" "},null," ",null,null,null,"","","","","","",{"$f":"SEARCH(T396,'Eigen QTH LOc'!$I$1)*10-100+V396","v":{"$error":"#VALUE!"}},{"$f":"TRUNC(ROUND((SEARCH(X396,'Eigen QTH LOc'!$I$1)-0.5)*2.5,2))","v":1},{"$f":"IF(Z396>0,(MOD(ROUND((SEARCH(X396,'Eigen QTH LOc'!$I$1)-0.5)*2.5,2),TRUNC(Z396)))*60,0)","v":15},{"$f":"SEARCH(S396,'Eigen QTH LOc'!$I$1)*20-200+U396*2","v":{"$error":"#VALUE!"}},{"$f":"TRUNC((SEARCH(W396,'Eigen QTH LOc'!$I$1)-0.5)*5)","v":2},{"$f":"IF(AC396>0,(MOD((SEARCH(W396,'Eigen QTH LOc'!$I$1)-0.5)*5,TRUNC(AC396)))*60,0)","v":30},{"$error":"#VALUE!"},{"$error":"#VALUE!"},{"$f":"COS('Eigen QTH LOc'!$G$4-AF396)*SIN(PI()/2-AE396)*SIN(PI()/2-'Eigen QTH LOc'!$G$3)+COS(PI()/2-AE396)*COS(PI()/2-'Eigen QTH LOc'!$G$3)","v":{"$error":"#VALUE!"}},{"$error":"#VALUE!"},"ABCDEFGHIJKLMNOPQRSTUVWXABCDEFGHIJKLMNOPQRSTUVWX","\"0123456789\"",{"$f":"IF(B396>0,IF(K396=Infoblad!$C$6,0.5,0.5+AH396*40076.59/2/PI()),\" \")","v":" "},""]
[null,null," ",{"$f":"IF(B397>0,VASTETIJD(C397)-Infoblad!$C$29,\" \")","v":" "}," ",385," ",null,null,null,null,null,{"$f":"IF(L397>0,VLOOKUP(L397,Punten!$B$3:$C$109,2,FALSE),\" \")","v":" "},null," ",null,null,null,"","","","","","",{"$f":"SEARCH(T397,'Eigen QTH LOc'!$I$1)*10-100+V397","v":{"$error":"#VALUE!"}},{"$f":"TRUNC(ROUND((SEARCH(X397,'Eigen QTH LOc'!$I$1)-0.5)*2.5,2))","v":1},{"$f":"IF(Z397>0,(MOD(ROUND((SEARCH(X397,'Eigen QTH LOc'!$I$1)-0.5)*2.5,2),TRUNC(Z397)))*60,0)","v":15},{"$f":"SEARCH(S397,'Eigen QTH LOc'!$I$1)*20-200+U397*2","v":{"$error":"#VALUE!"}},{"$f":"TRUNC((SEARCH(W397,'Eigen QTH LOc'!$I$1)-0.5)*5)","v":2},{"$f":"IF(AC397>0,(MOD((SEARCH(W397,'Eigen QTH LOc'!$I$1)-0.5)*5,TRUNC(AC397)))*60,0)","v":30},{"$error":"#VALUE!"},{"$error":"#VALUE!"},{"$f":"COS('Eigen QTH LOc'!$G$4-AF397)*SIN(PI()/2-AE397)*SIN(PI()/2-'Eigen QTH LOc'!$G$3)+COS(PI()/2-AE397)*COS(PI()/2-'Eigen QTH LOc'!$G$3)","v":{"$error":"#VALUE!"}},{"$error":"#VALUE!"},"ABCDEFGHIJKLMNOPQRSTUVWXABCDEFGHIJKLMNOPQRSTUVWX","\"0123456789\"",{"$f":"IF(B397>0,IF(K397=Infoblad!$C$6,0.5,0.5+AH397*40076.59/2/PI()),\" \")","v":" "},""]
[null,null,{"$f":"IF(B398>0,$C$7,\" \")","v":" "},{"$f":"IF(B398>0,VASTETIJD(C398)-Infoblad!$C$29,\" \")","v":" "},{"$f":"IF(B398>0,\"59\",\" \")","v":" "},386,{"$f":"IF(B398>0,\"59\",\" \")","v":" "},null,null,null,null,null,{"$f":"IF(L398>0,VLOOKUP(L398,Punten!$B$3:$C$109,2,FALSE),\" \")","v":" "},null,{"$f":"IF(K398>0,AK398,\" \")","v":" "},null,null,null,"","","","","","",{"$f":"SEARCH(T398,'Eigen QTH LOc'!$I$1)*10-100+V398","v":{"$error":"#VALUE!"}},{"$f":"TRUNC(ROUND((SEARCH(X398,'Eigen QTH LOc'!$I$1)-0.5)*2.5,2))","v":1},{"$f":"IF(Z398>0,(MOD(ROUND((SEARCH(X398,'Eigen QTH LOc'!$I$1)-0.5)*2.5,2),TRUNC(Z398)))*60,0)","v":15},{"$f":"SEARCH(S398,'Eigen QTH LOc'!$I$1)*20-200+U398*2","v":{"$error":"#VALUE!"}},{"$f":"TRUNC((SEARCH(W398,'Eigen QTH LOc'!$I$1)-0.5)*5)","v":2},{"$f":"IF(AC398>0,(MOD((SEARCH(W398,'Eigen QTH LOc'!$I$1)-0.5)*5,TRUNC(AC398)))*60,0)","v":30},{"$error":"#VALUE!"},{"$error":"#VALUE!"},{"$f":"COS('Eigen QTH LOc'!$G$4-AF398)*SIN(PI()/2-AE398)*SIN(PI()/2-'Eigen QTH LOc'!$G$3)+COS(PI()/2-AE398)*COS(PI()/2-'Eigen QTH LOc'!$G$3)","v":{"$error":"#VALUE!"}},{"$f":"-ATAN($AG398/SQRT(1-$AG398*$AG398))+PI()/2","v":{"$error":"#VALUE!"}},"ABCDEFGHIJKLMNOPQRSTUVWXABCDEFGHIJKLMNOPQRSTUVWX","\"0123456789\"",{"$f":"IF(B398>0,IF(K398=Infoblad!$C$6,0.5,0.5+AH398*40076.59/2/PI()),\" \")","v":" "},{"$f":"CONCATENATE(B398,I398,J398)","v":""}]
[null,null," ",{"$f":"IF(B399>0,VASTETIJD(C399)-Infoblad!$C$29,\" \")","v":" "}," ",387," ",null,null,null,null,null,{"$f":"IF(L399>0,VLOOKUP(L399,Punten!$B$3:$C$109,2,FALSE),\" \")","v":" "},null," ",null,null,null,"","","","","","",{"$f":"SEARCH(T399,'Eigen QTH LOc'!$I$1)*10-100+V399","v":{"$error":"#VALUE!"}},{"$f":"TRUNC(ROUND((SEARCH(X399,'Eigen QTH LOc'!$I$1)-0.5)*2.5,2))","v":1},{"$f":"IF(Z399>0,(MOD(ROUND((SEARCH(X399,'Eigen QTH LOc'!$I$1)-0.5)*2.5,2),TRUNC(Z399)))*60,0)","v":15},{"$f":"SEARCH(S399,'Eigen QTH LOc'!$I$1)*20-200+U399*2","v":{"$error":"#VALUE!"}},{"$f":"TRUNC((SEARCH(W399,'Eigen QTH LOc'!$I$1)-0.5)*5)","v":2},{"$f":"IF(AC399>0,(MOD((SEARCH(W399,'Eigen QTH LOc'!$I$1)-0.5)*5,TRUNC(AC399)))*60,0)","v":30},{"$error":"#VALUE!"},{"$error":"#VALUE!"},{"$f":"COS('Eigen QTH LOc'!$G$4-AF399)*SIN(PI()/2-AE399)*SIN(PI()/2-'Eigen QTH LOc'!$G$3)+COS(PI()/2-AE399)*COS(PI()/2-'Eigen QTH LOc'!$G$3)","v":{"$error":"#VALUE!"}},{"$error":"#VALUE!"},"ABCDEFGHIJKLMNOPQRSTUVWXABCDEFGHIJKLMNOPQRSTUVWX","\"0123456789\"",{"$f":"IF(B399>0,IF(K399=Infoblad!$C$6,0.5,0.5+AH399*40076.59/2/PI()),\" \")","v":" "},""]
[null,null," ",{"$f":"IF(B400>0,VASTETIJD(C400)-Infoblad!$C$29,\" \")","v":" "}," ",388," ",null,null,null,null,null,{"$f":"IF(L400>0,VLOOKUP(L400,Punten!$B$3:$C$109,2,FALSE),\" \")","v":" "},null," ",null,null,null,"","","","","","",{"$f":"SEARCH(T400,'Eigen QTH LOc'!$I$1)*10-100+V400","v":{"$error":"#VALUE!"}},{"$f":"TRUNC(ROUND((SEARCH(X400,'Eigen QTH LOc'!$I$1)-0.5)*2.5,2))","v":1},{"$f":"IF(Z400>0,(MOD(ROUND((SEARCH(X400,'Eigen QTH LOc'!$I$1)-0.5)*2.5,2),TRUNC(Z400)))*60,0)","v":15},{"$f":"SEARCH(S400,'Eigen QTH LOc'!$I$1)*20-200+U400*2","v":{"$error":"#VALUE!"}},{"$f":"TRUNC((SEARCH(W400,'Eigen QTH LOc'!$I$1)-0.5)*5)","v":2},{"$f":"IF(AC400>0,(MOD((SEARCH(W400,'Eigen QTH LOc'!$I$1)-0.5)*5,TRUNC(AC400)))*60,0)","v":30},{"$error":"#VALUE!"},{"$error":"#VALUE!"},{"$f":"COS('Eigen QTH LOc'!$G$4-AF400)*SIN(PI()/2-AE400)*SIN(PI()/2-'Eigen QTH LOc'!$G$3)+COS(PI()/2-AE400)*COS(PI()/2-'Eigen QTH LOc'!$G$3)","v":{"$error":"#VALUE!"}},{"$error":"#VALUE!"},"ABCDEFGHIJKLMNOPQRSTUVWXABCDEFGHIJKLMNOPQRSTUVWX","\"0123456789\"",{"$f":"IF(B400>0,IF(K400=Infoblad!$C$6,0.5,0.5+AH400*40076.59/2/PI()),\" \")","v":" "},""]
[null,null," ",{"$f":"IF(B401>0,VASTETIJD(C401)-Infoblad!$C$29,\" \")","v":" "}," ",389," ",null,null,null,null,null,{"$f":"IF(L401>0,VLOOKUP(L401,Punten!$B$3:$C$109,2,FALSE),\" \")","v":" "},null," ",null,null,null,"","","","","","",{"$f":"SEARCH(T401,'Eigen QTH LOc'!$I$1)*10-100+V401","v":{"$error":"#VALUE!"}},{"$f":"TRUNC(ROUND((SEARCH(X401,'Eigen QTH LOc'!$I$1)-0.5)*2.5,2))","v":1},{"$f":"IF(Z401>0,(MOD(ROUND((SEARCH(X401,'Eigen QTH LOc'!$I$1)-0.5)*2.5,2),TRUNC(Z401)))*60,0)","v":15},{"$f":"SEARCH(S401,'Eigen QTH LOc'!$I$1)*20-200+U401*2","v":{"$error":"#VALUE!"}},{"$f":"TRUNC((SEARCH(W401,'Eigen QTH LOc'!$I$1)-0.5)*5)","v":2},{"$f":"IF(AC401>0,(MOD((SEARCH(W401,'Eigen QTH LOc'!$I$1)-0.5)*5,TRUNC(AC401)))*60,0)","v":30},{"$error":"#VALUE!"},{"$error":"#VALUE!"},{"$f":"COS('Eigen QTH LOc'!$G$4-AF401)*SIN(PI()/2-AE401)*SIN(PI()/2-'Eigen QTH LOc'!$G$3)+COS(PI()/2-AE401)*COS(PI()/2-'Eigen QTH LOc'!$G$3)","v":{"$error":"#VALUE!"}},{"$error":"#VALUE!"},"ABCDEFGHIJKLMNOPQRSTUVWXABCDEFGHIJKLMNOPQRSTUVWX","\"0123456789\"",{"$f":"IF(B401>0,IF(K401=Infoblad!$C$6,0.5,0.5+AH401*40076.59/2/PI()),\" \")","v":" "},""]
[null,null," ",{"$f":"IF(B402>0,VASTETIJD(C402)-Infoblad!$C$29,\" \")","v":" "}," ",390," ",null,null,null,null,null,{"$f":"IF(L402>0,VLOOKUP(L402,Punten!$B$3:$C$109,2,FALSE),\" \")","v":" "},null," ",null,null,null,"","","","","","",{"$f":"SEARCH(T402,'Eigen QTH LOc'!$I$1)*10-100+V402","v":{"$error":"#VALUE!"}},{"$f":"TRUNC(ROUND((SEARCH(X402,'Eigen QTH LOc'!$I$1)-0.5)*2.5,2))","v":1},{"$f":"IF(Z402>0,(MOD(ROUND((SEARCH(X402,'Eigen QTH LOc'!$I$1)-0.5)*2.5,2),TRUNC(Z402)))*60,0)","v":15},{"$f":"SEARCH(S402,'Eigen QTH LOc'!$I$1)*20-200+U402*2","v":{"$error":"#VALUE!"}},{"$f":"TRUNC((SEARCH(W402,'Eigen QTH LOc'!$I$1)-0.5)*5)","v":2},{"$f":"IF(AC402>0,(MOD((SEARCH(W402,'Eigen QTH LOc'!$I$1)-0.5)*5,TRUNC(AC402)))*60,0)","v":30},{"$error":"#VALUE!"},{"$error":"#VALUE!"},{"$f":"COS('Eigen QTH LOc'!$G$4-AF402)*SIN(PI()/2-AE402)*SIN(PI()/2-'Eigen QTH LOc'!$G$3)+COS(PI()/2-AE402)*COS(PI()/2-'Eigen QTH LOc'!$G$3)","v":{"$error":"#VALUE!"}},{"$error":"#VALUE!"},"ABCDEFGHIJKLMNOPQRSTUVWXABCDEFGHIJKLMNOPQRSTUVWX","\"0123456789\"",{"$f":"IF(B402>0,IF(K402=Infoblad!$C$6,0.5,0.5+AH402*40076.59/2/PI()),\" \")","v":" "},""]
[null,null," ",{"$f":"IF(B403>0,VASTETIJD(C403)-Infoblad!$C$29,\" \")","v":" "}," ",391," ",null,null,null,null,null,{"$f":"IF(L403>0,VLOOKUP(L403,Punten!$B$3:$C$109,2,FALSE),\" \")","v":" "},null," ",null,null,null,"","","","","","",{"$f":"SEARCH(T403,'Eigen QTH LOc'!$I$1)*10-100+V403","v":{"$error":"#VALUE!"}},{"$f":"TRUNC(ROUND((SEARCH(X403,'Eigen QTH LOc'!$I$1)-0.5)*2.5,2))","v":1},{"$f":"IF(Z403>0,(MOD(ROUND((SEARCH(X403,'Eigen QTH LOc'!$I$1)-0.5)*2.5,2),TRUNC(Z403)))*60,0)","v":15},{"$f":"SEARCH(S403,'Eigen QTH LOc'!$I$1)*20-200+U403*2","v":{"$error":"#VALUE!"}},{"$f":"TRUNC((SEARCH(W403,'Eigen QTH LOc'!$I$1)-0.5)*5)","v":2},{"$f":"IF(AC403>0,(MOD((SEARCH(W403,'Eigen QTH LOc'!$I$1)-0.5)*5,TRUNC(AC403)))*60,0)","v":30},{"$error":"#VALUE!"},{"$error":"#VALUE!"},{"$f":"COS('Eigen QTH LOc'!$G$4-AF403)*SIN(PI()/2-AE403)*SIN(PI()/2-'Eigen QTH LOc'!$G$3)+COS(PI()/2-AE403)*COS(PI()/2-'Eigen QTH LOc'!$G$3)","v":{"$error":"#VALUE!"}},{"$error":"#VALUE!"},"ABCDEFGHIJKLMNOPQRSTUVWXABCDEFGHIJKLMNOPQRSTUVWX","\"0123456789\"",{"$f":"IF(B403>0,IF(K403=Infoblad!$C$6,0.5,0.5+AH403*40076.59/2/PI()),\" \")","v":" "},""]
[null,null," ",{"$f":"IF(B404>0,VASTETIJD(C404)-Infoblad!$C$29,\" \")","v":" "}," ",392," ",null,null,null,null,null,{"$f":"IF(L404>0,VLOOKUP(L404,Punten!$B$3:$C$109,2,FALSE),\" \")","v":" "},null," ",null,null,null,"","","","","","",{"$f":"SEARCH(T404,'Eigen QTH LOc'!$I$1)*10-100+V404","v":{"$error":"#VALUE!"}},{"$f":"TRUNC(ROUND((SEARCH(X404,'Eigen QTH LOc'!$I$1)-0.5)*2.5,2))","v":1},{"$f":"IF(Z404>0,(MOD(ROUND((SEARCH(X404,'Eigen QTH LOc'!$I$1)-0.5)*2.5,2),TRUNC(Z404)))*60,0)","v":15},{"$f":"SEARCH(S404,'Eigen QTH LOc'!$I$1)*20-200+U404*2","v":{"$error":"#VALUE!"}},{"$f":"TRUNC((SEARCH(W404,'Eigen QTH LOc'!$I$1)-0.5)*5)","v":2},{"$f":"IF(AC404>0,(MOD((SEARCH(W404,'Eigen QTH LOc'!$I$1)-0.5)*5,TRUNC(AC404)))*60,0)","v":30},{"$error":"#VALUE!"},{"$error":"#VALUE!"},{"$f":"COS('Eigen QTH LOc'!$G$4-AF404)*SIN(PI()/2-AE404)*SIN(PI()/2-'Eigen QTH LOc'!$G$3)+COS(PI()/2-AE404)*COS(PI()/2-'Eigen QTH LOc'!$G$3)","v":{"$error":"#VALUE!"}},{"$error":"#VALUE!"},"ABCDEFGHIJKLMNOPQRSTUVWXABCDEFGHIJKLMNOPQRSTUVWX","\"0123456789\"",{"$f":"IF(B404>0,IF(K404=Infoblad!$C$6,0.5,0.5+AH404*40076.59/2/PI()),\" \")","v":" "},""]
[null,null," ",{"$f":"IF(B405>0,VASTETIJD(C405)-Infoblad!$C$29,\" \")","v":" "}," ",393," ",null,null,null,null,null,{"$f":"IF(L405>0,VLOOKUP(L405,Punten!$B$3:$C$109,2,FALSE),\" \")","v":" "},null," ",null,null,null,"","","","","","",{"$f":"SEARCH(T405,'Eigen QTH LOc'!$I$1)*10-100+V405","v":{"$error":"#VALUE!"}},{"$f":"TRUNC(ROUND((SEARCH(X405,'Eigen QTH LOc'!$I$1)-0.5)*2.5,2))","v":1},{"$f":"IF(Z405>0,(MOD(ROUND((SEARCH(X405,'Eigen QTH LOc'!$I$1)-0.5)*2.5,2),TRUNC(Z405)))*60,0)","v":15},{"$f":"SEARCH(S405,'Eigen QTH LOc'!$I$1)*20-200+U405*2","v":{"$error":"#VALUE!"}},{"$f":"TRUNC((SEARCH(W405,'Eigen QTH LOc'!$I$1)-0.5)*5)","v":2},{"$f":"IF(AC405>0,(MOD((SEARCH(W405,'Eigen QTH LOc'!$I$1)-0.5)*5,TRUNC(AC405)))*60,0)","v":30},{"$error":"#VALUE!"},{"$error":"#VALUE!"},{"$f":"COS('Eigen QTH LOc'!$G$4-AF405)*SIN(PI()/2-AE405)*SIN(PI()/2-'Eigen QTH LOc'!$G$3)+COS(PI()/2-AE405)*COS(PI()/2-'Eigen QTH LOc'!$G$3)","v":{"$error":"#VALUE!"}},{"$error":"#VALUE!"},"ABCDEFGHIJKLMNOPQRSTUVWXABCDEFGHIJKLMNOPQRSTUVWX","\"0123456789\"",{"$f":"IF(B405>0,IF(K405=Infoblad!$C$6,0.5,0.5+AH405*40076.59/2/PI()),\" \")","v":" "},""]
[null,null," ",{"$f":"IF(B406>0,VASTETIJD(C406)-Infoblad!$C$29,\" \")","v":" "}," ",394," ",null,null,null,null,null,{"$f":"IF(L406>0,VLOOKUP(L406,Punten!$B$3:$C$109,2,FALSE),\" \")","v":" "},null," ",null,null,null,"","","","","","",{"$f":"SEARCH(T406,'Eigen QTH LOc'!$I$1)*10-100+V406","v":{"$error":"#VALUE!"}},{"$f":"TRUNC(ROUND((SEARCH(X406,'Eigen QTH LOc'!$I$1)-0.5)*2.5,2))","v":1},{"$f":"IF(Z406>0,(MOD(ROUND((SEARCH(X406,'Eigen QTH LOc'!$I$1)-0.5)*2.5,2),TRUNC(Z406)))*60,0)","v":15},{"$f":"SEARCH(S406,'Eigen QTH LOc'!$I$1)*20-200+U406*2","v":{"$error":"#VALUE!"}},{"$f":"TRUNC((SEARCH(W406,'Eigen QTH LOc'!$I$1)-0.5)*5)","v":2},{"$f":"IF(AC406>0,(MOD((SEARCH(W406,'Eigen QTH LOc'!$I$1)-0.5)*5,TRUNC(AC406)))*60,0)","v":30},{"$error":"#VALUE!"},{"$error":"#VALUE!"},{"$f":"COS('Eigen QTH LOc'!$G$4-AF406)*SIN(PI()/2-AE406)*SIN(PI()/2-'Eigen QTH LOc'!$G$3)+COS(PI()/2-AE406)*COS(PI()/2-'Eigen QTH LOc'!$G$3)","v":{"$error":"#VALUE!"}},{"$error":"#VALUE!"},"ABCDEFGHIJKLMNOPQRSTUVWXABCDEFGHIJKLMNOPQRSTUVWX","\"0123456789\"",{"$f":"IF(B406>0,IF(K406=Infoblad!$C$6,0.5,0.5+AH406*40076.59/2/PI()),\" \")","v":" "},""]
[null,null," ",{"$f":"IF(B407>0,VASTETIJD(C407)-Infoblad!$C$29,\" \")","v":" "}," ",395," ",null,null,null,null,null,{"$f":"IF(L407>0,VLOOKUP(L407,Punten!$B$3:$C$109,2,FALSE),\" \")","v":" "},null," ",null,null,null,"","","","","","",{"$f":"SEARCH(T407,'Eigen QTH LOc'!$I$1)*10-100+V407","v":{"$error":"#VALUE!"}},{"$f":"TRUNC(ROUND((SEARCH(X407,'Eigen QTH LOc'!$I$1)-0.5)*2.5,2))","v":1},{"$f":"IF(Z407>0,(MOD(ROUND((SEARCH(X407,'Eigen QTH LOc'!$I$1)-0.5)*2.5,2),TRUNC(Z407)))*60,0)","v":15},{"$f":"SEARCH(S407,'Eigen QTH LOc'!$I$1)*20-200+U407*2","v":{"$error":"#VALUE!"}},{"$f":"TRUNC((SEARCH(W407,'Eigen QTH LOc'!$I$1)-0.5)*5)","v":2},{"$f":"IF(AC407>0,(MOD((SEARCH(W407,'Eigen QTH LOc'!$I$1)-0.5)*5,TRUNC(AC407)))*60,0)","v":30},{"$error":"#VALUE!"},{"$error":"#VALUE!"},{"$f":"COS('Eigen QTH LOc'!$G$4-AF407)*SIN(PI()/2-AE407)*SIN(PI()/2-'Eigen QTH LOc'!$G$3)+COS(PI()/2-AE407)*COS(PI()/2-'Eigen QTH LOc'!$G$3)","v":{"$error":"#VALUE!"}},{"$error":"#VALUE!"},"ABCDEFGHIJKLMNOPQRSTUVWXABCDEFGHIJKLMNOPQRSTUVWX","\"0123456789\"",{"$f":"IF(B407>0,IF(K407=Infoblad!$C$6,0.5,0.5+AH407*40076.59/2/PI()),\" \")","v":" "},""]
[null,null," ",{"$f":"IF(B408>0,VASTETIJD(C408)-Infoblad!$C$29,\" \")","v":" "}," ",396," ",null,null,null,null,null,{"$f":"IF(L408>0,VLOOKUP(L408,Punten!$B$3:$C$109,2,FALSE),\" \")","v":" "},null," ",null,null,null,"","","","","","",{"$f":"SEARCH(T408,'Eigen QTH LOc'!$I$1)*10-100+V408","v":{"$error":"#VALUE!"}},{"$f":"TRUNC(ROUND((SEARCH(X408,'Eigen QTH LOc'!$I$1)-0.5)*2.5,2))","v":1},{"$f":"IF(Z408>0,(MOD(ROUND((SEARCH(X408,'Eigen QTH LOc'!$I$1)-0.5)*2.5,2),TRUNC(Z408)))*60,0)","v":15},{"$f":"SEARCH(S408,'Eigen QTH LOc'!$I$1)*20-200+U408*2","v":{"$error":"#VALUE!"}},{"$f":"TRUNC((SEARCH(W408,'Eigen QTH LOc'!$I$1)-0.5)*5)","v":2},{"$f":"IF(AC408>0,(MOD((SEARCH(W408,'Eigen QTH LOc'!$I$1)-0.5)*5,TRUNC(AC408)))*60,0)","v":30},{"$error":"#VALUE!"},{"$error":"#VALUE!"},{"$f":"COS('Eigen QTH LOc'!$G$4-AF408)*SIN(PI()/2-AE408)*SIN(PI()/2-'Eigen QTH LOc'!$G$3)+COS(PI()/2-AE408)*COS(PI()/2-'Eigen QTH LOc'!$G$3)","v":{"$error":"#VALUE!"}},{"$error":"#VALUE!"},"ABCDEFGHIJKLMNOPQRSTUVWXABCDEFGHIJKLMNOPQRSTUVWX","\"0123456789\"",{"$f":"IF(B408>0,IF(K408=Infoblad!$C$6,0.5,0.5+AH408*40076.59/2/PI()),\" \")","v":" "},""]
[null,null," ",{"$f":"IF(B409>0,VASTETIJD(C409)-Infoblad!$C$29,\" \")","v":" "}," ",397," ",null,null,null,null,null,{"$f":"IF(L409>0,VLOOKUP(L409,Punten!$B$3:$C$109,2,FALSE),\" \")","v":" "},null," ",null,null,null,{"$f":"MID(K409,1,1)","v":""},{"$f":"MID(K409,2,1)","v":""},{"$f":"MID(K409,3,1)","v":""},{"$f":"MID(K409,4,1)","v":""},{"$f":"MID(K409,5,1)","v":""},{"$f":"MID(K409,6,1)","v":""},{"$f":"SEARCH(T409,'Eigen QTH LOc'!$I$1)*10-100+V409","v":{"$error":"#VALUE!"}},{"$f":"TRUNC(ROUND((SEARCH(X409,'Eigen QTH LOc'!$I$1)-0.5)*2.5,2))","v":1},{"$f":"IF(Z409>0,(MOD(ROUND((SEARCH(X409,'Eigen QTH LOc'!$I$1)-0.5)*2.5,2),TRUNC(Z409)))*60,0)","v":15},{"$f":"SEARCH(S409,'Eigen QTH LOc'!$I$1)*20-200+U409*2","v":{"$error":"#VALUE!"}},{"$f":"TRUNC((SEARCH(W409,'Eigen QTH LOc'!$I$1)-0.5)*5)","v":2},{"$f":"IF(AC409>0,(MOD((SEARCH(W409,'Eigen QTH LOc'!$I$1)-0.5)*5,TRUNC(AC409)))*60,0)","v":30},{"$f":"(Y409+(Z409/60)+(AA409/3600))*PI()/180","v":{"$error":"#VALUE!"}},{"$f":"(AB409+(AC409/60)+(AD409/100/60))*PI()/180","v":{"$error":"#VALUE!"}},{"$f":"COS('Eigen QTH LOc'!$G$4-AF409)*SIN(PI()/2-AE409)*SIN(PI()/2-'Eigen QTH LOc'!$G$3)+COS(PI()/2-AE409)*COS(PI()/2-'Eigen QTH LOc'!$G$3)","v":{"$error":"#VALUE!"}},{"$error":"#VALUE!"},"ABCDEFGHIJKLMNOPQRSTUVWXABCDEFGHIJKLMNOPQRSTUVWX","\"0123456789\"",{"$f":"IF(B409>0,IF(K409=Infoblad!$C$6,0.5,0.5+AH409*40076.59/2/PI()),\" \")","v":" "},""]
[null,null," ",{"$f":"IF(B410>0,VASTETIJD(C410)-Infoblad!$C$29,\" \")","v":" "}," ",398," ",null,null,null,null,null,{"$f":"IF(L410>0,VLOOKUP(L410,Punten!$B$3:$C$109,2,FALSE),\" \")","v":" "},null," ",null,null,null,"","","","","","",{"$f":"SEARCH(T410,'Eigen QTH LOc'!$I$1)*10-100+V410","v":{"$error":"#VALUE!"}},{"$f":"TRUNC(ROUND((SEARCH(X410,'Eigen QTH LOc'!$I$1)-0.5)*2.5,2))","v":1},{"$f":"IF(Z410>0,(MOD(ROUND((SEARCH(X410,'Eigen QTH LOc'!$I$1)-0.5)*2.5,2),TRUNC(Z410)))*60,0)","v":15},{"$f":"SEARCH(S410,'Eigen QTH LOc'!$I$1)*20-200+U410*2","v":{"$error":"#VALUE!"}},{"$f":"TRUNC((SEARCH(W410,'Eigen QTH LOc'!$I$1)-0.5)*5)","v":2},{"$f":"IF(AC410>0,(MOD((SEARCH(W410,'Eigen QTH LOc'!$I$1)-0.5)*5,TRUNC(AC410)))*60,0)","v":30},{"$error":"#VALUE!"},{"$error":"#VALUE!"},{"$f":"COS('Eigen QTH LOc'!$G$4-AF410)*SIN(PI()/2-AE410)*SIN(PI()/2-'Eigen QTH LOc'!$G$3)+COS(PI()/2-AE410)*COS(PI()/2-'Eigen QTH LOc'!$G$3)","v":{"$error":"#VALUE!"}},{"$error":"#VALUE!"},"ABCDEFGHIJKLMNOPQRSTUVWXABCDEFGHIJKLMNOPQRSTUVWX","\"0123456789\"",{"$f":"IF(B410>0,IF(K410=Infoblad!$C$6,0.5,0.5+AH410*40076.59/2/PI()),\" \")","v":" "},""]
[null,null," ",{"$f":"IF(B411>0,VASTETIJD(C411)-Infoblad!$C$29,\" \")","v":" "}," ",399," ",null,null,null,null,null,{"$f":"IF(L411>0,VLOOKUP(L411,Punten!$B$3:$C$109,2,FALSE),\" \")","v":" "},null," ",null,null,null,"","","","","","",{"$f":"SEARCH(T411,'Eigen QTH LOc'!$I$1)*10-100+V411","v":{"$error":"#VALUE!"}},{"$f":"TRUNC(ROUND((SEARCH(X411,'Eigen QTH LOc'!$I$1)-0.5)*2.5,2))","v":1},{"$f":"IF(Z411>0,(MOD(ROUND((SEARCH(X411,'Eigen QTH LOc'!$I$1)-0.5)*2.5,2),TRUNC(Z411)))*60,0)","v":15},{"$f":"SEARCH(S411,'Eigen QTH LOc'!$I$1)*20-200+U411*2","v":{"$error":"#VALUE!"}},{"$f":"TRUNC((SEARCH(W411,'Eigen QTH LOc'!$I$1)-0.5)*5)","v":2},{"$f":"IF(AC411>0,(MOD((SEARCH(W411,'Eigen QTH LOc'!$I$1)-0.5)*5,TRUNC(AC411)))*60,0)","v":30},{"$error":"#VALUE!"},{"$error":"#VALUE!"},{"$f":"COS('Eigen QTH LOc'!$G$4-AF411)*SIN(PI()/2-AE411)*SIN(PI()/2-'Eigen QTH LOc'!$G$3)+COS(PI()/2-AE411)*COS(PI()/2-'Eigen QTH LOc'!$G$3)","v":{"$error":"#VALUE!"}},{"$error":"#VALUE!"},"ABCDEFGHIJKLMNOPQRSTUVWXABCDEFGHIJKLMNOPQRSTUVWX","\"0123456789\"",{"$f":"IF(B411>0,IF(K411=Infoblad!$C$6,0.5,0.5+AH411*40076.59/2/PI()),\" \")","v":" "},""]
[null,null," ",{"$f":"IF(B412>0,VASTETIJD(C412)-Infoblad!$C$29,\" \")","v":" "}," ",400," ",null,null,null,null,null,{"$f":"IF(L412>0,VLOOKUP(L412,Punten!$B$3:$C$109,2,FALSE),\" \")","v":" "},null," ",null,null,null,"","","","","","",{"$f":"SEARCH(T412,'Eigen QTH LOc'!$I$1)*10-100+V412","v":{"$error":"#VALUE!"}},{"$f":"TRUNC(ROUND((SEARCH(X412,'Eigen QTH LOc'!$I$1)-0.5)*2.5,2))","v":1},{"$f":"IF(Z412>0,(MOD(ROUND((SEARCH(X412,'Eigen QTH LOc'!$I$1)-0.5)*2.5,2),TRUNC(Z412)))*60,0)","v":15},{"$f":"SEARCH(S412,'Eigen QTH LOc'!$I$1)*20-200+U412*2","v":{"$error":"#VALUE!"}},{"$f":"TRUNC((SEARCH(W412,'Eigen QTH LOc'!$I$1)-0.5)*5)","v":2},{"$f":"IF(AC412>0,(MOD((SEARCH(W412,'Eigen QTH LOc'!$I$1)-0.5)*5,TRUNC(AC412)))*60,0)","v":30},{"$error":"#VALUE!"},{"$error":"#VALUE!"},{"$f":"COS('Eigen QTH LOc'!$G$4-AF412)*SIN(PI()/2-AE412)*SIN(PI()/2-'Eigen QTH LOc'!$G$3)+COS(PI()/2-AE412)*COS(PI()/2-'Eigen QTH LOc'!$G$3)","v":{"$error":"#VALUE!"}},{"$error":"#VALUE!"},"ABCDEFGHIJKLMNOPQRSTUVWXABCDEFGHIJKLMNOPQRSTUVWX","\"0123456789\"",{"$f":"IF(B412>0,IF(K412=Infoblad!$C$6,0.5,0.5+AH412*40076.59/2/PI()),\" \")","v":" "},""]
[null,null," ",{"$f":"IF(B413>0,VASTETIJD(C413)-Infoblad!$C$29,\" \")","v":" "}," ",401," ",null,null,null,null,null,{"$f":"IF(L413>0,VLOOKUP(L413,Punten!$B$3:$C$109,2,FALSE),\" \")","v":" "},null," ",null,null,null,"","","","","","",{"$f":"SEARCH(T413,'Eigen QTH LOc'!$I$1)*10-100+V413","v":{"$error":"#VALUE!"}},{"$f":"TRUNC(ROUND((SEARCH(X413,'Eigen QTH LOc'!$I$1)-0.5)*2.5,2))","v":1},{"$f":"IF(Z413>0,(MOD(ROUND((SEARCH(X413,'Eigen QTH LOc'!$I$1)-0.5)*2.5,2),TRUNC(Z413)))*60,0)","v":15},{"$f":"SEARCH(S413,'Eigen QTH LOc'!$I$1)*20-200+U413*2","v":{"$error":"#VALUE!"}},{"$f":"TRUNC((SEARCH(W413,'Eigen QTH LOc'!$I$1)-0.5)*5)","v":2},{"$f":"IF(AC413>0,(MOD((SEARCH(W413,'Eigen QTH LOc'!$I$1)-0.5)*5,TRUNC(AC413)))*60,0)","v":30},{"$error":"#VALUE!"},{"$error":"#VALUE!"},{"$f":"COS('Eigen QTH LOc'!$G$4-AF413)*SIN(PI()/2-AE413)*SIN(PI()/2-'Eigen QTH LOc'!$G$3)+COS(PI()/2-AE413)*COS(PI()/2-'Eigen QTH LOc'!$G$3)","v":{"$error":"#VALUE!"}},{"$error":"#VALUE!"},"ABCDEFGHIJKLMNOPQRSTUVWXABCDEFGHIJKLMNOPQRSTUVWX","\"0123456789\"",{"$f":"IF(B413>0,IF(K413=Infoblad!$C$6,0.5,0.5+AH413*40076.59/2/PI()),\" \")","v":" "},""]
[null,null," ",{"$f":"IF(B414>0,VASTETIJD(C414)-Infoblad!$C$29,\" \")","v":" "}," ",402," ",null,null,null,null,null,{"$f":"IF(L414>0,VLOOKUP(L414,Punten!$B$3:$C$109,2,FALSE),\" \")","v":" "},null," ",null,null,null,"","","","","","",{"$f":"SEARCH(T414,'Eigen QTH LOc'!$I$1)*10-100+V414","v":{"$error":"#VALUE!"}},{"$f":"TRUNC(ROUND((SEARCH(X414,'Eigen QTH LOc'!$I$1)-0.5)*2.5,2))","v":1},{"$f":"IF(Z414>0,(MOD(ROUND((SEARCH(X414,'Eigen QTH LOc'!$I$1)-0.5)*2.5,2),TRUNC(Z414)))*60,0)","v":15},{"$f":"SEARCH(S414,'Eigen QTH LOc'!$I$1)*20-200+U414*2","v":{"$error":"#VALUE!"}},{"$f":"TRUNC((SEARCH(W414,'Eigen QTH LOc'!$I$1)-0.5)*5)","v":2},{"$f":"IF(AC414>0,(MOD((SEARCH(W414,'Eigen QTH LOc'!$I$1)-0.5)*5,TRUNC(AC414)))*60,0)","v":30},{"$error":"#VALUE!"},{"$error":"#VALUE!"},{"$f":"COS('Eigen QTH LOc'!$G$4-AF414)*SIN(PI()/2-AE414)*SIN(PI()/2-'Eigen QTH LOc'!$G$3)+COS(PI()/2-AE414)*COS(PI()/2-'Eigen QTH LOc'!$G$3)","v":{"$error":"#VALUE!"}},{"$error":"#VALUE!"},"ABCDEFGHIJKLMNOPQRSTUVWXABCDEFGHIJKLMNOPQRSTUVWX","\"0123456789\"",{"$f":"IF(B414>0,IF(K414=Infoblad!$C$6,0.5,0.5+AH414*40076.59/2/PI()),\" \")","v":" "},""]
[null,null," ",{"$f":"IF(B415>0,VASTETIJD(C415)-Infoblad!$C$29,\" \")","v":" "}," ",403," ",null,null,null,null,null,{"$f":"IF(L415>0,VLOOKUP(L415,Punten!$B$3:$C$109,2,FALSE),\" \")","v":" "},null," ",null,null,null,"","","","","","",{"$f":"SEARCH(T415,'Eigen QTH LOc'!$I$1)*10-100+V415","v":{"$error":"#VALUE!"}},{"$f":"TRUNC(ROUND((SEARCH(X415,'Eigen QTH LOc'!$I$1)-0.5)*2.5,2))","v":1},{"$f":"IF(Z415>0,(MOD(ROUND((SEARCH(X415,'Eigen QTH LOc'!$I$1)-0.5)*2.5,2),TRUNC(Z415)))*60,0)","v":15},{"$f":"SEARCH(S415,'Eigen QTH LOc'!$I$1)*20-200+U415*2","v":{"$error":"#VALUE!"}},{"$f":"TRUNC((SEARCH(W415,'Eigen QTH LOc'!$I$1)-0.5)*5)","v":2},{"$f":"IF(AC415>0,(MOD((SEARCH(W415,'Eigen QTH LOc'!$I$1)-0.5)*5,TRUNC(AC415)))*60,0)","v":30},{"$error":"#VALUE!"},{"$error":"#VALUE!"},{"$f":"COS('Eigen QTH LOc'!$G$4-AF415)*SIN(PI()/2-AE415)*SIN(PI()/2-'Eigen QTH LOc'!$G$3)+COS(PI()/2-AE415)*COS(PI()/2-'Eigen QTH LOc'!$G$3)","v":{"$error":"#VALUE!"}},{"$error":"#VALUE!"},"ABCDEFGHIJKLMNOPQRSTUVWXABCDEFGHIJKLMNOPQRSTUVWX","\"0123456789\"",{"$f":"IF(B415>0,IF(K415=Infoblad!$C$6,0.5,0.5+AH415*40076.59/2/PI()),\" \")","v":" "},""]
[null,null," ",{"$f":"IF(B416>0,VASTETIJD(C416)-Infoblad!$C$29,\" \")","v":" "}," ",404," ",null,null,null,null,null,{"$f":"IF(L416>0,VLOOKUP(L416,Punten!$B$3:$C$109,2,FALSE),\" \")","v":" "},null," ",null,null,null,"","","","","","",{"$f":"SEARCH(T416,'Eigen QTH LOc'!$I$1)*10-100+V416","v":{"$error":"#VALUE!"}},{"$f":"TRUNC(ROUND((SEARCH(X416,'Eigen QTH LOc'!$I$1)-0.5)*2.5,2))","v":1},{"$f":"IF(Z416>0,(MOD(ROUND((SEARCH(X416,'Eigen QTH LOc'!$I$1)-0.5)*2.5,2),TRUNC(Z416)))*60,0)","v":15},{"$f":"SEARCH(S416,'Eigen QTH LOc'!$I$1)*20-200+U416*2","v":{"$error":"#VALUE!"}},{"$f":"TRUNC((SEARCH(W416,'Eigen QTH LOc'!$I$1)-0.5)*5)","v":2},{"$f":"IF(AC416>0,(MOD((SEARCH(W416,'Eigen QTH LOc'!$I$1)-0.5)*5,TRUNC(AC416)))*60,0)","v":30},{"$error":"#VALUE!"},{"$error":"#VALUE!"},{"$f":"COS('Eigen QTH LOc'!$G$4-AF416)*SIN(PI()/2-AE416)*SIN(PI()/2-'Eigen QTH LOc'!$G$3)+COS(PI()/2-AE416)*COS(PI()/2-'Eigen QTH LOc'!$G$3)","v":{"$error":"#VALUE!"}},{"$error":"#VALUE!"},"ABCDEFGHIJKLMNOPQRSTUVWXABCDEFGHIJKLMNOPQRSTUVWX","\"0123456789\"",{"$f":"IF(B416>0,IF(K416=Infoblad!$C$6,0.5,0.5+AH416*40076.59/2/PI()),\" \")","v":" "},""]
[null,null," ",{"$f":"IF(B417>0,VASTETIJD(C417)-Infoblad!$C$29,\" \")","v":" "}," ",405," ",null,null,null,null,null,{"$f":"IF(L417>0,VLOOKUP(L417,Punten!$B$3:$C$109,2,FALSE),\" \")","v":" "},null," ",null,null,null,"","","","","","",{"$f":"SEARCH(T417,'Eigen QTH LOc'!$I$1)*10-100+V417","v":{"$error":"#VALUE!"}},{"$f":"TRUNC(ROUND((SEARCH(X417,'Eigen QTH LOc'!$I$1)-0.5)*2.5,2))","v":1},{"$f":"IF(Z417>0,(MOD(ROUND((SEARCH(X417,'Eigen QTH LOc'!$I$1)-0.5)*2.5,2),TRUNC(Z417)))*60,0)","v":15},{"$f":"SEARCH(S417,'Eigen QTH LOc'!$I$1)*20-200+U417*2","v":{"$error":"#VALUE!"}},{"$f":"TRUNC((SEARCH(W417,'Eigen QTH LOc'!$I$1)-0.5)*5)","v":2},{"$f":"IF(AC417>0,(MOD((SEARCH(W417,'Eigen QTH LOc'!$I$1)-0.5)*5,TRUNC(AC417)))*60,0)","v":30},{"$error":"#VALUE!"},{"$error":"#VALUE!"},{"$f":"COS('Eigen QTH LOc'!$G$4-AF417)*SIN(PI()/2-AE417)*SIN(PI()/2-'Eigen QTH LOc'!$G$3)+COS(PI()/2-AE417)*COS(PI()/2-'Eigen QTH LOc'!$G$3)","v":{"$error":"#VALUE!"}},{"$error":"#VALUE!"},"ABCDEFGHIJKLMNOPQRSTUVWXABCDEFGHIJKLMNOPQRSTUVWX","\"0123456789\"",{"$f":"IF(B417>0,IF(K417=Infoblad!$C$6,0.5,0.5+AH417*40076.59/2/PI()),\" \")","v":" "},""]
[null,null," ",{"$f":"IF(B418>0,VASTETIJD(C418)-Infoblad!$C$29,\" \")","v":" "}," ",406," ",null,null,null,null,null,{"$f":"IF(L418>0,VLOOKUP(L418,Punten!$B$3:$C$109,2,FALSE),\" \")","v":" "},null," ",null,null,null,"","","","","","",{"$f":"SEARCH(T418,'Eigen QTH LOc'!$I$1)*10-100+V418","v":{"$error":"#VALUE!"}},{"$f":"TRUNC(ROUND((SEARCH(X418,'Eigen QTH LOc'!$I$1)-0.5)*2.5,2))","v":1},{"$f":"IF(Z418>0,(MOD(ROUND((SEARCH(X418,'Eigen QTH LOc'!$I$1)-0.5)*2.5,2),TRUNC(Z418)))*60,0)","v":15},{"$f":"SEARCH(S418,'Eigen QTH LOc'!$I$1)*20-200+U418*2","v":{"$error":"#VALUE!"}},{"$f":"TRUNC((SEARCH(W418,'Eigen QTH LOc'!$I$1)-0.5)*5)","v":2},{"$f":"IF(AC418>0,(MOD((SEARCH(W418,'Eigen QTH LOc'!$I$1)-0.5)*5,TRUNC(AC418)))*60,0)","v":30},{"$error":"#VALUE!"},{"$error":"#VALUE!"},{"$f":"COS('Eigen QTH LOc'!$G$4-AF418)*SIN(PI()/2-AE418)*SIN(PI()/2-'Eigen QTH LOc'!$G$3)+COS(PI()/2-AE418)*COS(PI()/2-'Eigen QTH LOc'!$G$3)","v":{"$error":"#VALUE!"}},{"$error":"#VALUE!"},"ABCDEFGHIJKLMNOPQRSTUVWXABCDEFGHIJKLMNOPQRSTUVWX","\"0123456789\"",{"$f":"IF(B418>0,IF(K418=Infoblad!$C$6,0.5,0.5+AH418*40076.59/2/PI()),\" \")","v":" "},""]
[null,null," ",{"$f":"IF(B419>0,VASTETIJD(C419)-Infoblad!$C$29,\" \")","v":" "}," ",407," ",null,null,null,null,null,{"$f":"IF(L419>0,VLOOKUP(L419,Punten!$B$3:$C$109,2,FALSE),\" \")","v":" "},null," ",null,null,null,"","","","","","",{"$f":"SEARCH(T419,'Eigen QTH LOc'!$I$1)*10-100+V419","v":{"$error":"#VALUE!"}},{"$f":"TRUNC(ROUND((SEARCH(X419,'Eigen QTH LOc'!$I$1)-0.5)*2.5,2))","v":1},{"$f":"IF(Z419>0,(MOD(ROUND((SEARCH(X419,'Eigen QTH LOc'!$I$1)-0.5)*2.5,2),TRUNC(Z419)))*60,0)","v":15},{"$f":"SEARCH(S419,'Eigen QTH LOc'!$I$1)*20-200+U419*2","v":{"$error":"#VALUE!"}},{"$f":"TRUNC((SEARCH(W419,'Eigen QTH LOc'!$I$1)-0.5)*5)","v":2},{"$f":"IF(AC419>0,(MOD((SEARCH(W419,'Eigen QTH LOc'!$I$1)-0.5)*5,TRUNC(AC419)))*60,0)","v":30},{"$error":"#VALUE!"},{"$error":"#VALUE!"},{"$f":"COS('Eigen QTH LOc'!$G$4-AF419)*SIN(PI()/2-AE419)*SIN(PI()/2-'Eigen QTH LOc'!$G$3)+COS(PI()/2-AE419)*COS(PI()/2-'Eigen QTH LOc'!$G$3)","v":{"$error":"#VALUE!"}},{"$error":"#VALUE!"},"ABCDEFGHIJKLMNOPQRSTUVWXABCDEFGHIJKLMNOPQRSTUVWX","\"0123456789\"",{"$f":"IF(B419>0,IF(K419=Infoblad!$C$6,0.5,0.5+AH419*40076.59/2/PI()),\" \")","v":" "},""]
[null,null," ",{"$f":"IF(B420>0,VASTETIJD(C420)-Infoblad!$C$29,\" \")","v":" "}," ",408," ",null,null,null,null,null,{"$f":"IF(L420>0,VLOOKUP(L420,Punten!$B$3:$C$109,2,FALSE),\" \")","v":" "},null," ",null,null,null,"","","","","","",{"$f":"SEARCH(T420,'Eigen QTH LOc'!$I$1)*10-100+V420","v":{"$error":"#VALUE!"}},{"$f":"TRUNC(ROUND((SEARCH(X420,'Eigen QTH LOc'!$I$1)-0.5)*2.5,2))","v":1},{"$f":"IF(Z420>0,(MOD(ROUND((SEARCH(X420,'Eigen QTH LOc'!$I$1)-0.5)*2.5,2),TRUNC(Z420)))*60,0)","v":15},{"$f":"SEARCH(S420,'Eigen QTH LOc'!$I$1)*20-200+U420*2","v":{"$error":"#VALUE!"}},{"$f":"TRUNC((SEARCH(W420,'Eigen QTH LOc'!$I$1)-0.5)*5)","v":2},{"$f":"IF(AC420>0,(MOD((SEARCH(W420,'Eigen QTH LOc'!$I$1)-0.5)*5,TRUNC(AC420)))*60,0)","v":30},{"$error":"#VALUE!"},{"$error":"#VALUE!"},{"$f":"COS('Eigen QTH LOc'!$G$4-AF420)*SIN(PI()/2-AE420)*SIN(PI()/2-'Eigen QTH LOc'!$G$3)+COS(PI()/2-AE420)*COS(PI()/2-'Eigen QTH LOc'!$G$3)","v":{"$error":"#VALUE!"}},{"$error":"#VALUE!"},"ABCDEFGHIJKLMNOPQRSTUVWXABCDEFGHIJKLMNOPQRSTUVWX","\"0123456789\"",{"$f":"IF(B420>0,IF(K420=Infoblad!$C$6,0.5,0.5+AH420*40076.59/2/PI()),\" \")","v":" "},""]
[null,null," ",{"$f":"IF(B421>0,VASTETIJD(C421)-Infoblad!$C$29,\" \")","v":" "}," ",409," ",null,null,null,null,null,{"$f":"IF(L421>0,VLOOKUP(L421,Punten!$B$3:$C$109,2,FALSE),\" \")","v":" "},null," ",null,null,null,"","","","","","",{"$f":"SEARCH(T421,'Eigen QTH LOc'!$I$1)*10-100+V421","v":{"$error":"#VALUE!"}},{"$f":"TRUNC(ROUND((SEARCH(X421,'Eigen QTH LOc'!$I$1)-0.5)*2.5,2))","v":1},{"$f":"IF(Z421>0,(MOD(ROUND((SEARCH(X421,'Eigen QTH LOc'!$I$1)-0.5)*2.5,2),TRUNC(Z421)))*60,0)","v":15},{"$f":"SEARCH(S421,'Eigen QTH LOc'!$I$1)*20-200+U421*2","v":{"$error":"#VALUE!"}},{"$f":"TRUNC((SEARCH(W421,'Eigen QTH LOc'!$I$1)-0.5)*5)","v":2},{"$f":"IF(AC421>0,(MOD((SEARCH(W421,'Eigen QTH LOc'!$I$1)-0.5)*5,TRUNC(AC421)))*60,0)","v":30},{"$error":"#VALUE!"},{"$error":"#VALUE!"},{"$f":"COS('Eigen QTH LOc'!$G$4-AF421)*SIN(PI()/2-AE421)*SIN(PI()/2-'Eigen QTH LOc'!$G$3)+COS(PI()/2-AE421)*COS(PI()/2-'Eigen QTH LOc'!$G$3)","v":{"$error":"#VALUE!"}},{"$error":"#VALUE!"},"ABCDEFGHIJKLMNOPQRSTUVWXABCDEFGHIJKLMNOPQRSTUVWX","\"0123456789\"",{"$f":"IF(B421>0,IF(K421=Infoblad!$C$6,0.5,0.5+AH421*40076.59/2/PI()),\" \")","v":" "},""]
[null,null," ",{"$f":"IF(B422>0,VASTETIJD(C422)-Infoblad!$C$29,\" \")","v":" "}," ",410," ",null,null,null,null,null,{"$f":"IF(L422>0,VLOOKUP(L422,Punten!$B$3:$C$109,2,FALSE),\" \")","v":" "},null," ",null,null,null,"","","","","","",{"$f":"SEARCH(T422,'Eigen QTH LOc'!$I$1)*10-100+V422","v":{"$error":"#VALUE!"}},{"$f":"TRUNC(ROUND((SEARCH(X422,'Eigen QTH LOc'!$I$1)-0.5)*2.5,2))","v":1},{"$f":"IF(Z422>0,(MOD(ROUND((SEARCH(X422,'Eigen QTH LOc'!$I$1)-0.5)*2.5,2),TRUNC(Z422)))*60,0)","v":15},{"$f":"SEARCH(S422,'Eigen QTH LOc'!$I$1)*20-200+U422*2","v":{"$error":"#VALUE!"}},{"$f":"TRUNC((SEARCH(W422,'Eigen QTH LOc'!$I$1)-0.5)*5)","v":2},{"$f":"IF(AC422>0,(MOD((SEARCH(W422,'Eigen QTH LOc'!$I$1)-0.5)*5,TRUNC(AC422)))*60,0)","v":30},{"$error":"#VALUE!"},{"$error":"#VALUE!"},{"$f":"COS('Eigen QTH LOc'!$G$4-AF422)*SIN(PI()/2-AE422)*SIN(PI()/2-'Eigen QTH LOc'!$G$3)+COS(PI()/2-AE422)*COS(PI()/2-'Eigen QTH LOc'!$G$3)","v":{"$error":"#VALUE!"}},{"$error":"#VALUE!"},"ABCDEFGHIJKLMNOPQRSTUVWXABCDEFGHIJKLMNOPQRSTUVWX","\"0123456789\"",{"$f":"IF(B422>0,IF(K422=Infoblad!$C$6,0.5,0.5+AH422*40076.59/2/PI()),\" \")","v":" "},""]
[null,null," ",{"$f":"IF(B423>0,VASTETIJD(C423)-Infoblad!$C$29,\" \")","v":" "}," ",411," ",null,null,null,null,null,{"$f":"IF(L423>0,VLOOKUP(L423,Punten!$B$3:$C$109,2,FALSE),\" \")","v":" "},null," ",null,null,null,"","","","","","",{"$f":"SEARCH(T423,'Eigen QTH LOc'!$I$1)*10-100+V423","v":{"$error":"#VALUE!"}},{"$f":"TRUNC(ROUND((SEARCH(X423,'Eigen QTH LOc'!$I$1)-0.5)*2.5,2))","v":1},{"$f":"IF(Z423>0,(MOD(ROUND((SEARCH(X423,'Eigen QTH LOc'!$I$1)-0.5)*2.5,2),TRUNC(Z423)))*60,0)","v":15},{"$f":"SEARCH(S423,'Eigen QTH LOc'!$I$1)*20-200+U423*2","v":{"$error":"#VALUE!"}},{"$f":"TRUNC((SEARCH(W423,'Eigen QTH LOc'!$I$1)-0.5)*5)","v":2},{"$f":"IF(AC423>0,(MOD((SEARCH(W423,'Eigen QTH LOc'!$I$1)-0.5)*5,TRUNC(AC423)))*60,0)","v":30},{"$error":"#VALUE!"},{"$error":"#VALUE!"},{"$f":"COS('Eigen QTH LOc'!$G$4-AF423)*SIN(PI()/2-AE423)*SIN(PI()/2-'Eigen QTH LOc'!$G$3)+COS(PI()/2-AE423)*COS(PI()/2-'Eigen QTH LOc'!$G$3)","v":{"$error":"#VALUE!"}},{"$error":"#VALUE!"},"ABCDEFGHIJKLMNOPQRSTUVWXABCDEFGHIJKLMNOPQRSTUVWX","\"0123456789\"",{"$f":"IF(B423>0,IF(K423=Infoblad!$C$6,0.5,0.5+AH423*40076.59/2/PI()),\" \")","v":" "},""]
[null,null," ",{"$f":"IF(B424>0,VASTETIJD(C424)-Infoblad!$C$29,\" \")","v":" "}," ",412," ",null,null,null,null,null,{"$f":"IF(L424>0,VLOOKUP(L424,Punten!$B$3:$C$109,2,FALSE),\" \")","v":" "},null," ",null,null,null,"","","","","","",{"$f":"SEARCH(T424,'Eigen QTH LOc'!$I$1)*10-100+V424","v":{"$error":"#VALUE!"}},{"$f":"TRUNC(ROUND((SEARCH(X424,'Eigen QTH LOc'!$I$1)-0.5)*2.5,2))","v":1},{"$f":"IF(Z424>0,(MOD(ROUND((SEARCH(X424,'Eigen QTH LOc'!$I$1)-0.5)*2.5,2),TRUNC(Z424)))*60,0)","v":15},{"$f":"SEARCH(S424,'Eigen QTH LOc'!$I$1)*20-200+U424*2","v":{"$error":"#VALUE!"}},{"$f":"TRUNC((SEARCH(W424,'Eigen QTH LOc'!$I$1)-0.5)*5)","v":2},{"$f":"IF(AC424>0,(MOD((SEARCH(W424,'Eigen QTH LOc'!$I$1)-0.5)*5,TRUNC(AC424)))*60,0)","v":30},{"$error":"#VALUE!"},{"$error":"#VALUE!"},{"$f":"COS('Eigen QTH LOc'!$G$4-AF424)*SIN(PI()/2-AE424)*SIN(PI()/2-'Eigen QTH LOc'!$G$3)+COS(PI()/2-AE424)*COS(PI()/2-'Eigen QTH LOc'!$G$3)","v":{"$error":"#VALUE!"}},{"$error":"#VALUE!"},"ABCDEFGHIJKLMNOPQRSTUVWXABCDEFGHIJKLMNOPQRSTUVWX","\"0123456789\"",{"$f":"IF(B424>0,IF(K424=Infoblad!$C$6,0.5,0.5+AH424*40076.59/2/PI()),\" \")","v":" "},""]
[null,null," ",{"$f":"IF(B425>0,VASTETIJD(C425)-Infoblad!$C$29,\" \")","v":" "}," ",413," ",null,null,null,null,null,{"$f":"IF(L425>0,VLOOKUP(L425,Punten!$B$3:$C$109,2,FALSE),\" \")","v":" "},null," ",null,null,null,"","","","","","",{"$f":"SEARCH(T425,'Eigen QTH LOc'!$I$1)*10-100+V425","v":{"$error":"#VALUE!"}},{"$f":"TRUNC(ROUND((SEARCH(X425,'Eigen QTH LOc'!$I$1)-0.5)*2.5,2))","v":1},{"$f":"IF(Z425>0,(MOD(ROUND((SEARCH(X425,'Eigen QTH LOc'!$I$1)-0.5)*2.5,2),TRUNC(Z425)))*60,0)","v":15},{"$f":"SEARCH(S425,'Eigen QTH LOc'!$I$1)*20-200+U425*2","v":{"$error":"#VALUE!"}},{"$f":"TRUNC((SEARCH(W425,'Eigen QTH LOc'!$I$1)-0.5)*5)","v":2},{"$f":"IF(AC425>0,(MOD((SEARCH(W425,'Eigen QTH LOc'!$I$1)-0.5)*5,TRUNC(AC425)))*60,0)","v":30},{"$error":"#VALUE!"},{"$error":"#VALUE!"},{"$f":"COS('Eigen QTH LOc'!$G$4-AF425)*SIN(PI()/2-AE425)*SIN(PI()/2-'Eigen QTH LOc'!$G$3)+COS(PI()/2-AE425)*COS(PI()/2-'Eigen QTH LOc'!$G$3)","v":{"$error":"#VALUE!"}},{"$error":"#VALUE!"},"ABCDEFGHIJKLMNOPQRSTUVWXABCDEFGHIJKLMNOPQRSTUVWX","\"0123456789\"",{"$f":"IF(B425>0,IF(K425=Infoblad!$C$6,0.5,0.5+AH425*40076.59/2/PI()),\" \")","v":" "},""]
[null,null," ",{"$f":"IF(B426>0,VASTETIJD(C426)-Infoblad!$C$29,\" \")","v":" "}," ",414," ",null,null,null,null,null,{"$f":"IF(L426>0,VLOOKUP(L426,Punten!$B$3:$C$109,2,FALSE),\" \")","v":" "},null," ",null,null,null,"","","","","","",{"$f":"SEARCH(T426,'Eigen QTH LOc'!$I$1)*10-100+V426","v":{"$error":"#VALUE!"}},{"$f":"TRUNC(ROUND((SEARCH(X426,'Eigen QTH LOc'!$I$1)-0.5)*2.5,2))","v":1},{"$f":"IF(Z426>0,(MOD(ROUND((SEARCH(X426,'Eigen QTH LOc'!$I$1)-0.5)*2.5,2),TRUNC(Z426)))*60,0)","v":15},{"$f":"SEARCH(S426,'Eigen QTH LOc'!$I$1)*20-200+U426*2","v":{"$error":"#VALUE!"}},{"$f":"TRUNC((SEARCH(W426,'Eigen QTH LOc'!$I$1)-0.5)*5)","v":2},{"$f":"IF(AC426>0,(MOD((SEARCH(W426,'Eigen QTH LOc'!$I$1)-0.5)*5,TRUNC(AC426)))*60,0)","v":30},{"$error":"#VALUE!"},{"$error":"#VALUE!"},{"$f":"COS('Eigen QTH LOc'!$G$4-AF426)*SIN(PI()/2-AE426)*SIN(PI()/2-'Eigen QTH LOc'!$G$3)+COS(PI()/2-AE426)*COS(PI()/2-'Eigen QTH LOc'!$G$3)","v":{"$error":"#VALUE!"}},{"$error":"#VALUE!"},"ABCDEFGHIJKLMNOPQRSTUVWXABCDEFGHIJKLMNOPQRSTUVWX","\"0123456789\"",{"$f":"IF(B426>0,IF(K426=Infoblad!$C$6,0.5,0.5+AH426*40076.59/2/PI()),\" \")","v":" "},""]
[null,null," ",{"$f":"IF(B427>0,VASTETIJD(C427)-Infoblad!$C$29,\" \")","v":" "}," ",415," ",null,null,null,null,null,{"$f":"IF(L427>0,VLOOKUP(L427,Punten!$B$3:$C$109,2,FALSE),\" \")","v":" "},null," ",null,null,null,"","","","","","",{"$f":"SEARCH(T427,'Eigen QTH LOc'!$I$1)*10-100+V427","v":{"$error":"#VALUE!"}},{"$f":"TRUNC(ROUND((SEARCH(X427,'Eigen QTH LOc'!$I$1)-0.5)*2.5,2))","v":1},{"$f":"IF(Z427>0,(MOD(ROUND((SEARCH(X427,'Eigen QTH LOc'!$I$1)-0.5)*2.5,2),TRUNC(Z427)))*60,0)","v":15},{"$f":"SEARCH(S427,'Eigen QTH LOc'!$I$1)*20-200+U427*2","v":{"$error":"#VALUE!"}},{"$f":"TRUNC((SEARCH(W427,'Eigen QTH LOc'!$I$1)-0.5)*5)","v":2},{"$f":"IF(AC427>0,(MOD((SEARCH(W427,'Eigen QTH LOc'!$I$1)-0.5)*5,TRUNC(AC427)))*60,0)","v":30},{"$error":"#VALUE!"},{"$error":"#VALUE!"},{"$f":"COS('Eigen QTH LOc'!$G$4-AF427)*SIN(PI()/2-AE427)*SIN(PI()/2-'Eigen QTH LOc'!$G$3)+COS(PI()/2-AE427)*COS(PI()/2-'Eigen QTH LOc'!$G$3)","v":{"$error":"#VALUE!"}},{"$error":"#VALUE!"},"ABCDEFGHIJKLMNOPQRSTUVWXABCDEFGHIJKLMNOPQRSTUVWX","\"0123456789\"",{"$f":"IF(B427>0,IF(K427=Infoblad!$C$6,0.5,0.5+AH427*40076.59/2/PI()),\" \")","v":" "},""]
[null,null," ",{"$f":"IF(B428>0,VASTETIJD(C428)-Infoblad!$C$29,\" \")","v":" "}," ",416," ",null,null,null,null,null,{"$f":"IF(L428>0,VLOOKUP(L428,Punten!$B$3:$C$109,2,FALSE),\" \")","v":" "},null," ",null,null,null,"","","","","","",{"$f":"SEARCH(T428,'Eigen QTH LOc'!$I$1)*10-100+V428","v":{"$error":"#VALUE!"}},{"$f":"TRUNC(ROUND((SEARCH(X428,'Eigen QTH LOc'!$I$1)-0.5)*2.5,2))","v":1},{"$f":"IF(Z428>0,(MOD(ROUND((SEARCH(X428,'Eigen QTH LOc'!$I$1)-0.5)*2.5,2),TRUNC(Z428)))*60,0)","v":15},{"$f":"SEARCH(S428,'Eigen QTH LOc'!$I$1)*20-200+U428*2","v":{"$error":"#VALUE!"}},{"$f":"TRUNC((SEARCH(W428,'Eigen QTH LOc'!$I$1)-0.5)*5)","v":2},{"$f":"IF(AC428>0,(MOD((SEARCH(W428,'Eigen QTH LOc'!$I$1)-0.5)*5,TRUNC(AC428)))*60,0)","v":30},{"$error":"#VALUE!"},{"$error":"#VALUE!"},{"$f":"COS('Eigen QTH LOc'!$G$4-AF428)*SIN(PI()/2-AE428)*SIN(PI()/2-'Eigen QTH LOc'!$G$3)+COS(PI()/2-AE428)*COS(PI()/2-'Eigen QTH LOc'!$G$3)","v":{"$error":"#VALUE!"}},{"$error":"#VALUE!"},"ABCDEFGHIJKLMNOPQRSTUVWXABCDEFGHIJKLMNOPQRSTUVWX","\"0123456789\"",{"$f":"IF(B428>0,IF(K428=Infoblad!$C$6,0.5,0.5+AH428*40076.59/2/PI()),\" \")","v":" "},""]
[null,null," ",{"$f":"IF(B429>0,VASTETIJD(C429)-Infoblad!$C$29,\" \")","v":" "}," ",417," ",null,null,null,null,null,{"$f":"IF(L429>0,VLOOKUP(L429,Punten!$B$3:$C$109,2,FALSE),\" \")","v":" "},null," ",null,null,null,"","","","","","",{"$f":"SEARCH(T429,'Eigen QTH LOc'!$I$1)*10-100+V429","v":{"$error":"#VALUE!"}},{"$f":"TRUNC(ROUND((SEARCH(X429,'Eigen QTH LOc'!$I$1)-0.5)*2.5,2))","v":1},{"$f":"IF(Z429>0,(MOD(ROUND((SEARCH(X429,'Eigen QTH LOc'!$I$1)-0.5)*2.5,2),TRUNC(Z429)))*60,0)","v":15},{"$f":"SEARCH(S429,'Eigen QTH LOc'!$I$1)*20-200+U429*2","v":{"$error":"#VALUE!"}},{"$f":"TRUNC((SEARCH(W429,'Eigen QTH LOc'!$I$1)-0.5)*5)","v":2},{"$f":"IF(AC429>0,(MOD((SEARCH(W429,'Eigen QTH LOc'!$I$1)-0.5)*5,TRUNC(AC429)))*60,0)","v":30},{"$error":"#VALUE!"},{"$error":"#VALUE!"},{"$f":"COS('Eigen QTH LOc'!$G$4-AF429)*SIN(PI()/2-AE429)*SIN(PI()/2-'Eigen QTH LOc'!$G$3)+COS(PI()/2-AE429)*COS(PI()/2-'Eigen QTH LOc'!$G$3)","v":{"$error":"#VALUE!"}},{"$error":"#VALUE!"},"ABCDEFGHIJKLMNOPQRSTUVWXABCDEFGHIJKLMNOPQRSTUVWX","\"0123456789\"",{"$f":"IF(B429>0,IF(K429=Infoblad!$C$6,0.5,0.5+AH429*40076.59/2/PI()),\" \")","v":" "},""]
[null,null," ",{"$f":"IF(B430>0,VASTETIJD(C430)-Infoblad!$C$29,\" \")","v":" "}," ",418," ",null,null,null,null,null,{"$f":"IF(L430>0,VLOOKUP(L430,Punten!$B$3:$C$109,2,FALSE),\" \")","v":" "},null," ",null,null,null,"","","","","","",{"$f":"SEARCH(T430,'Eigen QTH LOc'!$I$1)*10-100+V430","v":{"$error":"#VALUE!"}},{"$f":"TRUNC(ROUND((SEARCH(X430,'Eigen QTH LOc'!$I$1)-0.5)*2.5,2))","v":1},{"$f":"IF(Z430>0,(MOD(ROUND((SEARCH(X430,'Eigen QTH LOc'!$I$1)-0.5)*2.5,2),TRUNC(Z430)))*60,0)","v":15},{"$f":"SEARCH(S430,'Eigen QTH LOc'!$I$1)*20-200+U430*2","v":{"$error":"#VALUE!"}},{"$f":"TRUNC((SEARCH(W430,'Eigen QTH LOc'!$I$1)-0.5)*5)","v":2},{"$f":"IF(AC430>0,(MOD((SEARCH(W430,'Eigen QTH LOc'!$I$1)-0.5)*5,TRUNC(AC430)))*60,0)","v":30},{"$error":"#VALUE!"},{"$error":"#VALUE!"},{"$f":"COS('Eigen QTH LOc'!$G$4-AF430)*SIN(PI()/2-AE430)*SIN(PI()/2-'Eigen QTH LOc'!$G$3)+COS(PI()/2-AE430)*COS(PI()/2-'Eigen QTH LOc'!$G$3)","v":{"$error":"#VALUE!"}},{"$error":"#VALUE!"},"ABCDEFGHIJKLMNOPQRSTUVWXABCDEFGHIJKLMNOPQRSTUVWX","\"0123456789\"",{"$f":"IF(B430>0,IF(K430=Infoblad!$C$6,0.5,0.5+AH430*40076.59/2/PI()),\" \")","v":" "},""]
[null,null," ",{"$f":"IF(B431>0,VASTETIJD(C431)-Infoblad!$C$29,\" \")","v":" "}," ",419," ",null,null,null,null,null,{"$f":"IF(L431>0,VLOOKUP(L431,Punten!$B$3:$C$109,2,FALSE),\" \")","v":" "},null," ",null,null,null,"","","","","","",{"$f":"SEARCH(T431,'Eigen QTH LOc'!$I$1)*10-100+V431","v":{"$error":"#VALUE!"}},{"$f":"TRUNC(ROUND((SEARCH(X431,'Eigen QTH LOc'!$I$1)-0.5)*2.5,2))","v":1},{"$f":"IF(Z431>0,(MOD(ROUND((SEARCH(X431,'Eigen QTH LOc'!$I$1)-0.5)*2.5,2),TRUNC(Z431)))*60,0)","v":15},{"$f":"SEARCH(S431,'Eigen QTH LOc'!$I$1)*20-200+U431*2","v":{"$error":"#VALUE!"}},{"$f":"TRUNC((SEARCH(W431,'Eigen QTH LOc'!$I$1)-0.5)*5)","v":2},{"$f":"IF(AC431>0,(MOD((SEARCH(W431,'Eigen QTH LOc'!$I$1)-0.5)*5,TRUNC(AC431)))*60,0)","v":30},{"$error":"#VALUE!"},{"$error":"#VALUE!"},{"$f":"COS('Eigen QTH LOc'!$G$4-AF431)*SIN(PI()/2-AE431)*SIN(PI()/2-'Eigen QTH LOc'!$G$3)+COS(PI()/2-AE431)*COS(PI()/2-'Eigen QTH LOc'!$G$3)","v":{"$error":"#VALUE!"}},{"$error":"#VALUE!"},"ABCDEFGHIJKLMNOPQRSTUVWXABCDEFGHIJKLMNOPQRSTUVWX","\"0123456789\"",{"$f":"IF(B431>0,IF(K431=Infoblad!$C$6,0.5,0.5+AH431*40076.59/2/PI()),\" \")","v":" "},""]
[null,null," ",{"$f":"IF(B432>0,VASTETIJD(C432)-Infoblad!$C$29,\" \")","v":" "}," ",420," ",null,null,null,null,null,{"$f":"IF(L432>0,VLOOKUP(L432,Punten!$B$3:$C$109,2,FALSE),\" \")","v":" "},null," ",null,null,null,"","","","","","",{"$f":"SEARCH(T432,'Eigen QTH LOc'!$I$1)*10-100+V432","v":{"$error":"#VALUE!"}},{"$f":"TRUNC(ROUND((SEARCH(X432,'Eigen QTH LOc'!$I$1)-0.5)*2.5,2))","v":1},{"$f":"IF(Z432>0,(MOD(ROUND((SEARCH(X432,'Eigen QTH LOc'!$I$1)-0.5)*2.5,2),TRUNC(Z432)))*60,0)","v":15},{"$f":"SEARCH(S432,'Eigen QTH LOc'!$I$1)*20-200+U432*2","v":{"$error":"#VALUE!"}},{"$f":"TRUNC((SEARCH(W432,'Eigen QTH LOc'!$I$1)-0.5)*5)","v":2},{"$f":"IF(AC432>0,(MOD((SEARCH(W432,'Eigen QTH LOc'!$I$1)-0.5)*5,TRUNC(AC432)))*60,0)","v":30},{"$error":"#VALUE!"},{"$error":"#VALUE!"},{"$f":"COS('Eigen QTH LOc'!$G$4-AF432)*SIN(PI()/2-AE432)*SIN(PI()/2-'Eigen QTH LOc'!$G$3)+COS(PI()/2-AE432)*COS(PI()/2-'Eigen QTH LOc'!$G$3)","v":{"$error":"#VALUE!"}},{"$error":"#VALUE!"},"ABCDEFGHIJKLMNOPQRSTUVWXABCDEFGHIJKLMNOPQRSTUVWX","\"0123456789\"",{"$f":"IF(B432>0,IF(K432=Infoblad!$C$6,0.5,0.5+AH432*40076.59/2/PI()),\" \")","v":" "},""]
[null,null," ",{"$f":"IF(B433>0,VASTETIJD(C433)-Infoblad!$C$29,\" \")","v":" "}," ",421," ",null,null,null,null,null,{"$f":"IF(L433>0,VLOOKUP(L433,Punten!$B$3:$C$109,2,FALSE),\" \")","v":" "},null," ",null,null,null,"","","","","","",{"$f":"SEARCH(T433,'Eigen QTH LOc'!$I$1)*10-100+V433","v":{"$error":"#VALUE!"}},{"$f":"TRUNC(ROUND((SEARCH(X433,'Eigen QTH LOc'!$I$1)-0.5)*2.5,2))","v":1},{"$f":"IF(Z433>0,(MOD(ROUND((SEARCH(X433,'Eigen QTH LOc'!$I$1)-0.5)*2.5,2),TRUNC(Z433)))*60,0)","v":15},{"$f":"SEARCH(S433,'Eigen QTH LOc'!$I$1)*20-200+U433*2","v":{"$error":"#VALUE!"}},{"$f":"TRUNC((SEARCH(W433,'Eigen QTH LOc'!$I$1)-0.5)*5)","v":2},{"$f":"IF(AC433>0,(MOD((SEARCH(W433,'Eigen QTH LOc'!$I$1)-0.5)*5,TRUNC(AC433)))*60,0)","v":30},{"$error":"#VALUE!"},{"$error":"#VALUE!"},{"$f":"COS('Eigen QTH LOc'!$G$4-AF433)*SIN(PI()/2-AE433)*SIN(PI()/2-'Eigen QTH LOc'!$G$3)+COS(PI()/2-AE433)*COS(PI()/2-'Eigen QTH LOc'!$G$3)","v":{"$error":"#VALUE!"}},{"$error":"#VALUE!"},"ABCDEFGHIJKLMNOPQRSTUVWXABCDEFGHIJKLMNOPQRSTUVWX","\"0123456789\"",{"$f":"IF(B433>0,IF(K433=Infoblad!$C$6,0.5,0.5+AH433*40076.59/2/PI()),\" \")","v":" "},""]
[null,null," ",{"$f":"IF(B434>0,VASTETIJD(C434)-Infoblad!$C$29,\" \")","v":" "}," ",422," ",null,null,null,null,null,{"$f":"IF(L434>0,VLOOKUP(L434,Punten!$B$3:$C$109,2,FALSE),\" \")","v":" "},null," ",null,null,null,"","","","","","",{"$f":"SEARCH(T434,'Eigen QTH LOc'!$I$1)*10-100+V434","v":{"$error":"#VALUE!"}},{"$f":"TRUNC(ROUND((SEARCH(X434,'Eigen QTH LOc'!$I$1)-0.5)*2.5,2))","v":1},{"$f":"IF(Z434>0,(MOD(ROUND((SEARCH(X434,'Eigen QTH LOc'!$I$1)-0.5)*2.5,2),TRUNC(Z434)))*60,0)","v":15},{"$f":"SEARCH(S434,'Eigen QTH LOc'!$I$1)*20-200+U434*2","v":{"$error":"#VALUE!"}},{"$f":"TRUNC((SEARCH(W434,'Eigen QTH LOc'!$I$1)-0.5)*5)","v":2},{"$f":"IF(AC434>0,(MOD((SEARCH(W434,'Eigen QTH LOc'!$I$1)-0.5)*5,TRUNC(AC434)))*60,0)","v":30},{"$error":"#VALUE!"},{"$error":"#VALUE!"},{"$f":"COS('Eigen QTH LOc'!$G$4-AF434)*SIN(PI()/2-AE434)*SIN(PI()/2-'Eigen QTH LOc'!$G$3)+COS(PI()/2-AE434)*COS(PI()/2-'Eigen QTH LOc'!$G$3)","v":{"$error":"#VALUE!"}},{"$error":"#VALUE!"},"ABCDEFGHIJKLMNOPQRSTUVWXABCDEFGHIJKLMNOPQRSTUVWX","\"0123456789\"",{"$f":"IF(B434>0,IF(K434=Infoblad!$C$6,0.5,0.5+AH434*40076.59/2/PI()),\" \")","v":" "},""]
[null,null," ",{"$f":"IF(B435>0,VASTETIJD(C435)-Infoblad!$C$29,\" \")","v":" "}," ",423," ",null,null,null,null,null,{"$f":"IF(L435>0,VLOOKUP(L435,Punten!$B$3:$C$109,2,FALSE),\" \")","v":" "},null," ",null,null,null,"","","","","","",{"$f":"SEARCH(T435,'Eigen QTH LOc'!$I$1)*10-100+V435","v":{"$error":"#VALUE!"}},{"$f":"TRUNC(ROUND((SEARCH(X435,'Eigen QTH LOc'!$I$1)-0.5)*2.5,2))","v":1},{"$f":"IF(Z435>0,(MOD(ROUND((SEARCH(X435,'Eigen QTH LOc'!$I$1)-0.5)*2.5,2),TRUNC(Z435)))*60,0)","v":15},{"$f":"SEARCH(S435,'Eigen QTH LOc'!$I$1)*20-200+U435*2","v":{"$error":"#VALUE!"}},{"$f":"TRUNC((SEARCH(W435,'Eigen QTH LOc'!$I$1)-0.5)*5)","v":2},{"$f":"IF(AC435>0,(MOD((SEARCH(W435,'Eigen QTH LOc'!$I$1)-0.5)*5,TRUNC(AC435)))*60,0)","v":30},{"$error":"#VALUE!"},{"$error":"#VALUE!"},{"$f":"COS('Eigen QTH LOc'!$G$4-AF435)*SIN(PI()/2-AE435)*SIN(PI()/2-'Eigen QTH LOc'!$G$3)+COS(PI()/2-AE435)*COS(PI()/2-'Eigen QTH LOc'!$G$3)","v":{"$error":"#VALUE!"}},{"$error":"#VALUE!"},"ABCDEFGHIJKLMNOPQRSTUVWXABCDEFGHIJKLMNOPQRSTUVWX","\"0123456789\"",{"$f":"IF(B435>0,IF(K435=Infoblad!$C$6,0.5,0.5+AH435*40076.59/2/PI()),\" \")","v":" "},""]
[null,null," ",{"$f":"IF(B436>0,VASTETIJD(C436)-Infoblad!$C$29,\" \")","v":" "}," ",424," ",null,null,null,null,null,{"$f":"IF(L436>0,VLOOKUP(L436,Punten!$B$3:$C$109,2,FALSE),\" \")","v":" "},null," ",null,null,null,"","","","","","",{"$f":"SEARCH(T436,'Eigen QTH LOc'!$I$1)*10-100+V436","v":{"$error":"#VALUE!"}},{"$f":"TRUNC(ROUND((SEARCH(X436,'Eigen QTH LOc'!$I$1)-0.5)*2.5,2))","v":1},{"$f":"IF(Z436>0,(MOD(ROUND((SEARCH(X436,'Eigen QTH LOc'!$I$1)-0.5)*2.5,2),TRUNC(Z436)))*60,0)","v":15},{"$f":"SEARCH(S436,'Eigen QTH LOc'!$I$1)*20-200+U436*2","v":{"$error":"#VALUE!"}},{"$f":"TRUNC((SEARCH(W436,'Eigen QTH LOc'!$I$1)-0.5)*5)","v":2},{"$f":"IF(AC436>0,(MOD((SEARCH(W436,'Eigen QTH LOc'!$I$1)-0.5)*5,TRUNC(AC436)))*60,0)","v":30},{"$error":"#VALUE!"},{"$error":"#VALUE!"},{"$f":"COS('Eigen QTH LOc'!$G$4-AF436)*SIN(PI()/2-AE436)*SIN(PI()/2-'Eigen QTH LOc'!$G$3)+COS(PI()/2-AE436)*COS(PI()/2-'Eigen QTH LOc'!$G$3)","v":{"$error":"#VALUE!"}},{"$error":"#VALUE!"},"ABCDEFGHIJKLMNOPQRSTUVWXABCDEFGHIJKLMNOPQRSTUVWX","\"0123456789\"",{"$f":"IF(B436>0,IF(K436=Infoblad!$C$6,0.5,0.5+AH436*40076.59/2/PI()),\" \")","v":" "},""]
[null,null," ",{"$f":"IF(B437>0,VASTETIJD(C437)-Infoblad!$C$29,\" \")","v":" "}," ",425," ",null,null,null,null,null,{"$f":"IF(L437>0,VLOOKUP(L437,Punten!$B$3:$C$109,2,FALSE),\" \")","v":" "},null," ",null,null,null,"","","","","","",{"$f":"SEARCH(T437,'Eigen QTH LOc'!$I$1)*10-100+V437","v":{"$error":"#VALUE!"}},{"$f":"TRUNC(ROUND((SEARCH(X437,'Eigen QTH LOc'!$I$1)-0.5)*2.5,2))","v":1},{"$f":"IF(Z437>0,(MOD(ROUND((SEARCH(X437,'Eigen QTH LOc'!$I$1)-0.5)*2.5,2),TRUNC(Z437)))*60,0)","v":15},{"$f":"SEARCH(S437,'Eigen QTH LOc'!$I$1)*20-200+U437*2","v":{"$error":"#VALUE!"}},{"$f":"TRUNC((SEARCH(W437,'Eigen QTH LOc'!$I$1)-0.5)*5)","v":2},{"$f":"IF(AC437>0,(MOD((SEARCH(W437,'Eigen QTH LOc'!$I$1)-0.5)*5,TRUNC(AC437)))*60,0)","v":30},{"$error":"#VALUE!"},{"$error":"#VALUE!"},{"$f":"COS('Eigen QTH LOc'!$G$4-AF437)*SIN(PI()/2-AE437)*SIN(PI()/2-'Eigen QTH LOc'!$G$3)+COS(PI()/2-AE437)*COS(PI()/2-'Eigen QTH LOc'!$G$3)","v":{"$error":"#VALUE!"}},{"$error":"#VALUE!"},"ABCDEFGHIJKLMNOPQRSTUVWXABCDEFGHIJKLMNOPQRSTUVWX","\"0123456789\"",{"$f":"IF(B437>0,IF(K437=Infoblad!$C$6,0.5,0.5+AH437*40076.59/2/PI()),\" \")","v":" "},""]
[null,null," ",{"$f":"IF(B438>0,VASTETIJD(C438)-Infoblad!$C$29,\" \")","v":" "}," ",426," ",null,null,null,null,null,{"$f":"IF(L438>0,VLOOKUP(L438,Punten!$B$3:$C$109,2,FALSE),\" \")","v":" "},null," ",null,null,null,"","","","","","",{"$f":"SEARCH(T438,'Eigen QTH LOc'!$I$1)*10-100+V438","v":{"$error":"#VALUE!"}},{"$f":"TRUNC(ROUND((SEARCH(X438,'Eigen QTH LOc'!$I$1)-0.5)*2.5,2))","v":1},{"$f":"IF(Z438>0,(MOD(ROUND((SEARCH(X438,'Eigen QTH LOc'!$I$1)-0.5)*2.5,2),TRUNC(Z438)))*60,0)","v":15},{"$f":"SEARCH(S438,'Eigen QTH LOc'!$I$1)*20-200+U438*2","v":{"$error":"#VALUE!"}},{"$f":"TRUNC((SEARCH(W438,'Eigen QTH LOc'!$I$1)-0.5)*5)","v":2},{"$f":"IF(AC438>0,(MOD((SEARCH(W438,'Eigen QTH LOc'!$I$1)-0.5)*5,TRUNC(AC438)))*60,0)","v":30},{"$error":"#VALUE!"},{"$error":"#VALUE!"},{"$f":"COS('Eigen QTH LOc'!$G$4-AF438)*SIN(PI()/2-AE438)*SIN(PI()/2-'Eigen QTH LOc'!$G$3)+COS(PI()/2-AE438)*COS(PI()/2-'Eigen QTH LOc'!$G$3)","v":{"$error":"#VALUE!"}},{"$error":"#VALUE!"},"ABCDEFGHIJKLMNOPQRSTUVWXABCDEFGHIJKLMNOPQRSTUVWX","\"0123456789\"",{"$f":"IF(B438>0,IF(K438=Infoblad!$C$6,0.5,0.5+AH438*40076.59/2/PI()),\" \")","v":" "},""]
[null,null," ",{"$f":"IF(B439>0,VASTETIJD(C439)-Infoblad!$C$29,\" \")","v":" "}," ",427," ",null,null,null,null,null,{"$f":"IF(L439>0,VLOOKUP(L439,Punten!$B$3:$C$109,2,FALSE),\" \")","v":" "},null," ",null,null,null,"","","","","","",{"$f":"SEARCH(T439,'Eigen QTH LOc'!$I$1)*10-100+V439","v":{"$error":"#VALUE!"}},{"$f":"TRUNC(ROUND((SEARCH(X439,'Eigen QTH LOc'!$I$1)-0.5)*2.5,2))","v":1},{"$f":"IF(Z439>0,(MOD(ROUND((SEARCH(X439,'Eigen QTH LOc'!$I$1)-0.5)*2.5,2),TRUNC(Z439)))*60,0)","v":15},{"$f":"SEARCH(S439,'Eigen QTH LOc'!$I$1)*20-200+U439*2","v":{"$error":"#VALUE!"}},{"$f":"TRUNC((SEARCH(W439,'Eigen QTH LOc'!$I$1)-0.5)*5)","v":2},{"$f":"IF(AC439>0,(MOD((SEARCH(W439,'Eigen QTH LOc'!$I$1)-0.5)*5,TRUNC(AC439)))*60,0)","v":30},{"$error":"#VALUE!"},{"$error":"#VALUE!"},{"$f":"COS('Eigen QTH LOc'!$G$4-AF439)*SIN(PI()/2-AE439)*SIN(PI()/2-'Eigen QTH LOc'!$G$3)+COS(PI()/2-AE439)*COS(PI()/2-'Eigen QTH LOc'!$G$3)","v":{"$error":"#VALUE!"}},{"$error":"#VALUE!"},"ABCDEFGHIJKLMNOPQRSTUVWXABCDEFGHIJKLMNOPQRSTUVWX","\"0123456789\"",{"$f":"IF(B439>0,IF(K439=Infoblad!$C$6,0.5,0.5+AH439*40076.59/2/PI()),\" \")","v":" "},""]
[null,null," ",{"$f":"IF(B440>0,VASTETIJD(C440)-Infoblad!$C$29,\" \")","v":" "}," ",428," ",null,null,null,null,null,{"$f":"IF(L440>0,VLOOKUP(L440,Punten!$B$3:$C$109,2,FALSE),\" \")","v":" "},null," ",null,null,null,"","","","","","",{"$f":"SEARCH(T440,'Eigen QTH LOc'!$I$1)*10-100+V440","v":{"$error":"#VALUE!"}},{"$f":"TRUNC(ROUND((SEARCH(X440,'Eigen QTH LOc'!$I$1)-0.5)*2.5,2))","v":1},{"$f":"IF(Z440>0,(MOD(ROUND((SEARCH(X440,'Eigen QTH LOc'!$I$1)-0.5)*2.5,2),TRUNC(Z440)))*60,0)","v":15},{"$f":"SEARCH(S440,'Eigen QTH LOc'!$I$1)*20-200+U440*2","v":{"$error":"#VALUE!"}},{"$f":"TRUNC((SEARCH(W440,'Eigen QTH LOc'!$I$1)-0.5)*5)","v":2},{"$f":"IF(AC440>0,(MOD((SEARCH(W440,'Eigen QTH LOc'!$I$1)-0.5)*5,TRUNC(AC440)))*60,0)","v":30},{"$error":"#VALUE!"},{"$error":"#VALUE!"},{"$f":"COS('Eigen QTH LOc'!$G$4-AF440)*SIN(PI()/2-AE440)*SIN(PI()/2-'Eigen QTH LOc'!$G$3)+COS(PI()/2-AE440)*COS(PI()/2-'Eigen QTH LOc'!$G$3)","v":{"$error":"#VALUE!"}},{"$error":"#VALUE!"},"ABCDEFGHIJKLMNOPQRSTUVWXABCDEFGHIJKLMNOPQRSTUVWX","\"0123456789\"",{"$f":"IF(B440>0,IF(K440=Infoblad!$C$6,0.5,0.5+AH440*40076.59/2/PI()),\" \")","v":" "},""]
[null,null," ",{"$f":"IF(B441>0,VASTETIJD(C441)-Infoblad!$C$29,\" \")","v":" "}," ",429," ",null,null,null,null,null,{"$f":"IF(L441>0,VLOOKUP(L441,Punten!$B$3:$C$109,2,FALSE),\" \")","v":" "},null," ",null,null,null,"","","","","","",{"$f":"SEARCH(T441,'Eigen QTH LOc'!$I$1)*10-100+V441","v":{"$error":"#VALUE!"}},{"$f":"TRUNC(ROUND((SEARCH(X441,'Eigen QTH LOc'!$I$1)-0.5)*2.5,2))","v":1},{"$f":"IF(Z441>0,(MOD(ROUND((SEARCH(X441,'Eigen QTH LOc'!$I$1)-0.5)*2.5,2),TRUNC(Z441)))*60,0)","v":15},{"$f":"SEARCH(S441,'Eigen QTH LOc'!$I$1)*20-200+U441*2","v":{"$error":"#VALUE!"}},{"$f":"TRUNC((SEARCH(W441,'Eigen QTH LOc'!$I$1)-0.5)*5)","v":2},{"$f":"IF(AC441>0,(MOD((SEARCH(W441,'Eigen QTH LOc'!$I$1)-0.5)*5,TRUNC(AC441)))*60,0)","v":30},{"$error":"#VALUE!"},{"$error":"#VALUE!"},{"$f":"COS('Eigen QTH LOc'!$G$4-AF441)*SIN(PI()/2-AE441)*SIN(PI()/2-'Eigen QTH LOc'!$G$3)+COS(PI()/2-AE441)*COS(PI()/2-'Eigen QTH LOc'!$G$3)","v":{"$error":"#VALUE!"}},{"$error":"#VALUE!"},"ABCDEFGHIJKLMNOPQRSTUVWXABCDEFGHIJKLMNOPQRSTUVWX","\"0123456789\"",{"$f":"IF(B441>0,IF(K441=Infoblad!$C$6,0.5,0.5+AH441*40076.59/2/PI()),\" \")","v":" "},""]
[null,null," ",{"$f":"IF(B442>0,VASTETIJD(C442)-Infoblad!$C$29,\" \")","v":" "}," ",430," ",null,null,null,null,null,{"$f":"IF(L442>0,VLOOKUP(L442,Punten!$B$3:$C$109,2,FALSE),\" \")","v":" "},null," ",null,null,null,"","","","","","",{"$f":"SEARCH(T442,'Eigen QTH LOc'!$I$1)*10-100+V442","v":{"$error":"#VALUE!"}},{"$f":"TRUNC(ROUND((SEARCH(X442,'Eigen QTH LOc'!$I$1)-0.5)*2.5,2))","v":1},{"$f":"IF(Z442>0,(MOD(ROUND((SEARCH(X442,'Eigen QTH LOc'!$I$1)-0.5)*2.5,2),TRUNC(Z442)))*60,0)","v":15},{"$f":"SEARCH(S442,'Eigen QTH LOc'!$I$1)*20-200+U442*2","v":{"$error":"#VALUE!"}},{"$f":"TRUNC((SEARCH(W442,'Eigen QTH LOc'!$I$1)-0.5)*5)","v":2},{"$f":"IF(AC442>0,(MOD((SEARCH(W442,'Eigen QTH LOc'!$I$1)-0.5)*5,TRUNC(AC442)))*60,0)","v":30},{"$error":"#VALUE!"},{"$error":"#VALUE!"},{"$f":"COS('Eigen QTH LOc'!$G$4-AF442)*SIN(PI()/2-AE442)*SIN(PI()/2-'Eigen QTH LOc'!$G$3)+COS(PI()/2-AE442)*COS(PI()/2-'Eigen QTH LOc'!$G$3)","v":{"$error":"#VALUE!"}},{"$error":"#VALUE!"},"ABCDEFGHIJKLMNOPQRSTUVWXABCDEFGHIJKLMNOPQRSTUVWX","\"0123456789\"",{"$f":"IF(B442>0,IF(K442=Infoblad!$C$6,0.5,0.5+AH442*40076.59/2/PI()),\" \")","v":" "},""]
[null,null," ",{"$f":"IF(B443>0,VASTETIJD(C443)-Infoblad!$C$29,\" \")","v":" "}," ",431," ",null,null,null,null,null,{"$f":"IF(L443>0,VLOOKUP(L443,Punten!$B$3:$C$109,2,FALSE),\" \")","v":" "},null," ",null,null,null,"","","","","","",{"$f":"SEARCH(T443,'Eigen QTH LOc'!$I$1)*10-100+V443","v":{"$error":"#VALUE!"}},{"$f":"TRUNC(ROUND((SEARCH(X443,'Eigen QTH LOc'!$I$1)-0.5)*2.5,2))","v":1},{"$f":"IF(Z443>0,(MOD(ROUND((SEARCH(X443,'Eigen QTH LOc'!$I$1)-0.5)*2.5,2),TRUNC(Z443)))*60,0)","v":15},{"$f":"SEARCH(S443,'Eigen QTH LOc'!$I$1)*20-200+U443*2","v":{"$error":"#VALUE!"}},{"$f":"TRUNC((SEARCH(W443,'Eigen QTH LOc'!$I$1)-0.5)*5)","v":2},{"$f":"IF(AC443>0,(MOD((SEARCH(W443,'Eigen QTH LOc'!$I$1)-0.5)*5,TRUNC(AC443)))*60,0)","v":30},{"$error":"#VALUE!"},{"$error":"#VALUE!"},{"$f":"COS('Eigen QTH LOc'!$G$4-AF443)*SIN(PI()/2-AE443)*SIN(PI()/2-'Eigen QTH LOc'!$G$3)+COS(PI()/2-AE443)*COS(PI()/2-'Eigen QTH LOc'!$G$3)","v":{"$error":"#VALUE!"}},{"$error":"#VALUE!"},"ABCDEFGHIJKLMNOPQRSTUVWXABCDEFGHIJKLMNOPQRSTUVWX","\"0123456789\"",{"$f":"IF(B443>0,IF(K443=Infoblad!$C$6,0.5,0.5+AH443*40076.59/2/PI()),\" \")","v":" "},""]
[null,null," ",{"$f":"IF(B444>0,VASTETIJD(C444)-Infoblad!$C$29,\" \")","v":" "}," ",432," ",null,null,null,null,null,{"$f":"IF(L444>0,VLOOKUP(L444,Punten!$B$3:$C$109,2,FALSE),\" \")","v":" "},null," ",null,null,null,"","","","","","",{"$f":"SEARCH(T444,'Eigen QTH LOc'!$I$1)*10-100+V444","v":{"$error":"#VALUE!"}},{"$f":"TRUNC(ROUND((SEARCH(X444,'Eigen QTH LOc'!$I$1)-0.5)*2.5,2))","v":1},{"$f":"IF(Z444>0,(MOD(ROUND((SEARCH(X444,'Eigen QTH LOc'!$I$1)-0.5)*2.5,2),TRUNC(Z444)))*60,0)","v":15},{"$f":"SEARCH(S444,'Eigen QTH LOc'!$I$1)*20-200+U444*2","v":{"$error":"#VALUE!"}},{"$f":"TRUNC((SEARCH(W444,'Eigen QTH LOc'!$I$1)-0.5)*5)","v":2},{"$f":"IF(AC444>0,(MOD((SEARCH(W444,'Eigen QTH LOc'!$I$1)-0.5)*5,TRUNC(AC444)))*60,0)","v":30},{"$error":"#VALUE!"},{"$error":"#VALUE!"},{"$f":"COS('Eigen QTH LOc'!$G$4-AF444)*SIN(PI()/2-AE444)*SIN(PI()/2-'Eigen QTH LOc'!$G$3)+COS(PI()/2-AE444)*COS(PI()/2-'Eigen QTH LOc'!$G$3)","v":{"$error":"#VALUE!"}},{"$error":"#VALUE!"},"ABCDEFGHIJKLMNOPQRSTUVWXABCDEFGHIJKLMNOPQRSTUVWX","\"0123456789\"",{"$f":"IF(B444>0,IF(K444=Infoblad!$C$6,0.5,0.5+AH444*40076.59/2/PI()),\" \")","v":" "},""]
[null,null," ",{"$f":"IF(B445>0,VASTETIJD(C445)-Infoblad!$C$29,\" \")","v":" "}," ",433," ",null,null,null,null,null,{"$f":"IF(L445>0,VLOOKUP(L445,Punten!$B$3:$C$109,2,FALSE),\" \")","v":" "},null," ",null,null,null,"","","","","","",{"$f":"SEARCH(T445,'Eigen QTH LOc'!$I$1)*10-100+V445","v":{"$error":"#VALUE!"}},{"$f":"TRUNC(ROUND((SEARCH(X445,'Eigen QTH LOc'!$I$1)-0.5)*2.5,2))","v":1},{"$f":"IF(Z445>0,(MOD(ROUND((SEARCH(X445,'Eigen QTH LOc'!$I$1)-0.5)*2.5,2),TRUNC(Z445)))*60,0)","v":15},{"$f":"SEARCH(S445,'Eigen QTH LOc'!$I$1)*20-200+U445*2","v":{"$error":"#VALUE!"}},{"$f":"TRUNC((SEARCH(W445,'Eigen QTH LOc'!$I$1)-0.5)*5)","v":2},{"$f":"IF(AC445>0,(MOD((SEARCH(W445,'Eigen QTH LOc'!$I$1)-0.5)*5,TRUNC(AC445)))*60,0)","v":30},{"$error":"#VALUE!"},{"$error":"#VALUE!"},{"$f":"COS('Eigen QTH LOc'!$G$4-AF445)*SIN(PI()/2-AE445)*SIN(PI()/2-'Eigen QTH LOc'!$G$3)+COS(PI()/2-AE445)*COS(PI()/2-'Eigen QTH LOc'!$G$3)","v":{"$error":"#VALUE!"}},{"$error":"#VALUE!"},"ABCDEFGHIJKLMNOPQRSTUVWXABCDEFGHIJKLMNOPQRSTUVWX","\"0123456789\"",{"$f":"IF(B445>0,IF(K445=Infoblad!$C$6,0.5,0.5+AH445*40076.59/2/PI()),\" \")","v":" "},""]
[null,null," ",{"$f":"IF(B446>0,VASTETIJD(C446)-Infoblad!$C$29,\" \")","v":" "}," ",434," ",null,null,null,null,null,{"$f":"IF(L446>0,VLOOKUP(L446,Punten!$B$3:$C$109,2,FALSE),\" \")","v":" "},null," ",null,null,null,"","","","","","",{"$f":"SEARCH(T446,'Eigen QTH LOc'!$I$1)*10-100+V446","v":{"$error":"#VALUE!"}},{"$f":"TRUNC(ROUND((SEARCH(X446,'Eigen QTH LOc'!$I$1)-0.5)*2.5,2))","v":1},{"$f":"IF(Z446>0,(MOD(ROUND((SEARCH(X446,'Eigen QTH LOc'!$I$1)-0.5)*2.5,2),TRUNC(Z446)))*60,0)","v":15},{"$f":"SEARCH(S446,'Eigen QTH LOc'!$I$1)*20-200+U446*2","v":{"$error":"#VALUE!"}},{"$f":"TRUNC((SEARCH(W446,'Eigen QTH LOc'!$I$1)-0.5)*5)","v":2},{"$f":"IF(AC446>0,(MOD((SEARCH(W446,'Eigen QTH LOc'!$I$1)-0.5)*5,TRUNC(AC446)))*60,0)","v":30},{"$error":"#VALUE!"},{"$error":"#VALUE!"},{"$f":"COS('Eigen QTH LOc'!$G$4-AF446)*SIN(PI()/2-AE446)*SIN(PI()/2-'Eigen QTH LOc'!$G$3)+COS(PI()/2-AE446)*COS(PI()/2-'Eigen QTH LOc'!$G$3)","v":{"$error":"#VALUE!"}},{"$error":"#VALUE!"},"ABCDEFGHIJKLMNOPQRSTUVWXABCDEFGHIJKLMNOPQRSTUVWX","\"0123456789\"",{"$f":"IF(B446>0,IF(K446=Infoblad!$C$6,0.5,0.5+AH446*40076.59/2/PI()),\" \")","v":" "},""]
[null,null," ",{"$f":"IF(B447>0,VASTETIJD(C447)-Infoblad!$C$29,\" \")","v":" "}," ",435," ",null,null,null,null,null,{"$f":"IF(L447>0,VLOOKUP(L447,Punten!$B$3:$C$109,2,FALSE),\" \")","v":" "},null," ",null,null,null,"","","","","","",{"$f":"SEARCH(T447,'Eigen QTH LOc'!$I$1)*10-100+V447","v":{"$error":"#VALUE!"}},{"$f":"TRUNC(ROUND((SEARCH(X447,'Eigen QTH LOc'!$I$1)-0.5)*2.5,2))","v":1},{"$f":"IF(Z447>0,(MOD(ROUND((SEARCH(X447,'Eigen QTH LOc'!$I$1)-0.5)*2.5,2),TRUNC(Z447)))*60,0)","v":15},{"$f":"SEARCH(S447,'Eigen QTH LOc'!$I$1)*20-200+U447*2","v":{"$error":"#VALUE!"}},{"$f":"TRUNC((SEARCH(W447,'Eigen QTH LOc'!$I$1)-0.5)*5)","v":2},{"$f":"IF(AC447>0,(MOD((SEARCH(W447,'Eigen QTH LOc'!$I$1)-0.5)*5,TRUNC(AC447)))*60,0)","v":30},{"$error":"#VALUE!"},{"$error":"#VALUE!"},{"$f":"COS('Eigen QTH LOc'!$G$4-AF447)*SIN(PI()/2-AE447)*SIN(PI()/2-'Eigen QTH LOc'!$G$3)+COS(PI()/2-AE447)*COS(PI()/2-'Eigen QTH LOc'!$G$3)","v":{"$error":"#VALUE!"}},{"$error":"#VALUE!"},"ABCDEFGHIJKLMNOPQRSTUVWXABCDEFGHIJKLMNOPQRSTUVWX","\"0123456789\"",{"$f":"IF(B447>0,IF(K447=Infoblad!$C$6,0.5,0.5+AH447*40076.59/2/PI()),\" \")","v":" "},""]
[null,null," ",{"$f":"IF(B448>0,VASTETIJD(C448)-Infoblad!$C$29,\" \")","v":" "}," ",436," ",null,null,null,null,null,{"$f":"IF(L448>0,VLOOKUP(L448,Punten!$B$3:$C$109,2,FALSE),\" \")","v":" "},null," ",null,null,null,"","","","","","",{"$f":"SEARCH(T448,'Eigen QTH LOc'!$I$1)*10-100+V448","v":{"$error":"#VALUE!"}},{"$f":"TRUNC(ROUND((SEARCH(X448,'Eigen QTH LOc'!$I$1)-0.5)*2.5,2))","v":1},{"$f":"IF(Z448>0,(MOD(ROUND((SEARCH(X448,'Eigen QTH LOc'!$I$1)-0.5)*2.5,2),TRUNC(Z448)))*60,0)","v":15},{"$f":"SEARCH(S448,'Eigen QTH LOc'!$I$1)*20-200+U448*2","v":{"$error":"#VALUE!"}},{"$f":"TRUNC((SEARCH(W448,'Eigen QTH LOc'!$I$1)-0.5)*5)","v":2},{"$f":"IF(AC448>0,(MOD((SEARCH(W448,'Eigen QTH LOc'!$I$1)-0.5)*5,TRUNC(AC448)))*60,0)","v":30},{"$error":"#VALUE!"},{"$error":"#VALUE!"},{"$f":"COS('Eigen QTH LOc'!$G$4-AF448)*SIN(PI()/2-AE448)*SIN(PI()/2-'Eigen QTH LOc'!$G$3)+COS(PI()/2-AE448)*COS(PI()/2-'Eigen QTH LOc'!$G$3)","v":{"$error":"#VALUE!"}},{"$error":"#VALUE!"},"ABCDEFGHIJKLMNOPQRSTUVWXABCDEFGHIJKLMNOPQRSTUVWX","\"0123456789\"",{"$f":"IF(B448>0,IF(K448=Infoblad!$C$6,0.5,0.5+AH448*40076.59/2/PI()),\" \")","v":" "},""]
[null,null," ",{"$f":"IF(B449>0,VASTETIJD(C449)-Infoblad!$C$29,\" \")","v":" "}," ",437," ",null,null,null,null,null,{"$f":"IF(L449>0,VLOOKUP(L449,Punten!$B$3:$C$109,2,FALSE),\" \")","v":" "},null," ",null,null,null,"","","","","","",{"$f":"SEARCH(T449,'Eigen QTH LOc'!$I$1)*10-100+V449","v":{"$error":"#VALUE!"}},{"$f":"TRUNC(ROUND((SEARCH(X449,'Eigen QTH LOc'!$I$1)-0.5)*2.5,2))","v":1},{"$f":"IF(Z449>0,(MOD(ROUND((SEARCH(X449,'Eigen QTH LOc'!$I$1)-0.5)*2.5,2),TRUNC(Z449)))*60,0)","v":15},{"$f":"SEARCH(S449,'Eigen QTH LOc'!$I$1)*20-200+U449*2","v":{"$error":"#VALUE!"}},{"$f":"TRUNC((SEARCH(W449,'Eigen QTH LOc'!$I$1)-0.5)*5)","v":2},{"$f":"IF(AC449>0,(MOD((SEARCH(W449,'Eigen QTH LOc'!$I$1)-0.5)*5,TRUNC(AC449)))*60,0)","v":30},{"$error":"#VALUE!"},{"$error":"#VALUE!"},{"$f":"COS('Eigen QTH LOc'!$G$4-AF449)*SIN(PI()/2-AE449)*SIN(PI()/2-'Eigen QTH LOc'!$G$3)+COS(PI()/2-AE449)*COS(PI()/2-'Eigen QTH LOc'!$G$3)","v":{"$error":"#VALUE!"}},{"$error":"#VALUE!"},"ABCDEFGHIJKLMNOPQRSTUVWXABCDEFGHIJKLMNOPQRSTUVWX","\"0123456789\"",{"$f":"IF(B449>0,IF(K449=Infoblad!$C$6,0.5,0.5+AH449*40076.59/2/PI()),\" \")","v":" "},""]
[null,null," ",{"$f":"IF(B450>0,VASTETIJD(C450)-Infoblad!$C$29,\" \")","v":" "}," ",438," ",null,null,null,null,null,{"$f":"IF(L450>0,VLOOKUP(L450,Punten!$B$3:$C$109,2,FALSE),\" \")","v":" "},null," ",null,null,null,"","","","","","",{"$f":"SEARCH(T450,'Eigen QTH LOc'!$I$1)*10-100+V450","v":{"$error":"#VALUE!"}},{"$f":"TRUNC(ROUND((SEARCH(X450,'Eigen QTH LOc'!$I$1)-0.5)*2.5,2))","v":1},{"$f":"IF(Z450>0,(MOD(ROUND((SEARCH(X450,'Eigen QTH LOc'!$I$1)-0.5)*2.5,2),TRUNC(Z450)))*60,0)","v":15},{"$f":"SEARCH(S450,'Eigen QTH LOc'!$I$1)*20-200+U450*2","v":{"$error":"#VALUE!"}},{"$f":"TRUNC((SEARCH(W450,'Eigen QTH LOc'!$I$1)-0.5)*5)","v":2},{"$f":"IF(AC450>0,(MOD((SEARCH(W450,'Eigen QTH LOc'!$I$1)-0.5)*5,TRUNC(AC450)))*60,0)","v":30},{"$error":"#VALUE!"},{"$error":"#VALUE!"},{"$f":"COS('Eigen QTH LOc'!$G$4-AF450)*SIN(PI()/2-AE450)*SIN(PI()/2-'Eigen QTH LOc'!$G$3)+COS(PI()/2-AE450)*COS(PI()/2-'Eigen QTH LOc'!$G$3)","v":{"$error":"#VALUE!"}},{"$error":"#VALUE!"},"ABCDEFGHIJKLMNOPQRSTUVWXABCDEFGHIJKLMNOPQRSTUVWX","\"0123456789\"",{"$f":"IF(B450>0,IF(K450=Infoblad!$C$6,0.5,0.5+AH450*40076.59/2/PI()),\" \")","v":" "},""]
[null,null," ",{"$f":"IF(B451>0,VASTETIJD(C451)-Infoblad!$C$29,\" \")","v":" "}," ",439," ",null,null,null,null,null,{"$f":"IF(L451>0,VLOOKUP(L451,Punten!$B$3:$C$109,2,FALSE),\" \")","v":" "},null," ",null,null,null,"","","","","","",{"$f":"SEARCH(T451,'Eigen QTH LOc'!$I$1)*10-100+V451","v":{"$error":"#VALUE!"}},{"$f":"TRUNC(ROUND((SEARCH(X451,'Eigen QTH LOc'!$I$1)-0.5)*2.5,2))","v":1},{"$f":"IF(Z451>0,(MOD(ROUND((SEARCH(X451,'Eigen QTH LOc'!$I$1)-0.5)*2.5,2),TRUNC(Z451)))*60,0)","v":15},{"$f":"SEARCH(S451,'Eigen QTH LOc'!$I$1)*20-200+U451*2","v":{"$error":"#VALUE!"}},{"$f":"TRUNC((SEARCH(W451,'Eigen QTH LOc'!$I$1)-0.5)*5)","v":2},{"$f":"IF(AC451>0,(MOD((SEARCH(W451,'Eigen QTH LOc'!$I$1)-0.5)*5,TRUNC(AC451)))*60,0)","v":30},{"$error":"#VALUE!"},{"$error":"#VALUE!"},{"$f":"COS('Eigen QTH LOc'!$G$4-AF451)*SIN(PI()/2-AE451)*SIN(PI()/2-'Eigen QTH LOc'!$G$3)+COS(PI()/2-AE451)*COS(PI()/2-'Eigen QTH LOc'!$G$3)","v":{"$error":"#VALUE!"}},{"$error":"#VALUE!"},"ABCDEFGHIJKLMNOPQRSTUVWXABCDEFGHIJKLMNOPQRSTUVWX","\"0123456789\"",{"$f":"IF(B451>0,IF(K451=Infoblad!$C$6,0.5,0.5+AH451*40076.59/2/PI()),\" \")","v":" "},""]
[null,null," ",{"$f":"IF(B452>0,VASTETIJD(C452)-Infoblad!$C$29,\" \")","v":" "}," ",440," ",null,null,null,null,null,{"$f":"IF(L452>0,VLOOKUP(L452,Punten!$B$3:$C$109,2,FALSE),\" \")","v":" "},null," ",null,null,null,"","","","","","",{"$f":"SEARCH(T452,'Eigen QTH LOc'!$I$1)*10-100+V452","v":{"$error":"#VALUE!"}},{"$f":"TRUNC(ROUND((SEARCH(X452,'Eigen QTH LOc'!$I$1)-0.5)*2.5,2))","v":1},{"$f":"IF(Z452>0,(MOD(ROUND((SEARCH(X452,'Eigen QTH LOc'!$I$1)-0.5)*2.5,2),TRUNC(Z452)))*60,0)","v":15},{"$f":"SEARCH(S452,'Eigen QTH LOc'!$I$1)*20-200+U452*2","v":{"$error":"#VALUE!"}},{"$f":"TRUNC((SEARCH(W452,'Eigen QTH LOc'!$I$1)-0.5)*5)","v":2},{"$f":"IF(AC452>0,(MOD((SEARCH(W452,'Eigen QTH LOc'!$I$1)-0.5)*5,TRUNC(AC452)))*60,0)","v":30},{"$error":"#VALUE!"},{"$error":"#VALUE!"},{"$f":"COS('Eigen QTH LOc'!$G$4-AF452)*SIN(PI()/2-AE452)*SIN(PI()/2-'Eigen QTH LOc'!$G$3)+COS(PI()/2-AE452)*COS(PI()/2-'Eigen QTH LOc'!$G$3)","v":{"$error":"#VALUE!"}},{"$error":"#VALUE!"},"ABCDEFGHIJKLMNOPQRSTUVWXABCDEFGHIJKLMNOPQRSTUVWX","\"0123456789\"",{"$f":"IF(B452>0,IF(K452=Infoblad!$C$6,0.5,0.5+AH452*40076.59/2/PI()),\" \")","v":" "},""]
[null,null," ",{"$f":"IF(B453>0,VASTETIJD(C453)-Infoblad!$C$29,\" \")","v":" "}," ",441," ",null,null,null,null,null,{"$f":"IF(L453>0,VLOOKUP(L453,Punten!$B$3:$C$109,2,FALSE),\" \")","v":" "},null," ",null,null,null,"","","","","","",{"$f":"SEARCH(T453,'Eigen QTH LOc'!$I$1)*10-100+V453","v":{"$error":"#VALUE!"}},{"$f":"TRUNC(ROUND((SEARCH(X453,'Eigen QTH LOc'!$I$1)-0.5)*2.5,2))","v":1},{"$f":"IF(Z453>0,(MOD(ROUND((SEARCH(X453,'Eigen QTH LOc'!$I$1)-0.5)*2.5,2),TRUNC(Z453)))*60,0)","v":15},{"$f":"SEARCH(S453,'Eigen QTH LOc'!$I$1)*20-200+U453*2","v":{"$error":"#VALUE!"}},{"$f":"TRUNC((SEARCH(W453,'Eigen QTH LOc'!$I$1)-0.5)*5)","v":2},{"$f":"IF(AC453>0,(MOD((SEARCH(W453,'Eigen QTH LOc'!$I$1)-0.5)*5,TRUNC(AC453)))*60,0)","v":30},{"$error":"#VALUE!"},{"$error":"#VALUE!"},{"$f":"COS('Eigen QTH LOc'!$G$4-AF453)*SIN(PI()/2-AE453)*SIN(PI()/2-'Eigen QTH LOc'!$G$3)+COS(PI()/2-AE453)*COS(PI()/2-'Eigen QTH LOc'!$G$3)","v":{"$error":"#VALUE!"}},{"$error":"#VALUE!"},"ABCDEFGHIJKLMNOPQRSTUVWXABCDEFGHIJKLMNOPQRSTUVWX","\"0123456789\"",{"$f":"IF(B453>0,IF(K453=Infoblad!$C$6,0.5,0.5+AH453*40076.59/2/PI()),\" \")","v":" "},""]
[null,null," ",{"$f":"IF(B454>0,VASTETIJD(C454)-Infoblad!$C$29,\" \")","v":" "}," ",442," ",null,null,null,null,null,{"$f":"IF(L454>0,VLOOKUP(L454,Punten!$B$3:$C$109,2,FALSE),\" \")","v":" "},null," ",null,null,null,"","","","","","",{"$f":"SEARCH(T454,'Eigen QTH LOc'!$I$1)*10-100+V454","v":{"$error":"#VALUE!"}},{"$f":"TRUNC(ROUND((SEARCH(X454,'Eigen QTH LOc'!$I$1)-0.5)*2.5,2))","v":1},{"$f":"IF(Z454>0,(MOD(ROUND((SEARCH(X454,'Eigen QTH LOc'!$I$1)-0.5)*2.5,2),TRUNC(Z454)))*60,0)","v":15},{"$f":"SEARCH(S454,'Eigen QTH LOc'!$I$1)*20-200+U454*2","v":{"$error":"#VALUE!"}},{"$f":"TRUNC((SEARCH(W454,'Eigen QTH LOc'!$I$1)-0.5)*5)","v":2},{"$f":"IF(AC454>0,(MOD((SEARCH(W454,'Eigen QTH LOc'!$I$1)-0.5)*5,TRUNC(AC454)))*60,0)","v":30},{"$error":"#VALUE!"},{"$error":"#VALUE!"},{"$f":"COS('Eigen QTH LOc'!$G$4-AF454)*SIN(PI()/2-AE454)*SIN(PI()/2-'Eigen QTH LOc'!$G$3)+COS(PI()/2-AE454)*COS(PI()/2-'Eigen QTH LOc'!$G$3)","v":{"$error":"#VALUE!"}},{"$error":"#VALUE!"},"ABCDEFGHIJKLMNOPQRSTUVWXABCDEFGHIJKLMNOPQRSTUVWX","\"0123456789\"",{"$f":"IF(B454>0,IF(K454=Infoblad!$C$6,0.5,0.5+AH454*40076.59/2/PI()),\" \")","v":" "},""]
[null,null," ",{"$f":"IF(B455>0,VASTETIJD(C455)-Infoblad!$C$29,\" \")","v":" "}," ",443," ",null,null,null,null,null,{"$f":"IF(L455>0,VLOOKUP(L455,Punten!$B$3:$C$109,2,FALSE),\" \")","v":" "},null," ",null,null,null,"","","","","","",{"$f":"SEARCH(T455,'Eigen QTH LOc'!$I$1)*10-100+V455","v":{"$error":"#VALUE!"}},{"$f":"TRUNC(ROUND((SEARCH(X455,'Eigen QTH LOc'!$I$1)-0.5)*2.5,2))","v":1},{"$f":"IF(Z455>0,(MOD(ROUND((SEARCH(X455,'Eigen QTH LOc'!$I$1)-0.5)*2.5,2),TRUNC(Z455)))*60,0)","v":15},{"$f":"SEARCH(S455,'Eigen QTH LOc'!$I$1)*20-200+U455*2","v":{"$error":"#VALUE!"}},{"$f":"TRUNC((SEARCH(W455,'Eigen QTH LOc'!$I$1)-0.5)*5)","v":2},{"$f":"IF(AC455>0,(MOD((SEARCH(W455,'Eigen QTH LOc'!$I$1)-0.5)*5,TRUNC(AC455)))*60,0)","v":30},{"$error":"#VALUE!"},{"$error":"#VALUE!"},{"$f":"COS('Eigen QTH LOc'!$G$4-AF455)*SIN(PI()/2-AE455)*SIN(PI()/2-'Eigen QTH LOc'!$G$3)+COS(PI()/2-AE455)*COS(PI()/2-'Eigen QTH LOc'!$G$3)","v":{"$error":"#VALUE!"}},{"$error":"#VALUE!"},"ABCDEFGHIJKLMNOPQRSTUVWXABCDEFGHIJKLMNOPQRSTUVWX","\"0123456789\"",{"$f":"IF(B455>0,IF(K455=Infoblad!$C$6,0.5,0.5+AH455*40076.59/2/PI()),\" \")","v":" "},""]
[null,null," ",{"$f":"IF(B456>0,VASTETIJD(C456)-Infoblad!$C$29,\" \")","v":" "}," ",444," ",null,null,null,null,null,{"$f":"IF(L456>0,VLOOKUP(L456,Punten!$B$3:$C$109,2,FALSE),\" \")","v":" "},null," ",null,null,null,"","","","","","",{"$f":"SEARCH(T456,'Eigen QTH LOc'!$I$1)*10-100+V456","v":{"$error":"#VALUE!"}},{"$f":"TRUNC(ROUND((SEARCH(X456,'Eigen QTH LOc'!$I$1)-0.5)*2.5,2))","v":1},{"$f":"IF(Z456>0,(MOD(ROUND((SEARCH(X456,'Eigen QTH LOc'!$I$1)-0.5)*2.5,2),TRUNC(Z456)))*60,0)","v":15},{"$f":"SEARCH(S456,'Eigen QTH LOc'!$I$1)*20-200+U456*2","v":{"$error":"#VALUE!"}},{"$f":"TRUNC((SEARCH(W456,'Eigen QTH LOc'!$I$1)-0.5)*5)","v":2},{"$f":"IF(AC456>0,(MOD((SEARCH(W456,'Eigen QTH LOc'!$I$1)-0.5)*5,TRUNC(AC456)))*60,0)","v":30},{"$error":"#VALUE!"},{"$error":"#VALUE!"},{"$f":"COS('Eigen QTH LOc'!$G$4-AF456)*SIN(PI()/2-AE456)*SIN(PI()/2-'Eigen QTH LOc'!$G$3)+COS(PI()/2-AE456)*COS(PI()/2-'Eigen QTH LOc'!$G$3)","v":{"$error":"#VALUE!"}},{"$error":"#VALUE!"},"ABCDEFGHIJKLMNOPQRSTUVWXABCDEFGHIJKLMNOPQRSTUVWX","\"0123456789\"",{"$f":"IF(B456>0,IF(K456=Infoblad!$C$6,0.5,0.5+AH456*40076.59/2/PI()),\" \")","v":" "},""]
[null,null," ",{"$f":"IF(B457>0,VASTETIJD(C457)-Infoblad!$C$29,\" \")","v":" "}," ",445," ",null,null,null,null,null,{"$f":"IF(L457>0,VLOOKUP(L457,Punten!$B$3:$C$109,2,FALSE),\" \")","v":" "},null," ",null,null,null,"","","","","","",{"$f":"SEARCH(T457,'Eigen QTH LOc'!$I$1)*10-100+V457","v":{"$error":"#VALUE!"}},{"$f":"TRUNC(ROUND((SEARCH(X457,'Eigen QTH LOc'!$I$1)-0.5)*2.5,2))","v":1},{"$f":"IF(Z457>0,(MOD(ROUND((SEARCH(X457,'Eigen QTH LOc'!$I$1)-0.5)*2.5,2),TRUNC(Z457)))*60,0)","v":15},{"$f":"SEARCH(S457,'Eigen QTH LOc'!$I$1)*20-200+U457*2","v":{"$error":"#VALUE!"}},{"$f":"TRUNC((SEARCH(W457,'Eigen QTH LOc'!$I$1)-0.5)*5)","v":2},{"$f":"IF(AC457>0,(MOD((SEARCH(W457,'Eigen QTH LOc'!$I$1)-0.5)*5,TRUNC(AC457)))*60,0)","v":30},{"$error":"#VALUE!"},{"$error":"#VALUE!"},{"$f":"COS('Eigen QTH LOc'!$G$4-AF457)*SIN(PI()/2-AE457)*SIN(PI()/2-'Eigen QTH LOc'!$G$3)+COS(PI()/2-AE457)*COS(PI()/2-'Eigen QTH LOc'!$G$3)","v":{"$error":"#VALUE!"}},{"$error":"#VALUE!"},"ABCDEFGHIJKLMNOPQRSTUVWXABCDEFGHIJKLMNOPQRSTUVWX","\"0123456789\"",{"$f":"IF(B457>0,IF(K457=Infoblad!$C$6,0.5,0.5+AH457*40076.59/2/PI()),\" \")","v":" "},""]
[null,null," ",{"$f":"IF(B458>0,VASTETIJD(C458)-Infoblad!$C$29,\" \")","v":" "}," ",446," ",null,null,null,null,null,{"$f":"IF(L458>0,VLOOKUP(L458,Punten!$B$3:$C$109,2,FALSE),\" \")","v":" "},null," ",null,null,null,"","","","","","",{"$f":"SEARCH(T458,'Eigen QTH LOc'!$I$1)*10-100+V458","v":{"$error":"#VALUE!"}},{"$f":"TRUNC(ROUND((SEARCH(X458,'Eigen QTH LOc'!$I$1)-0.5)*2.5,2))","v":1},{"$f":"IF(Z458>0,(MOD(ROUND((SEARCH(X458,'Eigen QTH LOc'!$I$1)-0.5)*2.5,2),TRUNC(Z458)))*60,0)","v":15},{"$f":"SEARCH(S458,'Eigen QTH LOc'!$I$1)*20-200+U458*2","v":{"$error":"#VALUE!"}},{"$f":"TRUNC((SEARCH(W458,'Eigen QTH LOc'!$I$1)-0.5)*5)","v":2},{"$f":"IF(AC458>0,(MOD((SEARCH(W458,'Eigen QTH LOc'!$I$1)-0.5)*5,TRUNC(AC458)))*60,0)","v":30},{"$error":"#VALUE!"},{"$error":"#VALUE!"},{"$f":"COS('Eigen QTH LOc'!$G$4-AF458)*SIN(PI()/2-AE458)*SIN(PI()/2-'Eigen QTH LOc'!$G$3)+COS(PI()/2-AE458)*COS(PI()/2-'Eigen QTH LOc'!$G$3)","v":{"$error":"#VALUE!"}},{"$error":"#VALUE!"},"ABCDEFGHIJKLMNOPQRSTUVWXABCDEFGHIJKLMNOPQRSTUVWX","\"0123456789\"",{"$f":"IF(B458>0,IF(K458=Infoblad!$C$6,0.5,0.5+AH458*40076.59/2/PI()),\" \")","v":" "},""]
[null,null," ",{"$f":"IF(B459>0,VASTETIJD(C459)-Infoblad!$C$29,\" \")","v":" "}," ",447," ",null,null,null,null,null,{"$f":"IF(L459>0,VLOOKUP(L459,Punten!$B$3:$C$109,2,FALSE),\" \")","v":" "},null," ",null,null,null,"","","","","","",{"$f":"SEARCH(T459,'Eigen QTH LOc'!$I$1)*10-100+V459","v":{"$error":"#VALUE!"}},{"$f":"TRUNC(ROUND((SEARCH(X459,'Eigen QTH LOc'!$I$1)-0.5)*2.5,2))","v":1},{"$f":"IF(Z459>0,(MOD(ROUND((SEARCH(X459,'Eigen QTH LOc'!$I$1)-0.5)*2.5,2),TRUNC(Z459)))*60,0)","v":15},{"$f":"SEARCH(S459,'Eigen QTH LOc'!$I$1)*20-200+U459*2","v":{"$error":"#VALUE!"}},{"$f":"TRUNC((SEARCH(W459,'Eigen QTH LOc'!$I$1)-0.5)*5)","v":2},{"$f":"IF(AC459>0,(MOD((SEARCH(W459,'Eigen QTH LOc'!$I$1)-0.5)*5,TRUNC(AC459)))*60,0)","v":30},{"$error":"#VALUE!"},{"$error":"#VALUE!"},{"$f":"COS('Eigen QTH LOc'!$G$4-AF459)*SIN(PI()/2-AE459)*SIN(PI()/2-'Eigen QTH LOc'!$G$3)+COS(PI()/2-AE459)*COS(PI()/2-'Eigen QTH LOc'!$G$3)","v":{"$error":"#VALUE!"}},{"$error":"#VALUE!"},"ABCDEFGHIJKLMNOPQRSTUVWXABCDEFGHIJKLMNOPQRSTUVWX","\"0123456789\"",{"$f":"IF(B459>0,IF(K459=Infoblad!$C$6,0.5,0.5+AH459*40076.59/2/PI()),\" \")","v":" "},""]
[null,null," ",{"$f":"IF(B460>0,VASTETIJD(C460)-Infoblad!$C$29,\" \")","v":" "}," ",448," ",null,null,null,null,null,{"$f":"IF(L460>0,VLOOKUP(L460,Punten!$B$3:$C$109,2,FALSE),\" \")","v":" "},null," ",null,null,null,"","","","","","",{"$f":"SEARCH(T460,'Eigen QTH LOc'!$I$1)*10-100+V460","v":{"$error":"#VALUE!"}},{"$f":"TRUNC(ROUND((SEARCH(X460,'Eigen QTH LOc'!$I$1)-0.5)*2.5,2))","v":1},{"$f":"IF(Z460>0,(MOD(ROUND((SEARCH(X460,'Eigen QTH LOc'!$I$1)-0.5)*2.5,2),TRUNC(Z460)))*60,0)","v":15},{"$f":"SEARCH(S460,'Eigen QTH LOc'!$I$1)*20-200+U460*2","v":{"$error":"#VALUE!"}},{"$f":"TRUNC((SEARCH(W460,'Eigen QTH LOc'!$I$1)-0.5)*5)","v":2},{"$f":"IF(AC460>0,(MOD((SEARCH(W460,'Eigen QTH LOc'!$I$1)-0.5)*5,TRUNC(AC460)))*60,0)","v":30},{"$error":"#VALUE!"},{"$error":"#VALUE!"},{"$f":"COS('Eigen QTH LOc'!$G$4-AF460)*SIN(PI()/2-AE460)*SIN(PI()/2-'Eigen QTH LOc'!$G$3)+COS(PI()/2-AE460)*COS(PI()/2-'Eigen QTH LOc'!$G$3)","v":{"$error":"#VALUE!"}},{"$error":"#VALUE!"},"ABCDEFGHIJKLMNOPQRSTUVWXABCDEFGHIJKLMNOPQRSTUVWX","\"0123456789\"",{"$f":"IF(B460>0,IF(K460=Infoblad!$C$6,0.5,0.5+AH460*40076.59/2/PI()),\" \")","v":" "},""]
[null,null," ",{"$f":"IF(B461>0,VASTETIJD(C461)-Infoblad!$C$29,\" \")","v":" "}," ",449," ",null,null,null,null,null,{"$f":"IF(L461>0,VLOOKUP(L461,Punten!$B$3:$C$109,2,FALSE),\" \")","v":" "},null," ",null,null,null,"","","","","","",{"$f":"SEARCH(T461,'Eigen QTH LOc'!$I$1)*10-100+V461","v":{"$error":"#VALUE!"}},{"$f":"TRUNC(ROUND((SEARCH(X461,'Eigen QTH LOc'!$I$1)-0.5)*2.5,2))","v":1},{"$f":"IF(Z461>0,(MOD(ROUND((SEARCH(X461,'Eigen QTH LOc'!$I$1)-0.5)*2.5,2),TRUNC(Z461)))*60,0)","v":15},{"$f":"SEARCH(S461,'Eigen QTH LOc'!$I$1)*20-200+U461*2","v":{"$error":"#VALUE!"}},{"$f":"TRUNC((SEARCH(W461,'Eigen QTH LOc'!$I$1)-0.5)*5)","v":2},{"$f":"IF(AC461>0,(MOD((SEARCH(W461,'Eigen QTH LOc'!$I$1)-0.5)*5,TRUNC(AC461)))*60,0)","v":30},{"$error":"#VALUE!"},{"$error":"#VALUE!"},{"$f":"COS('Eigen QTH LOc'!$G$4-AF461)*SIN(PI()/2-AE461)*SIN(PI()/2-'Eigen QTH LOc'!$G$3)+COS(PI()/2-AE461)*COS(PI()/2-'Eigen QTH LOc'!$G$3)","v":{"$error":"#VALUE!"}},{"$error":"#VALUE!"},"ABCDEFGHIJKLMNOPQRSTUVWXABCDEFGHIJKLMNOPQRSTUVWX","\"0123456789\"",{"$f":"IF(B461>0,IF(K461=Infoblad!$C$6,0.5,0.5+AH461*40076.59/2/PI()),\" \")","v":" "},""]
[null,null,{"$f":"IF(B462>0,$C$7,\" \")","v":" "},{"$f":"IF(B462>0,VASTETIJD(C462)-Infoblad!$C$29,\" \")","v":" "},{"$f":"IF(B462>0,\"59\",\" \")","v":" "},450,{"$f":"IF(B462>0,\"59\",\" \")","v":" "},null,null,null,null,null,{"$f":"IF(L462>0,VLOOKUP(L462,Punten!$B$3:$C$109,2,FALSE),\" \")","v":" "},null,{"$f":"IF(K462>0,AK462,\" \")","v":" "},null,null,null,"","","","","","",{"$f":"SEARCH(T462,'Eigen QTH LOc'!$I$1)*10-100+V462","v":{"$error":"#VALUE!"}},{"$f":"TRUNC(ROUND((SEARCH(X462,'Eigen QTH LOc'!$I$1)-0.5)*2.5,2))","v":1},{"$f":"IF(Z462>0,(MOD(ROUND((SEARCH(X462,'Eigen QTH LOc'!$I$1)-0.5)*2.5,2),TRUNC(Z462)))*60,0)","v":15},{"$f":"SEARCH(S462,'Eigen QTH LOc'!$I$1)*20-200+U462*2","v":{"$error":"#VALUE!"}},{"$f":"TRUNC((SEARCH(W462,'Eigen QTH LOc'!$I$1)-0.5)*5)","v":2},{"$f":"IF(AC462>0,(MOD((SEARCH(W462,'Eigen QTH LOc'!$I$1)-0.5)*5,TRUNC(AC462)))*60,0)","v":30},{"$error":"#VALUE!"},{"$error":"#VALUE!"},{"$f":"COS('Eigen QTH LOc'!$G$4-AF462)*SIN(PI()/2-AE462)*SIN(PI()/2-'Eigen QTH LOc'!$G$3)+COS(PI()/2-AE462)*COS(PI()/2-'Eigen QTH LOc'!$G$3)","v":{"$error":"#VALUE!"}},{"$f":"-ATAN($AG462/SQRT(1-$AG462*$AG462))+PI()/2","v":{"$error":"#VALUE!"}},"ABCDEFGHIJKLMNOPQRSTUVWXABCDEFGHIJKLMNOPQRSTUVWX","\"0123456789\"",{"$f":"IF(B462>0,IF(K462=Infoblad!$C$6,0.5,0.5+AH462*40076.59/2/PI()),\" \")","v":" "},{"$f":"CONCATENATE(B462,I462,J462)","v":""}]
[null,null," ",{"$f":"IF(B463>0,VASTETIJD(C463)-Infoblad!$C$29,\" \")","v":" "}," ",451," ",null,null,null,null,null,{"$f":"IF(L463>0,VLOOKUP(L463,Punten!$B$3:$C$109,2,FALSE),\" \")","v":" "},null," ",null,null,null,"","","","","","",{"$f":"SEARCH(T463,'Eigen QTH LOc'!$I$1)*10-100+V463","v":{"$error":"#VALUE!"}},{"$f":"TRUNC(ROUND((SEARCH(X463,'Eigen QTH LOc'!$I$1)-0.5)*2.5,2))","v":1},{"$f":"IF(Z463>0,(MOD(ROUND((SEARCH(X463,'Eigen QTH LOc'!$I$1)-0.5)*2.5,2),TRUNC(Z463)))*60,0)","v":15},{"$f":"SEARCH(S463,'Eigen QTH LOc'!$I$1)*20-200+U463*2","v":{"$error":"#VALUE!"}},{"$f":"TRUNC((SEARCH(W463,'Eigen QTH LOc'!$I$1)-0.5)*5)","v":2},{"$f":"IF(AC463>0,(MOD((SEARCH(W463,'Eigen QTH LOc'!$I$1)-0.5)*5,TRUNC(AC463)))*60,0)","v":30},{"$error":"#VALUE!"},{"$error":"#VALUE!"},{"$f":"COS('Eigen QTH LOc'!$G$4-AF463)*SIN(PI()/2-AE463)*SIN(PI()/2-'Eigen QTH LOc'!$G$3)+COS(PI()/2-AE463)*COS(PI()/2-'Eigen QTH LOc'!$G$3)","v":{"$error":"#VALUE!"}},{"$error":"#VALUE!"},"ABCDEFGHIJKLMNOPQRSTUVWXABCDEFGHIJKLMNOPQRSTUVWX","\"0123456789\"",{"$f":"IF(B463>0,IF(K463=Infoblad!$C$6,0.5,0.5+AH463*40076.59/2/PI()),\" \")","v":" "},""]
[null,null," ",{"$f":"IF(B464>0,VASTETIJD(C464)-Infoblad!$C$29,\" \")","v":" "}," ",452," ",null,null,null,null,null,{"$f":"IF(L464>0,VLOOKUP(L464,Punten!$B$3:$C$109,2,FALSE),\" \")","v":" "},null," ",null,null,null,"","","","","","",{"$f":"SEARCH(T464,'Eigen QTH LOc'!$I$1)*10-100+V464","v":{"$error":"#VALUE!"}},{"$f":"TRUNC(ROUND((SEARCH(X464,'Eigen QTH LOc'!$I$1)-0.5)*2.5,2))","v":1},{"$f":"IF(Z464>0,(MOD(ROUND((SEARCH(X464,'Eigen QTH LOc'!$I$1)-0.5)*2.5,2),TRUNC(Z464)))*60,0)","v":15},{"$f":"SEARCH(S464,'Eigen QTH LOc'!$I$1)*20-200+U464*2","v":{"$error":"#VALUE!"}},{"$f":"TRUNC((SEARCH(W464,'Eigen QTH LOc'!$I$1)-0.5)*5)","v":2},{"$f":"IF(AC464>0,(MOD((SEARCH(W464,'Eigen QTH LOc'!$I$1)-0.5)*5,TRUNC(AC464)))*60,0)","v":30},{"$error":"#VALUE!"},{"$error":"#VALUE!"},{"$f":"COS('Eigen QTH LOc'!$G$4-AF464)*SIN(PI()/2-AE464)*SIN(PI()/2-'Eigen QTH LOc'!$G$3)+COS(PI()/2-AE464)*COS(PI()/2-'Eigen QTH LOc'!$G$3)","v":{"$error":"#VALUE!"}},{"$error":"#VALUE!"},"ABCDEFGHIJKLMNOPQRSTUVWXABCDEFGHIJKLMNOPQRSTUVWX","\"0123456789\"",{"$f":"IF(B464>0,IF(K464=Infoblad!$C$6,0.5,0.5+AH464*40076.59/2/PI()),\" \")","v":" "},""]
[null,null," ",{"$f":"IF(B465>0,VASTETIJD(C465)-Infoblad!$C$29,\" \")","v":" "}," ",453," ",null,null,null,null,null,{"$f":"IF(L465>0,VLOOKUP(L465,Punten!$B$3:$C$109,2,FALSE),\" \")","v":" "},null," ",null,null,null,"","","","","","",{"$f":"SEARCH(T465,'Eigen QTH LOc'!$I$1)*10-100+V465","v":{"$error":"#VALUE!"}},{"$f":"TRUNC(ROUND((SEARCH(X465,'Eigen QTH LOc'!$I$1)-0.5)*2.5,2))","v":1},{"$f":"IF(Z465>0,(MOD(ROUND((SEARCH(X465,'Eigen QTH LOc'!$I$1)-0.5)*2.5,2),TRUNC(Z465)))*60,0)","v":15},{"$f":"SEARCH(S465,'Eigen QTH LOc'!$I$1)*20-200+U465*2","v":{"$error":"#VALUE!"}},{"$f":"TRUNC((SEARCH(W465,'Eigen QTH LOc'!$I$1)-0.5)*5)","v":2},{"$f":"IF(AC465>0,(MOD((SEARCH(W465,'Eigen QTH LOc'!$I$1)-0.5)*5,TRUNC(AC465)))*60,0)","v":30},{"$error":"#VALUE!"},{"$error":"#VALUE!"},{"$f":"COS('Eigen QTH LOc'!$G$4-AF465)*SIN(PI()/2-AE465)*SIN(PI()/2-'Eigen QTH LOc'!$G$3)+COS(PI()/2-AE465)*COS(PI()/2-'Eigen QTH LOc'!$G$3)","v":{"$error":"#VALUE!"}},{"$error":"#VALUE!"},"ABCDEFGHIJKLMNOPQRSTUVWXABCDEFGHIJKLMNOPQRSTUVWX","\"0123456789\"",{"$f":"IF(B465>0,IF(K465=Infoblad!$C$6,0.5,0.5+AH465*40076.59/2/PI()),\" \")","v":" "},""]
[null,null," ",{"$f":"IF(B466>0,VASTETIJD(C466)-Infoblad!$C$29,\" \")","v":" "}," ",454," ",null,null,null,null,null,{"$f":"IF(L466>0,VLOOKUP(L466,Punten!$B$3:$C$109,2,FALSE),\" \")","v":" "},null," ",null,null,null,"","","","","","",{"$f":"SEARCH(T466,'Eigen QTH LOc'!$I$1)*10-100+V466","v":{"$error":"#VALUE!"}},{"$f":"TRUNC(ROUND((SEARCH(X466,'Eigen QTH LOc'!$I$1)-0.5)*2.5,2))","v":1},{"$f":"IF(Z466>0,(MOD(ROUND((SEARCH(X466,'Eigen QTH LOc'!$I$1)-0.5)*2.5,2),TRUNC(Z466)))*60,0)","v":15},{"$f":"SEARCH(S466,'Eigen QTH LOc'!$I$1)*20-200+U466*2","v":{"$error":"#VALUE!"}},{"$f":"TRUNC((SEARCH(W466,'Eigen QTH LOc'!$I$1)-0.5)*5)","v":2},{"$f":"IF(AC466>0,(MOD((SEARCH(W466,'Eigen QTH LOc'!$I$1)-0.5)*5,TRUNC(AC466)))*60,0)","v":30},{"$error":"#VALUE!"},{"$error":"#VALUE!"},{"$f":"COS('Eigen QTH LOc'!$G$4-AF466)*SIN(PI()/2-AE466)*SIN(PI()/2-'Eigen QTH LOc'!$G$3)+COS(PI()/2-AE466)*COS(PI()/2-'Eigen QTH LOc'!$G$3)","v":{"$error":"#VALUE!"}},{"$error":"#VALUE!"},"ABCDEFGHIJKLMNOPQRSTUVWXABCDEFGHIJKLMNOPQRSTUVWX","\"0123456789\"",{"$f":"IF(B466>0,IF(K466=Infoblad!$C$6,0.5,0.5+AH466*40076.59/2/PI()),\" \")","v":" "},""]
[null,null," ",{"$f":"IF(B467>0,VASTETIJD(C467)-Infoblad!$C$29,\" \")","v":" "}," ",455," ",null,null,null,null,null,{"$f":"IF(L467>0,VLOOKUP(L467,Punten!$B$3:$C$109,2,FALSE),\" \")","v":" "},null," ",null,null,null,"","","","","","",{"$f":"SEARCH(T467,'Eigen QTH LOc'!$I$1)*10-100+V467","v":{"$error":"#VALUE!"}},{"$f":"TRUNC(ROUND((SEARCH(X467,'Eigen QTH LOc'!$I$1)-0.5)*2.5,2))","v":1},{"$f":"IF(Z467>0,(MOD(ROUND((SEARCH(X467,'Eigen QTH LOc'!$I$1)-0.5)*2.5,2),TRUNC(Z467)))*60,0)","v":15},{"$f":"SEARCH(S467,'Eigen QTH LOc'!$I$1)*20-200+U467*2","v":{"$error":"#VALUE!"}},{"$f":"TRUNC((SEARCH(W467,'Eigen QTH LOc'!$I$1)-0.5)*5)","v":2},{"$f":"IF(AC467>0,(MOD((SEARCH(W467,'Eigen QTH LOc'!$I$1)-0.5)*5,TRUNC(AC467)))*60,0)","v":30},{"$error":"#VALUE!"},{"$error":"#VALUE!"},{"$f":"COS('Eigen QTH LOc'!$G$4-AF467)*SIN(PI()/2-AE467)*SIN(PI()/2-'Eigen QTH LOc'!$G$3)+COS(PI()/2-AE467)*COS(PI()/2-'Eigen QTH LOc'!$G$3)","v":{"$error":"#VALUE!"}},{"$error":"#VALUE!"},"ABCDEFGHIJKLMNOPQRSTUVWXABCDEFGHIJKLMNOPQRSTUVWX","\"0123456789\"",{"$f":"IF(B467>0,IF(K467=Infoblad!$C$6,0.5,0.5+AH467*40076.59/2/PI()),\" \")","v":" "},""]
[null,null," ",{"$f":"IF(B468>0,VASTETIJD(C468)-Infoblad!$C$29,\" \")","v":" "}," ",456," ",null,null,null,null,null,{"$f":"IF(L468>0,VLOOKUP(L468,Punten!$B$3:$C$109,2,FALSE),\" \")","v":" "},null," ",null,null,null,"","","","","","",{"$f":"SEARCH(T468,'Eigen QTH LOc'!$I$1)*10-100+V468","v":{"$error":"#VALUE!"}},{"$f":"TRUNC(ROUND((SEARCH(X468,'Eigen QTH LOc'!$I$1)-0.5)*2.5,2))","v":1},{"$f":"IF(Z468>0,(MOD(ROUND((SEARCH(X468,'Eigen QTH LOc'!$I$1)-0.5)*2.5,2),TRUNC(Z468)))*60,0)","v":15},{"$f":"SEARCH(S468,'Eigen QTH LOc'!$I$1)*20-200+U468*2","v":{"$error":"#VALUE!"}},{"$f":"TRUNC((SEARCH(W468,'Eigen QTH LOc'!$I$1)-0.5)*5)","v":2},{"$f":"IF(AC468>0,(MOD((SEARCH(W468,'Eigen QTH LOc'!$I$1)-0.5)*5,TRUNC(AC468)))*60,0)","v":30},{"$error":"#VALUE!"},{"$error":"#VALUE!"},{"$f":"COS('Eigen QTH LOc'!$G$4-AF468)*SIN(PI()/2-AE468)*SIN(PI()/2-'Eigen QTH LOc'!$G$3)+COS(PI()/2-AE468)*COS(PI()/2-'Eigen QTH LOc'!$G$3)","v":{"$error":"#VALUE!"}},{"$error":"#VALUE!"},"ABCDEFGHIJKLMNOPQRSTUVWXABCDEFGHIJKLMNOPQRSTUVWX","\"0123456789\"",{"$f":"IF(B468>0,IF(K468=Infoblad!$C$6,0.5,0.5+AH468*40076.59/2/PI()),\" \")","v":" "},""]
[null,null," ",{"$f":"IF(B469>0,VASTETIJD(C469)-Infoblad!$C$29,\" \")","v":" "}," ",457," ",null,null,null,null,null,{"$f":"IF(L469>0,VLOOKUP(L469,Punten!$B$3:$C$109,2,FALSE),\" \")","v":" "},null," ",null,null,null,"","","","","","",{"$f":"SEARCH(T469,'Eigen QTH LOc'!$I$1)*10-100+V469","v":{"$error":"#VALUE!"}},{"$f":"TRUNC(ROUND((SEARCH(X469,'Eigen QTH LOc'!$I$1)-0.5)*2.5,2))","v":1},{"$f":"IF(Z469>0,(MOD(ROUND((SEARCH(X469,'Eigen QTH LOc'!$I$1)-0.5)*2.5,2),TRUNC(Z469)))*60,0)","v":15},{"$f":"SEARCH(S469,'Eigen QTH LOc'!$I$1)*20-200+U469*2","v":{"$error":"#VALUE!"}},{"$f":"TRUNC((SEARCH(W469,'Eigen QTH LOc'!$I$1)-0.5)*5)","v":2},{"$f":"IF(AC469>0,(MOD((SEARCH(W469,'Eigen QTH LOc'!$I$1)-0.5)*5,TRUNC(AC469)))*60,0)","v":30},{"$error":"#VALUE!"},{"$error":"#VALUE!"},{"$f":"COS('Eigen QTH LOc'!$G$4-AF469)*SIN(PI()/2-AE469)*SIN(PI()/2-'Eigen QTH LOc'!$G$3)+COS(PI()/2-AE469)*COS(PI()/2-'Eigen QTH LOc'!$G$3)","v":{"$error":"#VALUE!"}},{"$error":"#VALUE!"},"ABCDEFGHIJKLMNOPQRSTUVWXABCDEFGHIJKLMNOPQRSTUVWX","\"0123456789\"",{"$f":"IF(B469>0,IF(K469=Infoblad!$C$6,0.5,0.5+AH469*40076.59/2/PI()),\" \")","v":" "},""]
[null,null," ",{"$f":"IF(B470>0,VASTETIJD(C470)-Infoblad!$C$29,\" \")","v":" "}," ",458," ",null,null,null,null,null,{"$f":"IF(L470>0,VLOOKUP(L470,Punten!$B$3:$C$109,2,FALSE),\" \")","v":" "},null," ",null,null,null,"","","","","","",{"$f":"SEARCH(T470,'Eigen QTH LOc'!$I$1)*10-100+V470","v":{"$error":"#VALUE!"}},{"$f":"TRUNC(ROUND((SEARCH(X470,'Eigen QTH LOc'!$I$1)-0.5)*2.5,2))","v":1},{"$f":"IF(Z470>0,(MOD(ROUND((SEARCH(X470,'Eigen QTH LOc'!$I$1)-0.5)*2.5,2),TRUNC(Z470)))*60,0)","v":15},{"$f":"SEARCH(S470,'Eigen QTH LOc'!$I$1)*20-200+U470*2","v":{"$error":"#VALUE!"}},{"$f":"TRUNC((SEARCH(W470,'Eigen QTH LOc'!$I$1)-0.5)*5)","v":2},{"$f":"IF(AC470>0,(MOD((SEARCH(W470,'Eigen QTH LOc'!$I$1)-0.5)*5,TRUNC(AC470)))*60,0)","v":30},{"$error":"#VALUE!"},{"$error":"#VALUE!"},{"$f":"COS('Eigen QTH LOc'!$G$4-AF470)*SIN(PI()/2-AE470)*SIN(PI()/2-'Eigen QTH LOc'!$G$3)+COS(PI()/2-AE470)*COS(PI()/2-'Eigen QTH LOc'!$G$3)","v":{"$error":"#VALUE!"}},{"$error":"#VALUE!"},"ABCDEFGHIJKLMNOPQRSTUVWXABCDEFGHIJKLMNOPQRSTUVWX","\"0123456789\"",{"$f":"IF(B470>0,IF(K470=Infoblad!$C$6,0.5,0.5+AH470*40076.59/2/PI()),\" \")","v":" "},""]
[null,null," ",{"$f":"IF(B471>0,VASTETIJD(C471)-Infoblad!$C$29,\" \")","v":" "}," ",459," ",null,null,null,null,null,{"$f":"IF(L471>0,VLOOKUP(L471,Punten!$B$3:$C$109,2,FALSE),\" \")","v":" "},null," ",null,null,null,"","","","","","",{"$f":"SEARCH(T471,'Eigen QTH LOc'!$I$1)*10-100+V471","v":{"$error":"#VALUE!"}},{"$f":"TRUNC(ROUND((SEARCH(X471,'Eigen QTH LOc'!$I$1)-0.5)*2.5,2))","v":1},{"$f":"IF(Z471>0,(MOD(ROUND((SEARCH(X471,'Eigen QTH LOc'!$I$1)-0.5)*2.5,2),TRUNC(Z471)))*60,0)","v":15},{"$f":"SEARCH(S471,'Eigen QTH LOc'!$I$1)*20-200+U471*2","v":{"$error":"#VALUE!"}},{"$f":"TRUNC((SEARCH(W471,'Eigen QTH LOc'!$I$1)-0.5)*5)","v":2},{"$f":"IF(AC471>0,(MOD((SEARCH(W471,'Eigen QTH LOc'!$I$1)-0.5)*5,TRUNC(AC471)))*60,0)","v":30},{"$error":"#VALUE!"},{"$error":"#VALUE!"},{"$f":"COS('Eigen QTH LOc'!$G$4-AF471)*SIN(PI()/2-AE471)*SIN(PI()/2-'Eigen QTH LOc'!$G$3)+COS(PI()/2-AE471)*COS(PI()/2-'Eigen QTH LOc'!$G$3)","v":{"$error":"#VALUE!"}},{"$error":"#VALUE!"},"ABCDEFGHIJKLMNOPQRSTUVWXABCDEFGHIJKLMNOPQRSTUVWX","\"0123456789\"",{"$f":"IF(B471>0,IF(K471=Infoblad!$C$6,0.5,0.5+AH471*40076.59/2/PI()),\" \")","v":" "},""]
[null,null," ",{"$f":"IF(B472>0,VASTETIJD(C472)-Infoblad!$C$29,\" \")","v":" "}," ",460," ",null,null,null,null,null,{"$f":"IF(L472>0,VLOOKUP(L472,Punten!$B$3:$C$109,2,FALSE),\" \")","v":" "},null," ",null,null,null,"","","","","","",{"$f":"SEARCH(T472,'Eigen QTH LOc'!$I$1)*10-100+V472","v":{"$error":"#VALUE!"}},{"$f":"TRUNC(ROUND((SEARCH(X472,'Eigen QTH LOc'!$I$1)-0.5)*2.5,2))","v":1},{"$f":"IF(Z472>0,(MOD(ROUND((SEARCH(X472,'Eigen QTH LOc'!$I$1)-0.5)*2.5,2),TRUNC(Z472)))*60,0)","v":15},{"$f":"SEARCH(S472,'Eigen QTH LOc'!$I$1)*20-200+U472*2","v":{"$error":"#VALUE!"}},{"$f":"TRUNC((SEARCH(W472,'Eigen QTH LOc'!$I$1)-0.5)*5)","v":2},{"$f":"IF(AC472>0,(MOD((SEARCH(W472,'Eigen QTH LOc'!$I$1)-0.5)*5,TRUNC(AC472)))*60,0)","v":30},{"$error":"#VALUE!"},{"$error":"#VALUE!"},{"$f":"COS('Eigen QTH LOc'!$G$4-AF472)*SIN(PI()/2-AE472)*SIN(PI()/2-'Eigen QTH LOc'!$G$3)+COS(PI()/2-AE472)*COS(PI()/2-'Eigen QTH LOc'!$G$3)","v":{"$error":"#VALUE!"}},{"$error":"#VALUE!"},"ABCDEFGHIJKLMNOPQRSTUVWXABCDEFGHIJKLMNOPQRSTUVWX","\"0123456789\"",{"$f":"IF(B472>0,IF(K472=Infoblad!$C$6,0.5,0.5+AH472*40076.59/2/PI()),\" \")","v":" "},""]
[null,null," ",{"$f":"IF(B473>0,VASTETIJD(C473)-Infoblad!$C$29,\" \")","v":" "}," ",461," ",null,null,null,null,null,{"$f":"IF(L473>0,VLOOKUP(L473,Punten!$B$3:$C$109,2,FALSE),\" \")","v":" "},null," ",null,null,null,{"$f":"MID(K473,1,1)","v":""},{"$f":"MID(K473,2,1)","v":""},{"$f":"MID(K473,3,1)","v":""},{"$f":"MID(K473,4,1)","v":""},{"$f":"MID(K473,5,1)","v":""},{"$f":"MID(K473,6,1)","v":""},{"$f":"SEARCH(T473,'Eigen QTH LOc'!$I$1)*10-100+V473","v":{"$error":"#VALUE!"}},{"$f":"TRUNC(ROUND((SEARCH(X473,'Eigen QTH LOc'!$I$1)-0.5)*2.5,2))","v":1},{"$f":"IF(Z473>0,(MOD(ROUND((SEARCH(X473,'Eigen QTH LOc'!$I$1)-0.5)*2.5,2),TRUNC(Z473)))*60,0)","v":15},{"$f":"SEARCH(S473,'Eigen QTH LOc'!$I$1)*20-200+U473*2","v":{"$error":"#VALUE!"}},{"$f":"TRUNC((SEARCH(W473,'Eigen QTH LOc'!$I$1)-0.5)*5)","v":2},{"$f":"IF(AC473>0,(MOD((SEARCH(W473,'Eigen QTH LOc'!$I$1)-0.5)*5,TRUNC(AC473)))*60,0)","v":30},{"$f":"(Y473+(Z473/60)+(AA473/3600))*PI()/180","v":{"$error":"#VALUE!"}},{"$f":"(AB473+(AC473/60)+(AD473/100/60))*PI()/180","v":{"$error":"#VALUE!"}},{"$f":"COS('Eigen QTH LOc'!$G$4-AF473)*SIN(PI()/2-AE473)*SIN(PI()/2-'Eigen QTH LOc'!$G$3)+COS(PI()/2-AE473)*COS(PI()/2-'Eigen QTH LOc'!$G$3)","v":{"$error":"#VALUE!"}},{"$error":"#VALUE!"},"ABCDEFGHIJKLMNOPQRSTUVWXABCDEFGHIJKLMNOPQRSTUVWX","\"0123456789\"",{"$f":"IF(B473>0,IF(K473=Infoblad!$C$6,0.5,0.5+AH473*40076.59/2/PI()),\" \")","v":" "},""]
[null,null," ",{"$f":"IF(B474>0,VASTETIJD(C474)-Infoblad!$C$29,\" \")","v":" "}," ",462," ",null,null,null,null,null,{"$f":"IF(L474>0,VLOOKUP(L474,Punten!$B$3:$C$109,2,FALSE),\" \")","v":" "},null," ",null,null,null,"","","","","","",{"$f":"SEARCH(T474,'Eigen QTH LOc'!$I$1)*10-100+V474","v":{"$error":"#VALUE!"}},{"$f":"TRUNC(ROUND((SEARCH(X474,'Eigen QTH LOc'!$I$1)-0.5)*2.5,2))","v":1},{"$f":"IF(Z474>0,(MOD(ROUND((SEARCH(X474,'Eigen QTH LOc'!$I$1)-0.5)*2.5,2),TRUNC(Z474)))*60,0)","v":15},{"$f":"SEARCH(S474,'Eigen QTH LOc'!$I$1)*20-200+U474*2","v":{"$error":"#VALUE!"}},{"$f":"TRUNC((SEARCH(W474,'Eigen QTH LOc'!$I$1)-0.5)*5)","v":2},{"$f":"IF(AC474>0,(MOD((SEARCH(W474,'Eigen QTH LOc'!$I$1)-0.5)*5,TRUNC(AC474)))*60,0)","v":30},{"$error":"#VALUE!"},{"$error":"#VALUE!"},{"$f":"COS('Eigen QTH LOc'!$G$4-AF474)*SIN(PI()/2-AE474)*SIN(PI()/2-'Eigen QTH LOc'!$G$3)+COS(PI()/2-AE474)*COS(PI()/2-'Eigen QTH LOc'!$G$3)","v":{"$error":"#VALUE!"}},{"$error":"#VALUE!"},"ABCDEFGHIJKLMNOPQRSTUVWXABCDEFGHIJKLMNOPQRSTUVWX","\"0123456789\"",{"$f":"IF(B474>0,IF(K474=Infoblad!$C$6,0.5,0.5+AH474*40076.59/2/PI()),\" \")","v":" "},""]
[null,null," ",{"$f":"IF(B475>0,VASTETIJD(C475)-Infoblad!$C$29,\" \")","v":" "}," ",463," ",null,null,null,null,null,{"$f":"IF(L475>0,VLOOKUP(L475,Punten!$B$3:$C$109,2,FALSE),\" \")","v":" "},null," ",null,null,null,"","","","","","",{"$f":"SEARCH(T475,'Eigen QTH LOc'!$I$1)*10-100+V475","v":{"$error":"#VALUE!"}},{"$f":"TRUNC(ROUND((SEARCH(X475,'Eigen QTH LOc'!$I$1)-0.5)*2.5,2))","v":1},{"$f":"IF(Z475>0,(MOD(ROUND((SEARCH(X475,'Eigen QTH LOc'!$I$1)-0.5)*2.5,2),TRUNC(Z475)))*60,0)","v":15},{"$f":"SEARCH(S475,'Eigen QTH LOc'!$I$1)*20-200+U475*2","v":{"$error":"#VALUE!"}},{"$f":"TRUNC((SEARCH(W475,'Eigen QTH LOc'!$I$1)-0.5)*5)","v":2},{"$f":"IF(AC475>0,(MOD((SEARCH(W475,'Eigen QTH LOc'!$I$1)-0.5)*5,TRUNC(AC475)))*60,0)","v":30},{"$error":"#VALUE!"},{"$error":"#VALUE!"},{"$f":"COS('Eigen QTH LOc'!$G$4-AF475)*SIN(PI()/2-AE475)*SIN(PI()/2-'Eigen QTH LOc'!$G$3)+COS(PI()/2-AE475)*COS(PI()/2-'Eigen QTH LOc'!$G$3)","v":{"$error":"#VALUE!"}},{"$error":"#VALUE!"},"ABCDEFGHIJKLMNOPQRSTUVWXABCDEFGHIJKLMNOPQRSTUVWX","\"0123456789\"",{"$f":"IF(B475>0,IF(K475=Infoblad!$C$6,0.5,0.5+AH475*40076.59/2/PI()),\" \")","v":" "},""]
[null,null," ",{"$f":"IF(B476>0,VASTETIJD(C476)-Infoblad!$C$29,\" \")","v":" "}," ",464," ",null,null,null,null,null,{"$f":"IF(L476>0,VLOOKUP(L476,Punten!$B$3:$C$109,2,FALSE),\" \")","v":" "},null," ",null,null,null,"","","","","","",{"$f":"SEARCH(T476,'Eigen QTH LOc'!$I$1)*10-100+V476","v":{"$error":"#VALUE!"}},{"$f":"TRUNC(ROUND((SEARCH(X476,'Eigen QTH LOc'!$I$1)-0.5)*2.5,2))","v":1},{"$f":"IF(Z476>0,(MOD(ROUND((SEARCH(X476,'Eigen QTH LOc'!$I$1)-0.5)*2.5,2),TRUNC(Z476)))*60,0)","v":15},{"$f":"SEARCH(S476,'Eigen QTH LOc'!$I$1)*20-200+U476*2","v":{"$error":"#VALUE!"}},{"$f":"TRUNC((SEARCH(W476,'Eigen QTH LOc'!$I$1)-0.5)*5)","v":2},{"$f":"IF(AC476>0,(MOD((SEARCH(W476,'Eigen QTH LOc'!$I$1)-0.5)*5,TRUNC(AC476)))*60,0)","v":30},{"$error":"#VALUE!"},{"$error":"#VALUE!"},{"$f":"COS('Eigen QTH LOc'!$G$4-AF476)*SIN(PI()/2-AE476)*SIN(PI()/2-'Eigen QTH LOc'!$G$3)+COS(PI()/2-AE476)*COS(PI()/2-'Eigen QTH LOc'!$G$3)","v":{"$error":"#VALUE!"}},{"$error":"#VALUE!"},"ABCDEFGHIJKLMNOPQRSTUVWXABCDEFGHIJKLMNOPQRSTUVWX","\"0123456789\"",{"$f":"IF(B476>0,IF(K476=Infoblad!$C$6,0.5,0.5+AH476*40076.59/2/PI()),\" \")","v":" "},""]
[null,null," ",{"$f":"IF(B477>0,VASTETIJD(C477)-Infoblad!$C$29,\" \")","v":" "}," ",465," ",null,null,null,null,null,{"$f":"IF(L477>0,VLOOKUP(L477,Punten!$B$3:$C$109,2,FALSE),\" \")","v":" "},null," ",null,null,null,"","","","","","",{"$f":"SEARCH(T477,'Eigen QTH LOc'!$I$1)*10-100+V477","v":{"$error":"#VALUE!"}},{"$f":"TRUNC(ROUND((SEARCH(X477,'Eigen QTH LOc'!$I$1)-0.5)*2.5,2))","v":1},{"$f":"IF(Z477>0,(MOD(ROUND((SEARCH(X477,'Eigen QTH LOc'!$I$1)-0.5)*2.5,2),TRUNC(Z477)))*60,0)","v":15},{"$f":"SEARCH(S477,'Eigen QTH LOc'!$I$1)*20-200+U477*2","v":{"$error":"#VALUE!"}},{"$f":"TRUNC((SEARCH(W477,'Eigen QTH LOc'!$I$1)-0.5)*5)","v":2},{"$f":"IF(AC477>0,(MOD((SEARCH(W477,'Eigen QTH LOc'!$I$1)-0.5)*5,TRUNC(AC477)))*60,0)","v":30},{"$error":"#VALUE!"},{"$error":"#VALUE!"},{"$f":"COS('Eigen QTH LOc'!$G$4-AF477)*SIN(PI()/2-AE477)*SIN(PI()/2-'Eigen QTH LOc'!$G$3)+COS(PI()/2-AE477)*COS(PI()/2-'Eigen QTH LOc'!$G$3)","v":{"$error":"#VALUE!"}},{"$error":"#VALUE!"},"ABCDEFGHIJKLMNOPQRSTUVWXABCDEFGHIJKLMNOPQRSTUVWX","\"0123456789\"",{"$f":"IF(B477>0,IF(K477=Infoblad!$C$6,0.5,0.5+AH477*40076.59/2/PI()),\" \")","v":" "},""]
[null,null," ",{"$f":"IF(B478>0,VASTETIJD(C478)-Infoblad!$C$29,\" \")","v":" "}," ",466," ",null,null,null,null,null,{"$f":"IF(L478>0,VLOOKUP(L478,Punten!$B$3:$C$109,2,FALSE),\" \")","v":" "},null," ",null,null,null,"","","","","","",{"$f":"SEARCH(T478,'Eigen QTH LOc'!$I$1)*10-100+V478","v":{"$error":"#VALUE!"}},{"$f":"TRUNC(ROUND((SEARCH(X478,'Eigen QTH LOc'!$I$1)-0.5)*2.5,2))","v":1},{"$f":"IF(Z478>0,(MOD(ROUND((SEARCH(X478,'Eigen QTH LOc'!$I$1)-0.5)*2.5,2),TRUNC(Z478)))*60,0)","v":15},{"$f":"SEARCH(S478,'Eigen QTH LOc'!$I$1)*20-200+U478*2","v":{"$error":"#VALUE!"}},{"$f":"TRUNC((SEARCH(W478,'Eigen QTH LOc'!$I$1)-0.5)*5)","v":2},{"$f":"IF(AC478>0,(MOD((SEARCH(W478,'Eigen QTH LOc'!$I$1)-0.5)*5,TRUNC(AC478)))*60,0)","v":30},{"$error":"#VALUE!"},{"$error":"#VALUE!"},{"$f":"COS('Eigen QTH LOc'!$G$4-AF478)*SIN(PI()/2-AE478)*SIN(PI()/2-'Eigen QTH LOc'!$G$3)+COS(PI()/2-AE478)*COS(PI()/2-'Eigen QTH LOc'!$G$3)","v":{"$error":"#VALUE!"}},{"$error":"#VALUE!"},"ABCDEFGHIJKLMNOPQRSTUVWXABCDEFGHIJKLMNOPQRSTUVWX","\"0123456789\"",{"$f":"IF(B478>0,IF(K478=Infoblad!$C$6,0.5,0.5+AH478*40076.59/2/PI()),\" \")","v":" "},""]
[null,null," ",{"$f":"IF(B479>0,VASTETIJD(C479)-Infoblad!$C$29,\" \")","v":" "}," ",467," ",null,null,null,null,null,{"$f":"IF(L479>0,VLOOKUP(L479,Punten!$B$3:$C$109,2,FALSE),\" \")","v":" "},null," ",null,null,null,"","","","","","",{"$f":"SEARCH(T479,'Eigen QTH LOc'!$I$1)*10-100+V479","v":{"$error":"#VALUE!"}},{"$f":"TRUNC(ROUND((SEARCH(X479,'Eigen QTH LOc'!$I$1)-0.5)*2.5,2))","v":1},{"$f":"IF(Z479>0,(MOD(ROUND((SEARCH(X479,'Eigen QTH LOc'!$I$1)-0.5)*2.5,2),TRUNC(Z479)))*60,0)","v":15},{"$f":"SEARCH(S479,'Eigen QTH LOc'!$I$1)*20-200+U479*2","v":{"$error":"#VALUE!"}},{"$f":"TRUNC((SEARCH(W479,'Eigen QTH LOc'!$I$1)-0.5)*5)","v":2},{"$f":"IF(AC479>0,(MOD((SEARCH(W479,'Eigen QTH LOc'!$I$1)-0.5)*5,TRUNC(AC479)))*60,0)","v":30},{"$error":"#VALUE!"},{"$error":"#VALUE!"},{"$f":"COS('Eigen QTH LOc'!$G$4-AF479)*SIN(PI()/2-AE479)*SIN(PI()/2-'Eigen QTH LOc'!$G$3)+COS(PI()/2-AE479)*COS(PI()/2-'Eigen QTH LOc'!$G$3)","v":{"$error":"#VALUE!"}},{"$error":"#VALUE!"},"ABCDEFGHIJKLMNOPQRSTUVWXABCDEFGHIJKLMNOPQRSTUVWX","\"0123456789\"",{"$f":"IF(B479>0,IF(K479=Infoblad!$C$6,0.5,0.5+AH479*40076.59/2/PI()),\" \")","v":" "},""]
[null,null," ",{"$f":"IF(B480>0,VASTETIJD(C480)-Infoblad!$C$29,\" \")","v":" "}," ",468," ",null,null,null,null,null,{"$f":"IF(L480>0,VLOOKUP(L480,Punten!$B$3:$C$109,2,FALSE),\" \")","v":" "},null," ",null,null,null,"","","","","","",{"$f":"SEARCH(T480,'Eigen QTH LOc'!$I$1)*10-100+V480","v":{"$error":"#VALUE!"}},{"$f":"TRUNC(ROUND((SEARCH(X480,'Eigen QTH LOc'!$I$1)-0.5)*2.5,2))","v":1},{"$f":"IF(Z480>0,(MOD(ROUND((SEARCH(X480,'Eigen QTH LOc'!$I$1)-0.5)*2.5,2),TRUNC(Z480)))*60,0)","v":15},{"$f":"SEARCH(S480,'Eigen QTH LOc'!$I$1)*20-200+U480*2","v":{"$error":"#VALUE!"}},{"$f":"TRUNC((SEARCH(W480,'Eigen QTH LOc'!$I$1)-0.5)*5)","v":2},{"$f":"IF(AC480>0,(MOD((SEARCH(W480,'Eigen QTH LOc'!$I$1)-0.5)*5,TRUNC(AC480)))*60,0)","v":30},{"$error":"#VALUE!"},{"$error":"#VALUE!"},{"$f":"COS('Eigen QTH LOc'!$G$4-AF480)*SIN(PI()/2-AE480)*SIN(PI()/2-'Eigen QTH LOc'!$G$3)+COS(PI()/2-AE480)*COS(PI()/2-'Eigen QTH LOc'!$G$3)","v":{"$error":"#VALUE!"}},{"$error":"#VALUE!"},"ABCDEFGHIJKLMNOPQRSTUVWXABCDEFGHIJKLMNOPQRSTUVWX","\"0123456789\"",{"$f":"IF(B480>0,IF(K480=Infoblad!$C$6,0.5,0.5+AH480*40076.59/2/PI()),\" \")","v":" "},""]
[null,null," ",{"$f":"IF(B481>0,VASTETIJD(C481)-Infoblad!$C$29,\" \")","v":" "}," ",469," ",null,null,null,null,null,{"$f":"IF(L481>0,VLOOKUP(L481,Punten!$B$3:$C$109,2,FALSE),\" \")","v":" "},null," ",null,null,null,"","","","","","",{"$f":"SEARCH(T481,'Eigen QTH LOc'!$I$1)*10-100+V481","v":{"$error":"#VALUE!"}},{"$f":"TRUNC(ROUND((SEARCH(X481,'Eigen QTH LOc'!$I$1)-0.5)*2.5,2))","v":1},{"$f":"IF(Z481>0,(MOD(ROUND((SEARCH(X481,'Eigen QTH LOc'!$I$1)-0.5)*2.5,2),TRUNC(Z481)))*60,0)","v":15},{"$f":"SEARCH(S481,'Eigen QTH LOc'!$I$1)*20-200+U481*2","v":{"$error":"#VALUE!"}},{"$f":"TRUNC((SEARCH(W481,'Eigen QTH LOc'!$I$1)-0.5)*5)","v":2},{"$f":"IF(AC481>0,(MOD((SEARCH(W481,'Eigen QTH LOc'!$I$1)-0.5)*5,TRUNC(AC481)))*60,0)","v":30},{"$error":"#VALUE!"},{"$error":"#VALUE!"},{"$f":"COS('Eigen QTH LOc'!$G$4-AF481)*SIN(PI()/2-AE481)*SIN(PI()/2-'Eigen QTH LOc'!$G$3)+COS(PI()/2-AE481)*COS(PI()/2-'Eigen QTH LOc'!$G$3)","v":{"$error":"#VALUE!"}},{"$error":"#VALUE!"},"ABCDEFGHIJKLMNOPQRSTUVWXABCDEFGHIJKLMNOPQRSTUVWX","\"0123456789\"",{"$f":"IF(B481>0,IF(K481=Infoblad!$C$6,0.5,0.5+AH481*40076.59/2/PI()),\" \")","v":" "},""]
[null,null," ",{"$f":"IF(B482>0,VASTETIJD(C482)-Infoblad!$C$29,\" \")","v":" "}," ",470," ",null,null,null,null,null,{"$f":"IF(L482>0,VLOOKUP(L482,Punten!$B$3:$C$109,2,FALSE),\" \")","v":" "},null," ",null,null,null,"","","","","","",{"$f":"SEARCH(T482,'Eigen QTH LOc'!$I$1)*10-100+V482","v":{"$error":"#VALUE!"}},{"$f":"TRUNC(ROUND((SEARCH(X482,'Eigen QTH LOc'!$I$1)-0.5)*2.5,2))","v":1},{"$f":"IF(Z482>0,(MOD(ROUND((SEARCH(X482,'Eigen QTH LOc'!$I$1)-0.5)*2.5,2),TRUNC(Z482)))*60,0)","v":15},{"$f":"SEARCH(S482,'Eigen QTH LOc'!$I$1)*20-200+U482*2","v":{"$error":"#VALUE!"}},{"$f":"TRUNC((SEARCH(W482,'Eigen QTH LOc'!$I$1)-0.5)*5)","v":2},{"$f":"IF(AC482>0,(MOD((SEARCH(W482,'Eigen QTH LOc'!$I$1)-0.5)*5,TRUNC(AC482)))*60,0)","v":30},{"$error":"#VALUE!"},{"$error":"#VALUE!"},{"$f":"COS('Eigen QTH LOc'!$G$4-AF482)*SIN(PI()/2-AE482)*SIN(PI()/2-'Eigen QTH LOc'!$G$3)+COS(PI()/2-AE482)*COS(PI()/2-'Eigen QTH LOc'!$G$3)","v":{"$error":"#VALUE!"}},{"$error":"#VALUE!"},"ABCDEFGHIJKLMNOPQRSTUVWXABCDEFGHIJKLMNOPQRSTUVWX","\"0123456789\"",{"$f":"IF(B482>0,IF(K482=Infoblad!$C$6,0.5,0.5+AH482*40076.59/2/PI()),\" \")","v":" "},""]
[null,null," ",{"$f":"IF(B483>0,VASTETIJD(C483)-Infoblad!$C$29,\" \")","v":" "}," ",471," ",null,null,null,null,null,{"$f":"IF(L483>0,VLOOKUP(L483,Punten!$B$3:$C$109,2,FALSE),\" \")","v":" "},null," ",null,null,null,"","","","","","",{"$f":"SEARCH(T483,'Eigen QTH LOc'!$I$1)*10-100+V483","v":{"$error":"#VALUE!"}},{"$f":"TRUNC(ROUND((SEARCH(X483,'Eigen QTH LOc'!$I$1)-0.5)*2.5,2))","v":1},{"$f":"IF(Z483>0,(MOD(ROUND((SEARCH(X483,'Eigen QTH LOc'!$I$1)-0.5)*2.5,2),TRUNC(Z483)))*60,0)","v":15},{"$f":"SEARCH(S483,'Eigen QTH LOc'!$I$1)*20-200+U483*2","v":{"$error":"#VALUE!"}},{"$f":"TRUNC((SEARCH(W483,'Eigen QTH LOc'!$I$1)-0.5)*5)","v":2},{"$f":"IF(AC483>0,(MOD((SEARCH(W483,'Eigen QTH LOc'!$I$1)-0.5)*5,TRUNC(AC483)))*60,0)","v":30},{"$error":"#VALUE!"},{"$error":"#VALUE!"},{"$f":"COS('Eigen QTH LOc'!$G$4-AF483)*SIN(PI()/2-AE483)*SIN(PI()/2-'Eigen QTH LOc'!$G$3)+COS(PI()/2-AE483)*COS(PI()/2-'Eigen QTH LOc'!$G$3)","v":{"$error":"#VALUE!"}},{"$error":"#VALUE!"},"ABCDEFGHIJKLMNOPQRSTUVWXABCDEFGHIJKLMNOPQRSTUVWX","\"0123456789\"",{"$f":"IF(B483>0,IF(K483=Infoblad!$C$6,0.5,0.5+AH483*40076.59/2/PI()),\" \")","v":" "},""]
[null,null," ",{"$f":"IF(B484>0,VASTETIJD(C484)-Infoblad!$C$29,\" \")","v":" "}," ",472," ",null,null,null,null,null,{"$f":"IF(L484>0,VLOOKUP(L484,Punten!$B$3:$C$109,2,FALSE),\" \")","v":" "},null," ",null,null,null,"","","","","","",{"$f":"SEARCH(T484,'Eigen QTH LOc'!$I$1)*10-100+V484","v":{"$error":"#VALUE!"}},{"$f":"TRUNC(ROUND((SEARCH(X484,'Eigen QTH LOc'!$I$1)-0.5)*2.5,2))","v":1},{"$f":"IF(Z484>0,(MOD(ROUND((SEARCH(X484,'Eigen QTH LOc'!$I$1)-0.5)*2.5,2),TRUNC(Z484)))*60,0)","v":15},{"$f":"SEARCH(S484,'Eigen QTH LOc'!$I$1)*20-200+U484*2","v":{"$error":"#VALUE!"}},{"$f":"TRUNC((SEARCH(W484,'Eigen QTH LOc'!$I$1)-0.5)*5)","v":2},{"$f":"IF(AC484>0,(MOD((SEARCH(W484,'Eigen QTH LOc'!$I$1)-0.5)*5,TRUNC(AC484)))*60,0)","v":30},{"$error":"#VALUE!"},{"$error":"#VALUE!"},{"$f":"COS('Eigen QTH LOc'!$G$4-AF484)*SIN(PI()/2-AE484)*SIN(PI()/2-'Eigen QTH LOc'!$G$3)+COS(PI()/2-AE484)*COS(PI()/2-'Eigen QTH LOc'!$G$3)","v":{"$error":"#VALUE!"}},{"$error":"#VALUE!"},"ABCDEFGHIJKLMNOPQRSTUVWXABCDEFGHIJKLMNOPQRSTUVWX","\"0123456789\"",{"$f":"IF(B484>0,IF(K484=Infoblad!$C$6,0.5,0.5+AH484*40076.59/2/PI()),\" \")","v":" "},""]
[null,null," ",{"$f":"IF(B485>0,VASTETIJD(C485)-Infoblad!$C$29,\" \")","v":" "}," ",473," ",null,null,null,null,null,{"$f":"IF(L485>0,VLOOKUP(L485,Punten!$B$3:$C$109,2,FALSE),\" \")","v":" "},null," ",null,null,null,"","","","","","",{"$f":"SEARCH(T485,'Eigen QTH LOc'!$I$1)*10-100+V485","v":{"$error":"#VALUE!"}},{"$f":"TRUNC(ROUND((SEARCH(X485,'Eigen QTH LOc'!$I$1)-0.5)*2.5,2))","v":1},{"$f":"IF(Z485>0,(MOD(ROUND((SEARCH(X485,'Eigen QTH LOc'!$I$1)-0.5)*2.5,2),TRUNC(Z485)))*60,0)","v":15},{"$f":"SEARCH(S485,'Eigen QTH LOc'!$I$1)*20-200+U485*2","v":{"$error":"#VALUE!"}},{"$f":"TRUNC((SEARCH(W485,'Eigen QTH LOc'!$I$1)-0.5)*5)","v":2},{"$f":"IF(AC485>0,(MOD((SEARCH(W485,'Eigen QTH LOc'!$I$1)-0.5)*5,TRUNC(AC485)))*60,0)","v":30},{"$error":"#VALUE!"},{"$error":"#VALUE!"},{"$f":"COS('Eigen QTH LOc'!$G$4-AF485)*SIN(PI()/2-AE485)*SIN(PI()/2-'Eigen QTH LOc'!$G$3)+COS(PI()/2-AE485)*COS(PI()/2-'Eigen QTH LOc'!$G$3)","v":{"$error":"#VALUE!"}},{"$error":"#VALUE!"},"ABCDEFGHIJKLMNOPQRSTUVWXABCDEFGHIJKLMNOPQRSTUVWX","\"0123456789\"",{"$f":"IF(B485>0,IF(K485=Infoblad!$C$6,0.5,0.5+AH485*40076.59/2/PI()),\" \")","v":" "},""]
[null,null," ",{"$f":"IF(B486>0,VASTETIJD(C486)-Infoblad!$C$29,\" \")","v":" "}," ",474," ",null,null,null,null,null,{"$f":"IF(L486>0,VLOOKUP(L486,Punten!$B$3:$C$109,2,FALSE),\" \")","v":" "},null," ",null,null,null,"","","","","","",{"$f":"SEARCH(T486,'Eigen QTH LOc'!$I$1)*10-100+V486","v":{"$error":"#VALUE!"}},{"$f":"TRUNC(ROUND((SEARCH(X486,'Eigen QTH LOc'!$I$1)-0.5)*2.5,2))","v":1},{"$f":"IF(Z486>0,(MOD(ROUND((SEARCH(X486,'Eigen QTH LOc'!$I$1)-0.5)*2.5,2),TRUNC(Z486)))*60,0)","v":15},{"$f":"SEARCH(S486,'Eigen QTH LOc'!$I$1)*20-200+U486*2","v":{"$error":"#VALUE!"}},{"$f":"TRUNC((SEARCH(W486,'Eigen QTH LOc'!$I$1)-0.5)*5)","v":2},{"$f":"IF(AC486>0,(MOD((SEARCH(W486,'Eigen QTH LOc'!$I$1)-0.5)*5,TRUNC(AC486)))*60,0)","v":30},{"$error":"#VALUE!"},{"$error":"#VALUE!"},{"$f":"COS('Eigen QTH LOc'!$G$4-AF486)*SIN(PI()/2-AE486)*SIN(PI()/2-'Eigen QTH LOc'!$G$3)+COS(PI()/2-AE486)*COS(PI()/2-'Eigen QTH LOc'!$G$3)","v":{"$error":"#VALUE!"}},{"$error":"#VALUE!"},"ABCDEFGHIJKLMNOPQRSTUVWXABCDEFGHIJKLMNOPQRSTUVWX","\"0123456789\"",{"$f":"IF(B486>0,IF(K486=Infoblad!$C$6,0.5,0.5+AH486*40076.59/2/PI()),\" \")","v":" "},""]
[null,null," ",{"$f":"IF(B487>0,VASTETIJD(C487)-Infoblad!$C$29,\" \")","v":" "}," ",475," ",null,null,null,null,null,{"$f":"IF(L487>0,VLOOKUP(L487,Punten!$B$3:$C$109,2,FALSE),\" \")","v":" "},null," ",null,null,null,"","","","","","",{"$f":"SEARCH(T487,'Eigen QTH LOc'!$I$1)*10-100+V487","v":{"$error":"#VALUE!"}},{"$f":"TRUNC(ROUND((SEARCH(X487,'Eigen QTH LOc'!$I$1)-0.5)*2.5,2))","v":1},{"$f":"IF(Z487>0,(MOD(ROUND((SEARCH(X487,'Eigen QTH LOc'!$I$1)-0.5)*2.5,2),TRUNC(Z487)))*60,0)","v":15},{"$f":"SEARCH(S487,'Eigen QTH LOc'!$I$1)*20-200+U487*2","v":{"$error":"#VALUE!"}},{"$f":"TRUNC((SEARCH(W487,'Eigen QTH LOc'!$I$1)-0.5)*5)","v":2},{"$f":"IF(AC487>0,(MOD((SEARCH(W487,'Eigen QTH LOc'!$I$1)-0.5)*5,TRUNC(AC487)))*60,0)","v":30},{"$error":"#VALUE!"},{"$error":"#VALUE!"},{"$f":"COS('Eigen QTH LOc'!$G$4-AF487)*SIN(PI()/2-AE487)*SIN(PI()/2-'Eigen QTH LOc'!$G$3)+COS(PI()/2-AE487)*COS(PI()/2-'Eigen QTH LOc'!$G$3)","v":{"$error":"#VALUE!"}},{"$error":"#VALUE!"},"ABCDEFGHIJKLMNOPQRSTUVWXABCDEFGHIJKLMNOPQRSTUVWX","\"0123456789\"",{"$f":"IF(B487>0,IF(K487=Infoblad!$C$6,0.5,0.5+AH487*40076.59/2/PI()),\" \")","v":" "},""]
[null,null," ",{"$f":"IF(B488>0,VASTETIJD(C488)-Infoblad!$C$29,\" \")","v":" "}," ",476," ",null,null,null,null,null,{"$f":"IF(L488>0,VLOOKUP(L488,Punten!$B$3:$C$109,2,FALSE),\" \")","v":" "},null," ",null,null,null,"","","","","","",{"$f":"SEARCH(T488,'Eigen QTH LOc'!$I$1)*10-100+V488","v":{"$error":"#VALUE!"}},{"$f":"TRUNC(ROUND((SEARCH(X488,'Eigen QTH LOc'!$I$1)-0.5)*2.5,2))","v":1},{"$f":"IF(Z488>0,(MOD(ROUND((SEARCH(X488,'Eigen QTH LOc'!$I$1)-0.5)*2.5,2),TRUNC(Z488)))*60,0)","v":15},{"$f":"SEARCH(S488,'Eigen QTH LOc'!$I$1)*20-200+U488*2","v":{"$error":"#VALUE!"}},{"$f":"TRUNC((SEARCH(W488,'Eigen QTH LOc'!$I$1)-0.5)*5)","v":2},{"$f":"IF(AC488>0,(MOD((SEARCH(W488,'Eigen QTH LOc'!$I$1)-0.5)*5,TRUNC(AC488)))*60,0)","v":30},{"$error":"#VALUE!"},{"$error":"#VALUE!"},{"$f":"COS('Eigen QTH LOc'!$G$4-AF488)*SIN(PI()/2-AE488)*SIN(PI()/2-'Eigen QTH LOc'!$G$3)+COS(PI()/2-AE488)*COS(PI()/2-'Eigen QTH LOc'!$G$3)","v":{"$error":"#VALUE!"}},{"$error":"#VALUE!"},"ABCDEFGHIJKLMNOPQRSTUVWXABCDEFGHIJKLMNOPQRSTUVWX","\"0123456789\"",{"$f":"IF(B488>0,IF(K488=Infoblad!$C$6,0.5,0.5+AH488*40076.59/2/PI()),\" \")","v":" "},""]
[null,null," ",{"$f":"IF(B489>0,VASTETIJD(C489)-Infoblad!$C$29,\" \")","v":" "}," ",477," ",null,null,null,null,null,{"$f":"IF(L489>0,VLOOKUP(L489,Punten!$B$3:$C$109,2,FALSE),\" \")","v":" "},null," ",null,null,null,"","","","","","",{"$f":"SEARCH(T489,'Eigen QTH LOc'!$I$1)*10-100+V489","v":{"$error":"#VALUE!"}},{"$f":"TRUNC(ROUND((SEARCH(X489,'Eigen QTH LOc'!$I$1)-0.5)*2.5,2))","v":1},{"$f":"IF(Z489>0,(MOD(ROUND((SEARCH(X489,'Eigen QTH LOc'!$I$1)-0.5)*2.5,2),TRUNC(Z489)))*60,0)","v":15},{"$f":"SEARCH(S489,'Eigen QTH LOc'!$I$1)*20-200+U489*2","v":{"$error":"#VALUE!"}},{"$f":"TRUNC((SEARCH(W489,'Eigen QTH LOc'!$I$1)-0.5)*5)","v":2},{"$f":"IF(AC489>0,(MOD((SEARCH(W489,'Eigen QTH LOc'!$I$1)-0.5)*5,TRUNC(AC489)))*60,0)","v":30},{"$error":"#VALUE!"},{"$error":"#VALUE!"},{"$f":"COS('Eigen QTH LOc'!$G$4-AF489)*SIN(PI()/2-AE489)*SIN(PI()/2-'Eigen QTH LOc'!$G$3)+COS(PI()/2-AE489)*COS(PI()/2-'Eigen QTH LOc'!$G$3)","v":{"$error":"#VALUE!"}},{"$error":"#VALUE!"},"ABCDEFGHIJKLMNOPQRSTUVWXABCDEFGHIJKLMNOPQRSTUVWX","\"0123456789\"",{"$f":"IF(B489>0,IF(K489=Infoblad!$C$6,0.5,0.5+AH489*40076.59/2/PI()),\" \")","v":" "},""]
[null,null," ",{"$f":"IF(B490>0,VASTETIJD(C490)-Infoblad!$C$29,\" \")","v":" "}," ",478," ",null,null,null,null,null,{"$f":"IF(L490>0,VLOOKUP(L490,Punten!$B$3:$C$109,2,FALSE),\" \")","v":" "},null," ",null,null,null,"","","","","","",{"$f":"SEARCH(T490,'Eigen QTH LOc'!$I$1)*10-100+V490","v":{"$error":"#VALUE!"}},{"$f":"TRUNC(ROUND((SEARCH(X490,'Eigen QTH LOc'!$I$1)-0.5)*2.5,2))","v":1},{"$f":"IF(Z490>0,(MOD(ROUND((SEARCH(X490,'Eigen QTH LOc'!$I$1)-0.5)*2.5,2),TRUNC(Z490)))*60,0)","v":15},{"$f":"SEARCH(S490,'Eigen QTH LOc'!$I$1)*20-200+U490*2","v":{"$error":"#VALUE!"}},{"$f":"TRUNC((SEARCH(W490,'Eigen QTH LOc'!$I$1)-0.5)*5)","v":2},{"$f":"IF(AC490>0,(MOD((SEARCH(W490,'Eigen QTH LOc'!$I$1)-0.5)*5,TRUNC(AC490)))*60,0)","v":30},{"$error":"#VALUE!"},{"$error":"#VALUE!"},{"$f":"COS('Eigen QTH LOc'!$G$4-AF490)*SIN(PI()/2-AE490)*SIN(PI()/2-'Eigen QTH LOc'!$G$3)+COS(PI()/2-AE490)*COS(PI()/2-'Eigen QTH LOc'!$G$3)","v":{"$error":"#VALUE!"}},{"$error":"#VALUE!"},"ABCDEFGHIJKLMNOPQRSTUVWXABCDEFGHIJKLMNOPQRSTUVWX","\"0123456789\"",{"$f":"IF(B490>0,IF(K490=Infoblad!$C$6,0.5,0.5+AH490*40076.59/2/PI()),\" \")","v":" "},""]
[null,null," ",{"$f":"IF(B491>0,VASTETIJD(C491)-Infoblad!$C$29,\" \")","v":" "}," ",479," ",null,null,null,null,null,{"$f":"IF(L491>0,VLOOKUP(L491,Punten!$B$3:$C$109,2,FALSE),\" \")","v":" "},null," ",null,null,null,"","","","","","",{"$f":"SEARCH(T491,'Eigen QTH LOc'!$I$1)*10-100+V491","v":{"$error":"#VALUE!"}},{"$f":"TRUNC(ROUND((SEARCH(X491,'Eigen QTH LOc'!$I$1)-0.5)*2.5,2))","v":1},{"$f":"IF(Z491>0,(MOD(ROUND((SEARCH(X491,'Eigen QTH LOc'!$I$1)-0.5)*2.5,2),TRUNC(Z491)))*60,0)","v":15},{"$f":"SEARCH(S491,'Eigen QTH LOc'!$I$1)*20-200+U491*2","v":{"$error":"#VALUE!"}},{"$f":"TRUNC((SEARCH(W491,'Eigen QTH LOc'!$I$1)-0.5)*5)","v":2},{"$f":"IF(AC491>0,(MOD((SEARCH(W491,'Eigen QTH LOc'!$I$1)-0.5)*5,TRUNC(AC491)))*60,0)","v":30},{"$error":"#VALUE!"},{"$error":"#VALUE!"},{"$f":"COS('Eigen QTH LOc'!$G$4-AF491)*SIN(PI()/2-AE491)*SIN(PI()/2-'Eigen QTH LOc'!$G$3)+COS(PI()/2-AE491)*COS(PI()/2-'Eigen QTH LOc'!$G$3)","v":{"$error":"#VALUE!"}},{"$error":"#VALUE!"},"ABCDEFGHIJKLMNOPQRSTUVWXABCDEFGHIJKLMNOPQRSTUVWX","\"0123456789\"",{"$f":"IF(B491>0,IF(K491=Infoblad!$C$6,0.5,0.5+AH491*40076.59/2/PI()),\" \")","v":" "},""]
[null,null," ",{"$f":"IF(B492>0,VASTETIJD(C492)-Infoblad!$C$29,\" \")","v":" "}," ",480," ",null,null,null,null,null,{"$f":"IF(L492>0,VLOOKUP(L492,Punten!$B$3:$C$109,2,FALSE),\" \")","v":" "},null," ",null,null,null,"","","","","","",{"$f":"SEARCH(T492,'Eigen QTH LOc'!$I$1)*10-100+V492","v":{"$error":"#VALUE!"}},{"$f":"TRUNC(ROUND((SEARCH(X492,'Eigen QTH LOc'!$I$1)-0.5)*2.5,2))","v":1},{"$f":"IF(Z492>0,(MOD(ROUND((SEARCH(X492,'Eigen QTH LOc'!$I$1)-0.5)*2.5,2),TRUNC(Z492)))*60,0)","v":15},{"$f":"SEARCH(S492,'Eigen QTH LOc'!$I$1)*20-200+U492*2","v":{"$error":"#VALUE!"}},{"$f":"TRUNC((SEARCH(W492,'Eigen QTH LOc'!$I$1)-0.5)*5)","v":2},{"$f":"IF(AC492>0,(MOD((SEARCH(W492,'Eigen QTH LOc'!$I$1)-0.5)*5,TRUNC(AC492)))*60,0)","v":30},{"$error":"#VALUE!"},{"$error":"#VALUE!"},{"$f":"COS('Eigen QTH LOc'!$G$4-AF492)*SIN(PI()/2-AE492)*SIN(PI()/2-'Eigen QTH LOc'!$G$3)+COS(PI()/2-AE492)*COS(PI()/2-'Eigen QTH LOc'!$G$3)","v":{"$error":"#VALUE!"}},{"$error":"#VALUE!"},"ABCDEFGHIJKLMNOPQRSTUVWXABCDEFGHIJKLMNOPQRSTUVWX","\"0123456789\"",{"$f":"IF(B492>0,IF(K492=Infoblad!$C$6,0.5,0.5+AH492*40076.59/2/PI()),\" \")","v":" "},""]
[null,null," ",{"$f":"IF(B493>0,VASTETIJD(C493)-Infoblad!$C$29,\" \")","v":" "}," ",481," ",null,null,null,null,null,{"$f":"IF(L493>0,VLOOKUP(L493,Punten!$B$3:$C$109,2,FALSE),\" \")","v":" "},null," ",null,null,null,"","","","","","",{"$f":"SEARCH(T493,'Eigen QTH LOc'!$I$1)*10-100+V493","v":{"$error":"#VALUE!"}},{"$f":"TRUNC(ROUND((SEARCH(X493,'Eigen QTH LOc'!$I$1)-0.5)*2.5,2))","v":1},{"$f":"IF(Z493>0,(MOD(ROUND((SEARCH(X493,'Eigen QTH LOc'!$I$1)-0.5)*2.5,2),TRUNC(Z493)))*60,0)","v":15},{"$f":"SEARCH(S493,'Eigen QTH LOc'!$I$1)*20-200+U493*2","v":{"$error":"#VALUE!"}},{"$f":"TRUNC((SEARCH(W493,'Eigen QTH LOc'!$I$1)-0.5)*5)","v":2},{"$f":"IF(AC493>0,(MOD((SEARCH(W493,'Eigen QTH LOc'!$I$1)-0.5)*5,TRUNC(AC493)))*60,0)","v":30},{"$error":"#VALUE!"},{"$error":"#VALUE!"},{"$f":"COS('Eigen QTH LOc'!$G$4-AF493)*SIN(PI()/2-AE493)*SIN(PI()/2-'Eigen QTH LOc'!$G$3)+COS(PI()/2-AE493)*COS(PI()/2-'Eigen QTH LOc'!$G$3)","v":{"$error":"#VALUE!"}},{"$error":"#VALUE!"},"ABCDEFGHIJKLMNOPQRSTUVWXABCDEFGHIJKLMNOPQRSTUVWX","\"0123456789\"",{"$f":"IF(B493>0,IF(K493=Infoblad!$C$6,0.5,0.5+AH493*40076.59/2/PI()),\" \")","v":" "},""]
[null,null," ",{"$f":"IF(B494>0,VASTETIJD(C494)-Infoblad!$C$29,\" \")","v":" "}," ",482," ",null,null,null,null,null,{"$f":"IF(L494>0,VLOOKUP(L494,Punten!$B$3:$C$109,2,FALSE),\" \")","v":" "},null," ",null,null,null,"","","","","","",{"$f":"SEARCH(T494,'Eigen QTH LOc'!$I$1)*10-100+V494","v":{"$error":"#VALUE!"}},{"$f":"TRUNC(ROUND((SEARCH(X494,'Eigen QTH LOc'!$I$1)-0.5)*2.5,2))","v":1},{"$f":"IF(Z494>0,(MOD(ROUND((SEARCH(X494,'Eigen QTH LOc'!$I$1)-0.5)*2.5,2),TRUNC(Z494)))*60,0)","v":15},{"$f":"SEARCH(S494,'Eigen QTH LOc'!$I$1)*20-200+U494*2","v":{"$error":"#VALUE!"}},{"$f":"TRUNC((SEARCH(W494,'Eigen QTH LOc'!$I$1)-0.5)*5)","v":2},{"$f":"IF(AC494>0,(MOD((SEARCH(W494,'Eigen QTH LOc'!$I$1)-0.5)*5,TRUNC(AC494)))*60,0)","v":30},{"$error":"#VALUE!"},{"$error":"#VALUE!"},{"$f":"COS('Eigen QTH LOc'!$G$4-AF494)*SIN(PI()/2-AE494)*SIN(PI()/2-'Eigen QTH LOc'!$G$3)+COS(PI()/2-AE494)*COS(PI()/2-'Eigen QTH LOc'!$G$3)","v":{"$error":"#VALUE!"}},{"$error":"#VALUE!"},"ABCDEFGHIJKLMNOPQRSTUVWXABCDEFGHIJKLMNOPQRSTUVWX","\"0123456789\"",{"$f":"IF(B494>0,IF(K494=Infoblad!$C$6,0.5,0.5+AH494*40076.59/2/PI()),\" \")","v":" "},""]
[null,null," ",{"$f":"IF(B495>0,VASTETIJD(C495)-Infoblad!$C$29,\" \")","v":" "}," ",483," ",null,null,null,null,null,{"$f":"IF(L495>0,VLOOKUP(L495,Punten!$B$3:$C$109,2,FALSE),\" \")","v":" "},null," ",null,null,null,"","","","","","",{"$f":"SEARCH(T495,'Eigen QTH LOc'!$I$1)*10-100+V495","v":{"$error":"#VALUE!"}},{"$f":"TRUNC(ROUND((SEARCH(X495,'Eigen QTH LOc'!$I$1)-0.5)*2.5,2))","v":1},{"$f":"IF(Z495>0,(MOD(ROUND((SEARCH(X495,'Eigen QTH LOc'!$I$1)-0.5)*2.5,2),TRUNC(Z495)))*60,0)","v":15},{"$f":"SEARCH(S495,'Eigen QTH LOc'!$I$1)*20-200+U495*2","v":{"$error":"#VALUE!"}},{"$f":"TRUNC((SEARCH(W495,'Eigen QTH LOc'!$I$1)-0.5)*5)","v":2},{"$f":"IF(AC495>0,(MOD((SEARCH(W495,'Eigen QTH LOc'!$I$1)-0.5)*5,TRUNC(AC495)))*60,0)","v":30},{"$error":"#VALUE!"},{"$error":"#VALUE!"},{"$f":"COS('Eigen QTH LOc'!$G$4-AF495)*SIN(PI()/2-AE495)*SIN(PI()/2-'Eigen QTH LOc'!$G$3)+COS(PI()/2-AE495)*COS(PI()/2-'Eigen QTH LOc'!$G$3)","v":{"$error":"#VALUE!"}},{"$error":"#VALUE!"},"ABCDEFGHIJKLMNOPQRSTUVWXABCDEFGHIJKLMNOPQRSTUVWX","\"0123456789\"",{"$f":"IF(B495>0,IF(K495=Infoblad!$C$6,0.5,0.5+AH495*40076.59/2/PI()),\" \")","v":" "},""]
[null,null," ",{"$f":"IF(B496>0,VASTETIJD(C496)-Infoblad!$C$29,\" \")","v":" "}," ",484," ",null,null,null,null,null,{"$f":"IF(L496>0,VLOOKUP(L496,Punten!$B$3:$C$109,2,FALSE),\" \")","v":" "},null," ",null,null,null,"","","","","","",{"$f":"SEARCH(T496,'Eigen QTH LOc'!$I$1)*10-100+V496","v":{"$error":"#VALUE!"}},{"$f":"TRUNC(ROUND((SEARCH(X496,'Eigen QTH LOc'!$I$1)-0.5)*2.5,2))","v":1},{"$f":"IF(Z496>0,(MOD(ROUND((SEARCH(X496,'Eigen QTH LOc'!$I$1)-0.5)*2.5,2),TRUNC(Z496)))*60,0)","v":15},{"$f":"SEARCH(S496,'Eigen QTH LOc'!$I$1)*20-200+U496*2","v":{"$error":"#VALUE!"}},{"$f":"TRUNC((SEARCH(W496,'Eigen QTH LOc'!$I$1)-0.5)*5)","v":2},{"$f":"IF(AC496>0,(MOD((SEARCH(W496,'Eigen QTH LOc'!$I$1)-0.5)*5,TRUNC(AC496)))*60,0)","v":30},{"$error":"#VALUE!"},{"$error":"#VALUE!"},{"$f":"COS('Eigen QTH LOc'!$G$4-AF496)*SIN(PI()/2-AE496)*SIN(PI()/2-'Eigen QTH LOc'!$G$3)+COS(PI()/2-AE496)*COS(PI()/2-'Eigen QTH LOc'!$G$3)","v":{"$error":"#VALUE!"}},{"$error":"#VALUE!"},"ABCDEFGHIJKLMNOPQRSTUVWXABCDEFGHIJKLMNOPQRSTUVWX","\"0123456789\"",{"$f":"IF(B496>0,IF(K496=Infoblad!$C$6,0.5,0.5+AH496*40076.59/2/PI()),\" \")","v":" "},""]
[null,null," ",{"$f":"IF(B497>0,VASTETIJD(C497)-Infoblad!$C$29,\" \")","v":" "}," ",485," ",null,null,null,null,null,{"$f":"IF(L497>0,VLOOKUP(L497,Punten!$B$3:$C$109,2,FALSE),\" \")","v":" "},null," ",null,null,null,"","","","","","",{"$f":"SEARCH(T497,'Eigen QTH LOc'!$I$1)*10-100+V497","v":{"$error":"#VALUE!"}},{"$f":"TRUNC(ROUND((SEARCH(X497,'Eigen QTH LOc'!$I$1)-0.5)*2.5,2))","v":1},{"$f":"IF(Z497>0,(MOD(ROUND((SEARCH(X497,'Eigen QTH LOc'!$I$1)-0.5)*2.5,2),TRUNC(Z497)))*60,0)","v":15},{"$f":"SEARCH(S497,'Eigen QTH LOc'!$I$1)*20-200+U497*2","v":{"$error":"#VALUE!"}},{"$f":"TRUNC((SEARCH(W497,'Eigen QTH LOc'!$I$1)-0.5)*5)","v":2},{"$f":"IF(AC497>0,(MOD((SEARCH(W497,'Eigen QTH LOc'!$I$1)-0.5)*5,TRUNC(AC497)))*60,0)","v":30},{"$error":"#VALUE!"},{"$error":"#VALUE!"},{"$f":"COS('Eigen QTH LOc'!$G$4-AF497)*SIN(PI()/2-AE497)*SIN(PI()/2-'Eigen QTH LOc'!$G$3)+COS(PI()/2-AE497)*COS(PI()/2-'Eigen QTH LOc'!$G$3)","v":{"$error":"#VALUE!"}},{"$error":"#VALUE!"},"ABCDEFGHIJKLMNOPQRSTUVWXABCDEFGHIJKLMNOPQRSTUVWX","\"0123456789\"",{"$f":"IF(B497>0,IF(K497=Infoblad!$C$6,0.5,0.5+AH497*40076.59/2/PI()),\" \")","v":" "},""]
[null,null," ",{"$f":"IF(B498>0,VASTETIJD(C498)-Infoblad!$C$29,\" \")","v":" "}," ",486," ",null,null,null,null,null,{"$f":"IF(L498>0,VLOOKUP(L498,Punten!$B$3:$C$109,2,FALSE),\" \")","v":" "},null," ",null,null,null,"","","","","","",{"$f":"SEARCH(T498,'Eigen QTH LOc'!$I$1)*10-100+V498","v":{"$error":"#VALUE!"}},{"$f":"TRUNC(ROUND((SEARCH(X498,'Eigen QTH LOc'!$I$1)-0.5)*2.5,2))","v":1},{"$f":"IF(Z498>0,(MOD(ROUND((SEARCH(X498,'Eigen QTH LOc'!$I$1)-0.5)*2.5,2),TRUNC(Z498)))*60,0)","v":15},{"$f":"SEARCH(S498,'Eigen QTH LOc'!$I$1)*20-200+U498*2","v":{"$error":"#VALUE!"}},{"$f":"TRUNC((SEARCH(W498,'Eigen QTH LOc'!$I$1)-0.5)*5)","v":2},{"$f":"IF(AC498>0,(MOD((SEARCH(W498,'Eigen QTH LOc'!$I$1)-0.5)*5,TRUNC(AC498)))*60,0)","v":30},{"$error":"#VALUE!"},{"$error":"#VALUE!"},{"$f":"COS('Eigen QTH LOc'!$G$4-AF498)*SIN(PI()/2-AE498)*SIN(PI()/2-'Eigen QTH LOc'!$G$3)+COS(PI()/2-AE498)*COS(PI()/2-'Eigen QTH LOc'!$G$3)","v":{"$error":"#VALUE!"}},{"$error":"#VALUE!"},"ABCDEFGHIJKLMNOPQRSTUVWXABCDEFGHIJKLMNOPQRSTUVWX","\"0123456789\"",{"$f":"IF(B498>0,IF(K498=Infoblad!$C$6,0.5,0.5+AH498*40076.59/2/PI()),\" \")","v":" "},""]
[null,null," ",{"$f":"IF(B499>0,VASTETIJD(C499)-Infoblad!$C$29,\" \")","v":" "}," ",487," ",null,null,null,null,null,{"$f":"IF(L499>0,VLOOKUP(L499,Punten!$B$3:$C$109,2,FALSE),\" \")","v":" "},null," ",null,null,null,"","","","","","",{"$f":"SEARCH(T499,'Eigen QTH LOc'!$I$1)*10-100+V499","v":{"$error":"#VALUE!"}},{"$f":"TRUNC(ROUND((SEARCH(X499,'Eigen QTH LOc'!$I$1)-0.5)*2.5,2))","v":1},{"$f":"IF(Z499>0,(MOD(ROUND((SEARCH(X499,'Eigen QTH LOc'!$I$1)-0.5)*2.5,2),TRUNC(Z499)))*60,0)","v":15},{"$f":"SEARCH(S499,'Eigen QTH LOc'!$I$1)*20-200+U499*2","v":{"$error":"#VALUE!"}},{"$f":"TRUNC((SEARCH(W499,'Eigen QTH LOc'!$I$1)-0.5)*5)","v":2},{"$f":"IF(AC499>0,(MOD((SEARCH(W499,'Eigen QTH LOc'!$I$1)-0.5)*5,TRUNC(AC499)))*60,0)","v":30},{"$error":"#VALUE!"},{"$error":"#VALUE!"},{"$f":"COS('Eigen QTH LOc'!$G$4-AF499)*SIN(PI()/2-AE499)*SIN(PI()/2-'Eigen QTH LOc'!$G$3)+COS(PI()/2-AE499)*COS(PI()/2-'Eigen QTH LOc'!$G$3)","v":{"$error":"#VALUE!"}},{"$error":"#VALUE!"},"ABCDEFGHIJKLMNOPQRSTUVWXABCDEFGHIJKLMNOPQRSTUVWX","\"0123456789\"",{"$f":"IF(B499>0,IF(K499=Infoblad!$C$6,0.5,0.5+AH499*40076.59/2/PI()),\" \")","v":" "},""]
[null,null," ",{"$f":"IF(B500>0,VASTETIJD(C500)-Infoblad!$C$29,\" \")","v":" "}," ",488," ",null,null,null,null,null,{"$f":"IF(L500>0,VLOOKUP(L500,Punten!$B$3:$C$109,2,FALSE),\" \")","v":" "},null," ",null,null,null,"","","","","","",{"$f":"SEARCH(T500,'Eigen QTH LOc'!$I$1)*10-100+V500","v":{"$error":"#VALUE!"}},{"$f":"TRUNC(ROUND((SEARCH(X500,'Eigen QTH LOc'!$I$1)-0.5)*2.5,2))","v":1},{"$f":"IF(Z500>0,(MOD(ROUND((SEARCH(X500,'Eigen QTH LOc'!$I$1)-0.5)*2.5,2),TRUNC(Z500)))*60,0)","v":15},{"$f":"SEARCH(S500,'Eigen QTH LOc'!$I$1)*20-200+U500*2","v":{"$error":"#VALUE!"}},{"$f":"TRUNC((SEARCH(W500,'Eigen QTH LOc'!$I$1)-0.5)*5)","v":2},{"$f":"IF(AC500>0,(MOD((SEARCH(W500,'Eigen QTH LOc'!$I$1)-0.5)*5,TRUNC(AC500)))*60,0)","v":30},{"$error":"#VALUE!"},{"$error":"#VALUE!"},{"$f":"COS('Eigen QTH LOc'!$G$4-AF500)*SIN(PI()/2-AE500)*SIN(PI()/2-'Eigen QTH LOc'!$G$3)+COS(PI()/2-AE500)*COS(PI()/2-'Eigen QTH LOc'!$G$3)","v":{"$error":"#VALUE!"}},{"$error":"#VALUE!"},"ABCDEFGHIJKLMNOPQRSTUVWXABCDEFGHIJKLMNOPQRSTUVWX","\"0123456789\"",{"$f":"IF(B500>0,IF(K500=Infoblad!$C$6,0.5,0.5+AH500*40076.59/2/PI()),\" \")","v":" "},""]
[null,null," ",{"$f":"IF(B501>0,VASTETIJD(C501)-Infoblad!$C$29,\" \")","v":" "}," ",489," ",null,null,null,null,null,{"$f":"IF(L501>0,VLOOKUP(L501,Punten!$B$3:$C$109,2,FALSE),\" \")","v":" "},null," ",null,null,null,"","","","","","",{"$f":"SEARCH(T501,'Eigen QTH LOc'!$I$1)*10-100+V501","v":{"$error":"#VALUE!"}},{"$f":"TRUNC(ROUND((SEARCH(X501,'Eigen QTH LOc'!$I$1)-0.5)*2.5,2))","v":1},{"$f":"IF(Z501>0,(MOD(ROUND((SEARCH(X501,'Eigen QTH LOc'!$I$1)-0.5)*2.5,2),TRUNC(Z501)))*60,0)","v":15},{"$f":"SEARCH(S501,'Eigen QTH LOc'!$I$1)*20-200+U501*2","v":{"$error":"#VALUE!"}},{"$f":"TRUNC((SEARCH(W501,'Eigen QTH LOc'!$I$1)-0.5)*5)","v":2},{"$f":"IF(AC501>0,(MOD((SEARCH(W501,'Eigen QTH LOc'!$I$1)-0.5)*5,TRUNC(AC501)))*60,0)","v":30},{"$error":"#VALUE!"},{"$error":"#VALUE!"},{"$f":"COS('Eigen QTH LOc'!$G$4-AF501)*SIN(PI()/2-AE501)*SIN(PI()/2-'Eigen QTH LOc'!$G$3)+COS(PI()/2-AE501)*COS(PI()/2-'Eigen QTH LOc'!$G$3)","v":{"$error":"#VALUE!"}},{"$error":"#VALUE!"},"ABCDEFGHIJKLMNOPQRSTUVWXABCDEFGHIJKLMNOPQRSTUVWX","\"0123456789\"",{"$f":"IF(B501>0,IF(K501=Infoblad!$C$6,0.5,0.5+AH501*40076.59/2/PI()),\" \")","v":" "},""]
[null,null," ",{"$f":"IF(B502>0,VASTETIJD(C502)-Infoblad!$C$29,\" \")","v":" "}," ",490," ",null,null,null,null,null,{"$f":"IF(L502>0,VLOOKUP(L502,Punten!$B$3:$C$109,2,FALSE),\" \")","v":" "},null," ",null,null,null,"","","","","","",{"$f":"SEARCH(T502,'Eigen QTH LOc'!$I$1)*10-100+V502","v":{"$error":"#VALUE!"}},{"$f":"TRUNC(ROUND((SEARCH(X502,'Eigen QTH LOc'!$I$1)-0.5)*2.5,2))","v":1},{"$f":"IF(Z502>0,(MOD(ROUND((SEARCH(X502,'Eigen QTH LOc'!$I$1)-0.5)*2.5,2),TRUNC(Z502)))*60,0)","v":15},{"$f":"SEARCH(S502,'Eigen QTH LOc'!$I$1)*20-200+U502*2","v":{"$error":"#VALUE!"}},{"$f":"TRUNC((SEARCH(W502,'Eigen QTH LOc'!$I$1)-0.5)*5)","v":2},{"$f":"IF(AC502>0,(MOD((SEARCH(W502,'Eigen QTH LOc'!$I$1)-0.5)*5,TRUNC(AC502)))*60,0)","v":30},{"$error":"#VALUE!"},{"$error":"#VALUE!"},{"$f":"COS('Eigen QTH LOc'!$G$4-AF502)*SIN(PI()/2-AE502)*SIN(PI()/2-'Eigen QTH LOc'!$G$3)+COS(PI()/2-AE502)*COS(PI()/2-'Eigen QTH LOc'!$G$3)","v":{"$error":"#VALUE!"}},{"$error":"#VALUE!"},"ABCDEFGHIJKLMNOPQRSTUVWXABCDEFGHIJKLMNOPQRSTUVWX","\"0123456789\"",{"$f":"IF(B502>0,IF(K502=Infoblad!$C$6,0.5,0.5+AH502*40076.59/2/PI()),\" \")","v":" "},""]
[null,null," ",{"$f":"IF(B503>0,VASTETIJD(C503)-Infoblad!$C$29,\" \")","v":" "}," ",491," ",null,null,null,null,null,{"$f":"IF(L503>0,VLOOKUP(L503,Punten!$B$3:$C$109,2,FALSE),\" \")","v":" "},null," ",null,null,null,"","","","","","",{"$f":"SEARCH(T503,'Eigen QTH LOc'!$I$1)*10-100+V503","v":{"$error":"#VALUE!"}},{"$f":"TRUNC(ROUND((SEARCH(X503,'Eigen QTH LOc'!$I$1)-0.5)*2.5,2))","v":1},{"$f":"IF(Z503>0,(MOD(ROUND((SEARCH(X503,'Eigen QTH LOc'!$I$1)-0.5)*2.5,2),TRUNC(Z503)))*60,0)","v":15},{"$f":"SEARCH(S503,'Eigen QTH LOc'!$I$1)*20-200+U503*2","v":{"$error":"#VALUE!"}},{"$f":"TRUNC((SEARCH(W503,'Eigen QTH LOc'!$I$1)-0.5)*5)","v":2},{"$f":"IF(AC503>0,(MOD((SEARCH(W503,'Eigen QTH LOc'!$I$1)-0.5)*5,TRUNC(AC503)))*60,0)","v":30},{"$error":"#VALUE!"},{"$error":"#VALUE!"},{"$f":"COS('Eigen QTH LOc'!$G$4-AF503)*SIN(PI()/2-AE503)*SIN(PI()/2-'Eigen QTH LOc'!$G$3)+COS(PI()/2-AE503)*COS(PI()/2-'Eigen QTH LOc'!$G$3)","v":{"$error":"#VALUE!"}},{"$error":"#VALUE!"},"ABCDEFGHIJKLMNOPQRSTUVWXABCDEFGHIJKLMNOPQRSTUVWX","\"0123456789\"",{"$f":"IF(B503>0,IF(K503=Infoblad!$C$6,0.5,0.5+AH503*40076.59/2/PI()),\" \")","v":" "},""]
[null,null," ",{"$f":"IF(B504>0,VASTETIJD(C504)-Infoblad!$C$29,\" \")","v":" "}," ",492," ",null,null,null,null,null,{"$f":"IF(L504>0,VLOOKUP(L504,Punten!$B$3:$C$109,2,FALSE),\" \")","v":" "},null," ",null,null,null,"","","","","","",{"$f":"SEARCH(T504,'Eigen QTH LOc'!$I$1)*10-100+V504","v":{"$error":"#VALUE!"}},{"$f":"TRUNC(ROUND((SEARCH(X504,'Eigen QTH LOc'!$I$1)-0.5)*2.5,2))","v":1},{"$f":"IF(Z504>0,(MOD(ROUND((SEARCH(X504,'Eigen QTH LOc'!$I$1)-0.5)*2.5,2),TRUNC(Z504)))*60,0)","v":15},{"$f":"SEARCH(S504,'Eigen QTH LOc'!$I$1)*20-200+U504*2","v":{"$error":"#VALUE!"}},{"$f":"TRUNC((SEARCH(W504,'Eigen QTH LOc'!$I$1)-0.5)*5)","v":2},{"$f":"IF(AC504>0,(MOD((SEARCH(W504,'Eigen QTH LOc'!$I$1)-0.5)*5,TRUNC(AC504)))*60,0)","v":30},{"$error":"#VALUE!"},{"$error":"#VALUE!"},{"$f":"COS('Eigen QTH LOc'!$G$4-AF504)*SIN(PI()/2-AE504)*SIN(PI()/2-'Eigen QTH LOc'!$G$3)+COS(PI()/2-AE504)*COS(PI()/2-'Eigen QTH LOc'!$G$3)","v":{"$error":"#VALUE!"}},{"$error":"#VALUE!"},"ABCDEFGHIJKLMNOPQRSTUVWXABCDEFGHIJKLMNOPQRSTUVWX","\"0123456789\"",{"$f":"IF(B504>0,IF(K504=Infoblad!$C$6,0.5,0.5+AH504*40076.59/2/PI()),\" \")","v":" "},""]
[null,null," ",{"$f":"IF(B505>0,VASTETIJD(C505)-Infoblad!$C$29,\" \")","v":" "}," ",493," ",null,null,null,null,null,{"$f":"IF(L505>0,VLOOKUP(L505,Punten!$B$3:$C$109,2,FALSE),\" \")","v":" "},null," ",null,null,null,"","","","","","",{"$f":"SEARCH(T505,'Eigen QTH LOc'!$I$1)*10-100+V505","v":{"$error":"#VALUE!"}},{"$f":"TRUNC(ROUND((SEARCH(X505,'Eigen QTH LOc'!$I$1)-0.5)*2.5,2))","v":1},{"$f":"IF(Z505>0,(MOD(ROUND((SEARCH(X505,'Eigen QTH LOc'!$I$1)-0.5)*2.5,2),TRUNC(Z505)))*60,0)","v":15},{"$f":"SEARCH(S505,'Eigen QTH LOc'!$I$1)*20-200+U505*2","v":{"$error":"#VALUE!"}},{"$f":"TRUNC((SEARCH(W505,'Eigen QTH LOc'!$I$1)-0.5)*5)","v":2},{"$f":"IF(AC505>0,(MOD((SEARCH(W505,'Eigen QTH LOc'!$I$1)-0.5)*5,TRUNC(AC505)))*60,0)","v":30},{"$error":"#VALUE!"},{"$error":"#VALUE!"},{"$f":"COS('Eigen QTH LOc'!$G$4-AF505)*SIN(PI()/2-AE505)*SIN(PI()/2-'Eigen QTH LOc'!$G$3)+COS(PI()/2-AE505)*COS(PI()/2-'Eigen QTH LOc'!$G$3)","v":{"$error":"#VALUE!"}},{"$error":"#VALUE!"},"ABCDEFGHIJKLMNOPQRSTUVWXABCDEFGHIJKLMNOPQRSTUVWX","\"0123456789\"",{"$f":"IF(B505>0,IF(K505=Infoblad!$C$6,0.5,0.5+AH505*40076.59/2/PI()),\" \")","v":" "},""]
[null,null," ",{"$f":"IF(B506>0,VASTETIJD(C506)-Infoblad!$C$29,\" \")","v":" "}," ",494," ",null,null,null,null,null,{"$f":"IF(L506>0,VLOOKUP(L506,Punten!$B$3:$C$109,2,FALSE),\" \")","v":" "},null," ",null,null,null,"","","","","","",{"$f":"SEARCH(T506,'Eigen QTH LOc'!$I$1)*10-100+V506","v":{"$error":"#VALUE!"}},{"$f":"TRUNC(ROUND((SEARCH(X506,'Eigen QTH LOc'!$I$1)-0.5)*2.5,2))","v":1},{"$f":"IF(Z506>0,(MOD(ROUND((SEARCH(X506,'Eigen QTH LOc'!$I$1)-0.5)*2.5,2),TRUNC(Z506)))*60,0)","v":15},{"$f":"SEARCH(S506,'Eigen QTH LOc'!$I$1)*20-200+U506*2","v":{"$error":"#VALUE!"}},{"$f":"TRUNC((SEARCH(W506,'Eigen QTH LOc'!$I$1)-0.5)*5)","v":2},{"$f":"IF(AC506>0,(MOD((SEARCH(W506,'Eigen QTH LOc'!$I$1)-0.5)*5,TRUNC(AC506)))*60,0)","v":30},{"$error":"#VALUE!"},{"$error":"#VALUE!"},{"$f":"COS('Eigen QTH LOc'!$G$4-AF506)*SIN(PI()/2-AE506)*SIN(PI()/2-'Eigen QTH LOc'!$G$3)+COS(PI()/2-AE506)*COS(PI()/2-'Eigen QTH LOc'!$G$3)","v":{"$error":"#VALUE!"}},{"$error":"#VALUE!"},"ABCDEFGHIJKLMNOPQRSTUVWXABCDEFGHIJKLMNOPQRSTUVWX","\"0123456789\"",{"$f":"IF(B506>0,IF(K506=Infoblad!$C$6,0.5,0.5+AH506*40076.59/2/PI()),\" \")","v":" "},""]
[null,null," ",{"$f":"IF(B507>0,VASTETIJD(C507)-Infoblad!$C$29,\" \")","v":" "}," ",495," ",null,null,null,null,null,{"$f":"IF(L507>0,VLOOKUP(L507,Punten!$B$3:$C$109,2,FALSE),\" \")","v":" "},null," ",null,null,null,"","","","","","",{"$f":"SEARCH(T507,'Eigen QTH LOc'!$I$1)*10-100+V507","v":{"$error":"#VALUE!"}},{"$f":"TRUNC(ROUND((SEARCH(X507,'Eigen QTH LOc'!$I$1)-0.5)*2.5,2))","v":1},{"$f":"IF(Z507>0,(MOD(ROUND((SEARCH(X507,'Eigen QTH LOc'!$I$1)-0.5)*2.5,2),TRUNC(Z507)))*60,0)","v":15},{"$f":"SEARCH(S507,'Eigen QTH LOc'!$I$1)*20-200+U507*2","v":{"$error":"#VALUE!"}},{"$f":"TRUNC((SEARCH(W507,'Eigen QTH LOc'!$I$1)-0.5)*5)","v":2},{"$f":"IF(AC507>0,(MOD((SEARCH(W507,'Eigen QTH LOc'!$I$1)-0.5)*5,TRUNC(AC507)))*60,0)","v":30},{"$error":"#VALUE!"},{"$error":"#VALUE!"},{"$f":"COS('Eigen QTH LOc'!$G$4-AF507)*SIN(PI()/2-AE507)*SIN(PI()/2-'Eigen QTH LOc'!$G$3)+COS(PI()/2-AE507)*COS(PI()/2-'Eigen QTH LOc'!$G$3)","v":{"$error":"#VALUE!"}},{"$error":"#VALUE!"},"ABCDEFGHIJKLMNOPQRSTUVWXABCDEFGHIJKLMNOPQRSTUVWX","\"0123456789\"",{"$f":"IF(B507>0,IF(K507=Infoblad!$C$6,0.5,0.5+AH507*40076.59/2/PI()),\" \")","v":" "},""]
[null,null," ",{"$f":"IF(B508>0,VASTETIJD(C508)-Infoblad!$C$29,\" \")","v":" "}," ",496," ",null,null,null,null,null,{"$f":"IF(L508>0,VLOOKUP(L508,Punten!$B$3:$C$109,2,FALSE),\" \")","v":" "},null," ",null,null,null,"","","","","","",{"$f":"SEARCH(T508,'Eigen QTH LOc'!$I$1)*10-100+V508","v":{"$error":"#VALUE!"}},{"$f":"TRUNC(ROUND((SEARCH(X508,'Eigen QTH LOc'!$I$1)-0.5)*2.5,2))","v":1},{"$f":"IF(Z508>0,(MOD(ROUND((SEARCH(X508,'Eigen QTH LOc'!$I$1)-0.5)*2.5,2),TRUNC(Z508)))*60,0)","v":15},{"$f":"SEARCH(S508,'Eigen QTH LOc'!$I$1)*20-200+U508*2","v":{"$error":"#VALUE!"}},{"$f":"TRUNC((SEARCH(W508,'Eigen QTH LOc'!$I$1)-0.5)*5)","v":2},{"$f":"IF(AC508>0,(MOD((SEARCH(W508,'Eigen QTH LOc'!$I$1)-0.5)*5,TRUNC(AC508)))*60,0)","v":30},{"$error":"#VALUE!"},{"$error":"#VALUE!"},{"$f":"COS('Eigen QTH LOc'!$G$4-AF508)*SIN(PI()/2-AE508)*SIN(PI()/2-'Eigen QTH LOc'!$G$3)+COS(PI()/2-AE508)*COS(PI()/2-'Eigen QTH LOc'!$G$3)","v":{"$error":"#VALUE!"}},{"$error":"#VALUE!"},"ABCDEFGHIJKLMNOPQRSTUVWXABCDEFGHIJKLMNOPQRSTUVWX","\"0123456789\"",{"$f":"IF(B508>0,IF(K508=Infoblad!$C$6,0.5,0.5+AH508*40076.59/2/PI()),\" \")","v":" "},""]
[null,null," ",{"$f":"IF(B509>0,VASTETIJD(C509)-Infoblad!$C$29,\" \")","v":" "}," ",497," ",null,null,null,null,null,{"$f":"IF(L509>0,VLOOKUP(L509,Punten!$B$3:$C$109,2,FALSE),\" \")","v":" "},null," ",null,null,null,"","","","","","",{"$f":"SEARCH(T509,'Eigen QTH LOc'!$I$1)*10-100+V509","v":{"$error":"#VALUE!"}},{"$f":"TRUNC(ROUND((SEARCH(X509,'Eigen QTH LOc'!$I$1)-0.5)*2.5,2))","v":1},{"$f":"IF(Z509>0,(MOD(ROUND((SEARCH(X509,'Eigen QTH LOc'!$I$1)-0.5)*2.5,2),TRUNC(Z509)))*60,0)","v":15},{"$f":"SEARCH(S509,'Eigen QTH LOc'!$I$1)*20-200+U509*2","v":{"$error":"#VALUE!"}},{"$f":"TRUNC((SEARCH(W509,'Eigen QTH LOc'!$I$1)-0.5)*5)","v":2},{"$f":"IF(AC509>0,(MOD((SEARCH(W509,'Eigen QTH LOc'!$I$1)-0.5)*5,TRUNC(AC509)))*60,0)","v":30},{"$error":"#VALUE!"},{"$error":"#VALUE!"},{"$f":"COS('Eigen QTH LOc'!$G$4-AF509)*SIN(PI()/2-AE509)*SIN(PI()/2-'Eigen QTH LOc'!$G$3)+COS(PI()/2-AE509)*COS(PI()/2-'Eigen QTH LOc'!$G$3)","v":{"$error":"#VALUE!"}},{"$error":"#VALUE!"},"ABCDEFGHIJKLMNOPQRSTUVWXABCDEFGHIJKLMNOPQRSTUVWX","\"0123456789\"",{"$f":"IF(B509>0,IF(K509=Infoblad!$C$6,0.5,0.5+AH509*40076.59/2/PI()),\" \")","v":" "},""]
[null,null," ",{"$f":"IF(B510>0,VASTETIJD(C510)-Infoblad!$C$29,\" \")","v":" "}," ",498," ",null,null,null,null,null,{"$f":"IF(L510>0,VLOOKUP(L510,Punten!$B$3:$C$109,2,FALSE),\" \")","v":" "},null," ",null,null,null,"","","","","","",{"$f":"SEARCH(T510,'Eigen QTH LOc'!$I$1)*10-100+V510","v":{"$error":"#VALUE!"}},{"$f":"TRUNC(ROUND((SEARCH(X510,'Eigen QTH LOc'!$I$1)-0.5)*2.5,2))","v":1},{"$f":"IF(Z510>0,(MOD(ROUND((SEARCH(X510,'Eigen QTH LOc'!$I$1)-0.5)*2.5,2),TRUNC(Z510)))*60,0)","v":15},{"$f":"SEARCH(S510,'Eigen QTH LOc'!$I$1)*20-200+U510*2","v":{"$error":"#VALUE!"}},{"$f":"TRUNC((SEARCH(W510,'Eigen QTH LOc'!$I$1)-0.5)*5)","v":2},{"$f":"IF(AC510>0,(MOD((SEARCH(W510,'Eigen QTH LOc'!$I$1)-0.5)*5,TRUNC(AC510)))*60,0)","v":30},{"$error":"#VALUE!"},{"$error":"#VALUE!"},{"$f":"COS('Eigen QTH LOc'!$G$4-AF510)*SIN(PI()/2-AE510)*SIN(PI()/2-'Eigen QTH LOc'!$G$3)+COS(PI()/2-AE510)*COS(PI()/2-'Eigen QTH LOc'!$G$3)","v":{"$error":"#VALUE!"}},{"$error":"#VALUE!"},"ABCDEFGHIJKLMNOPQRSTUVWXABCDEFGHIJKLMNOPQRSTUVWX","\"0123456789\"",{"$f":"IF(B510>0,IF(K510=Infoblad!$C$6,0.5,0.5+AH510*40076.59/2/PI()),\" \")","v":" "},""]
[null,null," ",{"$f":"IF(B511>0,VASTETIJD(C511)-Infoblad!$C$29,\" \")","v":" "}," ",499," ",null,null,null,null,null,{"$f":"IF(L511>0,VLOOKUP(L511,Punten!$B$3:$C$109,2,FALSE),\" \")","v":" "},null," ",null,null,null,"","","","","","",{"$f":"SEARCH(T511,'Eigen QTH LOc'!$I$1)*10-100+V511","v":{"$error":"#VALUE!"}},{"$f":"TRUNC(ROUND((SEARCH(X511,'Eigen QTH LOc'!$I$1)-0.5)*2.5,2))","v":1},{"$f":"IF(Z511>0,(MOD(ROUND((SEARCH(X511,'Eigen QTH LOc'!$I$1)-0.5)*2.5,2),TRUNC(Z511)))*60,0)","v":15},{"$f":"SEARCH(S511,'Eigen QTH LOc'!$I$1)*20-200+U511*2","v":{"$error":"#VALUE!"}},{"$f":"TRUNC((SEARCH(W511,'Eigen QTH LOc'!$I$1)-0.5)*5)","v":2},{"$f":"IF(AC511>0,(MOD((SEARCH(W511,'Eigen QTH LOc'!$I$1)-0.5)*5,TRUNC(AC511)))*60,0)","v":30},{"$error":"#VALUE!"},{"$error":"#VALUE!"},{"$f":"COS('Eigen QTH LOc'!$G$4-AF511)*SIN(PI()/2-AE511)*SIN(PI()/2-'Eigen QTH LOc'!$G$3)+COS(PI()/2-AE511)*COS(PI()/2-'Eigen QTH LOc'!$G$3)","v":{"$error":"#VALUE!"}},{"$error":"#VALUE!"},"ABCDEFGHIJKLMNOPQRSTUVWXABCDEFGHIJKLMNOPQRSTUVWX","\"0123456789\"",{"$f":"IF(B511>0,IF(K511=Infoblad!$C$6,0.5,0.5+AH511*40076.59/2/PI()),\" \")","v":" "},""]
[null,null," ",{"$f":"IF(B512>0,VASTETIJD(C512)-Infoblad!$C$29,\" \")","v":" "}," ",500," ",null,null,null,null,null,{"$f":"IF(L512>0,VLOOKUP(L512,Punten!$B$3:$C$109,2,FALSE),\" \")","v":" "},null," ",null,null,null,"","","","","","",{"$f":"SEARCH(T512,'Eigen QTH LOc'!$I$1)*10-100+V512","v":{"$error":"#VALUE!"}},{"$f":"TRUNC(ROUND((SEARCH(X512,'Eigen QTH LOc'!$I$1)-0.5)*2.5,2))","v":1},{"$f":"IF(Z512>0,(MOD(ROUND((SEARCH(X512,'Eigen QTH LOc'!$I$1)-0.5)*2.5,2),TRUNC(Z512)))*60,0)","v":15},{"$f":"SEARCH(S512,'Eigen QTH LOc'!$I$1)*20-200+U512*2","v":{"$error":"#VALUE!"}},{"$f":"TRUNC((SEARCH(W512,'Eigen QTH LOc'!$I$1)-0.5)*5)","v":2},{"$f":"IF(AC512>0,(MOD((SEARCH(W512,'Eigen QTH LOc'!$I$1)-0.5)*5,TRUNC(AC512)))*60,0)","v":30},{"$error":"#VALUE!"},{"$error":"#VALUE!"},{"$f":"COS('Eigen QTH LOc'!$G$4-AF512)*SIN(PI()/2-AE512)*SIN(PI()/2-'Eigen QTH LOc'!$G$3)+COS(PI()/2-AE512)*COS(PI()/2-'Eigen QTH LOc'!$G$3)","v":{"$error":"#VALUE!"}},{"$error":"#VALUE!"},"ABCDEFGHIJKLMNOPQRSTUVWXABCDEFGHIJKLMNOPQRSTUVWX","\"0123456789\"",{"$f":"IF(B512>0,IF(K512=Infoblad!$C$6,0.5,0.5+AH512*40076.59/2/PI()),\" \")","v":" "},""]
[]
[null,{"$f":"COUNTIF($J$13:$J$512,$D$514)","v":0},"2 meter QSO's",2,null,null,null,null,null,null,null,null,2,"2 meter km",{"$f":"SUMIF($J$13:$O$512,M514,$O$13:$O$512)","v":0},"km"]
[null,{"$f":"COUNTIF($J$13:$J$512,$D$515)","v":0},"70 cm QSO's",70,null,null,null,null,null,null,null,null,70,"70 cm km",{"$f":"SUMIF($J$13:$O$512,M515,$O$13:$O$512)","v":0},"km"]
[null,{"$f":"COUNTA(B13:B512)","v":0},"totaal qso's",null,null,null,null,null,null,null,null,"Punten",{"$f":"SUM(M13:M512)","v":0},"totaal km",{"$f":"ROUND(SUM(O13:O512),2)","v":0},"km"]
[null,{"$f":"COUNTIF(Controls!$B$13:$B$512,TRUE)","v":0},"dubbele qso's",null,null,null,null,null,null,null,null,"Dub.Pnt",{"$f":"Controls!E513","v":0},"dubbele km",{"$f":"Controls!D513","v":0},"km"]
[null,{"$f":"B516-B517","v":0},"netto qso's",null,null,null,null,null,null,null,null,"Net Punt.",{"$f":"M516-M517","v":0},"Netto km",{"$f":"O516-O517","v":0},"km"]
[]
[null,null,null,null,null,null,null,null,null,null,null,null,null,"verste qso",{"$f":"IF(O514>0,IF(O13>0,LARGE($O$13:$O$512,1),0),0)","v":0},"km"]
[null,"© ON7GZ, VRA vzw, 2019",null,null,null,null,null,null,null,null,null,null,null,"kortste  QSO",{"$f":"IF(O514>0,IF(O14>0,SMALL($O$13:$O$512,1),0),0)","v":0},"km"]

{"sheet":"Eigen QTH LOc","index":2,"n_rows":4,"n_cols":9,"rows_kept":4,"cut":false,"hidden":true,"merged":[[0,0,0,1]]}
["EIGEN QTH",null,null,null,null,null,null,null,"ABCDEFGHIJKLMNOPQRSTUVWXABCDEFGHIJKLMNOPQRSTUVWX"]
[null,null,{"$f":"MID(Logblad!$C$5,1,1)","v":"0"},{"$f":"MID(Logblad!$C$5,2,1)","v":""},{"$f":"MID(Logblad!$C$5,3,1)","v":""},{"$f":"MID(Logblad!$C$5,4,1)","v":""},{"$f":"MID(Logblad!$C$5,5,1)","v":""},{"$f":"MID(Logblad!$C$5,6,1)","v":""},"\"0123456789\""]
["BREEDTE","in °  '  \"",{"$f":"SEARCH($D$2,$I$1)*10-100+$F$2","v":{"$error":"#VALUE!"}},{"$f":"TRUNC(ROUND((SEARCH($H$2,$I$1)-0.5)*2.5,2))","v":1},{"$f":"IF($D$3>0,(MOD(ROUND((SEARCH($H$2,$I$1)-0.5)*2.5,2),TRUNC($D$3)))*60,0)","v":15},"Radialen",{"$f":"($C$3+($D$3/60)+($E$3/3600))*PI()/180","v":{"$error":"#VALUE!"}}]
["LENGTE","in °  '  ''",{"$f":"SEARCH($C$2,$I$1)*20-200+$E$2*2","v":{"$error":"#VALUE!"}},{"$f":"TRUNC((SEARCH($G$2,$I$1)-0.5)*5)","v":2},{"$f":"IF($D$4>0,(MOD((SEARCH($G$2,$I$1)-0.5)*5,TRUNC($D$4)))*60,0)","v":30},"Radialen",{"$f":"($C$4+($D$4/60)+($E$4/100/60))*PI()/180","v":{"$error":"#VALUE!"}}]

{"sheet":"Controls","index":3,"n_rows":513,"n_cols":5,"rows_kept":513,"cut":false,"hidden":true,"merged":[[1,0,1,4]]}
[]
["CONTROLES"]
[]
[]
[]
[]
[]
[]
[]
[]
[]
["Call+Mode+Band","Dupl.","Call","Km","Punten"]
[{"$f":"CONCATENATE(Logblad!B13,Logblad!I13,Logblad!J13)","v":""},{"$f":"IF(Logblad!$AL13>\" \",(COUNTIF(Logblad!$AL$13:$AL13,Logblad!$AL13)>1),\" \")","v":" "},{"$f":"IF(B13=TRUE,Logblad!AL13,\" \")","v":" "},{"$f":"IF(B13=TRUE,Logblad!O13,\" \")","v":" "},{"$f":"IF(B13=TRUE,Logblad!M13,\" \")","v":" "}]
[{"$f":"CONCATENATE(Logblad!B14,Logblad!I14,Logblad!J14)","v":""},{"$f":"IF(Logblad!$AL14>\" \",(COUNTIF(Logblad!$AL$13:$AL14,Logblad!$AL14)>1),\" \")","v":" "},{"$f":"IF(B14=TRUE,Logblad!AL14,\" \")","v":" "},{"$f":"IF(B14=TRUE,Logblad!O14,\" \")","v":" "},{"$f":"IF(B14=TRUE,Logblad!M14,\" \")","v":" "}]
[{"$f":"CONCATENATE(Logblad!B15,Logblad!I15,Logblad!J15)","v":""},{"$f":"IF(Logblad!$AL15>\" \",(COUNTIF(Logblad!$AL$13:$AL15,Logblad!$AL15)>1),\" \")","v":" "},{"$f":"IF(B15=TRUE,Logblad!AL15,\" \")","v":" "},{"$f":"IF(B15=TRUE,Logblad!O15,\" \")","v":" "},{"$f":"IF(B15=TRUE,Logblad!M15,\" \")","v":" "}]
[{"$f":"CONCATENATE(Logblad!B16,Logblad!I16,Logblad!J16)","v":""},{"$f":"IF(Logblad!$AL16>\" \",(COUNTIF(Logblad!$AL$13:$AL16,Logblad!$AL16)>1),\" \")","v":" "},{"$f":"IF(B16=TRUE,Logblad!AL16,\" \")","v":" "},{"$f":"IF(B16=TRUE,Logblad!O16,\" \")","v":" "},{"$f":"IF(B16=TRUE,Logblad!M16,\" \")","v":" "}]
[{"$f":"CONCATENATE(Logblad!B17,Logblad!I17,Logblad!J17)","v":""},{"$f":"IF(Logblad!$AL17>\" \",(COUNTIF(Logblad!$AL$13:$AL17,Logblad!$AL17)>1),\" \")","v":" "},{"$f":"IF(B17=TRUE,Logblad!AL17,\" \")","v":" "},{"$f":"IF(B17=TRUE,Logblad!O17,\" \")","v":" "},{"$f":"IF(B17=TRUE,Logblad!M17,\" \")","v":" "}]
[{"$f":"CONCATENATE(Logblad!B18,Logblad!I18,Logblad!J18)","v":""},{"$f":"IF(Logblad!$AL18>\" \",(COUNTIF(Logblad!$AL$13:$AL18,Logblad!$AL18)>1),\" \")","v":" "},{"$f":"IF(B18=TRUE,Logblad!AL18,\" \")","v":" "},{"$f":"IF(B18=TRUE,Logblad!O18,\" \")","v":" "},{"$f":"IF(B18=TRUE,Logblad!M18,\" \")","v":" "}]
[{"$f":"CONCATENATE(Logblad!B19,Logblad!I19,Logblad!J19)","v":""},{"$f":"IF(Logblad!$AL19>\" \",(COUNTIF(Logblad!$AL$13:$AL19,Logblad!$AL19)>1),\" \")","v":" "},{"$f":"IF(B19=TRUE,Logblad!AL19,\" \")","v":" "},{"$f":"IF(B19=TRUE,Logblad!O19,\" \")","v":" "},{"$f":"IF(B19=TRUE,Logblad!M19,\" \")","v":" "}]
[{"$f":"CONCATENATE(Logblad!B20,Logblad!I20,Logblad!J20)","v":""},{"$f":"IF(Logblad!$AL20>\" \",(COUNTIF(Logblad!$AL$13:$AL20,Logblad!$AL20)>1),\" \")","v":" "},{"$f":"IF(B20=TRUE,Logblad!AL20,\" \")","v":" "},{"$f":"IF(B20=TRUE,Logblad!O20,\" \")","v":" "},{"$f":"IF(B20=TRUE,Logblad!M20,\" \")","v":" "}]
[{"$f":"CONCATENATE(Logblad!B21,Logblad!I21,Logblad!J21)","v":""},{"$f":"IF(Logblad!$AL21>\" \",(COUNTIF(Logblad!$AL$13:$AL21,Logblad!$AL21)>1),\" \")","v":" "},{"$f":"IF(B21=TRUE,Logblad!AL21,\" \")","v":" "},{"$f":"IF(B21=TRUE,Logblad!O21,\" \")","v":" "},{"$f":"IF(B21=TRUE,Logblad!M21,\" \")","v":" "}]
[{"$f":"CONCATENATE(Logblad!B22,Logblad!I22,Logblad!J22)","v":""},{"$f":"IF(Logblad!$AL22>\" \",(COUNTIF(Logblad!$AL$13:$AL22,Logblad!$AL22)>1),\" \")","v":" "},{"$f":"IF(B22=TRUE,Logblad!AL22,\" \")","v":" "},{"$f":"IF(B22=TRUE,Logblad!O22,\" \")","v":" "},{"$f":"IF(B22=TRUE,Logblad!M22,\" \")","v":" "}]
[{"$f":"CONCATENATE(Logblad!B23,Logblad!I23,Logblad!J23)","v":""},{"$f":"IF(Logblad!$AL23>\" \",(COUNTIF(Logblad!$AL$13:$AL23,Logblad!$AL23)>1),\" \")","v":" "},{"$f":"IF(B23=TRUE,Logblad!AL23,\" \")","v":" "},{"$f":"IF(B23=TRUE,Logblad!O23,\" \")","v":" "},{"$f":"IF(B23=TRUE,Logblad!M23,\" \")","v":" "}]
[{"$f":"CONCATENATE(Logblad!B24,Logblad!I24,Logblad!J24)","v":""},{"$f":"IF(Logblad!$AL24>\" \",(COUNTIF(Logblad!$AL$13:$AL24,Logblad!$AL24)>1),\" \")","v":" "},{"$f":"IF(B24=TRUE,Logblad!AL24,\" \")","v":" "},{"$f":"IF(B24=TRUE,Logblad!O24,\" \")","v":" "},{"$f":"IF(B24=TRUE,Logblad!M24,\" \")","v":" "}]
[{"$f":"CONCATENATE(Logblad!B25,Logblad!I25,Logblad!J25)","v":""},{"$f":"IF(Logblad!$AL25>\" \",(COUNTIF(Logblad!$AL$13:$AL25,Logblad!$AL25)>1),\" \")","v":" "},{"$f":"IF(B25=TRUE,Logblad!AL25,\" \")","v":" "},{"$f":"IF(B25=TRUE,Logblad!O25,\" \")","v":" "},{"$f":"IF(B25=TRUE,Logblad!M25,\" \")","v":" "}]
[{"$f":"CONCATENATE(Logblad!B26,Logblad!I26,Logblad!J26)","v":""},{"$f":"IF(Logblad!$AL26>\" \",(COUNTIF(Logblad!$AL$13:$AL26,Logblad!$AL26)>1),\" \")","v":" "},{"$f":"IF(B26=TRUE,Logblad!AL26,\" \")","v":" "},{"$f":"IF(B26=TRUE,Logblad!O26,\" \")","v":" "},{"$f":"IF(B26=TRUE,Logblad!M26,\" \")","v":" "}]
[{"$f":"CONCATENATE(Logblad!B27,Logblad!I27,Logblad!J27)","v":""},{"$f":"IF(Logblad!$AL27>\" \",(COUNTIF(Logblad!$AL$13:$AL27,Logblad!$AL27)>1),\" \")","v":" "},{"$f":"IF(B27=TRUE,Logblad!AL27,\" \")","v":" "},{"$f":"IF(B27=TRUE,Logblad!O27,\" \")","v":" "},{"$f":"IF(B27=TRUE,Logblad!M27,\" \")","v":" "}]
[{"$f":"CONCATENATE(Logblad!B28,Logblad!I28,Logblad!J28)","v":""},{"$f":"IF(Logblad!$AL28>\" \",(COUNTIF(Logblad!$AL$13:$AL28,Logblad!$AL28)>1),\" \")","v":" "},{"$f":"IF(B28=TRUE,Logblad!AL28,\" \")","v":" "},{"$f":"IF(B28=TRUE,Logblad!O28,\" \")","v":" "},{"$f":"IF(B28=TRUE,Logblad!M28,\" \")","v":" "}]
[{"$f":"CONCATENATE(Logblad!B29,Logblad!I29,Logblad!J29)","v":""},{"$f":"IF(Logblad!$AL29>\" \",(COUNTIF(Logblad!$AL$13:$AL29,Logblad!$AL29)>1),\" \")","v":" "},{"$f":"IF(B29=TRUE,Logblad!AL29,\" \")","v":" "},{"$f":"IF(B29=TRUE,Logblad!O29,\" \")","v":" "},{"$f":"IF(B29=TRUE,Logblad!M29,\" \")","v":" "}]
[{"$f":"CONCATENATE(Logblad!B30,Logblad!I30,Logblad!J30)","v":""},{"$f":"IF(Logblad!$AL30>\" \",(COUNTIF(Logblad!$AL$13:$AL30,Logblad!$AL30)>1),\" \")","v":" "},{"$f":"IF(B30=TRUE,Logblad!AL30,\" \")","v":" "},{"$f":"IF(B30=TRUE,Logblad!O30,\" \")","v":" "},{"$f":"IF(B30=TRUE,Logblad!M30,\" \")","v":" "}]
[{"$f":"CONCATENATE(Logblad!B31,Logblad!I31,Logblad!J31)","v":""},{"$f":"IF(Logblad!$AL31>\" \",(COUNTIF(Logblad!$AL$13:$AL31,Logblad!$AL31)>1),\" \")","v":" "},{"$f":"IF(B31=TRUE,Logblad!AL31,\" \")","v":" "},{"$f":"IF(B31=TRUE,Logblad!O31,\" \")","v":" "},{"$f":"IF(B31=TRUE,Logblad!M31,\" \")","v":" "}]
[{"$f":"CONCATENATE(Logblad!B32,Logblad!I32,Logblad!J32)","v":""},{"$f":"IF(Logblad!$AL32>\" \",(COUNTIF(Logblad!$AL$13:$AL32,Logblad!$AL32)>1),\" \")","v":" "},{"$f":"IF(B32=TRUE,Logblad!AL32,\" \")","v":" "},{"$f":"IF(B32=TRUE,Logblad!O32,\" \")","v":" "},{"$f":"IF(B32=TRUE,Logblad!M32,\" \")","v":" "}]
[{"$f":"CONCATENATE(Logblad!B33,Logblad!I33,Logblad!J33)","v":""},{"$f":"IF(Logblad!$AL33>\" \",(COUNTIF(Logblad!$AL$13:$AL33,Logblad!$AL33)>1),\" \")","v":" "},{"$f":"IF(B33=TRUE,Logblad!AL33,\" \")","v":" "},{"$f":"IF(B33=TRUE,Logblad!O33,\" \")","v":" "},{"$f":"IF(B33=TRUE,Logblad!M33,\" \")","v":" "}]
[{"$f":"CONCATENATE(Logblad!B34,Logblad!I34,Logblad!J34)","v":""},{"$f":"IF(Logblad!$AL34>\" \",(COUNTIF(Logblad!$AL$13:$AL34,Logblad!$AL34)>1),\" \")","v":" "},{"$f":"IF(B34=TRUE,Logblad!AL34,\" \")","v":" "},{"$f":"IF(B34=TRUE,Logblad!O34,\" \")","v":" "},{"$f":"IF(B34=TRUE,Logblad!M34,\" \")","v":" "}]
[{"$f":"CONCATENATE(Logblad!B35,Logblad!I35,Logblad!J35)","v":""},{"$f":"IF(Logblad!$AL35>\" \",(COUNTIF(Logblad!$AL$13:$AL35,Logblad!$AL35)>1),\" \")","v":" "},{"$f":"IF(B35=TRUE,Logblad!AL35,\" \")","v":" "},{"$f":"IF(B35=TRUE,Logblad!O35,\" \")","v":" "},{"$f":"IF(B35=TRUE,Logblad!M35,\" \")","v":" "}]
[{"$f":"CONCATENATE(Logblad!B36,Logblad!I36,Logblad!J36)","v":""},{"$f":"IF(Logblad!$AL36>\" \",(COUNTIF(Logblad!$AL$13:$AL36,Logblad!$AL36)>1),\" \")","v":" "},{"$f":"IF(B36=TRUE,Logblad!AL36,\" \")","v":" "},{"$f":"IF(B36=TRUE,Logblad!O36,\" \")","v":" "},{"$f":"IF(B36=TRUE,Logblad!M36,\" \")","v":" "}]
[{"$f":"CONCATENATE(Logblad!B37,Logblad!I37,Logblad!J37)","v":""},{"$f":"IF(Logblad!$AL37>\" \",(COUNTIF(Logblad!$AL$13:$AL37,Logblad!$AL37)>1),\" \")","v":" "},{"$f":"IF(B37=TRUE,Logblad!AL37,\" \")","v":" "},{"$f":"IF(B37=TRUE,Logblad!O37,\" \")","v":" "},{"$f":"IF(B37=TRUE,Logblad!M37,\" \")","v":" "}]
[{"$f":"CONCATENATE(Logblad!B38,Logblad!I38,Logblad!J38)","v":""},{"$f":"IF(Logblad!$AL38>\" \",(COUNTIF(Logblad!$AL$13:$AL38,Logblad!$AL38)>1),\" \")","v":" "},{"$f":"IF(B38=TRUE,Logblad!AL38,\" \")","v":" "},{"$f":"IF(B38=TRUE,Logblad!O38,\" \")","v":" "},{"$f":"IF(B38=TRUE,Logblad!M38,\" \")","v":" "}]
[{"$f":"CONCATENATE(Logblad!B39,Logblad!I39,Logblad!J39)","v":""},{"$f":"IF(Logblad!$AL39>\" \",(COUNTIF(Logblad!$AL$13:$AL39,Logblad!$AL39)>1),\" \")","v":" "},{"$f":"IF(B39=TRUE,Logblad!AL39,\" \")","v":" "},{"$f":"IF(B39=TRUE,Logblad!O39,\" \")","v":" "},{"$f":"IF(B39=TRUE,Logblad!M39,\" \")","v":" "}]
[{"$f":"CONCATENATE(Logblad!B40,Logblad!I40,Logblad!J40)","v":""},{"$f":"IF(Logblad!$AL40>\" \",(COUNTIF(Logblad!$AL$13:$AL40,Logblad!$AL40)>1),\" \")","v":" "},{"$f":"IF(B40=TRUE,Logblad!AL40,\" \")","v":" "},{"$f":"IF(B40=TRUE,Logblad!O40,\" \")","v":" "},{"$f":"IF(B40=TRUE,Logblad!M40,\" \")","v":" "}]
[{"$f":"CONCATENATE(Logblad!B41,Logblad!I41,Logblad!J41)","v":""},{"$f":"IF(Logblad!$AL41>\" \",(COUNTIF(Logblad!$AL$13:$AL41,Logblad!$AL41)>1),\" \")","v":" "},{"$f":"IF(B41=TRUE,Logblad!AL41,\" \")","v":" "},{"$f":"IF(B41=TRUE,Logblad!O41,\" \")","v":" "},{"$f":"IF(B41=TRUE,Logblad!M41,\" \")","v":" "}]
[{"$f":"CONCATENATE(Logblad!B42,Logblad!I42,Logblad!J42)","v":""},{"$f":"IF(Logblad!$AL42>\" \",(COUNTIF(Logblad!$AL$13:$AL42,Logblad!$AL42)>1),\" \")","v":" "},{"$f":"IF(B42=TRUE,Logblad!AL42,\" \")","v":" "},{"$f":"IF(B42=TRUE,Logblad!O42,\" \")","v":" "},{"$f":"IF(B42=TRUE,Logblad!M42,\" \")","v":" "}]
[{"$f":"CONCATENATE(Logblad!B43,Logblad!I43,Logblad!J43)","v":""},{"$f":"IF(Logblad!$AL43>\" \",(COUNTIF(Logblad!$AL$13:$AL43,Logblad!$AL43)>1),\" \")","v":" "},{"$f":"IF(B43=TRUE,Logblad!AL43,\" \")","v":" "},{"$f":"IF(B43=TRUE,Logblad!O43,\" \")","v":" "},{"$f":"IF(B43=TRUE,Logblad!M43,\" \")","v":" "}]
[{"$f":"CONCATENATE(Logblad!B44,Logblad!I44,Logblad!J44)","v":""},{"$f":"IF(Logblad!$AL44>\" \",(COUNTIF(Logblad!$AL$13:$AL44,Logblad!$AL44)>1),\" \")","v":" "},{"$f":"IF(B44=TRUE,Logblad!AL44,\" \")","v":" "},{"$f":"IF(B44=TRUE,Logblad!O44,\" \")","v":" "},{"$f":"IF(B44=TRUE,Logblad!M44,\" \")","v":" "}]
[{"$f":"CONCATENATE(Logblad!B45,Logblad!I45,Logblad!J45)","v":""},{"$f":"IF(Logblad!$AL45>\" \",(COUNTIF(Logblad!$AL$13:$AL45,Logblad!$AL45)>1),\" \")","v":" "},{"$f":"IF(B45=TRUE,Logblad!AL45,\" \")","v":" "},{"$f":"IF(B45=TRUE,Logblad!O45,\" \")","v":" "},{"$f":"IF(B45=TRUE,Logblad!M45,\" \")","v":" "}]
[{"$f":"CONCATENATE(Logblad!B46,Logblad!I46,Logblad!J46)","v":""},{"$f":"IF(Logblad!$AL46>\" \",(COUNTIF(Logblad!$AL$13:$AL46,Logblad!$AL46)>1),\" \")","v":" "},{"$f":"IF(B46=TRUE,Logblad!AL46,\" \")","v":" "},{"$f":"IF(B46=TRUE,Logblad!O46,\" \")","v":" "},{"$f":"IF(B46=TRUE,Logblad!M46,\" \")","v":" "}]
[{"$f":"CONCATENATE(Logblad!B47,Logblad!I47,Logblad!J47)","v":""},{"$f":"IF(Logblad!$AL47>\" \",(COUNTIF(Logblad!$AL$13:$AL47,Logblad!$AL47)>1),\" \")","v":" "},{"$f":"IF(B47=TRUE,Logblad!AL47,\" \")","v":" "},{"$f":"IF(B47=TRUE,Logblad!O47,\" \")","v":" "},{"$f":"IF(B47=TRUE,Logblad!M47,\" \")","v":" "}]
[{"$f":"CONCATENATE(Logblad!B48,Logblad!I48,Logblad!J48)","v":""},{"$f":"IF(Logblad!$AL48>\" \",(COUNTIF(Logblad!$AL$13:$AL48,Logblad!$AL48)>1),\" \")","v":" "},{"$f":"IF(B48=TRUE,Logblad!AL48,\" \")","v":" "},{"$f":"IF(B48=TRUE,Logblad!O48,\" \")","v":" "},{"$f":"IF(B48=TRUE,Logblad!M48,\" \")","v":" "}]
[{"$f":"CONCATENATE(Logblad!B49,Logblad!I49,Logblad!J49)","v":""},{"$f":"IF(Logblad!$AL49>\" \",(COUNTIF(Logblad!$AL$13:$AL49,Logblad!$AL49)>1),\" \")","v":" "},{"$f":"IF(B49=TRUE,Logblad!AL49,\" \")","v":" "},{"$f":"IF(B49=TRUE,Logblad!O49,\" \")","v":" "},{"$f":"IF(B49=TRUE,Logblad!M49,\" \")","v":" "}]
[{"$f":"CONCATENATE(Logblad!B50,Logblad!I50,Logblad!J50)","v":""},{"$f":"IF(Logblad!$AL50>\" \",(COUNTIF(Logblad!$AL$13:$AL50,Logblad!$AL50)>1),\" \")","v":" "},{"$f":"IF(B50=TRUE,Logblad!AL50,\" \")","v":" "},{"$f":"IF(B50=TRUE,Logblad!O50,\" \")","v":" "},{"$f":"IF(B50=TRUE,Logblad!M50,\" \")","v":" "}]
[{"$f":"CONCATENATE(Logblad!B51,Logblad!I51,Logblad!J51)","v":""},{"$f":"IF(Logblad!$AL51>\" \",(COUNTIF(Logblad!$AL$13:$AL51,Logblad!$AL51)>1),\" \")","v":" "},{"$f":"IF(B51=TRUE,Logblad!AL51,\" \")","v":" "},{"$f":"IF(B51=TRUE,Logblad!O51,\" \")","v":" "},{"$f":"IF(B51=TRUE,Logblad!M51,\" \")","v":" "}]
[{"$f":"CONCATENATE(Logblad!B52,Logblad!I52,Logblad!J52)","v":""},{"$f":"IF(Logblad!$AL52>\" \",(COUNTIF(Logblad!$AL$13:$AL52,Logblad!$AL52)>1),\" \")","v":" "},{"$f":"IF(B52=TRUE,Logblad!AL52,\" \")","v":" "},{"$f":"IF(B52=TRUE,Logblad!O52,\" \")","v":" "},{"$f":"IF(B52=TRUE,Logblad!M52,\" \")","v":" "}]
[{"$f":"CONCATENATE(Logblad!B53,Logblad!I53,Logblad!J53)","v":""},{"$f":"IF(Logblad!$AL53>\" \",(COUNTIF(Logblad!$AL$13:$AL53,Logblad!$AL53)>1),\" \")","v":" "},{"$f":"IF(B53=TRUE,Logblad!AL53,\" \")","v":" "},{"$f":"IF(B53=TRUE,Logblad!O53,\" \")","v":" "},{"$f":"IF(B53=TRUE,Logblad!M53,\" \")","v":" "}]
[{"$f":"CONCATENATE(Logblad!B54,Logblad!I54,Logblad!J54)","v":""},{"$f":"IF(Logblad!$AL54>\" \",(COUNTIF(Logblad!$AL$13:$AL54,Logblad!$AL54)>1),\" \")","v":" "},{"$f":"IF(B54=TRUE,Logblad!AL54,\" \")","v":" "},{"$f":"IF(B54=TRUE,Logblad!O54,\" \")","v":" "},{"$f":"IF(B54=TRUE,Logblad!M54,\" \")","v":" "}]
[{"$f":"CONCATENATE(Logblad!B55,Logblad!I55,Logblad!J55)","v":""},{"$f":"IF(Logblad!$AL55>\" \",(COUNTIF(Logblad!$AL$13:$AL55,Logblad!$AL55)>1),\" \")","v":" "},{"$f":"IF(B55=TRUE,Logblad!AL55,\" \")","v":" "},{"$f":"IF(B55=TRUE,Logblad!O55,\" \")","v":" "},{"$f":"IF(B55=TRUE,Logblad!M55,\" \")","v":" "}]
[{"$f":"CONCATENATE(Logblad!B56,Logblad!I56,Logblad!J56)","v":""},{"$f":"IF(Logblad!$AL56>\" \",(COUNTIF(Logblad!$AL$13:$AL56,Logblad!$AL56)>1),\" \")","v":" "},{"$f":"IF(B56=TRUE,Logblad!AL56,\" \")","v":" "},{"$f":"IF(B56=TRUE,Logblad!O56,\" \")","v":" "},{"$f":"IF(B56=TRUE,Logblad!M56,\" \")","v":" "}]
[{"$f":"CONCATENATE(Logblad!B57,Logblad!I57,Logblad!J57)","v":""},{"$f":"IF(Logblad!$AL57>\" \",(COUNTIF(Logblad!$AL$13:$AL57,Logblad!$AL57)>1),\" \")","v":" "},{"$f":"IF(B57=TRUE,Logblad!AL57,\" \")","v":" "},{"$f":"IF(B57=TRUE,Logblad!O57,\" \")","v":" "},{"$f":"IF(B57=TRUE,Logblad!M57,\" \")","v":" "}]
[{"$f":"CONCATENATE(Logblad!B58,Logblad!I58,Logblad!J58)","v":""},{"$f":"IF(Logblad!$AL58>\" \",(COUNTIF(Logblad!$AL$13:$AL58,Logblad!$AL58)>1),\" \")","v":" "},{"$f":"IF(B58=TRUE,Logblad!AL58,\" \")","v":" "},{"$f":"IF(B58=TRUE,Logblad!O58,\" \")","v":" "},{"$f":"IF(B58=TRUE,Logblad!M58,\" \")","v":" "}]
[{"$f":"CONCATENATE(Logblad!B59,Logblad!I59,Logblad!J59)","v":""},{"$f":"IF(Logblad!$AL59>\" \",(COUNTIF(Logblad!$AL$13:$AL59,Logblad!$AL59)>1),\" \")","v":" "},{"$f":"IF(B59=TRUE,Logblad!AL59,\" \")","v":" "},{"$f":"IF(B59=TRUE,Logblad!O59,\" \")","v":" "},{"$f":"IF(B59=TRUE,Logblad!M59,\" \")","v":" "}]
[{"$f":"CONCATENATE(Logblad!B60,Logblad!I60,Logblad!J60)","v":""},{"$f":"IF(Logblad!$AL60>\" \",(COUNTIF(Logblad!$AL$13:$AL60,Logblad!$AL60)>1),\" \")","v":" "},{"$f":"IF(B60=TRUE,Logblad!AL60,\" \")","v":" "},{"$f":"IF(B60=TRUE,Logblad!O60,\" \")","v":" "},{"$f":"IF(B60=TRUE,Logblad!M60,\" \")","v":" "}]
[{"$f":"CONCATENATE(Logblad!B61,Logblad!I61,Logblad!J61)","v":""},{"$f":"IF(Logblad!$AL61>\" \",(COUNTIF(Logblad!$AL$13:$AL61,Logblad!$AL61)>1),\" \")","v":" "},{"$f":"IF(B61=TRUE,Logblad!AL61,\" \")","v":" "},{"$f":"IF(B61=TRUE,Logblad!O61,\" \")","v":" "},{"$f":"IF(B61=TRUE,Logblad!M61,\" \")","v":" "}]
[{"$f":"CONCATENATE(Logblad!B62,Logblad!I62,Logblad!J62)","v":""},{"$f":"IF(Logblad!$AL62>\" \",(COUNTIF(Logblad!$AL$13:$AL62,Logblad!$AL62)>1),\" \")","v":" "},{"$f":"IF(B62=TRUE,Logblad!AL62,\" \")","v":" "},{"$f":"IF(B62=TRUE,Logblad!O62,\" \")","v":" "},{"$f":"IF(B62=TRUE,Logblad!M62,\" \")","v":" "}]
[{"$f":"CONCATENATE(Logblad!B63,Logblad!I63,Logblad!J63)","v":""},{"$f":"IF(Logblad!$AL63>\" \",(COUNTIF(Logblad!$AL$13:$AL63,Logblad!$AL63)>1),\" \")","v":" "},{"$f":"IF(B63=TRUE,Logblad!AL63,\" \")","v":" "},{"$f":"IF(B63=TRUE,Logblad!O63,\" \")","v":" "},{"$f":"IF(B63=TRUE,Logblad!M63,\" \")","v":" "}]
[{"$f":"CONCATENATE(Logblad!B64,Logblad!I64,Logblad!J64)","v":""},{"$f":"IF(Logblad!$AL64>\" \",(COUNTIF(Logblad!$AL$13:$AL64,Logblad!$AL64)>1),\" \")","v":" "},{"$f":"IF(B64=TRUE,Logblad!AL64,\" \")","v":" "},{"$f":"IF(B64=TRUE,Logblad!O64,\" \")","v":" "},{"$f":"IF(B64=TRUE,Logblad!M64,\" \")","v":" "}]
[{"$f":"CONCATENATE(Logblad!B65,Logblad!I65,Logblad!J65)","v":""},{"$f":"IF(Logblad!$AL65>\" \",(COUNTIF(Logblad!$AL$13:$AL65,Logblad!$AL65)>1),\" \")","v":" "},{"$f":"IF(B65=TRUE,Logblad!AL65,\" \")","v":" "},{"$f":"IF(B65=TRUE,Logblad!O65,\" \")","v":" "},{"$f":"IF(B65=TRUE,Logblad!M65,\" \")","v":" "}]
[{"$f":"CONCATENATE(Logblad!B66,Logblad!I66,Logblad!J66)","v":""},{"$f":"IF(Logblad!$AL66>\" \",(COUNTIF(Logblad!$AL$13:$AL66,Logblad!$AL66)>1),\" \")","v":" "},{"$f":"IF(B66=TRUE,Logblad!AL66,\" \")","v":" "},{"$f":"IF(B66=TRUE,Logblad!O66,\" \")","v":" "},{"$f":"IF(B66=TRUE,Logblad!M66,\" \")","v":" "}]
[{"$f":"CONCATENATE(Logblad!B67,Logblad!I67,Logblad!J67)","v":""},{"$f":"IF(Logblad!$AL67>\" \",(COUNTIF(Logblad!$AL$13:$AL67,Logblad!$AL67)>1),\" \")","v":" "},{"$f":"IF(B67=TRUE,Logblad!AL67,\" \")","v":" "},{"$f":"IF(B67=TRUE,Logblad!O67,\" \")","v":" "},{"$f":"IF(B67=TRUE,Logblad!M67,\" \")","v":" "}]
[{"$f":"CONCATENATE(Logblad!B68,Logblad!I68,Logblad!J68)","v":""},{"$f":"IF(Logblad!$AL68>\" \",(COUNTIF(Logblad!$AL$13:$AL68,Logblad!$AL68)>1),\" \")","v":" "},{"$f":"IF(B68=TRUE,Logblad!AL68,\" \")","v":" "},{"$f":"IF(B68=TRUE,Logblad!O68,\" \")","v":" "},{"$f":"IF(B68=TRUE,Logblad!M68,\" \")","v":" "}]
[{"$f":"CONCATENATE(Logblad!B69,Logblad!I69,Logblad!J69)","v":""},{"$f":"IF(Logblad!$AL69>\" \",(COUNTIF(Logblad!$AL$13:$AL69,Logblad!$AL69)>1),\" \")","v":" "},{"$f":"IF(B69=TRUE,Logblad!AL69,\" \")","v":" "},{"$f":"IF(B69=TRUE,Logblad!O69,\" \")","v":" "},{"$f":"IF(B69=TRUE,Logblad!M69,\" \")","v":" "}]
[{"$f":"CONCATENATE(Logblad!B70,Logblad!I70,Logblad!J70)","v":""},{"$f":"IF(Logblad!$AL70>\" \",(COUNTIF(Logblad!$AL$13:$AL70,Logblad!$AL70)>1),\" \")","v":" "},{"$f":"IF(B70=TRUE,Logblad!AL70,\" \")","v":" "},{"$f":"IF(B70=TRUE,Logblad!O70,\" \")","v":" "},{"$f":"IF(B70=TRUE,Logblad!M70,\" \")","v":" "}]
[{"$f":"CONCATENATE(Logblad!B71,Logblad!I71,Logblad!J71)","v":""},{"$f":"IF(Logblad!$AL71>\" \",(COUNTIF(Logblad!$AL$13:$AL71,Logblad!$AL71)>1),\" \")","v":" "},{"$f":"IF(B71=TRUE,Logblad!AL71,\" \")","v":" "},{"$f":"IF(B71=TRUE,Logblad!O71,\" \")","v":" "},{"$f":"IF(B71=TRUE,Logblad!M71,\" \")","v":" "}]
[{"$f":"CONCATENATE(Logblad!B72,Logblad!I72,Logblad!J72)","v":""},{"$f":"IF(Logblad!$AL72>\" \",(COUNTIF(Logblad!$AL$13:$AL72,Logblad!$AL72)>1),\" \")","v":" "},{"$f":"IF(B72=TRUE,Logblad!AL72,\" \")","v":" "},{"$f":"IF(B72=TRUE,Logblad!O72,\" \")","v":" "},{"$f":"IF(B72=TRUE,Logblad!M72,\" \")","v":" "}]
[{"$f":"CONCATENATE(Logblad!B73,Logblad!I73,Logblad!J73)","v":""},{"$f":"IF(Logblad!$AL73>\" \",(COUNTIF(Logblad!$AL$13:$AL73,Logblad!$AL73)>1),\" \")","v":" "},{"$f":"IF(B73=TRUE,Logblad!AL73,\" \")","v":" "},{"$f":"IF(B73=TRUE,Logblad!O73,\" \")","v":" "},{"$f":"IF(B73=TRUE,Logblad!M73,\" \")","v":" "}]
[{"$f":"CONCATENATE(Logblad!B74,Logblad!I74,Logblad!J74)","v":""},{"$f":"IF(Logblad!$AL74>\" \",(COUNTIF(Logblad!$AL$13:$AL74,Logblad!$AL74)>1),\" \")","v":" "},{"$f":"IF(B74=TRUE,Logblad!AL74,\" \")","v":" "},{"$f":"IF(B74=TRUE,Logblad!O74,\" \")","v":" "},{"$f":"IF(B74=TRUE,Logblad!M74,\" \")","v":" "}]
[{"$f":"CONCATENATE(Logblad!B75,Logblad!I75,Logblad!J75)","v":""},{"$f":"IF(Logblad!$AL75>\" \",(COUNTIF(Logblad!$AL$13:$AL75,Logblad!$AL75)>1),\" \")","v":" "},{"$f":"IF(B75=TRUE,Logblad!AL75,\" \")","v":" "},{"$f":"IF(B75=TRUE,Logblad!O75,\" \")","v":" "},{"$f":"IF(B75=TRUE,Logblad!M75,\" \")","v":" "}]
[{"$f":"CONCATENATE(Logblad!B76,Logblad!I76,Logblad!J76)","v":""},{"$f":"IF(Logblad!$AL76>\" \",(COUNTIF(Logblad!$AL$13:$AL76,Logblad!$AL76)>1),\" \")","v":" "},{"$f":"IF(B76=TRUE,Logblad!AL76,\" \")","v":" "},{"$f":"IF(B76=TRUE,Logblad!O76,\" \")","v":" "},{"$f":"IF(B76=TRUE,Logblad!M76,\" \")","v":" "}]
[{"$f":"CONCATENATE(Logblad!B77,Logblad!I77,Logblad!J77)","v":""},{"$f":"IF(Logblad!$AL77>\" \",(COUNTIF(Logblad!$AL$13:$AL77,Logblad!$AL77)>1),\" \")","v":" "},{"$f":"IF(B77=TRUE,Logblad!AL77,\" \")","v":" "},{"$f":"IF(B77=TRUE,Logblad!O77,\" \")","v":" "},{"$f":"IF(B77=TRUE,Logblad!M77,\" \")","v":" "}]
[{"$f":"CONCATENATE(Logblad!B78,Logblad!I78,Logblad!J78)","v":""},{"$f":"IF(Logblad!$AL78>\" \",(COUNTIF(Logblad!$AL$13:$AL78,Logblad!$AL78)>1),\" \")","v":" "},{"$f":"IF(B78=TRUE,Logblad!AL78,\" \")","v":" "},{"$f":"IF(B78=TRUE,Logblad!O78,\" \")","v":" "},{"$f":"IF(B78=TRUE,Logblad!M78,\" \")","v":" "}]
[{"$f":"CONCATENATE(Logblad!B79,Logblad!I79,Logblad!J79)","v":""},{"$f":"IF(Logblad!$AL79>\" \",(COUNTIF(Logblad!$AL$13:$AL79,Logblad!$AL79)>1),\" \")","v":" "},{"$f":"IF(B79=TRUE,Logblad!AL79,\" \")","v":" "},{"$f":"IF(B79=TRUE,Logblad!O79,\" \")","v":" "},{"$f":"IF(B79=TRUE,Logblad!M79,\" \")","v":" "}]
[{"$f":"CONCATENATE(Logblad!B80,Logblad!I80,Logblad!J80)","v":""},{"$f":"IF(Logblad!$AL80>\" \",(COUNTIF(Logblad!$AL$13:$AL80,Logblad!$AL80)>1),\" \")","v":" "},{"$f":"IF(B80=TRUE,Logblad!AL80,\" \")","v":" "},{"$f":"IF(B80=TRUE,Logblad!O80,\" \")","v":" "},{"$f":"IF(B80=TRUE,Logblad!M80,\" \")","v":" "}]
[{"$f":"CONCATENATE(Logblad!B81,Logblad!I81,Logblad!J81)","v":""},{"$f":"IF(Logblad!$AL81>\" \",(COUNTIF(Logblad!$AL$13:$AL81,Logblad!$AL81)>1),\" \")","v":" "},{"$f":"IF(B81=TRUE,Logblad!AL81,\" \")","v":" "},{"$f":"IF(B81=TRUE,Logblad!O81,\" \")","v":" "},{"$f":"IF(B81=TRUE,Logblad!M81,\" \")","v":" "}]
[{"$f":"CONCATENATE(Logblad!B82,Logblad!I82,Logblad!J82)","v":""},{"$f":"IF(Logblad!$AL82>\" \",(COUNTIF(Logblad!$AL$13:$AL82,Logblad!$AL82)>1),\" \")","v":" "},{"$f":"IF(B82=TRUE,Logblad!AL82,\" \")","v":" "},{"$f":"IF(B82=TRUE,Logblad!O82,\" \")","v":" "},{"$f":"IF(B82=TRUE,Logblad!M82,\" \")","v":" "}]
[{"$f":"CONCATENATE(Logblad!B83,Logblad!I83,Logblad!J83)","v":""},{"$f":"IF(Logblad!$AL83>\" \",(COUNTIF(Logblad!$AL$13:$AL83,Logblad!$AL83)>1),\" \")","v":" "},{"$f":"IF(B83=TRUE,Logblad!AL83,\" \")","v":" "},{"$f":"IF(B83=TRUE,Logblad!O83,\" \")","v":" "},{"$f":"IF(B83=TRUE,Logblad!M83,\" \")","v":" "}]
[{"$f":"CONCATENATE(Logblad!B84,Logblad!I84,Logblad!J84)","v":""},{"$f":"IF(Logblad!$AL84>\" \",(COUNTIF(Logblad!$AL$13:$AL84,Logblad!$AL84)>1),\" \")","v":" "},{"$f":"IF(B84=TRUE,Logblad!AL84,\" \")","v":" "},{"$f":"IF(B84=TRUE,Logblad!O84,\" \")","v":" "},{"$f":"IF(B84=TRUE,Logblad!M84,\" \")","v":" "}]
[{"$f":"CONCATENATE(Logblad!B85,Logblad!I85,Logblad!J85)","v":""},{"$f":"IF(Logblad!$AL85>\" \",(COUNTIF(Logblad!$AL$13:$AL85,Logblad!$AL85)>1),\" \")","v":" "},{"$f":"IF(B85=TRUE,Logblad!AL85,\" \")","v":" "},{"$f":"IF(B85=TRUE,Logblad!O85,\" \")","v":" "},{"$f":"IF(B85=TRUE,Logblad!M85,\" \")","v":" "}]
[{"$f":"CONCATENATE(Logblad!B86,Logblad!I86,Logblad!J86)","v":""},{"$f":"IF(Logblad!$AL86>\" \",(COUNTIF(Logblad!$AL$13:$AL86,Logblad!$AL86)>1),\" \")","v":" "},{"$f":"IF(B86=TRUE,Logblad!AL86,\" \")","v":" "},{"$f":"IF(B86=TRUE,Logblad!O86,\" \")","v":" "},{"$f":"IF(B86=TRUE,Logblad!M86,\" \")","v":" "}]
[{"$f":"CONCATENATE(Logblad!B87,Logblad!I87,Logblad!J87)","v":""},{"$f":"IF(Logblad!$AL87>\" \",(COUNTIF(Logblad!$AL$13:$AL87,Logblad!$AL87)>1),\" \")","v":" "},{"$f":"IF(B87=TRUE,Logblad!AL87,\" \")","v":" "},{"$f":"IF(B87=TRUE,Logblad!O87,\" \")","v":" "},{"$f":"IF(B87=TRUE,Logblad!M87,\" \")","v":" "}]
[{"$f":"CONCATENATE(Logblad!B88,Logblad!I88,Logblad!J88)","v":""},{"$f":"IF(Logblad!$AL88>\" \",(COUNTIF(Logblad!$AL$13:$AL88,Logblad!$AL88)>1),\" \")","v":" "},{"$f":"IF(B88=TRUE,Logblad!AL88,\" \")","v":" "},{"$f":"IF(B88=TRUE,Logblad!O88,\" \")","v":" "},{"$f":"IF(B88=TRUE,Logblad!M88,\" \")","v":" "}]
[{"$f":"CONCATENATE(Logblad!B89,Logblad!I89,Logblad!J89)","v":""},{"$f":"IF(Logblad!$AL89>\" \",(COUNTIF(Logblad!$AL$13:$AL89,Logblad!$AL89)>1),\" \")","v":" "},{"$f":"IF(B89=TRUE,Logblad!AL89,\" \")","v":" "},{"$f":"IF(B89=TRUE,Logblad!O89,\" \")","v":" "},{"$f":"IF(B89=TRUE,Logblad!M89,\" \")","v":" "}]
[{"$f":"CONCATENATE(Logblad!B90,Logblad!I90,Logblad!J90)","v":""},{"$f":"IF(Logblad!$AL90>\" \",(COUNTIF(Logblad!$AL$13:$AL90,Logblad!$AL90)>1),\" \")","v":" "},{"$f":"IF(B90=TRUE,Logblad!AL90,\" \")","v":" "},{"$f":"IF(B90=TRUE,Logblad!O90,\" \")","v":" "},{"$f":"IF(B90=TRUE,Logblad!M90,\" \")","v":" "}]
[{"$f":"CONCATENATE(Logblad!B91,Logblad!I91,Logblad!J91)","v":""},{"$f":"IF(Logblad!$AL91>\" \",(COUNTIF(Logblad!$AL$13:$AL91,Logblad!$AL91)>1),\" \")","v":" "},{"$f":"IF(B91=TRUE,Logblad!AL91,\" \")","v":" "},{"$f":"IF(B91=TRUE,Logblad!O91,\" \")","v":" "},{"$f":"IF(B91=TRUE,Logblad!M91,\" \")","v":" "}]
[{"$f":"CONCATENATE(Logblad!B92,Logblad!I92,Logblad!J92)","v":""},{"$f":"IF(Logblad!$AL92>\" \",(COUNTIF(Logblad!$AL$13:$AL92,Logblad!$AL92)>1),\" \")","v":" "},{"$f":"IF(B92=TRUE,Logblad!AL92,\" \")","v":" "},{"$f":"IF(B92=TRUE,Logblad!O92,\" \")","v":" "},{"$f":"IF(B92=TRUE,Logblad!M92,\" \")","v":" "}]
[{"$f":"CONCATENATE(Logblad!B93,Logblad!I93,Logblad!J93)","v":""},{"$f":"IF(Logblad!$AL93>\" \",(COUNTIF(Logblad!$AL$13:$AL93,Logblad!$AL93)>1),\" \")","v":" "},{"$f":"IF(B93=TRUE,Logblad!AL93,\" \")","v":" "},{"$f":"IF(B93=TRUE,Logblad!O93,\" \")","v":" "},{"$f":"IF(B93=TRUE,Logblad!M93,\" \")","v":" "}]
[{"$f":"CONCATENATE(Logblad!B94,Logblad!I94,Logblad!J94)","v":""},{"$f":"IF(Logblad!$AL94>\" \",(COUNTIF(Logblad!$AL$13:$AL94,Logblad!$AL94)>1),\" \")","v":" "},{"$f":"IF(B94=TRUE,Logblad!AL94,\" \")","v":" "},{"$f":"IF(B94=TRUE,Logblad!O94,\" \")","v":" "},{"$f":"IF(B94=TRUE,Logblad!M94,\" \")","v":" "}]
[{"$f":"CONCATENATE(Logblad!B95,Logblad!I95,Logblad!J95)","v":""},{"$f":"IF(Logblad!$AL95>\" \",(COUNTIF(Logblad!$AL$13:$AL95,Logblad!$AL95)>1),\" \")","v":" "},{"$f":"IF(B95=TRUE,Logblad!AL95,\" \")","v":" "},{"$f":"IF(B95=TRUE,Logblad!O95,\" \")","v":" "},{"$f":"IF(B95=TRUE,Logblad!M95,\" \")","v":" "}]
[{"$f":"CONCATENATE(Logblad!B96,Logblad!I96,Logblad!J96)","v":""},{"$f":"IF(Logblad!$AL96>\" \",(COUNTIF(Logblad!$AL$13:$AL96,Logblad!$AL96)>1),\" \")","v":" "},{"$f":"IF(B96=TRUE,Logblad!AL96,\" \")","v":" "},{"$f":"IF(B96=TRUE,Logblad!O96,\" \")","v":" "},{"$f":"IF(B96=TRUE,Logblad!M96,\" \")","v":" "}]
[{"$f":"CONCATENATE(Logblad!B97,Logblad!I97,Logblad!J97)","v":""},{"$f":"IF(Logblad!$AL97>\" \",(COUNTIF(Logblad!$AL$13:$AL97,Logblad!$AL97)>1),\" \")","v":" "},{"$f":"IF(B97=TRUE,Logblad!AL97,\" \")","v":" "},{"$f":"IF(B97=TRUE,Logblad!O97,\" \")","v":" "},{"$f":"IF(B97=TRUE,Logblad!M97,\" \")","v":" "}]
[{"$f":"CONCATENATE(Logblad!B98,Logblad!I98,Logblad!J98)","v":""},{"$f":"IF(Logblad!$AL98>\" \",(COUNTIF(Logblad!$AL$13:$AL98,Logblad!$AL98)>1),\" \")","v":" "},{"$f":"IF(B98=TRUE,Logblad!AL98,\" \")","v":" "},{"$f":"IF(B98=TRUE,Logblad!O98,\" \")","v":" "},{"$f":"IF(B98=TRUE,Logblad!M98,\" \")","v":" "}]
[{"$f":"CONCATENATE(Logblad!B99,Logblad!I99,Logblad!J99)","v":""},{"$f":"IF(Logblad!$AL99>\" \",(COUNTIF(Logblad!$AL$13:$AL99,Logblad!$AL99)>1),\" \")","v":" "},{"$f":"IF(B99=TRUE,Logblad!AL99,\" \")","v":" "},{"$f":"IF(B99=TRUE,Logblad!O99,\" \")","v":" "},{"$f":"IF(B99=TRUE,Logblad!M99,\" \")","v":" "}]
[{"$f":"CONCATENATE(Logblad!B100,Logblad!I100,Logblad!J100)","v":""},{"$f":"IF(Logblad!$AL100>\" \",(COUNTIF(Logblad!$AL$13:$AL100,Logblad!$AL100)>1),\" \")","v":" "},{"$f":"IF(B100=TRUE,Logblad!AL100,\" \")","v":" "},{"$f":"IF(B100=TRUE,Logblad!O100,\" \")","v":" "},{"$f":"IF(B100=TRUE,Logblad!M100,\" \")","v":" "}]
[{"$f":"CONCATENATE(Logblad!B101,Logblad!I101,Logblad!J101)","v":""},{"$f":"IF(Logblad!$AL101>\" \",(COUNTIF(Logblad!$AL$13:$AL101,Logblad!$AL101)>1),\" \")","v":" "},{"$f":"IF(B101=TRUE,Logblad!AL101,\" \")","v":" "},{"$f":"IF(B101=TRUE,Logblad!O101,\" \")","v":" "},{"$f":"IF(B101=TRUE,Logblad!M101,\" \")","v":" "}]
[{"$f":"CONCATENATE(Logblad!B102,Logblad!I102,Logblad!J102)","v":""},{"$f":"IF(Logblad!$AL102>\" \",(COUNTIF(Logblad!$AL$13:$AL102,Logblad!$AL102)>1),\" \")","v":" "},{"$f":"IF(B102=TRUE,Logblad!AL102,\" \")","v":" "},{"$f":"IF(B102=TRUE,Logblad!O102,\" \")","v":" "},{"$f":"IF(B102=TRUE,Logblad!M102,\" \")","v":" "}]
[{"$f":"CONCATENATE(Logblad!B103,Logblad!I103,Logblad!J103)","v":""},{"$f":"IF(Logblad!$AL103>\" \",(COUNTIF(Logblad!$AL$13:$AL103,Logblad!$AL103)>1),\" \")","v":" "},{"$f":"IF(B103=TRUE,Logblad!AL103,\" \")","v":" "},{"$f":"IF(B103=TRUE,Logblad!O103,\" \")","v":" "},{"$f":"IF(B103=TRUE,Logblad!M103,\" \")","v":" "}]
[{"$f":"CONCATENATE(Logblad!B104,Logblad!I104,Logblad!J104)","v":""},{"$f":"IF(Logblad!$AL104>\" \",(COUNTIF(Logblad!$AL$13:$AL104,Logblad!$AL104)>1),\" \")","v":" "},{"$f":"IF(B104=TRUE,Logblad!AL104,\" \")","v":" "},{"$f":"IF(B104=TRUE,Logblad!O104,\" \")","v":" "},{"$f":"IF(B104=TRUE,Logblad!M104,\" \")","v":" "}]
[{"$f":"CONCATENATE(Logblad!B105,Logblad!I105,Logblad!J105)","v":""},{"$f":"IF(Logblad!$AL105>\" \",(COUNTIF(Logblad!$AL$13:$AL105,Logblad!$AL105)>1),\" \")","v":" "},{"$f":"IF(B105=TRUE,Logblad!AL105,\" \")","v":" "},{"$f":"IF(B105=TRUE,Logblad!O105,\" \")","v":" "},{"$f":"IF(B105=TRUE,Logblad!M105,\" \")","v":" "}]
[{"$f":"CONCATENATE(Logblad!B106,Logblad!I106,Logblad!J106)","v":""},{"$f":"IF(Logblad!$AL106>\" \",(COUNTIF(Logblad!$AL$13:$AL106,Logblad!$AL106)>1),\" \")","v":" "},{"$f":"IF(B106=TRUE,Logblad!AL106,\" \")","v":" "},{"$f":"IF(B106=TRUE,Logblad!O106,\" \")","v":" "},{"$f":"IF(B106=TRUE,Logblad!M106,\" \")","v":" "}]
[{"$f":"CONCATENATE(Logblad!B107,Logblad!I107,Logblad!J107)","v":""},{"$f":"IF(Logblad!$AL107>\" \",(COUNTIF(Logblad!$AL$13:$AL107,Logblad!$AL107)>1),\" \")","v":" "},{"$f":"IF(B107=TRUE,Logblad!AL107,\" \")","v":" "},{"$f":"IF(B107=TRUE,Logblad!O107,\" \")","v":" "},{"$f":"IF(B107=TRUE,Logblad!M107,\" \")","v":" "}]
[{"$f":"CONCATENATE(Logblad!B108,Logblad!I108,Logblad!J108)","v":""},{"$f":"IF(Logblad!$AL108>\" \",(COUNTIF(Logblad!$AL$13:$AL108,Logblad!$AL108)>1),\" \")","v":" "},{"$f":"IF(B108=TRUE,Logblad!AL108,\" \")","v":" "},{"$f":"IF(B108=TRUE,Logblad!O108,\" \")","v":" "},{"$f":"IF(B108=TRUE,Logblad!M108,\" \")","v":" "}]
[{"$f":"CONCATENATE(Logblad!B109,Logblad!I109,Logblad!J109)","v":""},{"$f":"IF(Logblad!$AL109>\" \",(COUNTIF(Logblad!$AL$13:$AL109,Logblad!$AL109)>1),\" \")","v":" "},{"$f":"IF(B109=TRUE,Logblad!AL109,\" \")","v":" "},{"$f":"IF(B109=TRUE,Logblad!O109,\" \")","v":" "},{"$f":"IF(B109=TRUE,Logblad!M109,\" \")","v":" "}]
[{"$f":"CONCATENATE(Logblad!B110,Logblad!I110,Logblad!J110)","v":""},{"$f":"IF(Logblad!$AL110>\" \",(COUNTIF(Logblad!$AL$13:$AL110,Logblad!$AL110)>1),\" \")","v":" "},{"$f":"IF(B110=TRUE,Logblad!AL110,\" \")","v":" "},{"$f":"IF(B110=TRUE,Logblad!O110,\" \")","v":" "},{"$f":"IF(B110=TRUE,Logblad!M110,\" \")","v":" "}]
[{"$f":"CONCATENATE(Logblad!B111,Logblad!I111,Logblad!J111)","v":""},{"$f":"IF(Logblad!$AL111>\" \",(COUNTIF(Logblad!$AL$13:$AL111,Logblad!$AL111)>1),\" \")","v":" "},{"$f":"IF(B111=TRUE,Logblad!AL111,\" \")","v":" "},{"$f":"IF(B111=TRUE,Logblad!O111,\" \")","v":" "},{"$f":"IF(B111=TRUE,Logblad!M111,\" \")","v":" "}]
[{"$f":"CONCATENATE(Logblad!B112,Logblad!I112,Logblad!J112)","v":""},{"$f":"IF(Logblad!$AL112>\" \",(COUNTIF(Logblad!$AL$13:$AL112,Logblad!$AL112)>1),\" \")","v":" "},{"$f":"IF(B112=TRUE,Logblad!AL112,\" \")","v":" "},{"$f":"IF(B112=TRUE,Logblad!O112,\" \")","v":" "},{"$f":"IF(B112=TRUE,Logblad!M112,\" \")","v":" "}]
[{"$f":"CONCATENATE(Logblad!B113,Logblad!I113,Logblad!J113)","v":""},{"$f":"IF(Logblad!$AL113>\" \",(COUNTIF(Logblad!$AL$13:$AL113,Logblad!$AL113)>1),\" \")","v":" "},{"$f":"IF(B113=TRUE,Logblad!AL113,\" \")","v":" "},{"$f":"IF(B113=TRUE,Logblad!O113,\" \")","v":" "},{"$f":"IF(B113=TRUE,Logblad!M113,\" \")","v":" "}]
[{"$f":"CONCATENATE(Logblad!B114,Logblad!I114,Logblad!J114)","v":""},{"$f":"IF(Logblad!$AL114>\" \",(COUNTIF(Logblad!$AL$13:$AL114,Logblad!$AL114)>1),\" \")","v":" "},{"$f":"IF(B114=TRUE,Logblad!AL114,\" \")","v":" "},{"$f":"IF(B114=TRUE,Logblad!O114,\" \")","v":" "},{"$f":"IF(B114=TRUE,Logblad!M114,\" \")","v":" "}]
[{"$f":"CONCATENATE(Logblad!B115,Logblad!I115,Logblad!J115)","v":""},{"$f":"IF(Logblad!$AL115>\" \",(COUNTIF(Logblad!$AL$13:$AL115,Logblad!$AL115)>1),\" \")","v":" "},{"$f":"IF(B115=TRUE,Logblad!AL115,\" \")","v":" "},{"$f":"IF(B115=TRUE,Logblad!O115,\" \")","v":" "},{"$f":"IF(B115=TRUE,Logblad!M115,\" \")","v":" "}]
[{"$f":"CONCATENATE(Logblad!B116,Logblad!I116,Logblad!J116)","v":""},{"$f":"IF(Logblad!$AL116>\" \",(COUNTIF(Logblad!$AL$13:$AL116,Logblad!$AL116)>1),\" \")","v":" "},{"$f":"IF(B116=TRUE,Logblad!AL116,\" \")","v":" "},{"$f":"IF(B116=TRUE,Logblad!O116,\" \")","v":" "},{"$f":"IF(B116=TRUE,Logblad!M116,\" \")","v":" "}]
[{"$f":"CONCATENATE(Logblad!B117,Logblad!I117,Logblad!J117)","v":""},{"$f":"IF(Logblad!$AL117>\" \",(COUNTIF(Logblad!$AL$13:$AL117,Logblad!$AL117)>1),\" \")","v":" "},{"$f":"IF(B117=TRUE,Logblad!AL117,\" \")","v":" "},{"$f":"IF(B117=TRUE,Logblad!O117,\" \")","v":" "},{"$f":"IF(B117=TRUE,Logblad!M117,\" \")","v":" "}]
[{"$f":"CONCATENATE(Logblad!B118,Logblad!I118,Logblad!J118)","v":""},{"$f":"IF(Logblad!$AL118>\" \",(COUNTIF(Logblad!$AL$13:$AL118,Logblad!$AL118)>1),\" \")","v":" "},{"$f":"IF(B118=TRUE,Logblad!AL118,\" \")","v":" "},{"$f":"IF(B118=TRUE,Logblad!O118,\" \")","v":" "},{"$f":"IF(B118=TRUE,Logblad!M118,\" \")","v":" "}]
[{"$f":"CONCATENATE(Logblad!B119,Logblad!I119,Logblad!J119)","v":""},{"$f":"IF(Logblad!$AL119>\" \",(COUNTIF(Logblad!$AL$13:$AL119,Logblad!$AL119)>1),\" \")","v":" "},{"$f":"IF(B119=TRUE,Logblad!AL119,\" \")","v":" "},{"$f":"IF(B119=TRUE,Logblad!O119,\" \")","v":" "},{"$f":"IF(B119=TRUE,Logblad!M119,\" \")","v":" "}]
[{"$f":"CONCATENATE(Logblad!B120,Logblad!I120,Logblad!J120)","v":""},{"$f":"IF(Logblad!$AL120>\" \",(COUNTIF(Logblad!$AL$13:$AL120,Logblad!$AL120)>1),\" \")","v":" "},{"$f":"IF(B120=TRUE,Logblad!AL120,\" \")","v":" "},{"$f":"IF(B120=TRUE,Logblad!O120,\" \")","v":" "},{"$f":"IF(B120=TRUE,Logblad!M120,\" \")","v":" "}]
[{"$f":"CONCATENATE(Logblad!B121,Logblad!I121,Logblad!J121)","v":""},{"$f":"IF(Logblad!$AL121>\" \",(COUNTIF(Logblad!$AL$13:$AL121,Logblad!$AL121)>1),\" \")","v":" "},{"$f":"IF(B121=TRUE,Logblad!AL121,\" \")","v":" "},{"$f":"IF(B121=TRUE,Logblad!O121,\" \")","v":" "},{"$f":"IF(B121=TRUE,Logblad!M121,\" \")","v":" "}]
[{"$f":"CONCATENATE(Logblad!B122,Logblad!I122,Logblad!J122)","v":""},{"$f":"IF(Logblad!$AL122>\" \",(COUNTIF(Logblad!$AL$13:$AL122,Logblad!$AL122)>1),\" \")","v":" "},{"$f":"IF(B122=TRUE,Logblad!AL122,\" \")","v":" "},{"$f":"IF(B122=TRUE,Logblad!O122,\" \")","v":" "},{"$f":"IF(B122=TRUE,Logblad!M122,\" \")","v":" "}]
[{"$f":"CONCATENATE(Logblad!B123,Logblad!I123,Logblad!J123)","v":""},{"$f":"IF(Logblad!$AL123>\" \",(COUNTIF(Logblad!$AL$13:$AL123,Logblad!$AL123)>1),\" \")","v":" "},{"$f":"IF(B123=TRUE,Logblad!AL123,\" \")","v":" "},{"$f":"IF(B123=TRUE,Logblad!O123,\" \")","v":" "},{"$f":"IF(B123=TRUE,Logblad!M123,\" \")","v":" "}]
[{"$f":"CONCATENATE(Logblad!B124,Logblad!I124,Logblad!J124)","v":""},{"$f":"IF(Logblad!$AL124>\" \",(COUNTIF(Logblad!$AL$13:$AL124,Logblad!$AL124)>1),\" \")","v":" "},{"$f":"IF(B124=TRUE,Logblad!AL124,\" \")","v":" "},{"$f":"IF(B124=TRUE,Logblad!O124,\" \")","v":" "},{"$f":"IF(B124=TRUE,Logblad!M124,\" \")","v":" "}]
[{"$f":"CONCATENATE(Logblad!B125,Logblad!I125,Logblad!J125)","v":""},{"$f":"IF(Logblad!$AL125>\" \",(COUNTIF(Logblad!$AL$13:$AL125,Logblad!$AL125)>1),\" \")","v":" "},{"$f":"IF(B125=TRUE,Logblad!AL125,\" \")","v":" "},{"$f":"IF(B125=TRUE,Logblad!O125,\" \")","v":" "},{"$f":"IF(B125=TRUE,Logblad!M125,\" \")","v":" "}]
[{"$f":"CONCATENATE(Logblad!B126,Logblad!I126,Logblad!J126)","v":""},{"$f":"IF(Logblad!$AL126>\" \",(COUNTIF(Logblad!$AL$13:$AL126,Logblad!$AL126)>1),\" \")","v":" "},{"$f":"IF(B126=TRUE,Logblad!AL126,\" \")","v":" "},{"$f":"IF(B126=TRUE,Logblad!O126,\" \")","v":" "},{"$f":"IF(B126=TRUE,Logblad!M126,\" \")","v":" "}]
[{"$f":"CONCATENATE(Logblad!B127,Logblad!I127,Logblad!J127)","v":""},{"$f":"IF(Logblad!$AL127>\" \",(COUNTIF(Logblad!$AL$13:$AL127,Logblad!$AL127)>1),\" \")","v":" "},{"$f":"IF(B127=TRUE,Logblad!AL127,\" \")","v":" "},{"$f":"IF(B127=TRUE,Logblad!O127,\" \")","v":" "},{"$f":"IF(B127=TRUE,Logblad!M127,\" \")","v":" "}]
[{"$f":"CONCATENATE(Logblad!B128,Logblad!I128,Logblad!J128)","v":""},{"$f":"IF(Logblad!$AL128>\" \",(COUNTIF(Logblad!$AL$13:$AL128,Logblad!$AL128)>1),\" \")","v":" "},{"$f":"IF(B128=TRUE,Logblad!AL128,\" \")","v":" "},{"$f":"IF(B128=TRUE,Logblad!O128,\" \")","v":" "},{"$f":"IF(B128=TRUE,Logblad!M128,\" \")","v":" "}]
[{"$f":"CONCATENATE(Logblad!B129,Logblad!I129,Logblad!J129)","v":""},{"$f":"IF(Logblad!$AL129>\" \",(COUNTIF(Logblad!$AL$13:$AL129,Logblad!$AL129)>1),\" \")","v":" "},{"$f":"IF(B129=TRUE,Logblad!AL129,\" \")","v":" "},{"$f":"IF(B129=TRUE,Logblad!O129,\" \")","v":" "},{"$f":"IF(B129=TRUE,Logblad!M129,\" \")","v":" "}]
[{"$f":"CONCATENATE(Logblad!B130,Logblad!I130,Logblad!J130)","v":""},{"$f":"IF(Logblad!$AL130>\" \",(COUNTIF(Logblad!$AL$13:$AL130,Logblad!$AL130)>1),\" \")","v":" "},{"$f":"IF(B130=TRUE,Logblad!AL130,\" \")","v":" "},{"$f":"IF(B130=TRUE,Logblad!O130,\" \")","v":" "},{"$f":"IF(B130=TRUE,Logblad!M130,\" \")","v":" "}]
[{"$f":"CONCATENATE(Logblad!B131,Logblad!I131,Logblad!J131)","v":""},{"$f":"IF(Logblad!$AL131>\" \",(COUNTIF(Logblad!$AL$13:$AL131,Logblad!$AL131)>1),\" \")","v":" "},{"$f":"IF(B131=TRUE,Logblad!AL131,\" \")","v":" "},{"$f":"IF(B131=TRUE,Logblad!O131,\" \")","v":" "},{"$f":"IF(B131=TRUE,Logblad!M131,\" \")","v":" "}]
[{"$f":"CONCATENATE(Logblad!B132,Logblad!I132,Logblad!J132)","v":""},{"$f":"IF(Logblad!$AL132>\" \",(COUNTIF(Logblad!$AL$13:$AL132,Logblad!$AL132)>1),\" \")","v":" "},{"$f":"IF(B132=TRUE,Logblad!AL132,\" \")","v":" "},{"$f":"IF(B132=TRUE,Logblad!O132,\" \")","v":" "},{"$f":"IF(B132=TRUE,Logblad!M132,\" \")","v":" "}]
[{"$f":"CONCATENATE(Logblad!B133,Logblad!I133,Logblad!J133)","v":""},{"$f":"IF(Logblad!$AL133>\" \",(COUNTIF(Logblad!$AL$13:$AL133,Logblad!$AL133)>1),\" \")","v":" "},{"$f":"IF(B133=TRUE,Logblad!AL133,\" \")","v":" "},{"$f":"IF(B133=TRUE,Logblad!O133,\" \")","v":" "},{"$f":"IF(B133=TRUE,Logblad!M133,\" \")","v":" "}]
[{"$f":"CONCATENATE(Logblad!B134,Logblad!I134,Logblad!J134)","v":""},{"$f":"IF(Logblad!$AL134>\" \",(COUNTIF(Logblad!$AL$13:$AL134,Logblad!$AL134)>1),\" \")","v":" "},{"$f":"IF(B134=TRUE,Logblad!AL134,\" \")","v":" "},{"$f":"IF(B134=TRUE,Logblad!O134,\" \")","v":" "},{"$f":"IF(B134=TRUE,Logblad!M134,\" \")","v":" "}]
[{"$f":"CONCATENATE(Logblad!B135,Logblad!I135,Logblad!J135)","v":""},{"$f":"IF(Logblad!$AL135>\" \",(COUNTIF(Logblad!$AL$13:$AL135,Logblad!$AL135)>1),\" \")","v":" "},{"$f":"IF(B135=TRUE,Logblad!AL135,\" \")","v":" "},{"$f":"IF(B135=TRUE,Logblad!O135,\" \")","v":" "},{"$f":"IF(B135=TRUE,Logblad!M135,\" \")","v":" "}]
[{"$f":"CONCATENATE(Logblad!B136,Logblad!I136,Logblad!J136)","v":""},{"$f":"IF(Logblad!$AL136>\" \",(COUNTIF(Logblad!$AL$13:$AL136,Logblad!$AL136)>1),\" \")","v":" "},{"$f":"IF(B136=TRUE,Logblad!AL136,\" \")","v":" "},{"$f":"IF(B136=TRUE,Logblad!O136,\" \")","v":" "},{"$f":"IF(B136=TRUE,Logblad!M136,\" \")","v":" "}]
[{"$f":"CONCATENATE(Logblad!B137,Logblad!I137,Logblad!J137)","v":""},{"$f":"IF(Logblad!$AL137>\" \",(COUNTIF(Logblad!$AL$13:$AL137,Logblad!$AL137)>1),\" \")","v":" "},{"$f":"IF(B137=TRUE,Logblad!AL137,\" \")","v":" "},{"$f":"IF(B137=TRUE,Logblad!O137,\" \")","v":" "},{"$f":"IF(B137=TRUE,Logblad!M137,\" \")","v":" "}]
[{"$f":"CONCATENATE(Logblad!B138,Logblad!I138,Logblad!J138)","v":""},{"$f":"IF(Logblad!$AL138>\" \",(COUNTIF(Logblad!$AL$13:$AL138,Logblad!$AL138)>1),\" \")","v":" "},{"$f":"IF(B138=TRUE,Logblad!AL138,\" \")","v":" "},{"$f":"IF(B138=TRUE,Logblad!O138,\" \")","v":" "},{"$f":"IF(B138=TRUE,Logblad!M138,\" \")","v":" "}]
[{"$f":"CONCATENATE(Logblad!B139,Logblad!I139,Logblad!J139)","v":""},{"$f":"IF(Logblad!$AL139>\" \",(COUNTIF(Logblad!$AL$13:$AL139,Logblad!$AL139)>1),\" \")","v":" "},{"$f":"IF(B139=TRUE,Logblad!AL139,\" \")","v":" "},{"$f":"IF(B139=TRUE,Logblad!O139,\" \")","v":" "},{"$f":"IF(B139=TRUE,Logblad!M139,\" \")","v":" "}]
[{"$f":"CONCATENATE(Logblad!B140,Logblad!I140,Logblad!J140)","v":""},{"$f":"IF(Logblad!$AL140>\" \",(COUNTIF(Logblad!$AL$13:$AL140,Logblad!$AL140)>1),\" \")","v":" "},{"$f":"IF(B140=TRUE,Logblad!AL140,\" \")","v":" "},{"$f":"IF(B140=TRUE,Logblad!O140,\" \")","v":" "},{"$f":"IF(B140=TRUE,Logblad!M140,\" \")","v":" "}]
[{"$f":"CONCATENATE(Logblad!B141,Logblad!I141,Logblad!J141)","v":""},{"$f":"IF(Logblad!$AL141>\" \",(COUNTIF(Logblad!$AL$13:$AL141,Logblad!$AL141)>1),\" \")","v":" "},{"$f":"IF(B141=TRUE,Logblad!AL141,\" \")","v":" "},{"$f":"IF(B141=TRUE,Logblad!O141,\" \")","v":" "},{"$f":"IF(B141=TRUE,Logblad!M141,\" \")","v":" "}]
[{"$f":"CONCATENATE(Logblad!B142,Logblad!I142,Logblad!J142)","v":""},{"$f":"IF(Logblad!$AL142>\" \",(COUNTIF(Logblad!$AL$13:$AL142,Logblad!$AL142)>1),\" \")","v":" "},{"$f":"IF(B142=TRUE,Logblad!AL142,\" \")","v":" "},{"$f":"IF(B142=TRUE,Logblad!O142,\" \")","v":" "},{"$f":"IF(B142=TRUE,Logblad!M142,\" \")","v":" "}]
[{"$f":"CONCATENATE(Logblad!B143,Logblad!I143,Logblad!J143)","v":""},{"$f":"IF(Logblad!$AL143>\" \",(COUNTIF(Logblad!$AL$13:$AL143,Logblad!$AL143)>1),\" \")","v":" "},{"$f":"IF(B143=TRUE,Logblad!AL143,\" \")","v":" "},{"$f":"IF(B143=TRUE,Logblad!O143,\" \")","v":" "},{"$f":"IF(B143=TRUE,Logblad!M143,\" \")","v":" "}]
[{"$f":"CONCATENATE(Logblad!B144,Logblad!I144,Logblad!J144)","v":""},{"$f":"IF(Logblad!$AL144>\" \",(COUNTIF(Logblad!$AL$13:$AL144,Logblad!$AL144)>1),\" \")","v":" "},{"$f":"IF(B144=TRUE,Logblad!AL144,\" \")","v":" "},{"$f":"IF(B144=TRUE,Logblad!O144,\" \")","v":" "},{"$f":"IF(B144=TRUE,Logblad!M144,\" \")","v":" "}]
[{"$f":"CONCATENATE(Logblad!B145,Logblad!I145,Logblad!J145)","v":""},{"$f":"IF(Logblad!$AL145>\" \",(COUNTIF(Logblad!$AL$13:$AL145,Logblad!$AL145)>1),\" \")","v":" "},{"$f":"IF(B145=TRUE,Logblad!AL145,\" \")","v":" "},{"$f":"IF(B145=TRUE,Logblad!O145,\" \")","v":" "},{"$f":"IF(B145=TRUE,Logblad!M145,\" \")","v":" "}]
[{"$f":"CONCATENATE(Logblad!B146,Logblad!I146,Logblad!J146)","v":""},{"$f":"IF(Logblad!$AL146>\" \",(COUNTIF(Logblad!$AL$13:$AL146,Logblad!$AL146)>1),\" \")","v":" "},{"$f":"IF(B146=TRUE,Logblad!AL146,\" \")","v":" "},{"$f":"IF(B146=TRUE,Logblad!O146,\" \")","v":" "},{"$f":"IF(B146=TRUE,Logblad!M146,\" \")","v":" "}]
[{"$f":"CONCATENATE(Logblad!B147,Logblad!I147,Logblad!J147)","v":""},{"$f":"IF(Logblad!$AL147>\" \",(COUNTIF(Logblad!$AL$13:$AL147,Logblad!$AL147)>1),\" \")","v":" "},{"$f":"IF(B147=TRUE,Logblad!AL147,\" \")","v":" "},{"$f":"IF(B147=TRUE,Logblad!O147,\" \")","v":" "},{"$f":"IF(B147=TRUE,Logblad!M147,\" \")","v":" "}]
[{"$f":"CONCATENATE(Logblad!B148,Logblad!I148,Logblad!J148)","v":""},{"$f":"IF(Logblad!$AL148>\" \",(COUNTIF(Logblad!$AL$13:$AL148,Logblad!$AL148)>1),\" \")","v":" "},{"$f":"IF(B148=TRUE,Logblad!AL148,\" \")","v":" "},{"$f":"IF(B148=TRUE,Logblad!O148,\" \")","v":" "},{"$f":"IF(B148=TRUE,Logblad!M148,\" \")","v":" "}]
[{"$f":"CONCATENATE(Logblad!B149,Logblad!I149,Logblad!J149)","v":""},{"$f":"IF(Logblad!$AL149>\" \",(COUNTIF(Logblad!$AL$13:$AL149,Logblad!$AL149)>1),\" \")","v":" "},{"$f":"IF(B149=TRUE,Logblad!AL149,\" \")","v":" "},{"$f":"IF(B149=TRUE,Logblad!O149,\" \")","v":" "},{"$f":"IF(B149=TRUE,Logblad!M149,\" \")","v":" "}]
[{"$f":"CONCATENATE(Logblad!B150,Logblad!I150,Logblad!J150)","v":""},{"$f":"IF(Logblad!$AL150>\" \",(COUNTIF(Logblad!$AL$13:$AL150,Logblad!$AL150)>1),\" \")","v":" "},{"$f":"IF(B150=TRUE,Logblad!AL150,\" \")","v":" "},{"$f":"IF(B150=TRUE,Logblad!O150,\" \")","v":" "},{"$f":"IF(B150=TRUE,Logblad!M150,\" \")","v":" "}]
[{"$f":"CONCATENATE(Logblad!B151,Logblad!I151,Logblad!J151)","v":""},{"$f":"IF(Logblad!$AL151>\" \",(COUNTIF(Logblad!$AL$13:$AL151,Logblad!$AL151)>1),\" \")","v":" "},{"$f":"IF(B151=TRUE,Logblad!AL151,\" \")","v":" "},{"$f":"IF(B151=TRUE,Logblad!O151,\" \")","v":" "},{"$f":"IF(B151=TRUE,Logblad!M151,\" \")","v":" "}]
[{"$f":"CONCATENATE(Logblad!B152,Logblad!I152,Logblad!J152)","v":""},{"$f":"IF(Logblad!$AL152>\" \",(COUNTIF(Logblad!$AL$13:$AL152,Logblad!$AL152)>1),\" \")","v":" "},{"$f":"IF(B152=TRUE,Logblad!AL152,\" \")","v":" "},{"$f":"IF(B152=TRUE,Logblad!O152,\" \")","v":" "},{"$f":"IF(B152=TRUE,Logblad!M152,\" \")","v":" "}]
[{"$f":"CONCATENATE(Logblad!B153,Logblad!I153,Logblad!J153)","v":""},{"$f":"IF(Logblad!$AL153>\" \",(COUNTIF(Logblad!$AL$13:$AL153,Logblad!$AL153)>1),\" \")","v":" "},{"$f":"IF(B153=TRUE,Logblad!AL153,\" \")","v":" "},{"$f":"IF(B153=TRUE,Logblad!O153,\" \")","v":" "},{"$f":"IF(B153=TRUE,Logblad!M153,\" \")","v":" "}]
[{"$f":"CONCATENATE(Logblad!B154,Logblad!I154,Logblad!J154)","v":""},{"$f":"IF(Logblad!$AL154>\" \",(COUNTIF(Logblad!$AL$13:$AL154,Logblad!$AL154)>1),\" \")","v":" "},{"$f":"IF(B154=TRUE,Logblad!AL154,\" \")","v":" "},{"$f":"IF(B154=TRUE,Logblad!O154,\" \")","v":" "},{"$f":"IF(B154=TRUE,Logblad!M154,\" \")","v":" "}]
[{"$f":"CONCATENATE(Logblad!B155,Logblad!I155,Logblad!J155)","v":""},{"$f":"IF(Logblad!$AL155>\" \",(COUNTIF(Logblad!$AL$13:$AL155,Logblad!$AL155)>1),\" \")","v":" "},{"$f":"IF(B155=TRUE,Logblad!AL155,\" \")","v":" "},{"$f":"IF(B155=TRUE,Logblad!O155,\" \")","v":" "},{"$f":"IF(B155=TRUE,Logblad!M155,\" \")","v":" "}]
[{"$f":"CONCATENATE(Logblad!B156,Logblad!I156,Logblad!J156)","v":""},{"$f":"IF(Logblad!$AL156>\" \",(COUNTIF(Logblad!$AL$13:$AL156,Logblad!$AL156)>1),\" \")","v":" "},{"$f":"IF(B156=TRUE,Logblad!AL156,\" \")","v":" "},{"$f":"IF(B156=TRUE,Logblad!O156,\" \")","v":" "},{"$f":"IF(B156=TRUE,Logblad!M156,\" \")","v":" "}]
[{"$f":"CONCATENATE(Logblad!B157,Logblad!I157,Logblad!J157)","v":""},{"$f":"IF(Logblad!$AL157>\" \",(COUNTIF(Logblad!$AL$13:$AL157,Logblad!$AL157)>1),\" \")","v":" "},{"$f":"IF(B157=TRUE,Logblad!AL157,\" \")","v":" "},{"$f":"IF(B157=TRUE,Logblad!O157,\" \")","v":" "},{"$f":"IF(B157=TRUE,Logblad!M157,\" \")","v":" "}]
[{"$f":"CONCATENATE(Logblad!B158,Logblad!I158,Logblad!J158)","v":""},{"$f":"IF(Logblad!$AL158>\" \",(COUNTIF(Logblad!$AL$13:$AL158,Logblad!$AL158)>1),\" \")","v":" "},{"$f":"IF(B158=TRUE,Logblad!AL158,\" \")","v":" "},{"$f":"IF(B158=TRUE,Logblad!O158,\" \")","v":" "},{"$f":"IF(B158=TRUE,Logblad!M158,\" \")","v":" "}]
[{"$f":"CONCATENATE(Logblad!B159,Logblad!I159,Logblad!J159)","v":""},{"$f":"IF(Logblad!$AL159>\" \",(COUNTIF(Logblad!$AL$13:$AL159,Logblad!$AL159)>1),\" \")","v":" "},{"$f":"IF(B159=TRUE,Logblad!AL159,\" \")","v":" "},{"$f":"IF(B159=TRUE,Logblad!O159,\" \")","v":" "},{"$f":"IF(B159=TRUE,Logblad!M159,\" \")","v":" "}]
[{"$f":"CONCATENATE(Logblad!B160,Logblad!I160,Logblad!J160)","v":""},{"$f":"IF(Logblad!$AL160>\" \",(COUNTIF(Logblad!$AL$13:$AL160,Logblad!$AL160)>1),\" \")","v":" "},{"$f":"IF(B160=TRUE,Logblad!AL160,\" \")","v":" "},{"$f":"IF(B160=TRUE,Logblad!O160,\" \")","v":" "},{"$f":"IF(B160=TRUE,Logblad!M160,\" \")","v":" "}]
[{"$f":"CONCATENATE(Logblad!B161,Logblad!I161,Logblad!J161)","v":""},{"$f":"IF(Logblad!$AL161>\" \",(COUNTIF(Logblad!$AL$13:$AL161,Logblad!$AL161)>1),\" \")","v":" "},{"$f":"IF(B161=TRUE,Logblad!AL161,\" \")","v":" "},{"$f":"IF(B161=TRUE,Logblad!O161,\" \")","v":" "},{"$f":"IF(B161=TRUE,Logblad!M161,\" \")","v":" "}]
[{"$f":"CONCATENATE(Logblad!B162,Logblad!I162,Logblad!J162)","v":""},{"$f":"IF(Logblad!$AL162>\" \",(COUNTIF(Logblad!$AL$13:$AL162,Logblad!$AL162)>1),\" \")","v":" "},{"$f":"IF(B162=TRUE,Logblad!AL162,\" \")","v":" "},{"$f":"IF(B162=TRUE,Logblad!O162,\" \")","v":" "},{"$f":"IF(B162=TRUE,Logblad!M162,\" \")","v":" "}]
[{"$f":"CONCATENATE(Logblad!B163,Logblad!I163,Logblad!J163)","v":""},{"$f":"IF(Logblad!$AL163>\" \",(COUNTIF(Logblad!$AL$13:$AL163,Logblad!$AL163)>1),\" \")","v":" "},{"$f":"IF(B163=TRUE,Logblad!AL163,\" \")","v":" "},{"$f":"IF(B163=TRUE,Logblad!O163,\" \")","v":" "},{"$f":"IF(B163=TRUE,Logblad!M163,\" \")","v":" "}]
[{"$f":"CONCATENATE(Logblad!B164,Logblad!I164,Logblad!J164)","v":""},{"$f":"IF(Logblad!$AL164>\" \",(COUNTIF(Logblad!$AL$13:$AL164,Logblad!$AL164)>1),\" \")","v":" "},{"$f":"IF(B164=TRUE,Logblad!AL164,\" \")","v":" "},{"$f":"IF(B164=TRUE,Logblad!O164,\" \")","v":" "},{"$f":"IF(B164=TRUE,Logblad!M164,\" \")","v":" "}]
[{"$f":"CONCATENATE(Logblad!B165,Logblad!I165,Logblad!J165)","v":""},{"$f":"IF(Logblad!$AL165>\" \",(COUNTIF(Logblad!$AL$13:$AL165,Logblad!$AL165)>1),\" \")","v":" "},{"$f":"IF(B165=TRUE,Logblad!AL165,\" \")","v":" "},{"$f":"IF(B165=TRUE,Logblad!O165,\" \")","v":" "},{"$f":"IF(B165=TRUE,Logblad!M165,\" \")","v":" "}]
[{"$f":"CONCATENATE(Logblad!B166,Logblad!I166,Logblad!J166)","v":""},{"$f":"IF(Logblad!$AL166>\" \",(COUNTIF(Logblad!$AL$13:$AL166,Logblad!$AL166)>1),\" \")","v":" "},{"$f":"IF(B166=TRUE,Logblad!AL166,\" \")","v":" "},{"$f":"IF(B166=TRUE,Logblad!O166,\" \")","v":" "},{"$f":"IF(B166=TRUE,Logblad!M166,\" \")","v":" "}]
[{"$f":"CONCATENATE(Logblad!B167,Logblad!I167,Logblad!J167)","v":""},{"$f":"IF(Logblad!$AL167>\" \",(COUNTIF(Logblad!$AL$13:$AL167,Logblad!$AL167)>1),\" \")","v":" "},{"$f":"IF(B167=TRUE,Logblad!AL167,\" \")","v":" "},{"$f":"IF(B167=TRUE,Logblad!O167,\" \")","v":" "},{"$f":"IF(B167=TRUE,Logblad!M167,\" \")","v":" "}]
[{"$f":"CONCATENATE(Logblad!B168,Logblad!I168,Logblad!J168)","v":""},{"$f":"IF(Logblad!$AL168>\" \",(COUNTIF(Logblad!$AL$13:$AL168,Logblad!$AL168)>1),\" \")","v":" "},{"$f":"IF(B168=TRUE,Logblad!AL168,\" \")","v":" "},{"$f":"IF(B168=TRUE,Logblad!O168,\" \")","v":" "},{"$f":"IF(B168=TRUE,Logblad!M168,\" \")","v":" "}]
[{"$f":"CONCATENATE(Logblad!B169,Logblad!I169,Logblad!J169)","v":""},{"$f":"IF(Logblad!$AL169>\" \",(COUNTIF(Logblad!$AL$13:$AL169,Logblad!$AL169)>1),\" \")","v":" "},{"$f":"IF(B169=TRUE,Logblad!AL169,\" \")","v":" "},{"$f":"IF(B169=TRUE,Logblad!O169,\" \")","v":" "},{"$f":"IF(B169=TRUE,Logblad!M169,\" \")","v":" "}]
[{"$f":"CONCATENATE(Logblad!B170,Logblad!I170,Logblad!J170)","v":""},{"$f":"IF(Logblad!$AL170>\" \",(COUNTIF(Logblad!$AL$13:$AL170,Logblad!$AL170)>1),\" \")","v":" "},{"$f":"IF(B170=TRUE,Logblad!AL170,\" \")","v":" "},{"$f":"IF(B170=TRUE,Logblad!O170,\" \")","v":" "},{"$f":"IF(B170=TRUE,Logblad!M170,\" \")","v":" "}]
[{"$f":"CONCATENATE(Logblad!B171,Logblad!I171,Logblad!J171)","v":""},{"$f":"IF(Logblad!$AL171>\" \",(COUNTIF(Logblad!$AL$13:$AL171,Logblad!$AL171)>1),\" \")","v":" "},{"$f":"IF(B171=TRUE,Logblad!AL171,\" \")","v":" "},{"$f":"IF(B171=TRUE,Logblad!O171,\" \")","v":" "},{"$f":"IF(B171=TRUE,Logblad!M171,\" \")","v":" "}]
[{"$f":"CONCATENATE(Logblad!B172,Logblad!I172,Logblad!J172)","v":""},{"$f":"IF(Logblad!$AL172>\" \",(COUNTIF(Logblad!$AL$13:$AL172,Logblad!$AL172)>1),\" \")","v":" "},{"$f":"IF(B172=TRUE,Logblad!AL172,\" \")","v":" "},{"$f":"IF(B172=TRUE,Logblad!O172,\" \")","v":" "},{"$f":"IF(B172=TRUE,Logblad!M172,\" \")","v":" "}]
[{"$f":"CONCATENATE(Logblad!B173,Logblad!I173,Logblad!J173)","v":""},{"$f":"IF(Logblad!$AL173>\" \",(COUNTIF(Logblad!$AL$13:$AL173,Logblad!$AL173)>1),\" \")","v":" "},{"$f":"IF(B173=TRUE,Logblad!AL173,\" \")","v":" "},{"$f":"IF(B173=TRUE,Logblad!O173,\" \")","v":" "},{"$f":"IF(B173=TRUE,Logblad!M173,\" \")","v":" "}]
[{"$f":"CONCATENATE(Logblad!B174,Logblad!I174,Logblad!J174)","v":""},{"$f":"IF(Logblad!$AL174>\" \",(COUNTIF(Logblad!$AL$13:$AL174,Logblad!$AL174)>1),\" \")","v":" "},{"$f":"IF(B174=TRUE,Logblad!AL174,\" \")","v":" "},{"$f":"IF(B174=TRUE,Logblad!O174,\" \")","v":" "},{"$f":"IF(B174=TRUE,Logblad!M174,\" \")","v":" "}]
[{"$f":"CONCATENATE(Logblad!B175,Logblad!I175,Logblad!J175)","v":""},{"$f":"IF(Logblad!$AL175>\" \",(COUNTIF(Logblad!$AL$13:$AL175,Logblad!$AL175)>1),\" \")","v":" "},{"$f":"IF(B175=TRUE,Logblad!AL175,\" \")","v":" "},{"$f":"IF(B175=TRUE,Logblad!O175,\" \")","v":" "},{"$f":"IF(B175=TRUE,Logblad!M175,\" \")","v":" "}]
[{"$f":"CONCATENATE(Logblad!B176,Logblad!I176,Logblad!J176)","v":""},{"$f":"IF(Logblad!$AL176>\" \",(COUNTIF(Logblad!$AL$13:$AL176,Logblad!$AL176)>1),\" \")","v":" "},{"$f":"IF(B176=TRUE,Logblad!AL176,\" \")","v":" "},{"$f":"IF(B176=TRUE,Logblad!O176,\" \")","v":" "},{"$f":"IF(B176=TRUE,Logblad!M176,\" \")","v":" "}]
[{"$f":"CONCATENATE(Logblad!B177,Logblad!I177,Logblad!J177)","v":""},{"$f":"IF(Logblad!$AL177>\" \",(COUNTIF(Logblad!$AL$13:$AL177,Logblad!$AL177)>1),\" \")","v":" "},{"$f":"IF(B177=TRUE,Logblad!AL177,\" \")","v":" "},{"$f":"IF(B177=TRUE,Logblad!O177,\" \")","v":" "},{"$f":"IF(B177=TRUE,Logblad!M177,\" \")","v":" "}]
[{"$f":"CONCATENATE(Logblad!B178,Logblad!I178,Logblad!J178)","v":""},{"$f":"IF(Logblad!$AL178>\" \",(COUNTIF(Logblad!$AL$13:$AL178,Logblad!$AL178)>1),\" \")","v":" "},{"$f":"IF(B178=TRUE,Logblad!AL178,\" \")","v":" "},{"$f":"IF(B178=TRUE,Logblad!O178,\" \")","v":" "},{"$f":"IF(B178=TRUE,Logblad!M178,\" \")","v":" "}]
[{"$f":"CONCATENATE(Logblad!B179,Logblad!I179,Logblad!J179)","v":""},{"$f":"IF(Logblad!$AL179>\" \",(COUNTIF(Logblad!$AL$13:$AL179,Logblad!$AL179)>1),\" \")","v":" "},{"$f":"IF(B179=TRUE,Logblad!AL179,\" \")","v":" "},{"$f":"IF(B179=TRUE,Logblad!O179,\" \")","v":" "},{"$f":"IF(B179=TRUE,Logblad!M179,\" \")","v":" "}]
[{"$f":"CONCATENATE(Logblad!B180,Logblad!I180,Logblad!J180)","v":""},{"$f":"IF(Logblad!$AL180>\" \",(COUNTIF(Logblad!$AL$13:$AL180,Logblad!$AL180)>1),\" \")","v":" "},{"$f":"IF(B180=TRUE,Logblad!AL180,\" \")","v":" "},{"$f":"IF(B180=TRUE,Logblad!O180,\" \")","v":" "},{"$f":"IF(B180=TRUE,Logblad!M180,\" \")","v":" "}]
[{"$f":"CONCATENATE(Logblad!B181,Logblad!I181,Logblad!J181)","v":""},{"$f":"IF(Logblad!$AL181>\" \",(COUNTIF(Logblad!$AL$13:$AL181,Logblad!$AL181)>1),\" \")","v":" "},{"$f":"IF(B181=TRUE,Logblad!AL181,\" \")","v":" "},{"$f":"IF(B181=TRUE,Logblad!O181,\" \")","v":" "},{"$f":"IF(B181=TRUE,Logblad!M181,\" \")","v":" "}]
[{"$f":"CONCATENATE(Logblad!B182,Logblad!I182,Logblad!J182)","v":""},{"$f":"IF(Logblad!$AL182>\" \",(COUNTIF(Logblad!$AL$13:$AL182,Logblad!$AL182)>1),\" \")","v":" "},{"$f":"IF(B182=TRUE,Logblad!AL182,\" \")","v":" "},{"$f":"IF(B182=TRUE,Logblad!O182,\" \")","v":" "},{"$f":"IF(B182=TRUE,Logblad!M182,\" \")","v":" "}]
[{"$f":"CONCATENATE(Logblad!B183,Logblad!I183,Logblad!J183)","v":""},{"$f":"IF(Logblad!$AL183>\" \",(COUNTIF(Logblad!$AL$13:$AL183,Logblad!$AL183)>1),\" \")","v":" "},{"$f":"IF(B183=TRUE,Logblad!AL183,\" \")","v":" "},{"$f":"IF(B183=TRUE,Logblad!O183,\" \")","v":" "},{"$f":"IF(B183=TRUE,Logblad!M183,\" \")","v":" "}]
[{"$f":"CONCATENATE(Logblad!B184,Logblad!I184,Logblad!J184)","v":""},{"$f":"IF(Logblad!$AL184>\" \",(COUNTIF(Logblad!$AL$13:$AL184,Logblad!$AL184)>1),\" \")","v":" "},{"$f":"IF(B184=TRUE,Logblad!AL184,\" \")","v":" "},{"$f":"IF(B184=TRUE,Logblad!O184,\" \")","v":" "},{"$f":"IF(B184=TRUE,Logblad!M184,\" \")","v":" "}]
[{"$f":"CONCATENATE(Logblad!B185,Logblad!I185,Logblad!J185)","v":""},{"$f":"IF(Logblad!$AL185>\" \",(COUNTIF(Logblad!$AL$13:$AL185,Logblad!$AL185)>1),\" \")","v":" "},{"$f":"IF(B185=TRUE,Logblad!AL185,\" \")","v":" "},{"$f":"IF(B185=TRUE,Logblad!O185,\" \")","v":" "},{"$f":"IF(B185=TRUE,Logblad!M185,\" \")","v":" "}]
[{"$f":"CONCATENATE(Logblad!B186,Logblad!I186,Logblad!J186)","v":""},{"$f":"IF(Logblad!$AL186>\" \",(COUNTIF(Logblad!$AL$13:$AL186,Logblad!$AL186)>1),\" \")","v":" "},{"$f":"IF(B186=TRUE,Logblad!AL186,\" \")","v":" "},{"$f":"IF(B186=TRUE,Logblad!O186,\" \")","v":" "},{"$f":"IF(B186=TRUE,Logblad!M186,\" \")","v":" "}]
[{"$f":"CONCATENATE(Logblad!B187,Logblad!I187,Logblad!J187)","v":""},{"$f":"IF(Logblad!$AL187>\" \",(COUNTIF(Logblad!$AL$13:$AL187,Logblad!$AL187)>1),\" \")","v":" "},{"$f":"IF(B187=TRUE,Logblad!AL187,\" \")","v":" "},{"$f":"IF(B187=TRUE,Logblad!O187,\" \")","v":" "},{"$f":"IF(B187=TRUE,Logblad!M187,\" \")","v":" "}]
[{"$f":"CONCATENATE(Logblad!B188,Logblad!I188,Logblad!J188)","v":""},{"$f":"IF(Logblad!$AL188>\" \",(COUNTIF(Logblad!$AL$13:$AL188,Logblad!$AL188)>1),\" \")","v":" "},{"$f":"IF(B188=TRUE,Logblad!AL188,\" \")","v":" "},{"$f":"IF(B188=TRUE,Logblad!O188,\" \")","v":" "},{"$f":"IF(B188=TRUE,Logblad!M188,\" \")","v":" "}]
[{"$f":"CONCATENATE(Logblad!B189,Logblad!I189,Logblad!J189)","v":""},{"$f":"IF(Logblad!$AL189>\" \",(COUNTIF(Logblad!$AL$13:$AL189,Logblad!$AL189)>1),\" \")","v":" "},{"$f":"IF(B189=TRUE,Logblad!AL189,\" \")","v":" "},{"$f":"IF(B189=TRUE,Logblad!O189,\" \")","v":" "},{"$f":"IF(B189=TRUE,Logblad!M189,\" \")","v":" "}]
[{"$f":"CONCATENATE(Logblad!B190,Logblad!I190,Logblad!J190)","v":""},{"$f":"IF(Logblad!$AL190>\" \",(COUNTIF(Logblad!$AL$13:$AL190,Logblad!$AL190)>1),\" \")","v":" "},{"$f":"IF(B190=TRUE,Logblad!AL190,\" \")","v":" "},{"$f":"IF(B190=TRUE,Logblad!O190,\" \")","v":" "},{"$f":"IF(B190=TRUE,Logblad!M190,\" \")","v":" "}]
[{"$f":"CONCATENATE(Logblad!B191,Logblad!I191,Logblad!J191)","v":""},{"$f":"IF(Logblad!$AL191>\" \",(COUNTIF(Logblad!$AL$13:$AL191,Logblad!$AL191)>1),\" \")","v":" "},{"$f":"IF(B191=TRUE,Logblad!AL191,\" \")","v":" "},{"$f":"IF(B191=TRUE,Logblad!O191,\" \")","v":" "},{"$f":"IF(B191=TRUE,Logblad!M191,\" \")","v":" "}]
[{"$f":"CONCATENATE(Logblad!B192,Logblad!I192,Logblad!J192)","v":""},{"$f":"IF(Logblad!$AL192>\" \",(COUNTIF(Logblad!$AL$13:$AL192,Logblad!$AL192)>1),\" \")","v":" "},{"$f":"IF(B192=TRUE,Logblad!AL192,\" \")","v":" "},{"$f":"IF(B192=TRUE,Logblad!O192,\" \")","v":" "},{"$f":"IF(B192=TRUE,Logblad!M192,\" \")","v":" "}]
[{"$f":"CONCATENATE(Logblad!B193,Logblad!I193,Logblad!J193)","v":""},{"$f":"IF(Logblad!$AL193>\" \",(COUNTIF(Logblad!$AL$13:$AL193,Logblad!$AL193)>1),\" \")","v":" "},{"$f":"IF(B193=TRUE,Logblad!AL193,\" \")","v":" "},{"$f":"IF(B193=TRUE,Logblad!O193,\" \")","v":" "},{"$f":"IF(B193=TRUE,Logblad!M193,\" \")","v":" "}]
[{"$f":"CONCATENATE(Logblad!B194,Logblad!I194,Logblad!J194)","v":""},{"$f":"IF(Logblad!$AL194>\" \",(COUNTIF(Logblad!$AL$13:$AL194,Logblad!$AL194)>1),\" \")","v":" "},{"$f":"IF(B194=TRUE,Logblad!AL194,\" \")","v":" "},{"$f":"IF(B194=TRUE,Logblad!O194,\" \")","v":" "},{"$f":"IF(B194=TRUE,Logblad!M194,\" \")","v":" "}]
[{"$f":"CONCATENATE(Logblad!B195,Logblad!I195,Logblad!J195)","v":""},{"$f":"IF(Logblad!$AL195>\" \",(COUNTIF(Logblad!$AL$13:$AL195,Logblad!$AL195)>1),\" \")","v":" "},{"$f":"IF(B195=TRUE,Logblad!AL195,\" \")","v":" "},{"$f":"IF(B195=TRUE,Logblad!O195,\" \")","v":" "},{"$f":"IF(B195=TRUE,Logblad!M195,\" \")","v":" "}]
[{"$f":"CONCATENATE(Logblad!B196,Logblad!I196,Logblad!J196)","v":""},{"$f":"IF(Logblad!$AL196>\" \",(COUNTIF(Logblad!$AL$13:$AL196,Logblad!$AL196)>1),\" \")","v":" "},{"$f":"IF(B196=TRUE,Logblad!AL196,\" \")","v":" "},{"$f":"IF(B196=TRUE,Logblad!O196,\" \")","v":" "},{"$f":"IF(B196=TRUE,Logblad!M196,\" \")","v":" "}]
[{"$f":"CONCATENATE(Logblad!B197,Logblad!I197,Logblad!J197)","v":""},{"$f":"IF(Logblad!$AL197>\" \",(COUNTIF(Logblad!$AL$13:$AL197,Logblad!$AL197)>1),\" \")","v":" "},{"$f":"IF(B197=TRUE,Logblad!AL197,\" \")","v":" "},{"$f":"IF(B197=TRUE,Logblad!O197,\" \")","v":" "},{"$f":"IF(B197=TRUE,Logblad!M197,\" \")","v":" "}]
[{"$f":"CONCATENATE(Logblad!B198,Logblad!I198,Logblad!J198)","v":""},{"$f":"IF(Logblad!$AL198>\" \",(COUNTIF(Logblad!$AL$13:$AL198,Logblad!$AL198)>1),\" \")","v":" "},{"$f":"IF(B198=TRUE,Logblad!AL198,\" \")","v":" "},{"$f":"IF(B198=TRUE,Logblad!O198,\" \")","v":" "},{"$f":"IF(B198=TRUE,Logblad!M198,\" \")","v":" "}]
[{"$f":"CONCATENATE(Logblad!B199,Logblad!I199,Logblad!J199)","v":""},{"$f":"IF(Logblad!$AL199>\" \",(COUNTIF(Logblad!$AL$13:$AL199,Logblad!$AL199)>1),\" \")","v":" "},{"$f":"IF(B199=TRUE,Logblad!AL199,\" \")","v":" "},{"$f":"IF(B199=TRUE,Logblad!O199,\" \")","v":" "},{"$f":"IF(B199=TRUE,Logblad!M199,\" \")","v":" "}]
[{"$f":"CONCATENATE(Logblad!B200,Logblad!I200,Logblad!J200)","v":""},{"$f":"IF(Logblad!$AL200>\" \",(COUNTIF(Logblad!$AL$13:$AL200,Logblad!$AL200)>1),\" \")","v":" "},{"$f":"IF(B200=TRUE,Logblad!AL200,\" \")","v":" "},{"$f":"IF(B200=TRUE,Logblad!O200,\" \")","v":" "},{"$f":"IF(B200=TRUE,Logblad!M200,\" \")","v":" "}]
[{"$f":"CONCATENATE(Logblad!B201,Logblad!I201,Logblad!J201)","v":""},{"$f":"IF(Logblad!$AL201>\" \",(COUNTIF(Logblad!$AL$13:$AL201,Logblad!$AL201)>1),\" \")","v":" "},{"$f":"IF(B201=TRUE,Logblad!AL201,\" \")","v":" "},{"$f":"IF(B201=TRUE,Logblad!O201,\" \")","v":" "},{"$f":"IF(B201=TRUE,Logblad!M201,\" \")","v":" "}]
[{"$f":"CONCATENATE(Logblad!B202,Logblad!I202,Logblad!J202)","v":""},{"$f":"IF(Logblad!$AL202>\" \",(COUNTIF(Logblad!$AL$13:$AL202,Logblad!$AL202)>1),\" \")","v":" "},{"$f":"IF(B202=TRUE,Logblad!AL202,\" \")","v":" "},{"$f":"IF(B202=TRUE,Logblad!O202,\" \")","v":" "},{"$f":"IF(B202=TRUE,Logblad!M202,\" \")","v":" "}]
[{"$f":"CONCATENATE(Logblad!B203,Logblad!I203,Logblad!J203)","v":""},{"$f":"IF(Logblad!$AL203>\" \",(COUNTIF(Logblad!$AL$13:$AL203,Logblad!$AL203)>1),\" \")","v":" "},{"$f":"IF(B203=TRUE,Logblad!AL203,\" \")","v":" "},{"$f":"IF(B203=TRUE,Logblad!O203,\" \")","v":" "},{"$f":"IF(B203=TRUE,Logblad!M203,\" \")","v":" "}]
[{"$f":"CONCATENATE(Logblad!B204,Logblad!I204,Logblad!J204)","v":""},{"$f":"IF(Logblad!$AL204>\" \",(COUNTIF(Logblad!$AL$13:$AL204,Logblad!$AL204)>1),\" \")","v":" "},{"$f":"IF(B204=TRUE,Logblad!AL204,\" \")","v":" "},{"$f":"IF(B204=TRUE,Logblad!O204,\" \")","v":" "},{"$f":"IF(B204=TRUE,Logblad!M204,\" \")","v":" "}]
[{"$f":"CONCATENATE(Logblad!B205,Logblad!I205,Logblad!J205)","v":""},{"$f":"IF(Logblad!$AL205>\" \",(COUNTIF(Logblad!$AL$13:$AL205,Logblad!$AL205)>1),\" \")","v":" "},{"$f":"IF(B205=TRUE,Logblad!AL205,\" \")","v":" "},{"$f":"IF(B205=TRUE,Logblad!O205,\" \")","v":" "},{"$f":"IF(B205=TRUE,Logblad!M205,\" \")","v":" "}]
[{"$f":"CONCATENATE(Logblad!B206,Logblad!I206,Logblad!J206)","v":""},{"$f":"IF(Logblad!$AL206>\" \",(COUNTIF(Logblad!$AL$13:$AL206,Logblad!$AL206)>1),\" \")","v":" "},{"$f":"IF(B206=TRUE,Logblad!AL206,\" \")","v":" "},{"$f":"IF(B206=TRUE,Logblad!O206,\" \")","v":" "},{"$f":"IF(B206=TRUE,Logblad!M206,\" \")","v":" "}]
[{"$f":"CONCATENATE(Logblad!B207,Logblad!I207,Logblad!J207)","v":""},{"$f":"IF(Logblad!$AL207>\" \",(COUNTIF(Logblad!$AL$13:$AL207,Logblad!$AL207)>1),\" \")","v":" "},{"$f":"IF(B207=TRUE,Logblad!AL207,\" \")","v":" "},{"$f":"IF(B207=TRUE,Logblad!O207,\" \")","v":" "},{"$f":"IF(B207=TRUE,Logblad!M207,\" \")","v":" "}]
[{"$f":"CONCATENATE(Logblad!B208,Logblad!I208,Logblad!J208)","v":""},{"$f":"IF(Logblad!$AL208>\" \",(COUNTIF(Logblad!$AL$13:$AL208,Logblad!$AL208)>1),\" \")","v":" "},{"$f":"IF(B208=TRUE,Logblad!AL208,\" \")","v":" "},{"$f":"IF(B208=TRUE,Logblad!O208,\" \")","v":" "},{"$f":"IF(B208=TRUE,Logblad!M208,\" \")","v":" "}]
[{"$f":"CONCATENATE(Logblad!B209,Logblad!I209,Logblad!J209)","v":""},{"$f":"IF(Logblad!$AL209>\" \",(COUNTIF(Logblad!$AL$13:$AL209,Logblad!$AL209)>1),\" \")","v":" "},{"$f":"IF(B209=TRUE,Logblad!AL209,\" \")","v":" "},{"$f":"IF(B209=TRUE,Logblad!O209,\" \")","v":" "},{"$f":"IF(B209=TRUE,Logblad!M209,\" \")","v":" "}]
[{"$f":"CONCATENATE(Logblad!B210,Logblad!I210,Logblad!J210)","v":""},{"$f":"IF(Logblad!$AL210>\" \",(COUNTIF(Logblad!$AL$13:$AL210,Logblad!$AL210)>1),\" \")","v":" "},{"$f":"IF(B210=TRUE,Logblad!AL210,\" \")","v":" "},{"$f":"IF(B210=TRUE,Logblad!O210,\" \")","v":" "},{"$f":"IF(B210=TRUE,Logblad!M210,\" \")","v":" "}]
[{"$f":"CONCATENATE(Logblad!B211,Logblad!I211,Logblad!J211)","v":""},{"$f":"IF(Logblad!$AL211>\" \",(COUNTIF(Logblad!$AL$13:$AL211,Logblad!$AL211)>1),\" \")","v":" "},{"$f":"IF(B211=TRUE,Logblad!AL211,\" \")","v":" "},{"$f":"IF(B211=TRUE,Logblad!O211,\" \")","v":" "},{"$f":"IF(B211=TRUE,Logblad!M211,\" \")","v":" "}]
[{"$f":"CONCATENATE(Logblad!B212,Logblad!I212,Logblad!J212)","v":""},{"$f":"IF(Logblad!$AL212>\" \",(COUNTIF(Logblad!$AL$13:$AL212,Logblad!$AL212)>1),\" \")","v":" "},{"$f":"IF(B212=TRUE,Logblad!AL212,\" \")","v":" "},{"$f":"IF(B212=TRUE,Logblad!O212,\" \")","v":" "},{"$f":"IF(B212=TRUE,Logblad!M212,\" \")","v":" "}]
[{"$f":"CONCATENATE(Logblad!B213,Logblad!I213,Logblad!J213)","v":""},{"$f":"IF(Logblad!$AL213>\" \",(COUNTIF(Logblad!$AL$13:$AL213,Logblad!$AL213)>1),\" \")","v":" "},{"$f":"IF(B213=TRUE,Logblad!AL213,\" \")","v":" "},{"$f":"IF(B213=TRUE,Logblad!O213,\" \")","v":" "},{"$f":"IF(B213=TRUE,Logblad!M213,\" \")","v":" "}]
[{"$f":"CONCATENATE(Logblad!B214,Logblad!I214,Logblad!J214)","v":""},{"$f":"IF(Logblad!$AL214>\" \",(COUNTIF(Logblad!$AL$13:$AL214,Logblad!$AL214)>1),\" \")","v":" "},{"$f":"IF(B214=TRUE,Logblad!AL214,\" \")","v":" "},{"$f":"IF(B214=TRUE,Logblad!O214,\" \")","v":" "},{"$f":"IF(B214=TRUE,Logblad!M214,\" \")","v":" "}]
[{"$f":"CONCATENATE(Logblad!B215,Logblad!I215,Logblad!J215)","v":""},{"$f":"IF(Logblad!$AL215>\" \",(COUNTIF(Logblad!$AL$13:$AL215,Logblad!$AL215)>1),\" \")","v":" "},{"$f":"IF(B215=TRUE,Logblad!AL215,\" \")","v":" "},{"$f":"IF(B215=TRUE,Logblad!O215,\" \")","v":" "},{"$f":"IF(B215=TRUE,Logblad!M215,\" \")","v":" "}]
[{"$f":"CONCATENATE(Logblad!B216,Logblad!I216,Logblad!J216)","v":""},{"$f":"IF(Logblad!$AL216>\" \",(COUNTIF(Logblad!$AL$13:$AL216,Logblad!$AL216)>1),\" \")","v":" "},{"$f":"IF(B216=TRUE,Logblad!AL216,\" \")","v":" "},{"$f":"IF(B216=TRUE,Logblad!O216,\" \")","v":" "},{"$f":"IF(B216=TRUE,Logblad!M216,\" \")","v":" "}]
[{"$f":"CONCATENATE(Logblad!B217,Logblad!I217,Logblad!J217)","v":""},{"$f":"IF(Logblad!$AL217>\" \",(COUNTIF(Logblad!$AL$13:$AL217,Logblad!$AL217)>1),\" \")","v":" "},{"$f":"IF(B217=TRUE,Logblad!AL217,\" \")","v":" "},{"$f":"IF(B217=TRUE,Logblad!O217,\" \")","v":" "},{"$f":"IF(B217=TRUE,Logblad!M217,\" \")","v":" "}]
[{"$f":"CONCATENATE(Logblad!B218,Logblad!I218,Logblad!J218)","v":""},{"$f":"IF(Logblad!$AL218>\" \",(COUNTIF(Logblad!$AL$13:$AL218,Logblad!$AL218)>1),\" \")","v":" "},{"$f":"IF(B218=TRUE,Logblad!AL218,\" \")","v":" "},{"$f":"IF(B218=TRUE,Logblad!O218,\" \")","v":" "},{"$f":"IF(B218=TRUE,Logblad!M218,\" \")","v":" "}]
[{"$f":"CONCATENATE(Logblad!B219,Logblad!I219,Logblad!J219)","v":""},{"$f":"IF(Logblad!$AL219>\" \",(COUNTIF(Logblad!$AL$13:$AL219,Logblad!$AL219)>1),\" \")","v":" "},{"$f":"IF(B219=TRUE,Logblad!AL219,\" \")","v":" "},{"$f":"IF(B219=TRUE,Logblad!O219,\" \")","v":" "},{"$f":"IF(B219=TRUE,Logblad!M219,\" \")","v":" "}]
[{"$f":"CONCATENATE(Logblad!B220,Logblad!I220,Logblad!J220)","v":""},{"$f":"IF(Logblad!$AL220>\" \",(COUNTIF(Logblad!$AL$13:$AL220,Logblad!$AL220)>1),\" \")","v":" "},{"$f":"IF(B220=TRUE,Logblad!AL220,\" \")","v":" "},{"$f":"IF(B220=TRUE,Logblad!O220,\" \")","v":" "},{"$f":"IF(B220=TRUE,Logblad!M220,\" \")","v":" "}]
[{"$f":"CONCATENATE(Logblad!B221,Logblad!I221,Logblad!J221)","v":""},{"$f":"IF(Logblad!$AL221>\" \",(COUNTIF(Logblad!$AL$13:$AL221,Logblad!$AL221)>1),\" \")","v":" "},{"$f":"IF(B221=TRUE,Logblad!AL221,\" \")","v":" "},{"$f":"IF(B221=TRUE,Logblad!O221,\" \")","v":" "},{"$f":"IF(B221=TRUE,Logblad!M221,\" \")","v":" "}]
[{"$f":"CONCATENATE(Logblad!B222,Logblad!I222,Logblad!J222)","v":""},{"$f":"IF(Logblad!$AL222>\" \",(COUNTIF(Logblad!$AL$13:$AL222,Logblad!$AL222)>1),\" \")","v":" "},{"$f":"IF(B222=TRUE,Logblad!AL222,\" \")","v":" "},{"$f":"IF(B222=TRUE,Logblad!O222,\" \")","v":" "},{"$f":"IF(B222=TRUE,Logblad!M222,\" \")","v":" "}]
[{"$f":"CONCATENATE(Logblad!B223,Logblad!I223,Logblad!J223)","v":""},{"$f":"IF(Logblad!$AL223>\" \",(COUNTIF(Logblad!$AL$13:$AL223,Logblad!$AL223)>1),\" \")","v":" "},{"$f":"IF(B223=TRUE,Logblad!AL223,\" \")","v":" "},{"$f":"IF(B223=TRUE,Logblad!O223,\" \")","v":" "},{"$f":"IF(B223=TRUE,Logblad!M223,\" \")","v":" "}]
[{"$f":"CONCATENATE(Logblad!B224,Logblad!I224,Logblad!J224)","v":""},{"$f":"IF(Logblad!$AL224>\" \",(COUNTIF(Logblad!$AL$13:$AL224,Logblad!$AL224)>1),\" \")","v":" "},{"$f":"IF(B224=TRUE,Logblad!AL224,\" \")","v":" "},{"$f":"IF(B224=TRUE,Logblad!O224,\" \")","v":" "},{"$f":"IF(B224=TRUE,Logblad!M224,\" \")","v":" "}]
[{"$f":"CONCATENATE(Logblad!B225,Logblad!I225,Logblad!J225)","v":""},{"$f":"IF(Logblad!$AL225>\" \",(COUNTIF(Logblad!$AL$13:$AL225,Logblad!$AL225)>1),\" \")","v":" "},{"$f":"IF(B225=TRUE,Logblad!AL225,\" \")","v":" "},{"$f":"IF(B225=TRUE,Logblad!O225,\" \")","v":" "},{"$f":"IF(B225=TRUE,Logblad!M225,\" \")","v":" "}]
[{"$f":"CONCATENATE(Logblad!B226,Logblad!I226,Logblad!J226)","v":""},{"$f":"IF(Logblad!$AL226>\" \",(COUNTIF(Logblad!$AL$13:$AL226,Logblad!$AL226)>1),\" \")","v":" "},{"$f":"IF(B226=TRUE,Logblad!AL226,\" \")","v":" "},{"$f":"IF(B226=TRUE,Logblad!O226,\" \")","v":" "},{"$f":"IF(B226=TRUE,Logblad!M226,\" \")","v":" "}]
[{"$f":"CONCATENATE(Logblad!B227,Logblad!I227,Logblad!J227)","v":""},{"$f":"IF(Logblad!$AL227>\" \",(COUNTIF(Logblad!$AL$13:$AL227,Logblad!$AL227)>1),\" \")","v":" "},{"$f":"IF(B227=TRUE,Logblad!AL227,\" \")","v":" "},{"$f":"IF(B227=TRUE,Logblad!O227,\" \")","v":" "},{"$f":"IF(B227=TRUE,Logblad!M227,\" \")","v":" "}]
[{"$f":"CONCATENATE(Logblad!B228,Logblad!I228,Logblad!J228)","v":""},{"$f":"IF(Logblad!$AL228>\" \",(COUNTIF(Logblad!$AL$13:$AL228,Logblad!$AL228)>1),\" \")","v":" "},{"$f":"IF(B228=TRUE,Logblad!AL228,\" \")","v":" "},{"$f":"IF(B228=TRUE,Logblad!O228,\" \")","v":" "},{"$f":"IF(B228=TRUE,Logblad!M228,\" \")","v":" "}]
[{"$f":"CONCATENATE(Logblad!B229,Logblad!I229,Logblad!J229)","v":""},{"$f":"IF(Logblad!$AL229>\" \",(COUNTIF(Logblad!$AL$13:$AL229,Logblad!$AL229)>1),\" \")","v":" "},{"$f":"IF(B229=TRUE,Logblad!AL229,\" \")","v":" "},{"$f":"IF(B229=TRUE,Logblad!O229,\" \")","v":" "},{"$f":"IF(B229=TRUE,Logblad!M229,\" \")","v":" "}]
[{"$f":"CONCATENATE(Logblad!B230,Logblad!I230,Logblad!J230)","v":""},{"$f":"IF(Logblad!$AL230>\" \",(COUNTIF(Logblad!$AL$13:$AL230,Logblad!$AL230)>1),\" \")","v":" "},{"$f":"IF(B230=TRUE,Logblad!AL230,\" \")","v":" "},{"$f":"IF(B230=TRUE,Logblad!O230,\" \")","v":" "},{"$f":"IF(B230=TRUE,Logblad!M230,\" \")","v":" "}]
[{"$f":"CONCATENATE(Logblad!B231,Logblad!I231,Logblad!J231)","v":""},{"$f":"IF(Logblad!$AL231>\" \",(COUNTIF(Logblad!$AL$13:$AL231,Logblad!$AL231)>1),\" \")","v":" "},{"$f":"IF(B231=TRUE,Logblad!AL231,\" \")","v":" "},{"$f":"IF(B231=TRUE,Logblad!O231,\" \")","v":" "},{"$f":"IF(B231=TRUE,Logblad!M231,\" \")","v":" "}]
[{"$f":"CONCATENATE(Logblad!B232,Logblad!I232,Logblad!J232)","v":""},{"$f":"IF(Logblad!$AL232>\" \",(COUNTIF(Logblad!$AL$13:$AL232,Logblad!$AL232)>1),\" \")","v":" "},{"$f":"IF(B232=TRUE,Logblad!AL232,\" \")","v":" "},{"$f":"IF(B232=TRUE,Logblad!O232,\" \")","v":" "},{"$f":"IF(B232=TRUE,Logblad!M232,\" \")","v":" "}]
[{"$f":"CONCATENATE(Logblad!B233,Logblad!I233,Logblad!J233)","v":""},{"$f":"IF(Logblad!$AL233>\" \",(COUNTIF(Logblad!$AL$13:$AL233,Logblad!$AL233)>1),\" \")","v":" "},{"$f":"IF(B233=TRUE,Logblad!AL233,\" \")","v":" "},{"$f":"IF(B233=TRUE,Logblad!O233,\" \")","v":" "},{"$f":"IF(B233=TRUE,Logblad!M233,\" \")","v":" "}]
[{"$f":"CONCATENATE(Logblad!B234,Logblad!I234,Logblad!J234)","v":""},{"$f":"IF(Logblad!$AL234>\" \",(COUNTIF(Logblad!$AL$13:$AL234,Logblad!$AL234)>1),\" \")","v":" "},{"$f":"IF(B234=TRUE,Logblad!AL234,\" \")","v":" "},{"$f":"IF(B234=TRUE,Logblad!O234,\" \")","v":" "},{"$f":"IF(B234=TRUE,Logblad!M234,\" \")","v":" "}]
[{"$f":"CONCATENATE(Logblad!B235,Logblad!I235,Logblad!J235)","v":""},{"$f":"IF(Logblad!$AL235>\" \",(COUNTIF(Logblad!$AL$13:$AL235,Logblad!$AL235)>1),\" \")","v":" "},{"$f":"IF(B235=TRUE,Logblad!AL235,\" \")","v":" "},{"$f":"IF(B235=TRUE,Logblad!O235,\" \")","v":" "},{"$f":"IF(B235=TRUE,Logblad!M235,\" \")","v":" "}]
[{"$f":"CONCATENATE(Logblad!B236,Logblad!I236,Logblad!J236)","v":""},{"$f":"IF(Logblad!$AL236>\" \",(COUNTIF(Logblad!$AL$13:$AL236,Logblad!$AL236)>1),\" \")","v":" "},{"$f":"IF(B236=TRUE,Logblad!AL236,\" \")","v":" "},{"$f":"IF(B236=TRUE,Logblad!O236,\" \")","v":" "},{"$f":"IF(B236=TRUE,Logblad!M236,\" \")","v":" "}]
[{"$f":"CONCATENATE(Logblad!B237,Logblad!I237,Logblad!J237)","v":""},{"$f":"IF(Logblad!$AL237>\" \",(COUNTIF(Logblad!$AL$13:$AL237,Logblad!$AL237)>1),\" \")","v":" "},{"$f":"IF(B237=TRUE,Logblad!AL237,\" \")","v":" "},{"$f":"IF(B237=TRUE,Logblad!O237,\" \")","v":" "},{"$f":"IF(B237=TRUE,Logblad!M237,\" \")","v":" "}]
[{"$f":"CONCATENATE(Logblad!B238,Logblad!I238,Logblad!J238)","v":""},{"$f":"IF(Logblad!$AL238>\" \",(COUNTIF(Logblad!$AL$13:$AL238,Logblad!$AL238)>1),\" \")","v":" "},{"$f":"IF(B238=TRUE,Logblad!AL238,\" \")","v":" "},{"$f":"IF(B238=TRUE,Logblad!O238,\" \")","v":" "},{"$f":"IF(B238=TRUE,Logblad!M238,\" \")","v":" "}]
[{"$f":"CONCATENATE(Logblad!B239,Logblad!I239,Logblad!J239)","v":""},{"$f":"IF(Logblad!$AL239>\" \",(COUNTIF(Logblad!$AL$13:$AL239,Logblad!$AL239)>1),\" \")","v":" "},{"$f":"IF(B239=TRUE,Logblad!AL239,\" \")","v":" "},{"$f":"IF(B239=TRUE,Logblad!O239,\" \")","v":" "},{"$f":"IF(B239=TRUE,Logblad!M239,\" \")","v":" "}]
[{"$f":"CONCATENATE(Logblad!B240,Logblad!I240,Logblad!J240)","v":""},{"$f":"IF(Logblad!$AL240>\" \",(COUNTIF(Logblad!$AL$13:$AL240,Logblad!$AL240)>1),\" \")","v":" "},{"$f":"IF(B240=TRUE,Logblad!AL240,\" \")","v":" "},{"$f":"IF(B240=TRUE,Logblad!O240,\" \")","v":" "},{"$f":"IF(B240=TRUE,Logblad!M240,\" \")","v":" "}]
[{"$f":"CONCATENATE(Logblad!B241,Logblad!I241,Logblad!J241)","v":""},{"$f":"IF(Logblad!$AL241>\" \",(COUNTIF(Logblad!$AL$13:$AL241,Logblad!$AL241)>1),\" \")","v":" "},{"$f":"IF(B241=TRUE,Logblad!AL241,\" \")","v":" "},{"$f":"IF(B241=TRUE,Logblad!O241,\" \")","v":" "},{"$f":"IF(B241=TRUE,Logblad!M241,\" \")","v":" "}]
[{"$f":"CONCATENATE(Logblad!B242,Logblad!I242,Logblad!J242)","v":""},{"$f":"IF(Logblad!$AL242>\" \",(COUNTIF(Logblad!$AL$13:$AL242,Logblad!$AL242)>1),\" \")","v":" "},{"$f":"IF(B242=TRUE,Logblad!AL242,\" \")","v":" "},{"$f":"IF(B242=TRUE,Logblad!O242,\" \")","v":" "},{"$f":"IF(B242=TRUE,Logblad!M242,\" \")","v":" "}]
[{"$f":"CONCATENATE(Logblad!B243,Logblad!I243,Logblad!J243)","v":""},{"$f":"IF(Logblad!$AL243>\" \",(COUNTIF(Logblad!$AL$13:$AL243,Logblad!$AL243)>1),\" \")","v":" "},{"$f":"IF(B243=TRUE,Logblad!AL243,\" \")","v":" "},{"$f":"IF(B243=TRUE,Logblad!O243,\" \")","v":" "},{"$f":"IF(B243=TRUE,Logblad!M243,\" \")","v":" "}]
[{"$f":"CONCATENATE(Logblad!B244,Logblad!I244,Logblad!J244)","v":""},{"$f":"IF(Logblad!$AL244>\" \",(COUNTIF(Logblad!$AL$13:$AL244,Logblad!$AL244)>1),\" \")","v":" "},{"$f":"IF(B244=TRUE,Logblad!AL244,\" \")","v":" "},{"$f":"IF(B244=TRUE,Logblad!O244,\" \")","v":" "},{"$f":"IF(B244=TRUE,Logblad!M244,\" \")","v":" "}]
[{"$f":"CONCATENATE(Logblad!B245,Logblad!I245,Logblad!J245)","v":""},{"$f":"IF(Logblad!$AL245>\" \",(COUNTIF(Logblad!$AL$13:$AL245,Logblad!$AL245)>1),\" \")","v":" "},{"$f":"IF(B245=TRUE,Logblad!AL245,\" \")","v":" "},{"$f":"IF(B245=TRUE,Logblad!O245,\" \")","v":" "},{"$f":"IF(B245=TRUE,Logblad!M245,\" \")","v":" "}]
[{"$f":"CONCATENATE(Logblad!B246,Logblad!I246,Logblad!J246)","v":""},{"$f":"IF(Logblad!$AL246>\" \",(COUNTIF(Logblad!$AL$13:$AL246,Logblad!$AL246)>1),\" \")","v":" "},{"$f":"IF(B246=TRUE,Logblad!AL246,\" \")","v":" "},{"$f":"IF(B246=TRUE,Logblad!O246,\" \")","v":" "},{"$f":"IF(B246=TRUE,Logblad!M246,\" \")","v":" "}]
[{"$f":"CONCATENATE(Logblad!B247,Logblad!I247,Logblad!J247)","v":""},{"$f":"IF(Logblad!$AL247>\" \",(COUNTIF(Logblad!$AL$13:$AL247,Logblad!$AL247)>1),\" \")","v":" "},{"$f":"IF(B247=TRUE,Logblad!AL247,\" \")","v":" "},{"$f":"IF(B247=TRUE,Logblad!O247,\" \")","v":" "},{"$f":"IF(B247=TRUE,Logblad!M247,\" \")","v":" "}]
[{"$f":"CONCATENATE(Logblad!B248,Logblad!I248,Logblad!J248)","v":""},{"$f":"IF(Logblad!$AL248>\" \",(COUNTIF(Logblad!$AL$13:$AL248,Logblad!$AL248)>1),\" \")","v":" "},{"$f":"IF(B248=TRUE,Logblad!AL248,\" \")","v":" "},{"$f":"IF(B248=TRUE,Logblad!O248,\" \")","v":" "},{"$f":"IF(B248=TRUE,Logblad!M248,\" \")","v":" "}]
[{"$f":"CONCATENATE(Logblad!B249,Logblad!I249,Logblad!J249)","v":""},{"$f":"IF(Logblad!$AL249>\" \",(COUNTIF(Logblad!$AL$13:$AL249,Logblad!$AL249)>1),\" \")","v":" "},{"$f":"IF(B249=TRUE,Logblad!AL249,\" \")","v":" "},{"$f":"IF(B249=TRUE,Logblad!O249,\" \")","v":" "},{"$f":"IF(B249=TRUE,Logblad!M249,\" \")","v":" "}]
[{"$f":"CONCATENATE(Logblad!B250,Logblad!I250,Logblad!J250)","v":""},{"$f":"IF(Logblad!$AL250>\" \",(COUNTIF(Logblad!$AL$13:$AL250,Logblad!$AL250)>1),\" \")","v":" "},{"$f":"IF(B250=TRUE,Logblad!AL250,\" \")","v":" "},{"$f":"IF(B250=TRUE,Logblad!O250,\" \")","v":" "},{"$f":"IF(B250=TRUE,Logblad!M250,\" \")","v":" "}]
[{"$f":"CONCATENATE(Logblad!B251,Logblad!I251,Logblad!J251)","v":""},{"$f":"IF(Logblad!$AL251>\" \",(COUNTIF(Logblad!$AL$13:$AL251,Logblad!$AL251)>1),\" \")","v":" "},{"$f":"IF(B251=TRUE,Logblad!AL251,\" \")","v":" "},{"$f":"IF(B251=TRUE,Logblad!O251,\" \")","v":" "},{"$f":"IF(B251=TRUE,Logblad!M251,\" \")","v":" "}]
[{"$f":"CONCATENATE(Logblad!B252,Logblad!I252,Logblad!J252)","v":""},{"$f":"IF(Logblad!$AL252>\" \",(COUNTIF(Logblad!$AL$13:$AL252,Logblad!$AL252)>1),\" \")","v":" "},{"$f":"IF(B252=TRUE,Logblad!AL252,\" \")","v":" "},{"$f":"IF(B252=TRUE,Logblad!O252,\" \")","v":" "},{"$f":"IF(B252=TRUE,Logblad!M252,\" \")","v":" "}]
[{"$f":"CONCATENATE(Logblad!B253,Logblad!I253,Logblad!J253)","v":""},{"$f":"IF(Logblad!$AL253>\" \",(COUNTIF(Logblad!$AL$13:$AL253,Logblad!$AL253)>1),\" \")","v":" "},{"$f":"IF(B253=TRUE,Logblad!AL253,\" \")","v":" "},{"$f":"IF(B253=TRUE,Logblad!O253,\" \")","v":" "},{"$f":"IF(B253=TRUE,Logblad!M253,\" \")","v":" "}]
[{"$f":"CONCATENATE(Logblad!B254,Logblad!I254,Logblad!J254)","v":""},{"$f":"IF(Logblad!$AL254>\" \",(COUNTIF(Logblad!$AL$13:$AL254,Logblad!$AL254)>1),\" \")","v":" "},{"$f":"IF(B254=TRUE,Logblad!AL254,\" \")","v":" "},{"$f":"IF(B254=TRUE,Logblad!O254,\" \")","v":" "},{"$f":"IF(B254=TRUE,Logblad!M254,\" \")","v":" "}]
[{"$f":"CONCATENATE(Logblad!B255,Logblad!I255,Logblad!J255)","v":""},{"$f":"IF(Logblad!$AL255>\" \",(COUNTIF(Logblad!$AL$13:$AL255,Logblad!$AL255)>1),\" \")","v":" "},{"$f":"IF(B255=TRUE,Logblad!AL255,\" \")","v":" "},{"$f":"IF(B255=TRUE,Logblad!O255,\" \")","v":" "},{"$f":"IF(B255=TRUE,Logblad!M255,\" \")","v":" "}]
[{"$f":"CONCATENATE(Logblad!B256,Logblad!I256,Logblad!J256)","v":""},{"$f":"IF(Logblad!$AL256>\" \",(COUNTIF(Logblad!$AL$13:$AL256,Logblad!$AL256)>1),\" \")","v":" "},{"$f":"IF(B256=TRUE,Logblad!AL256,\" \")","v":" "},{"$f":"IF(B256=TRUE,Logblad!O256,\" \")","v":" "},{"$f":"IF(B256=TRUE,Logblad!M256,\" \")","v":" "}]
[{"$f":"CONCATENATE(Logblad!B257,Logblad!I257,Logblad!J257)","v":""},{"$f":"IF(Logblad!$AL257>\" \",(COUNTIF(Logblad!$AL$13:$AL257,Logblad!$AL257)>1),\" \")","v":" "},{"$f":"IF(B257=TRUE,Logblad!AL257,\" \")","v":" "},{"$f":"IF(B257=TRUE,Logblad!O257,\" \")","v":" "},{"$f":"IF(B257=TRUE,Logblad!M257,\" \")","v":" "}]
[{"$f":"CONCATENATE(Logblad!B258,Logblad!I258,Logblad!J258)","v":""},{"$f":"IF(Logblad!$AL258>\" \",(COUNTIF(Logblad!$AL$13:$AL258,Logblad!$AL258)>1),\" \")","v":" "},{"$f":"IF(B258=TRUE,Logblad!AL258,\" \")","v":" "},{"$f":"IF(B258=TRUE,Logblad!O258,\" \")","v":" "},{"$f":"IF(B258=TRUE,Logblad!M258,\" \")","v":" "}]
[{"$f":"CONCATENATE(Logblad!B259,Logblad!I259,Logblad!J259)","v":""},{"$f":"IF(Logblad!$AL259>\" \",(COUNTIF(Logblad!$AL$13:$AL259,Logblad!$AL259)>1),\" \")","v":" "},{"$f":"IF(B259=TRUE,Logblad!AL259,\" \")","v":" "},{"$f":"IF(B259=TRUE,Logblad!O259,\" \")","v":" "},{"$f":"IF(B259=TRUE,Logblad!M259,\" \")","v":" "}]
[{"$f":"CONCATENATE(Logblad!B260,Logblad!I260,Logblad!J260)","v":""},{"$f":"IF(Logblad!$AL260>\" \",(COUNTIF(Logblad!$AL$13:$AL260,Logblad!$AL260)>1),\" \")","v":" "},{"$f":"IF(B260=TRUE,Logblad!AL260,\" \")","v":" "},{"$f":"IF(B260=TRUE,Logblad!O260,\" \")","v":" "},{"$f":"IF(B260=TRUE,Logblad!M260,\" \")","v":" "}]
[{"$f":"CONCATENATE(Logblad!B261,Logblad!I261,Logblad!J261)","v":""},{"$f":"IF(Logblad!$AL261>\" \",(COUNTIF(Logblad!$AL$13:$AL261,Logblad!$AL261)>1),\" \")","v":" "},{"$f":"IF(B261=TRUE,Logblad!AL261,\" \")","v":" "},{"$f":"IF(B261=TRUE,Logblad!O261,\" \")","v":" "},{"$f":"IF(B261=TRUE,Logblad!M261,\" \")","v":" "}]
[{"$f":"CONCATENATE(Logblad!B262,Logblad!I262,Logblad!J262)","v":""},{"$f":"IF(Logblad!$AL262>\" \",(COUNTIF(Logblad!$AL$13:$AL262,Logblad!$AL262)>1),\" \")","v":" "},{"$f":"IF(B262=TRUE,Logblad!AL262,\" \")","v":" "},{"$f":"IF(B262=TRUE,Logblad!O262,\" \")","v":" "},{"$f":"IF(B262=TRUE,Logblad!M262,\" \")","v":" "}]
[{"$f":"CONCATENATE(Logblad!B263,Logblad!I263,Logblad!J263)","v":""},{"$f":"IF(Logblad!$AL263>\" \",(COUNTIF(Logblad!$AL$13:$AL263,Logblad!$AL263)>1),\" \")","v":" "},{"$f":"IF(B263=TRUE,Logblad!AL263,\" \")","v":" "},{"$f":"IF(B263=TRUE,Logblad!O263,\" \")","v":" "},{"$f":"IF(B263=TRUE,Logblad!M263,\" \")","v":" "}]
[{"$f":"CONCATENATE(Logblad!B264,Logblad!I264,Logblad!J264)","v":""},{"$f":"IF(Logblad!$AL264>\" \",(COUNTIF(Logblad!$AL$13:$AL264,Logblad!$AL264)>1),\" \")","v":" "},{"$f":"IF(B264=TRUE,Logblad!AL264,\" \")","v":" "},{"$f":"IF(B264=TRUE,Logblad!O264,\" \")","v":" "},{"$f":"IF(B264=TRUE,Logblad!M264,\" \")","v":" "}]
[{"$f":"CONCATENATE(Logblad!B265,Logblad!I265,Logblad!J265)","v":""},{"$f":"IF(Logblad!$AL265>\" \",(COUNTIF(Logblad!$AL$13:$AL265,Logblad!$AL265)>1),\" \")","v":" "},{"$f":"IF(B265=TRUE,Logblad!AL265,\" \")","v":" "},{"$f":"IF(B265=TRUE,Logblad!O265,\" \")","v":" "},{"$f":"IF(B265=TRUE,Logblad!M265,\" \")","v":" "}]
[{"$f":"CONCATENATE(Logblad!B266,Logblad!I266,Logblad!J266)","v":""},{"$f":"IF(Logblad!$AL266>\" \",(COUNTIF(Logblad!$AL$13:$AL266,Logblad!$AL266)>1),\" \")","v":" "},{"$f":"IF(B266=TRUE,Logblad!AL266,\" \")","v":" "},{"$f":"IF(B266=TRUE,Logblad!O266,\" \")","v":" "},{"$f":"IF(B266=TRUE,Logblad!M266,\" \")","v":" "}]
[{"$f":"CONCATENATE(Logblad!B267,Logblad!I267,Logblad!J267)","v":""},{"$f":"IF(Logblad!$AL267>\" \",(COUNTIF(Logblad!$AL$13:$AL267,Logblad!$AL267)>1),\" \")","v":" "},{"$f":"IF(B267=TRUE,Logblad!AL267,\" \")","v":" "},{"$f":"IF(B267=TRUE,Logblad!O267,\" \")","v":" "},{"$f":"IF(B267=TRUE,Logblad!M267,\" \")","v":" "}]
[{"$f":"CONCATENATE(Logblad!B268,Logblad!I268,Logblad!J268)","v":""},{"$f":"IF(Logblad!$AL268>\" \",(COUNTIF(Logblad!$AL$13:$AL268,Logblad!$AL268)>1),\" \")","v":" "},{"$f":"IF(B268=TRUE,Logblad!AL268,\" \")","v":" "},{"$f":"IF(B268=TRUE,Logblad!O268,\" \")","v":" "},{"$f":"IF(B268=TRUE,Logblad!M268,\" \")","v":" "}]
[{"$f":"CONCATENATE(Logblad!B269,Logblad!I269,Logblad!J269)","v":""},{"$f":"IF(Logblad!$AL269>\" \",(COUNTIF(Logblad!$AL$13:$AL269,Logblad!$AL269)>1),\" \")","v":" "},{"$f":"IF(B269=TRUE,Logblad!AL269,\" \")","v":" "},{"$f":"IF(B269=TRUE,Logblad!O269,\" \")","v":" "},{"$f":"IF(B269=TRUE,Logblad!M269,\" \")","v":" "}]
[{"$f":"CONCATENATE(Logblad!B270,Logblad!I270,Logblad!J270)","v":""},{"$f":"IF(Logblad!$AL270>\" \",(COUNTIF(Logblad!$AL$13:$AL270,Logblad!$AL270)>1),\" \")","v":" "},{"$f":"IF(B270=TRUE,Logblad!AL270,\" \")","v":" "},{"$f":"IF(B270=TRUE,Logblad!O270,\" \")","v":" "},{"$f":"IF(B270=TRUE,Logblad!M270,\" \")","v":" "}]
[{"$f":"CONCATENATE(Logblad!B271,Logblad!I271,Logblad!J271)","v":""},{"$f":"IF(Logblad!$AL271>\" \",(COUNTIF(Logblad!$AL$13:$AL271,Logblad!$AL271)>1),\" \")","v":" "},{"$f":"IF(B271=TRUE,Logblad!AL271,\" \")","v":" "},{"$f":"IF(B271=TRUE,Logblad!O271,\" \")","v":" "},{"$f":"IF(B271=TRUE,Logblad!M271,\" \")","v":" "}]
[{"$f":"CONCATENATE(Logblad!B272,Logblad!I272,Logblad!J272)","v":""},{"$f":"IF(Logblad!$AL272>\" \",(COUNTIF(Logblad!$AL$13:$AL272,Logblad!$AL272)>1),\" \")","v":" "},{"$f":"IF(B272=TRUE,Logblad!AL272,\" \")","v":" "},{"$f":"IF(B272=TRUE,Logblad!O272,\" \")","v":" "},{"$f":"IF(B272=TRUE,Logblad!M272,\" \")","v":" "}]
[{"$f":"CONCATENATE(Logblad!B273,Logblad!I273,Logblad!J273)","v":""},{"$f":"IF(Logblad!$AL273>\" \",(COUNTIF(Logblad!$AL$13:$AL273,Logblad!$AL273)>1),\" \")","v":" "},{"$f":"IF(B273=TRUE,Logblad!AL273,\" \")","v":" "},{"$f":"IF(B273=TRUE,Logblad!O273,\" \")","v":" "},{"$f":"IF(B273=TRUE,Logblad!M273,\" \")","v":" "}]
[{"$f":"CONCATENATE(Logblad!B274,Logblad!I274,Logblad!J274)","v":""},{"$f":"IF(Logblad!$AL274>\" \",(COUNTIF(Logblad!$AL$13:$AL274,Logblad!$AL274)>1),\" \")","v":" "},{"$f":"IF(B274=TRUE,Logblad!AL274,\" \")","v":" "},{"$f":"IF(B274=TRUE,Logblad!O274,\" \")","v":" "},{"$f":"IF(B274=TRUE,Logblad!M274,\" \")","v":" "}]
[{"$f":"CONCATENATE(Logblad!B275,Logblad!I275,Logblad!J275)","v":""},{"$f":"IF(Logblad!$AL275>\" \",(COUNTIF(Logblad!$AL$13:$AL275,Logblad!$AL275)>1),\" \")","v":" "},{"$f":"IF(B275=TRUE,Logblad!AL275,\" \")","v":" "},{"$f":"IF(B275=TRUE,Logblad!O275,\" \")","v":" "},{"$f":"IF(B275=TRUE,Logblad!M275,\" \")","v":" "}]
[{"$f":"CONCATENATE(Logblad!B276,Logblad!I276,Logblad!J276)","v":""},{"$f":"IF(Logblad!$AL276>\" \",(COUNTIF(Logblad!$AL$13:$AL276,Logblad!$AL276)>1),\" \")","v":" "},{"$f":"IF(B276=TRUE,Logblad!AL276,\" \")","v":" "},{"$f":"IF(B276=TRUE,Logblad!O276,\" \")","v":" "},{"$f":"IF(B276=TRUE,Logblad!M276,\" \")","v":" "}]
[{"$f":"CONCATENATE(Logblad!B277,Logblad!I277,Logblad!J277)","v":""},{"$f":"IF(Logblad!$AL277>\" \",(COUNTIF(Logblad!$AL$13:$AL277,Logblad!$AL277)>1),\" \")","v":" "},{"$f":"IF(B277=TRUE,Logblad!AL277,\" \")","v":" "},{"$f":"IF(B277=TRUE,Logblad!O277,\" \")","v":" "},{"$f":"IF(B277=TRUE,Logblad!M277,\" \")","v":" "}]
[{"$f":"CONCATENATE(Logblad!B278,Logblad!I278,Logblad!J278)","v":""},{"$f":"IF(Logblad!$AL278>\" \",(COUNTIF(Logblad!$AL$13:$AL278,Logblad!$AL278)>1),\" \")","v":" "},{"$f":"IF(B278=TRUE,Logblad!AL278,\" \")","v":" "},{"$f":"IF(B278=TRUE,Logblad!O278,\" \")","v":" "},{"$f":"IF(B278=TRUE,Logblad!M278,\" \")","v":" "}]
[{"$f":"CONCATENATE(Logblad!B279,Logblad!I279,Logblad!J279)","v":""},{"$f":"IF(Logblad!$AL279>\" \",(COUNTIF(Logblad!$AL$13:$AL279,Logblad!$AL279)>1),\" \")","v":" "},{"$f":"IF(B279=TRUE,Logblad!AL279,\" \")","v":" "},{"$f":"IF(B279=TRUE,Logblad!O279,\" \")","v":" "},{"$f":"IF(B279=TRUE,Logblad!M279,\" \")","v":" "}]
[{"$f":"CONCATENATE(Logblad!B280,Logblad!I280,Logblad!J280)","v":""},{"$f":"IF(Logblad!$AL280>\" \",(COUNTIF(Logblad!$AL$13:$AL280,Logblad!$AL280)>1),\" \")","v":" "},{"$f":"IF(B280=TRUE,Logblad!AL280,\" \")","v":" "},{"$f":"IF(B280=TRUE,Logblad!O280,\" \")","v":" "},{"$f":"IF(B280=TRUE,Logblad!M280,\" \")","v":" "}]
[{"$f":"CONCATENATE(Logblad!B281,Logblad!I281,Logblad!J281)","v":""},{"$f":"IF(Logblad!$AL281>\" \",(COUNTIF(Logblad!$AL$13:$AL281,Logblad!$AL281)>1),\" \")","v":" "},{"$f":"IF(B281=TRUE,Logblad!AL281,\" \")","v":" "},{"$f":"IF(B281=TRUE,Logblad!O281,\" \")","v":" "},{"$f":"IF(B281=TRUE,Logblad!M281,\" \")","v":" "}]
[{"$f":"CONCATENATE(Logblad!B282,Logblad!I282,Logblad!J282)","v":""},{"$f":"IF(Logblad!$AL282>\" \",(COUNTIF(Logblad!$AL$13:$AL282,Logblad!$AL282)>1),\" \")","v":" "},{"$f":"IF(B282=TRUE,Logblad!AL282,\" \")","v":" "},{"$f":"IF(B282=TRUE,Logblad!O282,\" \")","v":" "},{"$f":"IF(B282=TRUE,Logblad!M282,\" \")","v":" "}]
[{"$f":"CONCATENATE(Logblad!B283,Logblad!I283,Logblad!J283)","v":""},{"$f":"IF(Logblad!$AL283>\" \",(COUNTIF(Logblad!$AL$13:$AL283,Logblad!$AL283)>1),\" \")","v":" "},{"$f":"IF(B283=TRUE,Logblad!AL283,\" \")","v":" "},{"$f":"IF(B283=TRUE,Logblad!O283,\" \")","v":" "},{"$f":"IF(B283=TRUE,Logblad!M283,\" \")","v":" "}]
[{"$f":"CONCATENATE(Logblad!B284,Logblad!I284,Logblad!J284)","v":""},{"$f":"IF(Logblad!$AL284>\" \",(COUNTIF(Logblad!$AL$13:$AL284,Logblad!$AL284)>1),\" \")","v":" "},{"$f":"IF(B284=TRUE,Logblad!AL284,\" \")","v":" "},{"$f":"IF(B284=TRUE,Logblad!O284,\" \")","v":" "},{"$f":"IF(B284=TRUE,Logblad!M284,\" \")","v":" "}]
[{"$f":"CONCATENATE(Logblad!B285,Logblad!I285,Logblad!J285)","v":""},{"$f":"IF(Logblad!$AL285>\" \",(COUNTIF(Logblad!$AL$13:$AL285,Logblad!$AL285)>1),\" \")","v":" "},{"$f":"IF(B285=TRUE,Logblad!AL285,\" \")","v":" "},{"$f":"IF(B285=TRUE,Logblad!O285,\" \")","v":" "},{"$f":"IF(B285=TRUE,Logblad!M285,\" \")","v":" "}]
[{"$f":"CONCATENATE(Logblad!B286,Logblad!I286,Logblad!J286)","v":""},{"$f":"IF(Logblad!$AL286>\" \",(COUNTIF(Logblad!$AL$13:$AL286,Logblad!$AL286)>1),\" \")","v":" "},{"$f":"IF(B286=TRUE,Logblad!AL286,\" \")","v":" "},{"$f":"IF(B286=TRUE,Logblad!O286,\" \")","v":" "},{"$f":"IF(B286=TRUE,Logblad!M286,\" \")","v":" "}]
[{"$f":"CONCATENATE(Logblad!B287,Logblad!I287,Logblad!J287)","v":""},{"$f":"IF(Logblad!$AL287>\" \",(COUNTIF(Logblad!$AL$13:$AL287,Logblad!$AL287)>1),\" \")","v":" "},{"$f":"IF(B287=TRUE,Logblad!AL287,\" \")","v":" "},{"$f":"IF(B287=TRUE,Logblad!O287,\" \")","v":" "},{"$f":"IF(B287=TRUE,Logblad!M287,\" \")","v":" "}]
[{"$f":"CONCATENATE(Logblad!B288,Logblad!I288,Logblad!J288)","v":""},{"$f":"IF(Logblad!$AL288>\" \",(COUNTIF(Logblad!$AL$13:$AL288,Logblad!$AL288)>1),\" \")","v":" "},{"$f":"IF(B288=TRUE,Logblad!AL288,\" \")","v":" "},{"$f":"IF(B288=TRUE,Logblad!O288,\" \")","v":" "},{"$f":"IF(B288=TRUE,Logblad!M288,\" \")","v":" "}]
[{"$f":"CONCATENATE(Logblad!B289,Logblad!I289,Logblad!J289)","v":""},{"$f":"IF(Logblad!$AL289>\" \",(COUNTIF(Logblad!$AL$13:$AL289,Logblad!$AL289)>1),\" \")","v":" "},{"$f":"IF(B289=TRUE,Logblad!AL289,\" \")","v":" "},{"$f":"IF(B289=TRUE,Logblad!O289,\" \")","v":" "},{"$f":"IF(B289=TRUE,Logblad!M289,\" \")","v":" "}]
[{"$f":"CONCATENATE(Logblad!B290,Logblad!I290,Logblad!J290)","v":""},{"$f":"IF(Logblad!$AL290>\" \",(COUNTIF(Logblad!$AL$13:$AL290,Logblad!$AL290)>1),\" \")","v":" "},{"$f":"IF(B290=TRUE,Logblad!AL290,\" \")","v":" "},{"$f":"IF(B290=TRUE,Logblad!O290,\" \")","v":" "},{"$f":"IF(B290=TRUE,Logblad!M290,\" \")","v":" "}]
[{"$f":"CONCATENATE(Logblad!B291,Logblad!I291,Logblad!J291)","v":""},{"$f":"IF(Logblad!$AL291>\" \",(COUNTIF(Logblad!$AL$13:$AL291,Logblad!$AL291)>1),\" \")","v":" "},{"$f":"IF(B291=TRUE,Logblad!AL291,\" \")","v":" "},{"$f":"IF(B291=TRUE,Logblad!O291,\" \")","v":" "},{"$f":"IF(B291=TRUE,Logblad!M291,\" \")","v":" "}]
[{"$f":"CONCATENATE(Logblad!B292,Logblad!I292,Logblad!J292)","v":""},{"$f":"IF(Logblad!$AL292>\" \",(COUNTIF(Logblad!$AL$13:$AL292,Logblad!$AL292)>1),\" \")","v":" "},{"$f":"IF(B292=TRUE,Logblad!AL292,\" \")","v":" "},{"$f":"IF(B292=TRUE,Logblad!O292,\" \")","v":" "},{"$f":"IF(B292=TRUE,Logblad!M292,\" \")","v":" "}]
[{"$f":"CONCATENATE(Logblad!B293,Logblad!I293,Logblad!J293)","v":""},{"$f":"IF(Logblad!$AL293>\" \",(COUNTIF(Logblad!$AL$13:$AL293,Logblad!$AL293)>1),\" \")","v":" "},{"$f":"IF(B293=TRUE,Logblad!AL293,\" \")","v":" "},{"$f":"IF(B293=TRUE,Logblad!O293,\" \")","v":" "},{"$f":"IF(B293=TRUE,Logblad!M293,\" \")","v":" "}]
[{"$f":"CONCATENATE(Logblad!B294,Logblad!I294,Logblad!J294)","v":""},{"$f":"IF(Logblad!$AL294>\" \",(COUNTIF(Logblad!$AL$13:$AL294,Logblad!$AL294)>1),\" \")","v":" "},{"$f":"IF(B294=TRUE,Logblad!AL294,\" \")","v":" "},{"$f":"IF(B294=TRUE,Logblad!O294,\" \")","v":" "},{"$f":"IF(B294=TRUE,Logblad!M294,\" \")","v":" "}]
[{"$f":"CONCATENATE(Logblad!B295,Logblad!I295,Logblad!J295)","v":""},{"$f":"IF(Logblad!$AL295>\" \",(COUNTIF(Logblad!$AL$13:$AL295,Logblad!$AL295)>1),\" \")","v":" "},{"$f":"IF(B295=TRUE,Logblad!AL295,\" \")","v":" "},{"$f":"IF(B295=TRUE,Logblad!O295,\" \")","v":" "},{"$f":"IF(B295=TRUE,Logblad!M295,\" \")","v":" "}]
[{"$f":"CONCATENATE(Logblad!B296,Logblad!I296,Logblad!J296)","v":""},{"$f":"IF(Logblad!$AL296>\" \",(COUNTIF(Logblad!$AL$13:$AL296,Logblad!$AL296)>1),\" \")","v":" "},{"$f":"IF(B296=TRUE,Logblad!AL296,\" \")","v":" "},{"$f":"IF(B296=TRUE,Logblad!O296,\" \")","v":" "},{"$f":"IF(B296=TRUE,Logblad!M296,\" \")","v":" "}]
[{"$f":"CONCATENATE(Logblad!B297,Logblad!I297,Logblad!J297)","v":""},{"$f":"IF(Logblad!$AL297>\" \",(COUNTIF(Logblad!$AL$13:$AL297,Logblad!$AL297)>1),\" \")","v":" "},{"$f":"IF(B297=TRUE,Logblad!AL297,\" \")","v":" "},{"$f":"IF(B297=TRUE,Logblad!O297,\" \")","v":" "},{"$f":"IF(B297=TRUE,Logblad!M297,\" \")","v":" "}]
[{"$f":"CONCATENATE(Logblad!B298,Logblad!I298,Logblad!J298)","v":""},{"$f":"IF(Logblad!$AL298>\" \",(COUNTIF(Logblad!$AL$13:$AL298,Logblad!$AL298)>1),\" \")","v":" "},{"$f":"IF(B298=TRUE,Logblad!AL298,\" \")","v":" "},{"$f":"IF(B298=TRUE,Logblad!O298,\" \")","v":" "},{"$f":"IF(B298=TRUE,Logblad!M298,\" \")","v":" "}]
[{"$f":"CONCATENATE(Logblad!B299,Logblad!I299,Logblad!J299)","v":""},{"$f":"IF(Logblad!$AL299>\" \",(COUNTIF(Logblad!$AL$13:$AL299,Logblad!$AL299)>1),\" \")","v":" "},{"$f":"IF(B299=TRUE,Logblad!AL299,\" \")","v":" "},{"$f":"IF(B299=TRUE,Logblad!O299,\" \")","v":" "},{"$f":"IF(B299=TRUE,Logblad!M299,\" \")","v":" "}]
[{"$f":"CONCATENATE(Logblad!B300,Logblad!I300,Logblad!J300)","v":""},{"$f":"IF(Logblad!$AL300>\" \",(COUNTIF(Logblad!$AL$13:$AL300,Logblad!$AL300)>1),\" \")","v":" "},{"$f":"IF(B300=TRUE,Logblad!AL300,\" \")","v":" "},{"$f":"IF(B300=TRUE,Logblad!O300,\" \")","v":" "},{"$f":"IF(B300=TRUE,Logblad!M300,\" \")","v":" "}]
[{"$f":"CONCATENATE(Logblad!B301,Logblad!I301,Logblad!J301)","v":""},{"$f":"IF(Logblad!$AL301>\" \",(COUNTIF(Logblad!$AL$13:$AL301,Logblad!$AL301)>1),\" \")","v":" "},{"$f":"IF(B301=TRUE,Logblad!AL301,\" \")","v":" "},{"$f":"IF(B301=TRUE,Logblad!O301,\" \")","v":" "},{"$f":"IF(B301=TRUE,Logblad!M301,\" \")","v":" "}]
[{"$f":"CONCATENATE(Logblad!B302,Logblad!I302,Logblad!J302)","v":""},{"$f":"IF(Logblad!$AL302>\" \",(COUNTIF(Logblad!$AL$13:$AL302,Logblad!$AL302)>1),\" \")","v":" "},{"$f":"IF(B302=TRUE,Logblad!AL302,\" \")","v":" "},{"$f":"IF(B302=TRUE,Logblad!O302,\" \")","v":" "},{"$f":"IF(B302=TRUE,Logblad!M302,\" \")","v":" "}]
[{"$f":"CONCATENATE(Logblad!B303,Logblad!I303,Logblad!J303)","v":""},{"$f":"IF(Logblad!$AL303>\" \",(COUNTIF(Logblad!$AL$13:$AL303,Logblad!$AL303)>1),\" \")","v":" "},{"$f":"IF(B303=TRUE,Logblad!AL303,\" \")","v":" "},{"$f":"IF(B303=TRUE,Logblad!O303,\" \")","v":" "},{"$f":"IF(B303=TRUE,Logblad!M303,\" \")","v":" "}]
[{"$f":"CONCATENATE(Logblad!B304,Logblad!I304,Logblad!J304)","v":""},{"$f":"IF(Logblad!$AL304>\" \",(COUNTIF(Logblad!$AL$13:$AL304,Logblad!$AL304)>1),\" \")","v":" "},{"$f":"IF(B304=TRUE,Logblad!AL304,\" \")","v":" "},{"$f":"IF(B304=TRUE,Logblad!O304,\" \")","v":" "},{"$f":"IF(B304=TRUE,Logblad!M304,\" \")","v":" "}]
[{"$f":"CONCATENATE(Logblad!B305,Logblad!I305,Logblad!J305)","v":""},{"$f":"IF(Logblad!$AL305>\" \",(COUNTIF(Logblad!$AL$13:$AL305,Logblad!$AL305)>1),\" \")","v":" "},{"$f":"IF(B305=TRUE,Logblad!AL305,\" \")","v":" "},{"$f":"IF(B305=TRUE,Logblad!O305,\" \")","v":" "},{"$f":"IF(B305=TRUE,Logblad!M305,\" \")","v":" "}]
[{"$f":"CONCATENATE(Logblad!B306,Logblad!I306,Logblad!J306)","v":""},{"$f":"IF(Logblad!$AL306>\" \",(COUNTIF(Logblad!$AL$13:$AL306,Logblad!$AL306)>1),\" \")","v":" "},{"$f":"IF(B306=TRUE,Logblad!AL306,\" \")","v":" "},{"$f":"IF(B306=TRUE,Logblad!O306,\" \")","v":" "},{"$f":"IF(B306=TRUE,Logblad!M306,\" \")","v":" "}]
[{"$f":"CONCATENATE(Logblad!B307,Logblad!I307,Logblad!J307)","v":""},{"$f":"IF(Logblad!$AL307>\" \",(COUNTIF(Logblad!$AL$13:$AL307,Logblad!$AL307)>1),\" \")","v":" "},{"$f":"IF(B307=TRUE,Logblad!AL307,\" \")","v":" "},{"$f":"IF(B307=TRUE,Logblad!O307,\" \")","v":" "},{"$f":"IF(B307=TRUE,Logblad!M307,\" \")","v":" "}]
[{"$f":"CONCATENATE(Logblad!B308,Logblad!I308,Logblad!J308)","v":""},{"$f":"IF(Logblad!$AL308>\" \",(COUNTIF(Logblad!$AL$13:$AL308,Logblad!$AL308)>1),\" \")","v":" "},{"$f":"IF(B308=TRUE,Logblad!AL308,\" \")","v":" "},{"$f":"IF(B308=TRUE,Logblad!O308,\" \")","v":" "},{"$f":"IF(B308=TRUE,Logblad!M308,\" \")","v":" "}]
[{"$f":"CONCATENATE(Logblad!B309,Logblad!I309,Logblad!J309)","v":""},{"$f":"IF(Logblad!$AL309>\" \",(COUNTIF(Logblad!$AL$13:$AL309,Logblad!$AL309)>1),\" \")","v":" "},{"$f":"IF(B309=TRUE,Logblad!AL309,\" \")","v":" "},{"$f":"IF(B309=TRUE,Logblad!O309,\" \")","v":" "},{"$f":"IF(B309=TRUE,Logblad!M309,\" \")","v":" "}]
[{"$f":"CONCATENATE(Logblad!B310,Logblad!I310,Logblad!J310)","v":""},{"$f":"IF(Logblad!$AL310>\" \",(COUNTIF(Logblad!$AL$13:$AL310,Logblad!$AL310)>1),\" \")","v":" "},{"$f":"IF(B310=TRUE,Logblad!AL310,\" \")","v":" "},{"$f":"IF(B310=TRUE,Logblad!O310,\" \")","v":" "},{"$f":"IF(B310=TRUE,Logblad!M310,\" \")","v":" "}]
[{"$f":"CONCATENATE(Logblad!B311,Logblad!I311,Logblad!J311)","v":""},{"$f":"IF(Logblad!$AL311>\" \",(COUNTIF(Logblad!$AL$13:$AL311,Logblad!$AL311)>1),\" \")","v":" "},{"$f":"IF(B311=TRUE,Logblad!AL311,\" \")","v":" "},{"$f":"IF(B311=TRUE,Logblad!O311,\" \")","v":" "},{"$f":"IF(B311=TRUE,Logblad!M311,\" \")","v":" "}]
[{"$f":"CONCATENATE(Logblad!B312,Logblad!I312,Logblad!J312)","v":""},{"$f":"IF(Logblad!$AL312>\" \",(COUNTIF(Logblad!$AL$13:$AL312,Logblad!$AL312)>1),\" \")","v":" "},{"$f":"IF(B312=TRUE,Logblad!AL312,\" \")","v":" "},{"$f":"IF(B312=TRUE,Logblad!O312,\" \")","v":" "},{"$f":"IF(B312=TRUE,Logblad!M312,\" \")","v":" "}]
[{"$f":"CONCATENATE(Logblad!B313,Logblad!I313,Logblad!J313)","v":""},{"$f":"IF(Logblad!$AL313>\" \",(COUNTIF(Logblad!$AL$13:$AL313,Logblad!$AL313)>1),\" \")","v":" "},{"$f":"IF(B313=TRUE,Logblad!AL313,\" \")","v":" "},{"$f":"IF(B313=TRUE,Logblad!O313,\" \")","v":" "},{"$f":"IF(B313=TRUE,Logblad!M313,\" \")","v":" "}]
[{"$f":"CONCATENATE(Logblad!B314,Logblad!I314,Logblad!J314)","v":""},{"$f":"IF(Logblad!$AL314>\" \",(COUNTIF(Logblad!$AL$13:$AL314,Logblad!$AL314)>1),\" \")","v":" "},{"$f":"IF(B314=TRUE,Logblad!AL314,\" \")","v":" "},{"$f":"IF(B314=TRUE,Logblad!O314,\" \")","v":" "},{"$f":"IF(B314=TRUE,Logblad!M314,\" \")","v":" "}]
[{"$f":"CONCATENATE(Logblad!B315,Logblad!I315,Logblad!J315)","v":""},{"$f":"IF(Logblad!$AL315>\" \",(COUNTIF(Logblad!$AL$13:$AL315,Logblad!$AL315)>1),\" \")","v":" "},{"$f":"IF(B315=TRUE,Logblad!AL315,\" \")","v":" "},{"$f":"IF(B315=TRUE,Logblad!O315,\" \")","v":" "},{"$f":"IF(B315=TRUE,Logblad!M315,\" \")","v":" "}]
[{"$f":"CONCATENATE(Logblad!B316,Logblad!I316,Logblad!J316)","v":""},{"$f":"IF(Logblad!$AL316>\" \",(COUNTIF(Logblad!$AL$13:$AL316,Logblad!$AL316)>1),\" \")","v":" "},{"$f":"IF(B316=TRUE,Logblad!AL316,\" \")","v":" "},{"$f":"IF(B316=TRUE,Logblad!O316,\" \")","v":" "},{"$f":"IF(B316=TRUE,Logblad!M316,\" \")","v":" "}]
[{"$f":"CONCATENATE(Logblad!B317,Logblad!I317,Logblad!J317)","v":""},{"$f":"IF(Logblad!$AL317>\" \",(COUNTIF(Logblad!$AL$13:$AL317,Logblad!$AL317)>1),\" \")","v":" "},{"$f":"IF(B317=TRUE,Logblad!AL317,\" \")","v":" "},{"$f":"IF(B317=TRUE,Logblad!O317,\" \")","v":" "},{"$f":"IF(B317=TRUE,Logblad!M317,\" \")","v":" "}]
[{"$f":"CONCATENATE(Logblad!B318,Logblad!I318,Logblad!J318)","v":""},{"$f":"IF(Logblad!$AL318>\" \",(COUNTIF(Logblad!$AL$13:$AL318,Logblad!$AL318)>1),\" \")","v":" "},{"$f":"IF(B318=TRUE,Logblad!AL318,\" \")","v":" "},{"$f":"IF(B318=TRUE,Logblad!O318,\" \")","v":" "},{"$f":"IF(B318=TRUE,Logblad!M318,\" \")","v":" "}]
[{"$f":"CONCATENATE(Logblad!B319,Logblad!I319,Logblad!J319)","v":""},{"$f":"IF(Logblad!$AL319>\" \",(COUNTIF(Logblad!$AL$13:$AL319,Logblad!$AL319)>1),\" \")","v":" "},{"$f":"IF(B319=TRUE,Logblad!AL319,\" \")","v":" "},{"$f":"IF(B319=TRUE,Logblad!O319,\" \")","v":" "},{"$f":"IF(B319=TRUE,Logblad!M319,\" \")","v":" "}]
[{"$f":"CONCATENATE(Logblad!B320,Logblad!I320,Logblad!J320)","v":""},{"$f":"IF(Logblad!$AL320>\" \",(COUNTIF(Logblad!$AL$13:$AL320,Logblad!$AL320)>1),\" \")","v":" "},{"$f":"IF(B320=TRUE,Logblad!AL320,\" \")","v":" "},{"$f":"IF(B320=TRUE,Logblad!O320,\" \")","v":" "},{"$f":"IF(B320=TRUE,Logblad!M320,\" \")","v":" "}]
[{"$f":"CONCATENATE(Logblad!B321,Logblad!I321,Logblad!J321)","v":""},{"$f":"IF(Logblad!$AL321>\" \",(COUNTIF(Logblad!$AL$13:$AL321,Logblad!$AL321)>1),\" \")","v":" "},{"$f":"IF(B321=TRUE,Logblad!AL321,\" \")","v":" "},{"$f":"IF(B321=TRUE,Logblad!O321,\" \")","v":" "},{"$f":"IF(B321=TRUE,Logblad!M321,\" \")","v":" "}]
[{"$f":"CONCATENATE(Logblad!B322,Logblad!I322,Logblad!J322)","v":""},{"$f":"IF(Logblad!$AL322>\" \",(COUNTIF(Logblad!$AL$13:$AL322,Logblad!$AL322)>1),\" \")","v":" "},{"$f":"IF(B322=TRUE,Logblad!AL322,\" \")","v":" "},{"$f":"IF(B322=TRUE,Logblad!O322,\" \")","v":" "},{"$f":"IF(B322=TRUE,Logblad!M322,\" \")","v":" "}]
[{"$f":"CONCATENATE(Logblad!B323,Logblad!I323,Logblad!J323)","v":""},{"$f":"IF(Logblad!$AL323>\" \",(COUNTIF(Logblad!$AL$13:$AL323,Logblad!$AL323)>1),\" \")","v":" "},{"$f":"IF(B323=TRUE,Logblad!AL323,\" \")","v":" "},{"$f":"IF(B323=TRUE,Logblad!O323,\" \")","v":" "},{"$f":"IF(B323=TRUE,Logblad!M323,\" \")","v":" "}]
[{"$f":"CONCATENATE(Logblad!B324,Logblad!I324,Logblad!J324)","v":""},{"$f":"IF(Logblad!$AL324>\" \",(COUNTIF(Logblad!$AL$13:$AL324,Logblad!$AL324)>1),\" \")","v":" "},{"$f":"IF(B324=TRUE,Logblad!AL324,\" \")","v":" "},{"$f":"IF(B324=TRUE,Logblad!O324,\" \")","v":" "},{"$f":"IF(B324=TRUE,Logblad!M324,\" \")","v":" "}]
[{"$f":"CONCATENATE(Logblad!B325,Logblad!I325,Logblad!J325)","v":""},{"$f":"IF(Logblad!$AL325>\" \",(COUNTIF(Logblad!$AL$13:$AL325,Logblad!$AL325)>1),\" \")","v":" "},{"$f":"IF(B325=TRUE,Logblad!AL325,\" \")","v":" "},{"$f":"IF(B325=TRUE,Logblad!O325,\" \")","v":" "},{"$f":"IF(B325=TRUE,Logblad!M325,\" \")","v":" "}]
[{"$f":"CONCATENATE(Logblad!B326,Logblad!I326,Logblad!J326)","v":""},{"$f":"IF(Logblad!$AL326>\" \",(COUNTIF(Logblad!$AL$13:$AL326,Logblad!$AL326)>1),\" \")","v":" "},{"$f":"IF(B326=TRUE,Logblad!AL326,\" \")","v":" "},{"$f":"IF(B326=TRUE,Logblad!O326,\" \")","v":" "},{"$f":"IF(B326=TRUE,Logblad!M326,\" \")","v":" "}]
[{"$f":"CONCATENATE(Logblad!B327,Logblad!I327,Logblad!J327)","v":""},{"$f":"IF(Logblad!$AL327>\" \",(COUNTIF(Logblad!$AL$13:$AL327,Logblad!$AL327)>1),\" \")","v":" "},{"$f":"IF(B327=TRUE,Logblad!AL327,\" \")","v":" "},{"$f":"IF(B327=TRUE,Logblad!O327,\" \")","v":" "},{"$f":"IF(B327=TRUE,Logblad!M327,\" \")","v":" "}]
[{"$f":"CONCATENATE(Logblad!B328,Logblad!I328,Logblad!J328)","v":""},{"$f":"IF(Logblad!$AL328>\" \",(COUNTIF(Logblad!$AL$13:$AL328,Logblad!$AL328)>1),\" \")","v":" "},{"$f":"IF(B328=TRUE,Logblad!AL328,\" \")","v":" "},{"$f":"IF(B328=TRUE,Logblad!O328,\" \")","v":" "},{"$f":"IF(B328=TRUE,Logblad!M328,\" \")","v":" "}]
[{"$f":"CONCATENATE(Logblad!B329,Logblad!I329,Logblad!J329)","v":""},{"$f":"IF(Logblad!$AL329>\" \",(COUNTIF(Logblad!$AL$13:$AL329,Logblad!$AL329)>1),\" \")","v":" "},{"$f":"IF(B329=TRUE,Logblad!AL329,\" \")","v":" "},{"$f":"IF(B329=TRUE,Logblad!O329,\" \")","v":" "},{"$f":"IF(B329=TRUE,Logblad!M329,\" \")","v":" "}]
[{"$f":"CONCATENATE(Logblad!B330,Logblad!I330,Logblad!J330)","v":""},{"$f":"IF(Logblad!$AL330>\" \",(COUNTIF(Logblad!$AL$13:$AL330,Logblad!$AL330)>1),\" \")","v":" "},{"$f":"IF(B330=TRUE,Logblad!AL330,\" \")","v":" "},{"$f":"IF(B330=TRUE,Logblad!O330,\" \")","v":" "},{"$f":"IF(B330=TRUE,Logblad!M330,\" \")","v":" "}]
[{"$f":"CONCATENATE(Logblad!B331,Logblad!I331,Logblad!J331)","v":""},{"$f":"IF(Logblad!$AL331>\" \",(COUNTIF(Logblad!$AL$13:$AL331,Logblad!$AL331)>1),\" \")","v":" "},{"$f":"IF(B331=TRUE,Logblad!AL331,\" \")","v":" "},{"$f":"IF(B331=TRUE,Logblad!O331,\" \")","v":" "},{"$f":"IF(B331=TRUE,Logblad!M331,\" \")","v":" "}]
[{"$f":"CONCATENATE(Logblad!B332,Logblad!I332,Logblad!J332)","v":""},{"$f":"IF(Logblad!$AL332>\" \",(COUNTIF(Logblad!$AL$13:$AL332,Logblad!$AL332)>1),\" \")","v":" "},{"$f":"IF(B332=TRUE,Logblad!AL332,\" \")","v":" "},{"$f":"IF(B332=TRUE,Logblad!O332,\" \")","v":" "},{"$f":"IF(B332=TRUE,Logblad!M332,\" \")","v":" "}]
[{"$f":"CONCATENATE(Logblad!B333,Logblad!I333,Logblad!J333)","v":""},{"$f":"IF(Logblad!$AL333>\" \",(COUNTIF(Logblad!$AL$13:$AL333,Logblad!$AL333)>1),\" \")","v":" "},{"$f":"IF(B333=TRUE,Logblad!AL333,\" \")","v":" "},{"$f":"IF(B333=TRUE,Logblad!O333,\" \")","v":" "},{"$f":"IF(B333=TRUE,Logblad!M333,\" \")","v":" "}]
[{"$f":"CONCATENATE(Logblad!B334,Logblad!I334,Logblad!J334)","v":""},{"$f":"IF(Logblad!$AL334>\" \",(COUNTIF(Logblad!$AL$13:$AL334,Logblad!$AL334)>1),\" \")","v":" "},{"$f":"IF(B334=TRUE,Logblad!AL334,\" \")","v":" "},{"$f":"IF(B334=TRUE,Logblad!O334,\" \")","v":" "},{"$f":"IF(B334=TRUE,Logblad!M334,\" \")","v":" "}]
[{"$f":"CONCATENATE(Logblad!B335,Logblad!I335,Logblad!J335)","v":""},{"$f":"IF(Logblad!$AL335>\" \",(COUNTIF(Logblad!$AL$13:$AL335,Logblad!$AL335)>1),\" \")","v":" "},{"$f":"IF(B335=TRUE,Logblad!AL335,\" \")","v":" "},{"$f":"IF(B335=TRUE,Logblad!O335,\" \")","v":" "},{"$f":"IF(B335=TRUE,Logblad!M335,\" \")","v":" "}]
[{"$f":"CONCATENATE(Logblad!B336,Logblad!I336,Logblad!J336)","v":""},{"$f":"IF(Logblad!$AL336>\" \",(COUNTIF(Logblad!$AL$13:$AL336,Logblad!$AL336)>1),\" \")","v":" "},{"$f":"IF(B336=TRUE,Logblad!AL336,\" \")","v":" "},{"$f":"IF(B336=TRUE,Logblad!O336,\" \")","v":" "},{"$f":"IF(B336=TRUE,Logblad!M336,\" \")","v":" "}]
[{"$f":"CONCATENATE(Logblad!B337,Logblad!I337,Logblad!J337)","v":""},{"$f":"IF(Logblad!$AL337>\" \",(COUNTIF(Logblad!$AL$13:$AL337,Logblad!$AL337)>1),\" \")","v":" "},{"$f":"IF(B337=TRUE,Logblad!AL337,\" \")","v":" "},{"$f":"IF(B337=TRUE,Logblad!O337,\" \")","v":" "},{"$f":"IF(B337=TRUE,Logblad!M337,\" \")","v":" "}]
[{"$f":"CONCATENATE(Logblad!B338,Logblad!I338,Logblad!J338)","v":""},{"$f":"IF(Logblad!$AL338>\" \",(COUNTIF(Logblad!$AL$13:$AL338,Logblad!$AL338)>1),\" \")","v":" "},{"$f":"IF(B338=TRUE,Logblad!AL338,\" \")","v":" "},{"$f":"IF(B338=TRUE,Logblad!O338,\" \")","v":" "},{"$f":"IF(B338=TRUE,Logblad!M338,\" \")","v":" "}]
[{"$f":"CONCATENATE(Logblad!B339,Logblad!I339,Logblad!J339)","v":""},{"$f":"IF(Logblad!$AL339>\" \",(COUNTIF(Logblad!$AL$13:$AL339,Logblad!$AL339)>1),\" \")","v":" "},{"$f":"IF(B339=TRUE,Logblad!AL339,\" \")","v":" "},{"$f":"IF(B339=TRUE,Logblad!O339,\" \")","v":" "},{"$f":"IF(B339=TRUE,Logblad!M339,\" \")","v":" "}]
[{"$f":"CONCATENATE(Logblad!B340,Logblad!I340,Logblad!J340)","v":""},{"$f":"IF(Logblad!$AL340>\" \",(COUNTIF(Logblad!$AL$13:$AL340,Logblad!$AL340)>1),\" \")","v":" "},{"$f":"IF(B340=TRUE,Logblad!AL340,\" \")","v":" "},{"$f":"IF(B340=TRUE,Logblad!O340,\" \")","v":" "},{"$f":"IF(B340=TRUE,Logblad!M340,\" \")","v":" "}]
[{"$f":"CONCATENATE(Logblad!B341,Logblad!I341,Logblad!J341)","v":""},{"$f":"IF(Logblad!$AL341>\" \",(COUNTIF(Logblad!$AL$13:$AL341,Logblad!$AL341)>1),\" \")","v":" "},{"$f":"IF(B341=TRUE,Logblad!AL341,\" \")","v":" "},{"$f":"IF(B341=TRUE,Logblad!O341,\" \")","v":" "},{"$f":"IF(B341=TRUE,Logblad!M341,\" \")","v":" "}]
[{"$f":"CONCATENATE(Logblad!B342,Logblad!I342,Logblad!J342)","v":""},{"$f":"IF(Logblad!$AL342>\" \",(COUNTIF(Logblad!$AL$13:$AL342,Logblad!$AL342)>1),\" \")","v":" "},{"$f":"IF(B342=TRUE,Logblad!AL342,\" \")","v":" "},{"$f":"IF(B342=TRUE,Logblad!O342,\" \")","v":" "},{"$f":"IF(B342=TRUE,Logblad!M342,\" \")","v":" "}]
[{"$f":"CONCATENATE(Logblad!B343,Logblad!I343,Logblad!J343)","v":""},{"$f":"IF(Logblad!$AL343>\" \",(COUNTIF(Logblad!$AL$13:$AL343,Logblad!$AL343)>1),\" \")","v":" "},{"$f":"IF(B343=TRUE,Logblad!AL343,\" \")","v":" "},{"$f":"IF(B343=TRUE,Logblad!O343,\" \")","v":" "},{"$f":"IF(B343=TRUE,Logblad!M343,\" \")","v":" "}]
[{"$f":"CONCATENATE(Logblad!B344,Logblad!I344,Logblad!J344)","v":""},{"$f":"IF(Logblad!$AL344>\" \",(COUNTIF(Logblad!$AL$13:$AL344,Logblad!$AL344)>1),\" \")","v":" "},{"$f":"IF(B344=TRUE,Logblad!AL344,\" \")","v":" "},{"$f":"IF(B344=TRUE,Logblad!O344,\" \")","v":" "},{"$f":"IF(B344=TRUE,Logblad!M344,\" \")","v":" "}]
[{"$f":"CONCATENATE(Logblad!B345,Logblad!I345,Logblad!J345)","v":""},{"$f":"IF(Logblad!$AL345>\" \",(COUNTIF(Logblad!$AL$13:$AL345,Logblad!$AL345)>1),\" \")","v":" "},{"$f":"IF(B345=TRUE,Logblad!AL345,\" \")","v":" "},{"$f":"IF(B345=TRUE,Logblad!O345,\" \")","v":" "},{"$f":"IF(B345=TRUE,Logblad!M345,\" \")","v":" "}]
[{"$f":"CONCATENATE(Logblad!B346,Logblad!I346,Logblad!J346)","v":""},{"$f":"IF(Logblad!$AL346>\" \",(COUNTIF(Logblad!$AL$13:$AL346,Logblad!$AL346)>1),\" \")","v":" "},{"$f":"IF(B346=TRUE,Logblad!AL346,\" \")","v":" "},{"$f":"IF(B346=TRUE,Logblad!O346,\" \")","v":" "},{"$f":"IF(B346=TRUE,Logblad!M346,\" \")","v":" "}]
[{"$f":"CONCATENATE(Logblad!B347,Logblad!I347,Logblad!J347)","v":""},{"$f":"IF(Logblad!$AL347>\" \",(COUNTIF(Logblad!$AL$13:$AL347,Logblad!$AL347)>1),\" \")","v":" "},{"$f":"IF(B347=TRUE,Logblad!AL347,\" \")","v":" "},{"$f":"IF(B347=TRUE,Logblad!O347,\" \")","v":" "},{"$f":"IF(B347=TRUE,Logblad!M347,\" \")","v":" "}]
[{"$f":"CONCATENATE(Logblad!B348,Logblad!I348,Logblad!J348)","v":""},{"$f":"IF(Logblad!$AL348>\" \",(COUNTIF(Logblad!$AL$13:$AL348,Logblad!$AL348)>1),\" \")","v":" "},{"$f":"IF(B348=TRUE,Logblad!AL348,\" \")","v":" "},{"$f":"IF(B348=TRUE,Logblad!O348,\" \")","v":" "},{"$f":"IF(B348=TRUE,Logblad!M348,\" \")","v":" "}]
[{"$f":"CONCATENATE(Logblad!B349,Logblad!I349,Logblad!J349)","v":""},{"$f":"IF(Logblad!$AL349>\" \",(COUNTIF(Logblad!$AL$13:$AL349,Logblad!$AL349)>1),\" \")","v":" "},{"$f":"IF(B349=TRUE,Logblad!AL349,\" \")","v":" "},{"$f":"IF(B349=TRUE,Logblad!O349,\" \")","v":" "},{"$f":"IF(B349=TRUE,Logblad!M349,\" \")","v":" "}]
[{"$f":"CONCATENATE(Logblad!B350,Logblad!I350,Logblad!J350)","v":""},{"$f":"IF(Logblad!$AL350>\" \",(COUNTIF(Logblad!$AL$13:$AL350,Logblad!$AL350)>1),\" \")","v":" "},{"$f":"IF(B350=TRUE,Logblad!AL350,\" \")","v":" "},{"$f":"IF(B350=TRUE,Logblad!O350,\" \")","v":" "},{"$f":"IF(B350=TRUE,Logblad!M350,\" \")","v":" "}]
[{"$f":"CONCATENATE(Logblad!B351,Logblad!I351,Logblad!J351)","v":""},{"$f":"IF(Logblad!$AL351>\" \",(COUNTIF(Logblad!$AL$13:$AL351,Logblad!$AL351)>1),\" \")","v":" "},{"$f":"IF(B351=TRUE,Logblad!AL351,\" \")","v":" "},{"$f":"IF(B351=TRUE,Logblad!O351,\" \")","v":" "},{"$f":"IF(B351=TRUE,Logblad!M351,\" \")","v":" "}]
[{"$f":"CONCATENATE(Logblad!B352,Logblad!I352,Logblad!J352)","v":""},{"$f":"IF(Logblad!$AL352>\" \",(COUNTIF(Logblad!$AL$13:$AL352,Logblad!$AL352)>1),\" \")","v":" "},{"$f":"IF(B352=TRUE,Logblad!AL352,\" \")","v":" "},{"$f":"IF(B352=TRUE,Logblad!O352,\" \")","v":" "},{"$f":"IF(B352=TRUE,Logblad!M352,\" \")","v":" "}]
[{"$f":"CONCATENATE(Logblad!B353,Logblad!I353,Logblad!J353)","v":""},{"$f":"IF(Logblad!$AL353>\" \",(COUNTIF(Logblad!$AL$13:$AL353,Logblad!$AL353)>1),\" \")","v":" "},{"$f":"IF(B353=TRUE,Logblad!AL353,\" \")","v":" "},{"$f":"IF(B353=TRUE,Logblad!O353,\" \")","v":" "},{"$f":"IF(B353=TRUE,Logblad!M353,\" \")","v":" "}]
[{"$f":"CONCATENATE(Logblad!B354,Logblad!I354,Logblad!J354)","v":""},{"$f":"IF(Logblad!$AL354>\" \",(COUNTIF(Logblad!$AL$13:$AL354,Logblad!$AL354)>1),\" \")","v":" "},{"$f":"IF(B354=TRUE,Logblad!AL354,\" \")","v":" "},{"$f":"IF(B354=TRUE,Logblad!O354,\" \")","v":" "},{"$f":"IF(B354=TRUE,Logblad!M354,\" \")","v":" "}]
[{"$f":"CONCATENATE(Logblad!B355,Logblad!I355,Logblad!J355)","v":""},{"$f":"IF(Logblad!$AL355>\" \",(COUNTIF(Logblad!$AL$13:$AL355,Logblad!$AL355)>1),\" \")","v":" "},{"$f":"IF(B355=TRUE,Logblad!AL355,\" \")","v":" "},{"$f":"IF(B355=TRUE,Logblad!O355,\" \")","v":" "},{"$f":"IF(B355=TRUE,Logblad!M355,\" \")","v":" "}]
[{"$f":"CONCATENATE(Logblad!B356,Logblad!I356,Logblad!J356)","v":""},{"$f":"IF(Logblad!$AL356>\" \",(COUNTIF(Logblad!$AL$13:$AL356,Logblad!$AL356)>1),\" \")","v":" "},{"$f":"IF(B356=TRUE,Logblad!AL356,\" \")","v":" "},{"$f":"IF(B356=TRUE,Logblad!O356,\" \")","v":" "},{"$f":"IF(B356=TRUE,Logblad!M356,\" \")","v":" "}]
[{"$f":"CONCATENATE(Logblad!B357,Logblad!I357,Logblad!J357)","v":""},{"$f":"IF(Logblad!$AL357>\" \",(COUNTIF(Logblad!$AL$13:$AL357,Logblad!$AL357)>1),\" \")","v":" "},{"$f":"IF(B357=TRUE,Logblad!AL357,\" \")","v":" "},{"$f":"IF(B357=TRUE,Logblad!O357,\" \")","v":" "},{"$f":"IF(B357=TRUE,Logblad!M357,\" \")","v":" "}]
[{"$f":"CONCATENATE(Logblad!B358,Logblad!I358,Logblad!J358)","v":""},{"$f":"IF(Logblad!$AL358>\" \",(COUNTIF(Logblad!$AL$13:$AL358,Logblad!$AL358)>1),\" \")","v":" "},{"$f":"IF(B358=TRUE,Logblad!AL358,\" \")","v":" "},{"$f":"IF(B358=TRUE,Logblad!O358,\" \")","v":" "},{"$f":"IF(B358=TRUE,Logblad!M358,\" \")","v":" "}]
[{"$f":"CONCATENATE(Logblad!B359,Logblad!I359,Logblad!J359)","v":""},{"$f":"IF(Logblad!$AL359>\" \",(COUNTIF(Logblad!$AL$13:$AL359,Logblad!$AL359)>1),\" \")","v":" "},{"$f":"IF(B359=TRUE,Logblad!AL359,\" \")","v":" "},{"$f":"IF(B359=TRUE,Logblad!O359,\" \")","v":" "},{"$f":"IF(B359=TRUE,Logblad!M359,\" \")","v":" "}]
[{"$f":"CONCATENATE(Logblad!B360,Logblad!I360,Logblad!J360)","v":""},{"$f":"IF(Logblad!$AL360>\" \",(COUNTIF(Logblad!$AL$13:$AL360,Logblad!$AL360)>1),\" \")","v":" "},{"$f":"IF(B360=TRUE,Logblad!AL360,\" \")","v":" "},{"$f":"IF(B360=TRUE,Logblad!O360,\" \")","v":" "},{"$f":"IF(B360=TRUE,Logblad!M360,\" \")","v":" "}]
[{"$f":"CONCATENATE(Logblad!B361,Logblad!I361,Logblad!J361)","v":""},{"$f":"IF(Logblad!$AL361>\" \",(COUNTIF(Logblad!$AL$13:$AL361,Logblad!$AL361)>1),\" \")","v":" "},{"$f":"IF(B361=TRUE,Logblad!AL361,\" \")","v":" "},{"$f":"IF(B361=TRUE,Logblad!O361,\" \")","v":" "},{"$f":"IF(B361=TRUE,Logblad!M361,\" \")","v":" "}]
[{"$f":"CONCATENATE(Logblad!B362,Logblad!I362,Logblad!J362)","v":""},{"$f":"IF(Logblad!$AL362>\" \",(COUNTIF(Logblad!$AL$13:$AL362,Logblad!$AL362)>1),\" \")","v":" "},{"$f":"IF(B362=TRUE,Logblad!AL362,\" \")","v":" "},{"$f":"IF(B362=TRUE,Logblad!O362,\" \")","v":" "},{"$f":"IF(B362=TRUE,Logblad!M362,\" \")","v":" "}]
[{"$f":"CONCATENATE(Logblad!B363,Logblad!I363,Logblad!J363)","v":""},{"$f":"IF(Logblad!$AL363>\" \",(COUNTIF(Logblad!$AL$13:$AL363,Logblad!$AL363)>1),\" \")","v":" "},{"$f":"IF(B363=TRUE,Logblad!AL363,\" \")","v":" "},{"$f":"IF(B363=TRUE,Logblad!O363,\" \")","v":" "},{"$f":"IF(B363=TRUE,Logblad!M363,\" \")","v":" "}]
[{"$f":"CONCATENATE(Logblad!B364,Logblad!I364,Logblad!J364)","v":""},{"$f":"IF(Logblad!$AL364>\" \",(COUNTIF(Logblad!$AL$13:$AL364,Logblad!$AL364)>1),\" \")","v":" "},{"$f":"IF(B364=TRUE,Logblad!AL364,\" \")","v":" "},{"$f":"IF(B364=TRUE,Logblad!O364,\" \")","v":" "},{"$f":"IF(B364=TRUE,Logblad!M364,\" \")","v":" "}]
[{"$f":"CONCATENATE(Logblad!B365,Logblad!I365,Logblad!J365)","v":""},{"$f":"IF(Logblad!$AL365>\" \",(COUNTIF(Logblad!$AL$13:$AL365,Logblad!$AL365)>1),\" \")","v":" "},{"$f":"IF(B365=TRUE,Logblad!AL365,\" \")","v":" "},{"$f":"IF(B365=TRUE,Logblad!O365,\" \")","v":" "},{"$f":"IF(B365=TRUE,Logblad!M365,\" \")","v":" "}]
[{"$f":"CONCATENATE(Logblad!B366,Logblad!I366,Logblad!J366)","v":""},{"$f":"IF(Logblad!$AL366>\" \",(COUNTIF(Logblad!$AL$13:$AL366,Logblad!$AL366)>1),\" \")","v":" "},{"$f":"IF(B366=TRUE,Logblad!AL366,\" \")","v":" "},{"$f":"IF(B366=TRUE,Logblad!O366,\" \")","v":" "},{"$f":"IF(B366=TRUE,Logblad!M366,\" \")","v":" "}]
[{"$f":"CONCATENATE(Logblad!B367,Logblad!I367,Logblad!J367)","v":""},{"$f":"IF(Logblad!$AL367>\" \",(COUNTIF(Logblad!$AL$13:$AL367,Logblad!$AL367)>1),\" \")","v":" "},{"$f":"IF(B367=TRUE,Logblad!AL367,\" \")","v":" "},{"$f":"IF(B367=TRUE,Logblad!O367,\" \")","v":" "},{"$f":"IF(B367=TRUE,Logblad!M367,\" \")","v":" "}]
[{"$f":"CONCATENATE(Logblad!B368,Logblad!I368,Logblad!J368)","v":""},{"$f":"IF(Logblad!$AL368>\" \",(COUNTIF(Logblad!$AL$13:$AL368,Logblad!$AL368)>1),\" \")","v":" "},{"$f":"IF(B368=TRUE,Logblad!AL368,\" \")","v":" "},{"$f":"IF(B368=TRUE,Logblad!O368,\" \")","v":" "},{"$f":"IF(B368=TRUE,Logblad!M368,\" \")","v":" "}]
[{"$f":"CONCATENATE(Logblad!B369,Logblad!I369,Logblad!J369)","v":""},{"$f":"IF(Logblad!$AL369>\" \",(COUNTIF(Logblad!$AL$13:$AL369,Logblad!$AL369)>1),\" \")","v":" "},{"$f":"IF(B369=TRUE,Logblad!AL369,\" \")","v":" "},{"$f":"IF(B369=TRUE,Logblad!O369,\" \")","v":" "},{"$f":"IF(B369=TRUE,Logblad!M369,\" \")","v":" "}]
[{"$f":"CONCATENATE(Logblad!B370,Logblad!I370,Logblad!J370)","v":""},{"$f":"IF(Logblad!$AL370>\" \",(COUNTIF(Logblad!$AL$13:$AL370,Logblad!$AL370)>1),\" \")","v":" "},{"$f":"IF(B370=TRUE,Logblad!AL370,\" \")","v":" "},{"$f":"IF(B370=TRUE,Logblad!O370,\" \")","v":" "},{"$f":"IF(B370=TRUE,Logblad!M370,\" \")","v":" "}]
[{"$f":"CONCATENATE(Logblad!B371,Logblad!I371,Logblad!J371)","v":""},{"$f":"IF(Logblad!$AL371>\" \",(COUNTIF(Logblad!$AL$13:$AL371,Logblad!$AL371)>1),\" \")","v":" "},{"$f":"IF(B371=TRUE,Logblad!AL371,\" \")","v":" "},{"$f":"IF(B371=TRUE,Logblad!O371,\" \")","v":" "},{"$f":"IF(B371=TRUE,Logblad!M371,\" \")","v":" "}]
[{"$f":"CONCATENATE(Logblad!B372,Logblad!I372,Logblad!J372)","v":""},{"$f":"IF(Logblad!$AL372>\" \",(COUNTIF(Logblad!$AL$13:$AL372,Logblad!$AL372)>1),\" \")","v":" "},{"$f":"IF(B372=TRUE,Logblad!AL372,\" \")","v":" "},{"$f":"IF(B372=TRUE,Logblad!O372,\" \")","v":" "},{"$f":"IF(B372=TRUE,Logblad!M372,\" \")","v":" "}]
[{"$f":"CONCATENATE(Logblad!B373,Logblad!I373,Logblad!J373)","v":""},{"$f":"IF(Logblad!$AL373>\" \",(COUNTIF(Logblad!$AL$13:$AL373,Logblad!$AL373)>1),\" \")","v":" "},{"$f":"IF(B373=TRUE,Logblad!AL373,\" \")","v":" "},{"$f":"IF(B373=TRUE,Logblad!O373,\" \")","v":" "},{"$f":"IF(B373=TRUE,Logblad!M373,\" \")","v":" "}]
[{"$f":"CONCATENATE(Logblad!B374,Logblad!I374,Logblad!J374)","v":""},{"$f":"IF(Logblad!$AL374>\" \",(COUNTIF(Logblad!$AL$13:$AL374,Logblad!$AL374)>1),\" \")","v":" "},{"$f":"IF(B374=TRUE,Logblad!AL374,\" \")","v":" "},{"$f":"IF(B374=TRUE,Logblad!O374,\" \")","v":" "},{"$f":"IF(B374=TRUE,Logblad!M374,\" \")","v":" "}]
[{"$f":"CONCATENATE(Logblad!B375,Logblad!I375,Logblad!J375)","v":""},{"$f":"IF(Logblad!$AL375>\" \",(COUNTIF(Logblad!$AL$13:$AL375,Logblad!$AL375)>1),\" \")","v":" "},{"$f":"IF(B375=TRUE,Logblad!AL375,\" \")","v":" "},{"$f":"IF(B375=TRUE,Logblad!O375,\" \")","v":" "},{"$f":"IF(B375=TRUE,Logblad!M375,\" \")","v":" "}]
[{"$f":"CONCATENATE(Logblad!B376,Logblad!I376,Logblad!J376)","v":""},{"$f":"IF(Logblad!$AL376>\" \",(COUNTIF(Logblad!$AL$13:$AL376,Logblad!$AL376)>1),\" \")","v":" "},{"$f":"IF(B376=TRUE,Logblad!AL376,\" \")","v":" "},{"$f":"IF(B376=TRUE,Logblad!O376,\" \")","v":" "},{"$f":"IF(B376=TRUE,Logblad!M376,\" \")","v":" "}]
[{"$f":"CONCATENATE(Logblad!B377,Logblad!I377,Logblad!J377)","v":""},{"$f":"IF(Logblad!$AL377>\" \",(COUNTIF(Logblad!$AL$13:$AL377,Logblad!$AL377)>1),\" \")","v":" "},{"$f":"IF(B377=TRUE,Logblad!AL377,\" \")","v":" "},{"$f":"IF(B377=TRUE,Logblad!O377,\" \")","v":" "},{"$f":"IF(B377=TRUE,Logblad!M377,\" \")","v":" "}]
[{"$f":"CONCATENATE(Logblad!B378,Logblad!I378,Logblad!J378)","v":""},{"$f":"IF(Logblad!$AL378>\" \",(COUNTIF(Logblad!$AL$13:$AL378,Logblad!$AL378)>1),\" \")","v":" "},{"$f":"IF(B378=TRUE,Logblad!AL378,\" \")","v":" "},{"$f":"IF(B378=TRUE,Logblad!O378,\" \")","v":" "},{"$f":"IF(B378=TRUE,Logblad!M378,\" \")","v":" "}]
[{"$f":"CONCATENATE(Logblad!B379,Logblad!I379,Logblad!J379)","v":""},{"$f":"IF(Logblad!$AL379>\" \",(COUNTIF(Logblad!$AL$13:$AL379,Logblad!$AL379)>1),\" \")","v":" "},{"$f":"IF(B379=TRUE,Logblad!AL379,\" \")","v":" "},{"$f":"IF(B379=TRUE,Logblad!O379,\" \")","v":" "},{"$f":"IF(B379=TRUE,Logblad!M379,\" \")","v":" "}]
[{"$f":"CONCATENATE(Logblad!B380,Logblad!I380,Logblad!J380)","v":""},{"$f":"IF(Logblad!$AL380>\" \",(COUNTIF(Logblad!$AL$13:$AL380,Logblad!$AL380)>1),\" \")","v":" "},{"$f":"IF(B380=TRUE,Logblad!AL380,\" \")","v":" "},{"$f":"IF(B380=TRUE,Logblad!O380,\" \")","v":" "},{"$f":"IF(B380=TRUE,Logblad!M380,\" \")","v":" "}]
[{"$f":"CONCATENATE(Logblad!B381,Logblad!I381,Logblad!J381)","v":""},{"$f":"IF(Logblad!$AL381>\" \",(COUNTIF(Logblad!$AL$13:$AL381,Logblad!$AL381)>1),\" \")","v":" "},{"$f":"IF(B381=TRUE,Logblad!AL381,\" \")","v":" "},{"$f":"IF(B381=TRUE,Logblad!O381,\" \")","v":" "},{"$f":"IF(B381=TRUE,Logblad!M381,\" \")","v":" "}]
[{"$f":"CONCATENATE(Logblad!B382,Logblad!I382,Logblad!J382)","v":""},{"$f":"IF(Logblad!$AL382>\" \",(COUNTIF(Logblad!$AL$13:$AL382,Logblad!$AL382)>1),\" \")","v":" "},{"$f":"IF(B382=TRUE,Logblad!AL382,\" \")","v":" "},{"$f":"IF(B382=TRUE,Logblad!O382,\" \")","v":" "},{"$f":"IF(B382=TRUE,Logblad!M382,\" \")","v":" "}]
[{"$f":"CONCATENATE(Logblad!B383,Logblad!I383,Logblad!J383)","v":""},{"$f":"IF(Logblad!$AL383>\" \",(COUNTIF(Logblad!$AL$13:$AL383,Logblad!$AL383)>1),\" \")","v":" "},{"$f":"IF(B383=TRUE,Logblad!AL383,\" \")","v":" "},{"$f":"IF(B383=TRUE,Logblad!O383,\" \")","v":" "},{"$f":"IF(B383=TRUE,Logblad!M383,\" \")","v":" "}]
[{"$f":"CONCATENATE(Logblad!B384,Logblad!I384,Logblad!J384)","v":""},{"$f":"IF(Logblad!$AL384>\" \",(COUNTIF(Logblad!$AL$13:$AL384,Logblad!$AL384)>1),\" \")","v":" "},{"$f":"IF(B384=TRUE,Logblad!AL384,\" \")","v":" "},{"$f":"IF(B384=TRUE,Logblad!O384,\" \")","v":" "},{"$f":"IF(B384=TRUE,Logblad!M384,\" \")","v":" "}]
[{"$f":"CONCATENATE(Logblad!B385,Logblad!I385,Logblad!J385)","v":""},{"$f":"IF(Logblad!$AL385>\" \",(COUNTIF(Logblad!$AL$13:$AL385,Logblad!$AL385)>1),\" \")","v":" "},{"$f":"IF(B385=TRUE,Logblad!AL385,\" \")","v":" "},{"$f":"IF(B385=TRUE,Logblad!O385,\" \")","v":" "},{"$f":"IF(B385=TRUE,Logblad!M385,\" \")","v":" "}]
[{"$f":"CONCATENATE(Logblad!B386,Logblad!I386,Logblad!J386)","v":""},{"$f":"IF(Logblad!$AL386>\" \",(COUNTIF(Logblad!$AL$13:$AL386,Logblad!$AL386)>1),\" \")","v":" "},{"$f":"IF(B386=TRUE,Logblad!AL386,\" \")","v":" "},{"$f":"IF(B386=TRUE,Logblad!O386,\" \")","v":" "},{"$f":"IF(B386=TRUE,Logblad!M386,\" \")","v":" "}]
[{"$f":"CONCATENATE(Logblad!B387,Logblad!I387,Logblad!J387)","v":""},{"$f":"IF(Logblad!$AL387>\" \",(COUNTIF(Logblad!$AL$13:$AL387,Logblad!$AL387)>1),\" \")","v":" "},{"$f":"IF(B387=TRUE,Logblad!AL387,\" \")","v":" "},{"$f":"IF(B387=TRUE,Logblad!O387,\" \")","v":" "},{"$f":"IF(B387=TRUE,Logblad!M387,\" \")","v":" "}]
[{"$f":"CONCATENATE(Logblad!B388,Logblad!I388,Logblad!J388)","v":""},{"$f":"IF(Logblad!$AL388>\" \",(COUNTIF(Logblad!$AL$13:$AL388,Logblad!$AL388)>1),\" \")","v":" "},{"$f":"IF(B388=TRUE,Logblad!AL388,\" \")","v":" "},{"$f":"IF(B388=TRUE,Logblad!O388,\" \")","v":" "},{"$f":"IF(B388=TRUE,Logblad!M388,\" \")","v":" "}]
[{"$f":"CONCATENATE(Logblad!B389,Logblad!I389,Logblad!J389)","v":""},{"$f":"IF(Logblad!$AL389>\" \",(COUNTIF(Logblad!$AL$13:$AL389,Logblad!$AL389)>1),\" \")","v":" "},{"$f":"IF(B389=TRUE,Logblad!AL389,\" \")","v":" "},{"$f":"IF(B389=TRUE,Logblad!O389,\" \")","v":" "},{"$f":"IF(B389=TRUE,Logblad!M389,\" \")","v":" "}]
[{"$f":"CONCATENATE(Logblad!B390,Logblad!I390,Logblad!J390)","v":""},{"$f":"IF(Logblad!$AL390>\" \",(COUNTIF(Logblad!$AL$13:$AL390,Logblad!$AL390)>1),\" \")","v":" "},{"$f":"IF(B390=TRUE,Logblad!AL390,\" \")","v":" "},{"$f":"IF(B390=TRUE,Logblad!O390,\" \")","v":" "},{"$f":"IF(B390=TRUE,Logblad!M390,\" \")","v":" "}]
[{"$f":"CONCATENATE(Logblad!B391,Logblad!I391,Logblad!J391)","v":""},{"$f":"IF(Logblad!$AL391>\" \",(COUNTIF(Logblad!$AL$13:$AL391,Logblad!$AL391)>1),\" \")","v":" "},{"$f":"IF(B391=TRUE,Logblad!AL391,\" \")","v":" "},{"$f":"IF(B391=TRUE,Logblad!O391,\" \")","v":" "},{"$f":"IF(B391=TRUE,Logblad!M391,\" \")","v":" "}]
[{"$f":"CONCATENATE(Logblad!B392,Logblad!I392,Logblad!J392)","v":""},{"$f":"IF(Logblad!$AL392>\" \",(COUNTIF(Logblad!$AL$13:$AL392,Logblad!$AL392)>1),\" \")","v":" "},{"$f":"IF(B392=TRUE,Logblad!AL392,\" \")","v":" "},{"$f":"IF(B392=TRUE,Logblad!O392,\" \")","v":" "},{"$f":"IF(B392=TRUE,Logblad!M392,\" \")","v":" "}]
[{"$f":"CONCATENATE(Logblad!B393,Logblad!I393,Logblad!J393)","v":""},{"$f":"IF(Logblad!$AL393>\" \",(COUNTIF(Logblad!$AL$13:$AL393,Logblad!$AL393)>1),\" \")","v":" "},{"$f":"IF(B393=TRUE,Logblad!AL393,\" \")","v":" "},{"$f":"IF(B393=TRUE,Logblad!O393,\" \")","v":" "},{"$f":"IF(B393=TRUE,Logblad!M393,\" \")","v":" "}]
[{"$f":"CONCATENATE(Logblad!B394,Logblad!I394,Logblad!J394)","v":""},{"$f":"IF(Logblad!$AL394>\" \",(COUNTIF(Logblad!$AL$13:$AL394,Logblad!$AL394)>1),\" \")","v":" "},{"$f":"IF(B394=TRUE,Logblad!AL394,\" \")","v":" "},{"$f":"IF(B394=TRUE,Logblad!O394,\" \")","v":" "},{"$f":"IF(B394=TRUE,Logblad!M394,\" \")","v":" "}]
[{"$f":"CONCATENATE(Logblad!B395,Logblad!I395,Logblad!J395)","v":""},{"$f":"IF(Logblad!$AL395>\" \",(COUNTIF(Logblad!$AL$13:$AL395,Logblad!$AL395)>1),\" \")","v":" "},{"$f":"IF(B395=TRUE,Logblad!AL395,\" \")","v":" "},{"$f":"IF(B395=TRUE,Logblad!O395,\" \")","v":" "},{"$f":"IF(B395=TRUE,Logblad!M395,\" \")","v":" "}]
[{"$f":"CONCATENATE(Logblad!B396,Logblad!I396,Logblad!J396)","v":""},{"$f":"IF(Logblad!$AL396>\" \",(COUNTIF(Logblad!$AL$13:$AL396,Logblad!$AL396)>1),\" \")","v":" "},{"$f":"IF(B396=TRUE,Logblad!AL396,\" \")","v":" "},{"$f":"IF(B396=TRUE,Logblad!O396,\" \")","v":" "},{"$f":"IF(B396=TRUE,Logblad!M396,\" \")","v":" "}]
[{"$f":"CONCATENATE(Logblad!B397,Logblad!I397,Logblad!J397)","v":""},{"$f":"IF(Logblad!$AL397>\" \",(COUNTIF(Logblad!$AL$13:$AL397,Logblad!$AL397)>1),\" \")","v":" "},{"$f":"IF(B397=TRUE,Logblad!AL397,\" \")","v":" "},{"$f":"IF(B397=TRUE,Logblad!O397,\" \")","v":" "},{"$f":"IF(B397=TRUE,Logblad!M397,\" \")","v":" "}]
[{"$f":"CONCATENATE(Logblad!B398,Logblad!I398,Logblad!J398)","v":""},{"$f":"IF(Logblad!$AL398>\" \",(COUNTIF(Logblad!$AL$13:$AL398,Logblad!$AL398)>1),\" \")","v":" "},{"$f":"IF(B398=TRUE,Logblad!AL398,\" \")","v":" "},{"$f":"IF(B398=TRUE,Logblad!O398,\" \")","v":" "},{"$f":"IF(B398=TRUE,Logblad!M398,\" \")","v":" "}]
[{"$f":"CONCATENATE(Logblad!B399,Logblad!I399,Logblad!J399)","v":""},{"$f":"IF(Logblad!$AL399>\" \",(COUNTIF(Logblad!$AL$13:$AL399,Logblad!$AL399)>1),\" \")","v":" "},{"$f":"IF(B399=TRUE,Logblad!AL399,\" \")","v":" "},{"$f":"IF(B399=TRUE,Logblad!O399,\" \")","v":" "},{"$f":"IF(B399=TRUE,Logblad!M399,\" \")","v":" "}]
[{"$f":"CONCATENATE(Logblad!B400,Logblad!I400,Logblad!J400)","v":""},{"$f":"IF(Logblad!$AL400>\" \",(COUNTIF(Logblad!$AL$13:$AL400,Logblad!$AL400)>1),\" \")","v":" "},{"$f":"IF(B400=TRUE,Logblad!AL400,\" \")","v":" "},{"$f":"IF(B400=TRUE,Logblad!O400,\" \")","v":" "},{"$f":"IF(B400=TRUE,Logblad!M400,\" \")","v":" "}]
[{"$f":"CONCATENATE(Logblad!B401,Logblad!I401,Logblad!J401)","v":""},{"$f":"IF(Logblad!$AL401>\" \",(COUNTIF(Logblad!$AL$13:$AL401,Logblad!$AL401)>1),\" \")","v":" "},{"$f":"IF(B401=TRUE,Logblad!AL401,\" \")","v":" "},{"$f":"IF(B401=TRUE,Logblad!O401,\" \")","v":" "},{"$f":"IF(B401=TRUE,Logblad!M401,\" \")","v":" "}]
[{"$f":"CONCATENATE(Logblad!B402,Logblad!I402,Logblad!J402)","v":""},{"$f":"IF(Logblad!$AL402>\" \",(COUNTIF(Logblad!$AL$13:$AL402,Logblad!$AL402)>1),\" \")","v":" "},{"$f":"IF(B402=TRUE,Logblad!AL402,\" \")","v":" "},{"$f":"IF(B402=TRUE,Logblad!O402,\" \")","v":" "},{"$f":"IF(B402=TRUE,Logblad!M402,\" \")","v":" "}]
[{"$f":"CONCATENATE(Logblad!B403,Logblad!I403,Logblad!J403)","v":""},{"$f":"IF(Logblad!$AL403>\" \",(COUNTIF(Logblad!$AL$13:$AL403,Logblad!$AL403)>1),\" \")","v":" "},{"$f":"IF(B403=TRUE,Logblad!AL403,\" \")","v":" "},{"$f":"IF(B403=TRUE,Logblad!O403,\" \")","v":" "},{"$f":"IF(B403=TRUE,Logblad!M403,\" \")","v":" "}]
[{"$f":"CONCATENATE(Logblad!B404,Logblad!I404,Logblad!J404)","v":""},{"$f":"IF(Logblad!$AL404>\" \",(COUNTIF(Logblad!$AL$13:$AL404,Logblad!$AL404)>1),\" \")","v":" "},{"$f":"IF(B404=TRUE,Logblad!AL404,\" \")","v":" "},{"$f":"IF(B404=TRUE,Logblad!O404,\" \")","v":" "},{"$f":"IF(B404=TRUE,Logblad!M404,\" \")","v":" "}]
[{"$f":"CONCATENATE(Logblad!B405,Logblad!I405,Logblad!J405)","v":""},{"$f":"IF(Logblad!$AL405>\" \",(COUNTIF(Logblad!$AL$13:$AL405,Logblad!$AL405)>1),\" \")","v":" "},{"$f":"IF(B405=TRUE,Logblad!AL405,\" \")","v":" "},{"$f":"IF(B405=TRUE,Logblad!O405,\" \")","v":" "},{"$f":"IF(B405=TRUE,Logblad!M405,\" \")","v":" "}]
[{"$f":"CONCATENATE(Logblad!B406,Logblad!I406,Logblad!J406)","v":""},{"$f":"IF(Logblad!$AL406>\" \",(COUNTIF(Logblad!$AL$13:$AL406,Logblad!$AL406)>1),\" \")","v":" "},{"$f":"IF(B406=TRUE,Logblad!AL406,\" \")","v":" "},{"$f":"IF(B406=TRUE,Logblad!O406,\" \")","v":" "},{"$f":"IF(B406=TRUE,Logblad!M406,\" \")","v":" "}]
[{"$f":"CONCATENATE(Logblad!B407,Logblad!I407,Logblad!J407)","v":""},{"$f":"IF(Logblad!$AL407>\" \",(COUNTIF(Logblad!$AL$13:$AL407,Logblad!$AL407)>1),\" \")","v":" "},{"$f":"IF(B407=TRUE,Logblad!AL407,\" \")","v":" "},{"$f":"IF(B407=TRUE,Logblad!O407,\" \")","v":" "},{"$f":"IF(B407=TRUE,Logblad!M407,\" \")","v":" "}]
[{"$f":"CONCATENATE(Logblad!B408,Logblad!I408,Logblad!J408)","v":""},{"$f":"IF(Logblad!$AL408>\" \",(COUNTIF(Logblad!$AL$13:$AL408,Logblad!$AL408)>1),\" \")","v":" "},{"$f":"IF(B408=TRUE,Logblad!AL408,\" \")","v":" "},{"$f":"IF(B408=TRUE,Logblad!O408,\" \")","v":" "},{"$f":"IF(B408=TRUE,Logblad!M408,\" \")","v":" "}]
[{"$f":"CONCATENATE(Logblad!B409,Logblad!I409,Logblad!J409)","v":""},{"$f":"IF(Logblad!$AL409>\" \",(COUNTIF(Logblad!$AL$13:$AL409,Logblad!$AL409)>1),\" \")","v":" "},{"$f":"IF(B409=TRUE,Logblad!AL409,\" \")","v":" "},{"$f":"IF(B409=TRUE,Logblad!O409,\" \")","v":" "},{"$f":"IF(B409=TRUE,Logblad!M409,\" \")","v":" "}]
[{"$f":"CONCATENATE(Logblad!B410,Logblad!I410,Logblad!J410)","v":""},{"$f":"IF(Logblad!$AL410>\" \",(COUNTIF(Logblad!$AL$13:$AL410,Logblad!$AL410)>1),\" \")","v":" "},{"$f":"IF(B410=TRUE,Logblad!AL410,\" \")","v":" "},{"$f":"IF(B410=TRUE,Logblad!O410,\" \")","v":" "},{"$f":"IF(B410=TRUE,Logblad!M410,\" \")","v":" "}]
[{"$f":"CONCATENATE(Logblad!B411,Logblad!I411,Logblad!J411)","v":""},{"$f":"IF(Logblad!$AL411>\" \",(COUNTIF(Logblad!$AL$13:$AL411,Logblad!$AL411)>1),\" \")","v":" "},{"$f":"IF(B411=TRUE,Logblad!AL411,\" \")","v":" "},{"$f":"IF(B411=TRUE,Logblad!O411,\" \")","v":" "},{"$f":"IF(B411=TRUE,Logblad!M411,\" \")","v":" "}]
[{"$f":"CONCATENATE(Logblad!B412,Logblad!I412,Logblad!J412)","v":""},{"$f":"IF(Logblad!$AL412>\" \",(COUNTIF(Logblad!$AL$13:$AL412,Logblad!$AL412)>1),\" \")","v":" "},{"$f":"IF(B412=TRUE,Logblad!AL412,\" \")","v":" "},{"$f":"IF(B412=TRUE,Logblad!O412,\" \")","v":" "},{"$f":"IF(B412=TRUE,Logblad!M412,\" \")","v":" "}]
[{"$f":"CONCATENATE(Logblad!B413,Logblad!I413,Logblad!J413)","v":""},{"$f":"IF(Logblad!$AL413>\" \",(COUNTIF(Logblad!$AL$13:$AL413,Logblad!$AL413)>1),\" \")","v":" "},{"$f":"IF(B413=TRUE,Logblad!AL413,\" \")","v":" "},{"$f":"IF(B413=TRUE,Logblad!O413,\" \")","v":" "},{"$f":"IF(B413=TRUE,Logblad!M413,\" \")","v":" "}]
[{"$f":"CONCATENATE(Logblad!B414,Logblad!I414,Logblad!J414)","v":""},{"$f":"IF(Logblad!$AL414>\" \",(COUNTIF(Logblad!$AL$13:$AL414,Logblad!$AL414)>1),\" \")","v":" "},{"$f":"IF(B414=TRUE,Logblad!AL414,\" \")","v":" "},{"$f":"IF(B414=TRUE,Logblad!O414,\" \")","v":" "},{"$f":"IF(B414=TRUE,Logblad!M414,\" \")","v":" "}]
[{"$f":"CONCATENATE(Logblad!B415,Logblad!I415,Logblad!J415)","v":""},{"$f":"IF(Logblad!$AL415>\" \",(COUNTIF(Logblad!$AL$13:$AL415,Logblad!$AL415)>1),\" \")","v":" "},{"$f":"IF(B415=TRUE,Logblad!AL415,\" \")","v":" "},{"$f":"IF(B415=TRUE,Logblad!O415,\" \")","v":" "},{"$f":"IF(B415=TRUE,Logblad!M415,\" \")","v":" "}]
[{"$f":"CONCATENATE(Logblad!B416,Logblad!I416,Logblad!J416)","v":""},{"$f":"IF(Logblad!$AL416>\" \",(COUNTIF(Logblad!$AL$13:$AL416,Logblad!$AL416)>1),\" \")","v":" "},{"$f":"IF(B416=TRUE,Logblad!AL416,\" \")","v":" "},{"$f":"IF(B416=TRUE,Logblad!O416,\" \")","v":" "},{"$f":"IF(B416=TRUE,Logblad!M416,\" \")","v":" "}]
[{"$f":"CONCATENATE(Logblad!B417,Logblad!I417,Logblad!J417)","v":""},{"$f":"IF(Logblad!$AL417>\" \",(COUNTIF(Logblad!$AL$13:$AL417,Logblad!$AL417)>1),\" \")","v":" "},{"$f":"IF(B417=TRUE,Logblad!AL417,\" \")","v":" "},{"$f":"IF(B417=TRUE,Logblad!O417,\" \")","v":" "},{"$f":"IF(B417=TRUE,Logblad!M417,\" \")","v":" "}]
[{"$f":"CONCATENATE(Logblad!B418,Logblad!I418,Logblad!J418)","v":""},{"$f":"IF(Logblad!$AL418>\" \",(COUNTIF(Logblad!$AL$13:$AL418,Logblad!$AL418)>1),\" \")","v":" "},{"$f":"IF(B418=TRUE,Logblad!AL418,\" \")","v":" "},{"$f":"IF(B418=TRUE,Logblad!O418,\" \")","v":" "},{"$f":"IF(B418=TRUE,Logblad!M418,\" \")","v":" "}]
[{"$f":"CONCATENATE(Logblad!B419,Logblad!I419,Logblad!J419)","v":""},{"$f":"IF(Logblad!$AL419>\" \",(COUNTIF(Logblad!$AL$13:$AL419,Logblad!$AL419)>1),\" \")","v":" "},{"$f":"IF(B419=TRUE,Logblad!AL419,\" \")","v":" "},{"$f":"IF(B419=TRUE,Logblad!O419,\" \")","v":" "},{"$f":"IF(B419=TRUE,Logblad!M419,\" \")","v":" "}]
[{"$f":"CONCATENATE(Logblad!B420,Logblad!I420,Logblad!J420)","v":""},{"$f":"IF(Logblad!$AL420>\" \",(COUNTIF(Logblad!$AL$13:$AL420,Logblad!$AL420)>1),\" \")","v":" "},{"$f":"IF(B420=TRUE,Logblad!AL420,\" \")","v":" "},{"$f":"IF(B420=TRUE,Logblad!O420,\" \")","v":" "},{"$f":"IF(B420=TRUE,Logblad!M420,\" \")","v":" "}]
[{"$f":"CONCATENATE(Logblad!B421,Logblad!I421,Logblad!J421)","v":""},{"$f":"IF(Logblad!$AL421>\" \",(COUNTIF(Logblad!$AL$13:$AL421,Logblad!$AL421)>1),\" \")","v":" "},{"$f":"IF(B421=TRUE,Logblad!AL421,\" \")","v":" "},{"$f":"IF(B421=TRUE,Logblad!O421,\" \")","v":" "},{"$f":"IF(B421=TRUE,Logblad!M421,\" \")","v":" "}]
[{"$f":"CONCATENATE(Logblad!B422,Logblad!I422,Logblad!J422)","v":""},{"$f":"IF(Logblad!$AL422>\" \",(COUNTIF(Logblad!$AL$13:$AL422,Logblad!$AL422)>1),\" \")","v":" "},{"$f":"IF(B422=TRUE,Logblad!AL422,\" \")","v":" "},{"$f":"IF(B422=TRUE,Logblad!O422,\" \")","v":" "},{"$f":"IF(B422=TRUE,Logblad!M422,\" \")","v":" "}]
[{"$f":"CONCATENATE(Logblad!B423,Logblad!I423,Logblad!J423)","v":""},{"$f":"IF(Logblad!$AL423>\" \",(COUNTIF(Logblad!$AL$13:$AL423,Logblad!$AL423)>1),\" \")","v":" "},{"$f":"IF(B423=TRUE,Logblad!AL423,\" \")","v":" "},{"$f":"IF(B423=TRUE,Logblad!O423,\" \")","v":" "},{"$f":"IF(B423=TRUE,Logblad!M423,\" \")","v":" "}]
[{"$f":"CONCATENATE(Logblad!B424,Logblad!I424,Logblad!J424)","v":""},{"$f":"IF(Logblad!$AL424>\" \",(COUNTIF(Logblad!$AL$13:$AL424,Logblad!$AL424)>1),\" \")","v":" "},{"$f":"IF(B424=TRUE,Logblad!AL424,\" \")","v":" "},{"$f":"IF(B424=TRUE,Logblad!O424,\" \")","v":" "},{"$f":"IF(B424=TRUE,Logblad!M424,\" \")","v":" "}]
[{"$f":"CONCATENATE(Logblad!B425,Logblad!I425,Logblad!J425)","v":""},{"$f":"IF(Logblad!$AL425>\" \",(COUNTIF(Logblad!$AL$13:$AL425,Logblad!$AL425)>1),\" \")","v":" "},{"$f":"IF(B425=TRUE,Logblad!AL425,\" \")","v":" "},{"$f":"IF(B425=TRUE,Logblad!O425,\" \")","v":" "},{"$f":"IF(B425=TRUE,Logblad!M425,\" \")","v":" "}]
[{"$f":"CONCATENATE(Logblad!B426,Logblad!I426,Logblad!J426)","v":""},{"$f":"IF(Logblad!$AL426>\" \",(COUNTIF(Logblad!$AL$13:$AL426,Logblad!$AL426)>1),\" \")","v":" "},{"$f":"IF(B426=TRUE,Logblad!AL426,\" \")","v":" "},{"$f":"IF(B426=TRUE,Logblad!O426,\" \")","v":" "},{"$f":"IF(B426=TRUE,Logblad!M426,\" \")","v":" "}]
[{"$f":"CONCATENATE(Logblad!B427,Logblad!I427,Logblad!J427)","v":""},{"$f":"IF(Logblad!$AL427>\" \",(COUNTIF(Logblad!$AL$13:$AL427,Logblad!$AL427)>1),\" \")","v":" "},{"$f":"IF(B427=TRUE,Logblad!AL427,\" \")","v":" "},{"$f":"IF(B427=TRUE,Logblad!O427,\" \")","v":" "},{"$f":"IF(B427=TRUE,Logblad!M427,\" \")","v":" "}]
[{"$f":"CONCATENATE(Logblad!B428,Logblad!I428,Logblad!J428)","v":""},{"$f":"IF(Logblad!$AL428>\" \",(COUNTIF(Logblad!$AL$13:$AL428,Logblad!$AL428)>1),\" \")","v":" "},{"$f":"IF(B428=TRUE,Logblad!AL428,\" \")","v":" "},{"$f":"IF(B428=TRUE,Logblad!O428,\" \")","v":" "},{"$f":"IF(B428=TRUE,Logblad!M428,\" \")","v":" "}]
[{"$f":"CONCATENATE(Logblad!B429,Logblad!I429,Logblad!J429)","v":""},{"$f":"IF(Logblad!$AL429>\" \",(COUNTIF(Logblad!$AL$13:$AL429,Logblad!$AL429)>1),\" \")","v":" "},{"$f":"IF(B429=TRUE,Logblad!AL429,\" \")","v":" "},{"$f":"IF(B429=TRUE,Logblad!O429,\" \")","v":" "},{"$f":"IF(B429=TRUE,Logblad!M429,\" \")","v":" "}]
[{"$f":"CONCATENATE(Logblad!B430,Logblad!I430,Logblad!J430)","v":""},{"$f":"IF(Logblad!$AL430>\" \",(COUNTIF(Logblad!$AL$13:$AL430,Logblad!$AL430)>1),\" \")","v":" "},{"$f":"IF(B430=TRUE,Logblad!AL430,\" \")","v":" "},{"$f":"IF(B430=TRUE,Logblad!O430,\" \")","v":" "},{"$f":"IF(B430=TRUE,Logblad!M430,\" \")","v":" "}]
[{"$f":"CONCATENATE(Logblad!B431,Logblad!I431,Logblad!J431)","v":""},{"$f":"IF(Logblad!$AL431>\" \",(COUNTIF(Logblad!$AL$13:$AL431,Logblad!$AL431)>1),\" \")","v":" "},{"$f":"IF(B431=TRUE,Logblad!AL431,\" \")","v":" "},{"$f":"IF(B431=TRUE,Logblad!O431,\" \")","v":" "},{"$f":"IF(B431=TRUE,Logblad!M431,\" \")","v":" "}]
[{"$f":"CONCATENATE(Logblad!B432,Logblad!I432,Logblad!J432)","v":""},{"$f":"IF(Logblad!$AL432>\" \",(COUNTIF(Logblad!$AL$13:$AL432,Logblad!$AL432)>1),\" \")","v":" "},{"$f":"IF(B432=TRUE,Logblad!AL432,\" \")","v":" "},{"$f":"IF(B432=TRUE,Logblad!O432,\" \")","v":" "},{"$f":"IF(B432=TRUE,Logblad!M432,\" \")","v":" "}]
[{"$f":"CONCATENATE(Logblad!B433,Logblad!I433,Logblad!J433)","v":""},{"$f":"IF(Logblad!$AL433>\" \",(COUNTIF(Logblad!$AL$13:$AL433,Logblad!$AL433)>1),\" \")","v":" "},{"$f":"IF(B433=TRUE,Logblad!AL433,\" \")","v":" "},{"$f":"IF(B433=TRUE,Logblad!O433,\" \")","v":" "},{"$f":"IF(B433=TRUE,Logblad!M433,\" \")","v":" "}]
[{"$f":"CONCATENATE(Logblad!B434,Logblad!I434,Logblad!J434)","v":""},{"$f":"IF(Logblad!$AL434>\" \",(COUNTIF(Logblad!$AL$13:$AL434,Logblad!$AL434)>1),\" \")","v":" "},{"$f":"IF(B434=TRUE,Logblad!AL434,\" \")","v":" "},{"$f":"IF(B434=TRUE,Logblad!O434,\" \")","v":" "},{"$f":"IF(B434=TRUE,Logblad!M434,\" \")","v":" "}]
[{"$f":"CONCATENATE(Logblad!B435,Logblad!I435,Logblad!J435)","v":""},{"$f":"IF(Logblad!$AL435>\" \",(COUNTIF(Logblad!$AL$13:$AL435,Logblad!$AL435)>1),\" \")","v":" "},{"$f":"IF(B435=TRUE,Logblad!AL435,\" \")","v":" "},{"$f":"IF(B435=TRUE,Logblad!O435,\" \")","v":" "},{"$f":"IF(B435=TRUE,Logblad!M435,\" \")","v":" "}]
[{"$f":"CONCATENATE(Logblad!B436,Logblad!I436,Logblad!J436)","v":""},{"$f":"IF(Logblad!$AL436>\" \",(COUNTIF(Logblad!$AL$13:$AL436,Logblad!$AL436)>1),\" \")","v":" "},{"$f":"IF(B436=TRUE,Logblad!AL436,\" \")","v":" "},{"$f":"IF(B436=TRUE,Logblad!O436,\" \")","v":" "},{"$f":"IF(B436=TRUE,Logblad!M436,\" \")","v":" "}]
[{"$f":"CONCATENATE(Logblad!B437,Logblad!I437,Logblad!J437)","v":""},{"$f":"IF(Logblad!$AL437>\" \",(COUNTIF(Logblad!$AL$13:$AL437,Logblad!$AL437)>1),\" \")","v":" "},{"$f":"IF(B437=TRUE,Logblad!AL437,\" \")","v":" "},{"$f":"IF(B437=TRUE,Logblad!O437,\" \")","v":" "},{"$f":"IF(B437=TRUE,Logblad!M437,\" \")","v":" "}]
[{"$f":"CONCATENATE(Logblad!B438,Logblad!I438,Logblad!J438)","v":""},{"$f":"IF(Logblad!$AL438>\" \",(COUNTIF(Logblad!$AL$13:$AL438,Logblad!$AL438)>1),\" \")","v":" "},{"$f":"IF(B438=TRUE,Logblad!AL438,\" \")","v":" "},{"$f":"IF(B438=TRUE,Logblad!O438,\" \")","v":" "},{"$f":"IF(B438=TRUE,Logblad!M438,\" \")","v":" "}]
[{"$f":"CONCATENATE(Logblad!B439,Logblad!I439,Logblad!J439)","v":""},{"$f":"IF(Logblad!$AL439>\" \",(COUNTIF(Logblad!$AL$13:$AL439,Logblad!$AL439)>1),\" \")","v":" "},{"$f":"IF(B439=TRUE,Logblad!AL439,\" \")","v":" "},{"$f":"IF(B439=TRUE,Logblad!O439,\" \")","v":" "},{"$f":"IF(B439=TRUE,Logblad!M439,\" \")","v":" "}]
[{"$f":"CONCATENATE(Logblad!B440,Logblad!I440,Logblad!J440)","v":""},{"$f":"IF(Logblad!$AL440>\" \",(COUNTIF(Logblad!$AL$13:$AL440,Logblad!$AL440)>1),\" \")","v":" "},{"$f":"IF(B440=TRUE,Logblad!AL440,\" \")","v":" "},{"$f":"IF(B440=TRUE,Logblad!O440,\" \")","v":" "},{"$f":"IF(B440=TRUE,Logblad!M440,\" \")","v":" "}]
[{"$f":"CONCATENATE(Logblad!B441,Logblad!I441,Logblad!J441)","v":""},{"$f":"IF(Logblad!$AL441>\" \",(COUNTIF(Logblad!$AL$13:$AL441,Logblad!$AL441)>1),\" \")","v":" "},{"$f":"IF(B441=TRUE,Logblad!AL441,\" \")","v":" "},{"$f":"IF(B441=TRUE,Logblad!O441,\" \")","v":" "},{"$f":"IF(B441=TRUE,Logblad!M441,\" \")","v":" "}]
[{"$f":"CONCATENATE(Logblad!B442,Logblad!I442,Logblad!J442)","v":""},{"$f":"IF(Logblad!$AL442>\" \",(COUNTIF(Logblad!$AL$13:$AL442,Logblad!$AL442)>1),\" \")","v":" "},{"$f":"IF(B442=TRUE,Logblad!AL442,\" \")","v":" "},{"$f":"IF(B442=TRUE,Logblad!O442,\" \")","v":" "},{"$f":"IF(B442=TRUE,Logblad!M442,\" \")","v":" "}]
[{"$f":"CONCATENATE(Logblad!B443,Logblad!I443,Logblad!J443)","v":""},{"$f":"IF(Logblad!$AL443>\" \",(COUNTIF(Logblad!$AL$13:$AL443,Logblad!$AL443)>1),\" \")","v":" "},{"$f":"IF(B443=TRUE,Logblad!AL443,\" \")","v":" "},{"$f":"IF(B443=TRUE,Logblad!O443,\" \")","v":" "},{"$f":"IF(B443=TRUE,Logblad!M443,\" \")","v":" "}]
[{"$f":"CONCATENATE(Logblad!B444,Logblad!I444,Logblad!J444)","v":""},{"$f":"IF(Logblad!$AL444>\" \",(COUNTIF(Logblad!$AL$13:$AL444,Logblad!$AL444)>1),\" \")","v":" "},{"$f":"IF(B444=TRUE,Logblad!AL444,\" \")","v":" "},{"$f":"IF(B444=TRUE,Logblad!O444,\" \")","v":" "},{"$f":"IF(B444=TRUE,Logblad!M444,\" \")","v":" "}]
[{"$f":"CONCATENATE(Logblad!B445,Logblad!I445,Logblad!J445)","v":""},{"$f":"IF(Logblad!$AL445>\" \",(COUNTIF(Logblad!$AL$13:$AL445,Logblad!$AL445)>1),\" \")","v":" "},{"$f":"IF(B445=TRUE,Logblad!AL445,\" \")","v":" "},{"$f":"IF(B445=TRUE,Logblad!O445,\" \")","v":" "},{"$f":"IF(B445=TRUE,Logblad!M445,\" \")","v":" "}]
[{"$f":"CONCATENATE(Logblad!B446,Logblad!I446,Logblad!J446)","v":""},{"$f":"IF(Logblad!$AL446>\" \",(COUNTIF(Logblad!$AL$13:$AL446,Logblad!$AL446)>1),\" \")","v":" "},{"$f":"IF(B446=TRUE,Logblad!AL446,\" \")","v":" "},{"$f":"IF(B446=TRUE,Logblad!O446,\" \")","v":" "},{"$f":"IF(B446=TRUE,Logblad!M446,\" \")","v":" "}]
[{"$f":"CONCATENATE(Logblad!B447,Logblad!I447,Logblad!J447)","v":""},{"$f":"IF(Logblad!$AL447>\" \",(COUNTIF(Logblad!$AL$13:$AL447,Logblad!$AL447)>1),\" \")","v":" "},{"$f":"IF(B447=TRUE,Logblad!AL447,\" \")","v":" "},{"$f":"IF(B447=TRUE,Logblad!O447,\" \")","v":" "},{"$f":"IF(B447=TRUE,Logblad!M447,\" \")","v":" "}]
[{"$f":"CONCATENATE(Logblad!B448,Logblad!I448,Logblad!J448)","v":""},{"$f":"IF(Logblad!$AL448>\" \",(COUNTIF(Logblad!$AL$13:$AL448,Logblad!$AL448)>1),\" \")","v":" "},{"$f":"IF(B448=TRUE,Logblad!AL448,\" \")","v":" "},{"$f":"IF(B448=TRUE,Logblad!O448,\" \")","v":" "},{"$f":"IF(B448=TRUE,Logblad!M448,\" \")","v":" "}]
[{"$f":"CONCATENATE(Logblad!B449,Logblad!I449,Logblad!J449)","v":""},{"$f":"IF(Logblad!$AL449>\" \",(COUNTIF(Logblad!$AL$13:$AL449,Logblad!$AL449)>1),\" \")","v":" "},{"$f":"IF(B449=TRUE,Logblad!AL449,\" \")","v":" "},{"$f":"IF(B449=TRUE,Logblad!O449,\" \")","v":" "},{"$f":"IF(B449=TRUE,Logblad!M449,\" \")","v":" "}]
[{"$f":"CONCATENATE(Logblad!B450,Logblad!I450,Logblad!J450)","v":""},{"$f":"IF(Logblad!$AL450>\" \",(COUNTIF(Logblad!$AL$13:$AL450,Logblad!$AL450)>1),\" \")","v":" "},{"$f":"IF(B450=TRUE,Logblad!AL450,\" \")","v":" "},{"$f":"IF(B450=TRUE,Logblad!O450,\" \")","v":" "},{"$f":"IF(B450=TRUE,Logblad!M450,\" \")","v":" "}]
[{"$f":"CONCATENATE(Logblad!B451,Logblad!I451,Logblad!J451)","v":""},{"$f":"IF(Logblad!$AL451>\" \",(COUNTIF(Logblad!$AL$13:$AL451,Logblad!$AL451)>1),\" \")","v":" "},{"$f":"IF(B451=TRUE,Logblad!AL451,\" \")","v":" "},{"$f":"IF(B451=TRUE,Logblad!O451,\" \")","v":" "},{"$f":"IF(B451=TRUE,Logblad!M451,\" \")","v":" "}]
[{"$f":"CONCATENATE(Logblad!B452,Logblad!I452,Logblad!J452)","v":""},{"$f":"IF(Logblad!$AL452>\" \",(COUNTIF(Logblad!$AL$13:$AL452,Logblad!$AL452)>1),\" \")","v":" "},{"$f":"IF(B452=TRUE,Logblad!AL452,\" \")","v":" "},{"$f":"IF(B452=TRUE,Logblad!O452,\" \")","v":" "},{"$f":"IF(B452=TRUE,Logblad!M452,\" \")","v":" "}]
[{"$f":"CONCATENATE(Logblad!B453,Logblad!I453,Logblad!J453)","v":""},{"$f":"IF(Logblad!$AL453>\" \",(COUNTIF(Logblad!$AL$13:$AL453,Logblad!$AL453)>1),\" \")","v":" "},{"$f":"IF(B453=TRUE,Logblad!AL453,\" \")","v":" "},{"$f":"IF(B453=TRUE,Logblad!O453,\" \")","v":" "},{"$f":"IF(B453=TRUE,Logblad!M453,\" \")","v":" "}]
[{"$f":"CONCATENATE(Logblad!B454,Logblad!I454,Logblad!J454)","v":""},{"$f":"IF(Logblad!$AL454>\" \",(COUNTIF(Logblad!$AL$13:$AL454,Logblad!$AL454)>1),\" \")","v":" "},{"$f":"IF(B454=TRUE,Logblad!AL454,\" \")","v":" "},{"$f":"IF(B454=TRUE,Logblad!O454,\" \")","v":" "},{"$f":"IF(B454=TRUE,Logblad!M454,\" \")","v":" "}]
[{"$f":"CONCATENATE(Logblad!B455,Logblad!I455,Logblad!J455)","v":""},{"$f":"IF(Logblad!$AL455>\" \",(COUNTIF(Logblad!$AL$13:$AL455,Logblad!$AL455)>1),\" \")","v":" "},{"$f":"IF(B455=TRUE,Logblad!AL455,\" \")","v":" "},{"$f":"IF(B455=TRUE,Logblad!O455,\" \")","v":" "},{"$f":"IF(B455=TRUE,Logblad!M455,\" \")","v":" "}]
[{"$f":"CONCATENATE(Logblad!B456,Logblad!I456,Logblad!J456)","v":""},{"$f":"IF(Logblad!$AL456>\" \",(COUNTIF(Logblad!$AL$13:$AL456,Logblad!$AL456)>1),\" \")","v":" "},{"$f":"IF(B456=TRUE,Logblad!AL456,\" \")","v":" "},{"$f":"IF(B456=TRUE,Logblad!O456,\" \")","v":" "},{"$f":"IF(B456=TRUE,Logblad!M456,\" \")","v":" "}]
[{"$f":"CONCATENATE(Logblad!B457,Logblad!I457,Logblad!J457)","v":""},{"$f":"IF(Logblad!$AL457>\" \",(COUNTIF(Logblad!$AL$13:$AL457,Logblad!$AL457)>1),\" \")","v":" "},{"$f":"IF(B457=TRUE,Logblad!AL457,\" \")","v":" "},{"$f":"IF(B457=TRUE,Logblad!O457,\" \")","v":" "},{"$f":"IF(B457=TRUE,Logblad!M457,\" \")","v":" "}]
[{"$f":"CONCATENATE(Logblad!B458,Logblad!I458,Logblad!J458)","v":""},{"$f":"IF(Logblad!$AL458>\" \",(COUNTIF(Logblad!$AL$13:$AL458,Logblad!$AL458)>1),\" \")","v":" "},{"$f":"IF(B458=TRUE,Logblad!AL458,\" \")","v":" "},{"$f":"IF(B458=TRUE,Logblad!O458,\" \")","v":" "},{"$f":"IF(B458=TRUE,Logblad!M458,\" \")","v":" "}]
[{"$f":"CONCATENATE(Logblad!B459,Logblad!I459,Logblad!J459)","v":""},{"$f":"IF(Logblad!$AL459>\" \",(COUNTIF(Logblad!$AL$13:$AL459,Logblad!$AL459)>1),\" \")","v":" "},{"$f":"IF(B459=TRUE,Logblad!AL459,\" \")","v":" "},{"$f":"IF(B459=TRUE,Logblad!O459,\" \")","v":" "},{"$f":"IF(B459=TRUE,Logblad!M459,\" \")","v":" "}]
[{"$f":"CONCATENATE(Logblad!B460,Logblad!I460,Logblad!J460)","v":""},{"$f":"IF(Logblad!$AL460>\" \",(COUNTIF(Logblad!$AL$13:$AL460,Logblad!$AL460)>1),\" \")","v":" "},{"$f":"IF(B460=TRUE,Logblad!AL460,\" \")","v":" "},{"$f":"IF(B460=TRUE,Logblad!O460,\" \")","v":" "},{"$f":"IF(B460=TRUE,Logblad!M460,\" \")","v":" "}]
[{"$f":"CONCATENATE(Logblad!B461,Logblad!I461,Logblad!J461)","v":""},{"$f":"IF(Logblad!$AL461>\" \",(COUNTIF(Logblad!$AL$13:$AL461,Logblad!$AL461)>1),\" \")","v":" "},{"$f":"IF(B461=TRUE,Logblad!AL461,\" \")","v":" "},{"$f":"IF(B461=TRUE,Logblad!O461,\" \")","v":" "},{"$f":"IF(B461=TRUE,Logblad!M461,\" \")","v":" "}]
[{"$f":"CONCATENATE(Logblad!B462,Logblad!I462,Logblad!J462)","v":""},{"$f":"IF(Logblad!$AL462>\" \",(COUNTIF(Logblad!$AL$13:$AL462,Logblad!$AL462)>1),\" \")","v":" "},{"$f":"IF(B462=TRUE,Logblad!AL462,\" \")","v":" "},{"$f":"IF(B462=TRUE,Logblad!O462,\" \")","v":" "},{"$f":"IF(B462=TRUE,Logblad!M462,\" \")","v":" "}]
[{"$f":"CONCATENATE(Logblad!B463,Logblad!I463,Logblad!J463)","v":""},{"$f":"IF(Logblad!$AL463>\" \",(COUNTIF(Logblad!$AL$13:$AL463,Logblad!$AL463)>1),\" \")","v":" "},{"$f":"IF(B463=TRUE,Logblad!AL463,\" \")","v":" "},{"$f":"IF(B463=TRUE,Logblad!O463,\" \")","v":" "},{"$f":"IF(B463=TRUE,Logblad!M463,\" \")","v":" "}]
[{"$f":"CONCATENATE(Logblad!B464,Logblad!I464,Logblad!J464)","v":""},{"$f":"IF(Logblad!$AL464>\" \",(COUNTIF(Logblad!$AL$13:$AL464,Logblad!$AL464)>1),\" \")","v":" "},{"$f":"IF(B464=TRUE,Logblad!AL464,\" \")","v":" "},{"$f":"IF(B464=TRUE,Logblad!O464,\" \")","v":" "},{"$f":"IF(B464=TRUE,Logblad!M464,\" \")","v":" "}]
[{"$f":"CONCATENATE(Logblad!B465,Logblad!I465,Logblad!J465)","v":""},{"$f":"IF(Logblad!$AL465>\" \",(COUNTIF(Logblad!$AL$13:$AL465,Logblad!$AL465)>1),\" \")","v":" "},{"$f":"IF(B465=TRUE,Logblad!AL465,\" \")","v":" "},{"$f":"IF(B465=TRUE,Logblad!O465,\" \")","v":" "},{"$f":"IF(B465=TRUE,Logblad!M465,\" \")","v":" "}]
[{"$f":"CONCATENATE(Logblad!B466,Logblad!I466,Logblad!J466)","v":""},{"$f":"IF(Logblad!$AL466>\" \",(COUNTIF(Logblad!$AL$13:$AL466,Logblad!$AL466)>1),\" \")","v":" "},{"$f":"IF(B466=TRUE,Logblad!AL466,\" \")","v":" "},{"$f":"IF(B466=TRUE,Logblad!O466,\" \")","v":" "},{"$f":"IF(B466=TRUE,Logblad!M466,\" \")","v":" "}]
[{"$f":"CONCATENATE(Logblad!B467,Logblad!I467,Logblad!J467)","v":""},{"$f":"IF(Logblad!$AL467>\" \",(COUNTIF(Logblad!$AL$13:$AL467,Logblad!$AL467)>1),\" \")","v":" "},{"$f":"IF(B467=TRUE,Logblad!AL467,\" \")","v":" "},{"$f":"IF(B467=TRUE,Logblad!O467,\" \")","v":" "},{"$f":"IF(B467=TRUE,Logblad!M467,\" \")","v":" "}]
[{"$f":"CONCATENATE(Logblad!B468,Logblad!I468,Logblad!J468)","v":""},{"$f":"IF(Logblad!$AL468>\" \",(COUNTIF(Logblad!$AL$13:$AL468,Logblad!$AL468)>1),\" \")","v":" "},{"$f":"IF(B468=TRUE,Logblad!AL468,\" \")","v":" "},{"$f":"IF(B468=TRUE,Logblad!O468,\" \")","v":" "},{"$f":"IF(B468=TRUE,Logblad!M468,\" \")","v":" "}]
[{"$f":"CONCATENATE(Logblad!B469,Logblad!I469,Logblad!J469)","v":""},{"$f":"IF(Logblad!$AL469>\" \",(COUNTIF(Logblad!$AL$13:$AL469,Logblad!$AL469)>1),\" \")","v":" "},{"$f":"IF(B469=TRUE,Logblad!AL469,\" \")","v":" "},{"$f":"IF(B469=TRUE,Logblad!O469,\" \")","v":" "},{"$f":"IF(B469=TRUE,Logblad!M469,\" \")","v":" "}]
[{"$f":"CONCATENATE(Logblad!B470,Logblad!I470,Logblad!J470)","v":""},{"$f":"IF(Logblad!$AL470>\" \",(COUNTIF(Logblad!$AL$13:$AL470,Logblad!$AL470)>1),\" \")","v":" "},{"$f":"IF(B470=TRUE,Logblad!AL470,\" \")","v":" "},{"$f":"IF(B470=TRUE,Logblad!O470,\" \")","v":" "},{"$f":"IF(B470=TRUE,Logblad!M470,\" \")","v":" "}]
[{"$f":"CONCATENATE(Logblad!B471,Logblad!I471,Logblad!J471)","v":""},{"$f":"IF(Logblad!$AL471>\" \",(COUNTIF(Logblad!$AL$13:$AL471,Logblad!$AL471)>1),\" \")","v":" "},{"$f":"IF(B471=TRUE,Logblad!AL471,\" \")","v":" "},{"$f":"IF(B471=TRUE,Logblad!O471,\" \")","v":" "},{"$f":"IF(B471=TRUE,Logblad!M471,\" \")","v":" "}]
[{"$f":"CONCATENATE(Logblad!B472,Logblad!I472,Logblad!J472)","v":""},{"$f":"IF(Logblad!$AL472>\" \",(COUNTIF(Logblad!$AL$13:$AL472,Logblad!$AL472)>1),\" \")","v":" "},{"$f":"IF(B472=TRUE,Logblad!AL472,\" \")","v":" "},{"$f":"IF(B472=TRUE,Logblad!O472,\" \")","v":" "},{"$f":"IF(B472=TRUE,Logblad!M472,\" \")","v":" "}]
[{"$f":"CONCATENATE(Logblad!B473,Logblad!I473,Logblad!J473)","v":""},{"$f":"IF(Logblad!$AL473>\" \",(COUNTIF(Logblad!$AL$13:$AL473,Logblad!$AL473)>1),\" \")","v":" "},{"$f":"IF(B473=TRUE,Logblad!AL473,\" \")","v":" "},{"$f":"IF(B473=TRUE,Logblad!O473,\" \")","v":" "},{"$f":"IF(B473=TRUE,Logblad!M473,\" \")","v":" "}]
[{"$f":"CONCATENATE(Logblad!B474,Logblad!I474,Logblad!J474)","v":""},{"$f":"IF(Logblad!$AL474>\" \",(COUNTIF(Logblad!$AL$13:$AL474,Logblad!$AL474)>1),\" \")","v":" "},{"$f":"IF(B474=TRUE,Logblad!AL474,\" \")","v":" "},{"$f":"IF(B474=TRUE,Logblad!O474,\" \")","v":" "},{"$f":"IF(B474=TRUE,Logblad!M474,\" \")","v":" "}]
[{"$f":"CONCATENATE(Logblad!B475,Logblad!I475,Logblad!J475)","v":""},{"$f":"IF(Logblad!$AL475>\" \",(COUNTIF(Logblad!$AL$13:$AL475,Logblad!$AL475)>1),\" \")","v":" "},{"$f":"IF(B475=TRUE,Logblad!AL475,\" \")","v":" "},{"$f":"IF(B475=TRUE,Logblad!O475,\" \")","v":" "},{"$f":"IF(B475=TRUE,Logblad!M475,\" \")","v":" "}]
[{"$f":"CONCATENATE(Logblad!B476,Logblad!I476,Logblad!J476)","v":""},{"$f":"IF(Logblad!$AL476>\" \",(COUNTIF(Logblad!$AL$13:$AL476,Logblad!$AL476)>1),\" \")","v":" "},{"$f":"IF(B476=TRUE,Logblad!AL476,\" \")","v":" "},{"$f":"IF(B476=TRUE,Logblad!O476,\" \")","v":" "},{"$f":"IF(B476=TRUE,Logblad!M476,\" \")","v":" "}]
[{"$f":"CONCATENATE(Logblad!B477,Logblad!I477,Logblad!J477)","v":""},{"$f":"IF(Logblad!$AL477>\" \",(COUNTIF(Logblad!$AL$13:$AL477,Logblad!$AL477)>1),\" \")","v":" "},{"$f":"IF(B477=TRUE,Logblad!AL477,\" \")","v":" "},{"$f":"IF(B477=TRUE,Logblad!O477,\" \")","v":" "},{"$f":"IF(B477=TRUE,Logblad!M477,\" \")","v":" "}]
[{"$f":"CONCATENATE(Logblad!B478,Logblad!I478,Logblad!J478)","v":""},{"$f":"IF(Logblad!$AL478>\" \",(COUNTIF(Logblad!$AL$13:$AL478,Logblad!$AL478)>1),\" \")","v":" "},{"$f":"IF(B478=TRUE,Logblad!AL478,\" \")","v":" "},{"$f":"IF(B478=TRUE,Logblad!O478,\" \")","v":" "},{"$f":"IF(B478=TRUE,Logblad!M478,\" \")","v":" "}]
[{"$f":"CONCATENATE(Logblad!B479,Logblad!I479,Logblad!J479)","v":""},{"$f":"IF(Logblad!$AL479>\" \",(COUNTIF(Logblad!$AL$13:$AL479,Logblad!$AL479)>1),\" \")","v":" "},{"$f":"IF(B479=TRUE,Logblad!AL479,\" \")","v":" "},{"$f":"IF(B479=TRUE,Logblad!O479,\" \")","v":" "},{"$f":"IF(B479=TRUE,Logblad!M479,\" \")","v":" "}]
[{"$f":"CONCATENATE(Logblad!B480,Logblad!I480,Logblad!J480)","v":""},{"$f":"IF(Logblad!$AL480>\" \",(COUNTIF(Logblad!$AL$13:$AL480,Logblad!$AL480)>1),\" \")","v":" "},{"$f":"IF(B480=TRUE,Logblad!AL480,\" \")","v":" "},{"$f":"IF(B480=TRUE,Logblad!O480,\" \")","v":" "},{"$f":"IF(B480=TRUE,Logblad!M480,\" \")","v":" "}]
[{"$f":"CONCATENATE(Logblad!B481,Logblad!I481,Logblad!J481)","v":""},{"$f":"IF(Logblad!$AL481>\" \",(COUNTIF(Logblad!$AL$13:$AL481,Logblad!$AL481)>1),\" \")","v":" "},{"$f":"IF(B481=TRUE,Logblad!AL481,\" \")","v":" "},{"$f":"IF(B481=TRUE,Logblad!O481,\" \")","v":" "},{"$f":"IF(B481=TRUE,Logblad!M481,\" \")","v":" "}]
[{"$f":"CONCATENATE(Logblad!B482,Logblad!I482,Logblad!J482)","v":""},{"$f":"IF(Logblad!$AL482>\" \",(COUNTIF(Logblad!$AL$13:$AL482,Logblad!$AL482)>1),\" \")","v":" "},{"$f":"IF(B482=TRUE,Logblad!AL482,\" \")","v":" "},{"$f":"IF(B482=TRUE,Logblad!O482,\" \")","v":" "},{"$f":"IF(B482=TRUE,Logblad!M482,\" \")","v":" "}]
[{"$f":"CONCATENATE(Logblad!B483,Logblad!I483,Logblad!J483)","v":""},{"$f":"IF(Logblad!$AL483>\" \",(COUNTIF(Logblad!$AL$13:$AL483,Logblad!$AL483)>1),\" \")","v":" "},{"$f":"IF(B483=TRUE,Logblad!AL483,\" \")","v":" "},{"$f":"IF(B483=TRUE,Logblad!O483,\" \")","v":" "},{"$f":"IF(B483=TRUE,Logblad!M483,\" \")","v":" "}]
[{"$f":"CONCATENATE(Logblad!B484,Logblad!I484,Logblad!J484)","v":""},{"$f":"IF(Logblad!$AL484>\" \",(COUNTIF(Logblad!$AL$13:$AL484,Logblad!$AL484)>1),\" \")","v":" "},{"$f":"IF(B484=TRUE,Logblad!AL484,\" \")","v":" "},{"$f":"IF(B484=TRUE,Logblad!O484,\" \")","v":" "},{"$f":"IF(B484=TRUE,Logblad!M484,\" \")","v":" "}]
[{"$f":"CONCATENATE(Logblad!B485,Logblad!I485,Logblad!J485)","v":""},{"$f":"IF(Logblad!$AL485>\" \",(COUNTIF(Logblad!$AL$13:$AL485,Logblad!$AL485)>1),\" \")","v":" "},{"$f":"IF(B485=TRUE,Logblad!AL485,\" \")","v":" "},{"$f":"IF(B485=TRUE,Logblad!O485,\" \")","v":" "},{"$f":"IF(B485=TRUE,Logblad!M485,\" \")","v":" "}]
[{"$f":"CONCATENATE(Logblad!B486,Logblad!I486,Logblad!J486)","v":""},{"$f":"IF(Logblad!$AL486>\" \",(COUNTIF(Logblad!$AL$13:$AL486,Logblad!$AL486)>1),\" \")","v":" "},{"$f":"IF(B486=TRUE,Logblad!AL486,\" \")","v":" "},{"$f":"IF(B486=TRUE,Logblad!O486,\" \")","v":" "},{"$f":"IF(B486=TRUE,Logblad!M486,\" \")","v":" "}]
[{"$f":"CONCATENATE(Logblad!B487,Logblad!I487,Logblad!J487)","v":""},{"$f":"IF(Logblad!$AL487>\" \",(COUNTIF(Logblad!$AL$13:$AL487,Logblad!$AL487)>1),\" \")","v":" "},{"$f":"IF(B487=TRUE,Logblad!AL487,\" \")","v":" "},{"$f":"IF(B487=TRUE,Logblad!O487,\" \")","v":" "},{"$f":"IF(B487=TRUE,Logblad!M487,\" \")","v":" "}]
[{"$f":"CONCATENATE(Logblad!B488,Logblad!I488,Logblad!J488)","v":""},{"$f":"IF(Logblad!$AL488>\" \",(COUNTIF(Logblad!$AL$13:$AL488,Logblad!$AL488)>1),\" \")","v":" "},{"$f":"IF(B488=TRUE,Logblad!AL488,\" \")","v":" "},{"$f":"IF(B488=TRUE,Logblad!O488,\" \")","v":" "},{"$f":"IF(B488=TRUE,Logblad!M488,\" \")","v":" "}]
[{"$f":"CONCATENATE(Logblad!B489,Logblad!I489,Logblad!J489)","v":""},{"$f":"IF(Logblad!$AL489>\" \",(COUNTIF(Logblad!$AL$13:$AL489,Logblad!$AL489)>1),\" \")","v":" "},{"$f":"IF(B489=TRUE,Logblad!AL489,\" \")","v":" "},{"$f":"IF(B489=TRUE,Logblad!O489,\" \")","v":" "},{"$f":"IF(B489=TRUE,Logblad!M489,\" \")","v":" "}]
[{"$f":"CONCATENATE(Logblad!B490,Logblad!I490,Logblad!J490)","v":""},{"$f":"IF(Logblad!$AL490>\" \",(COUNTIF(Logblad!$AL$13:$AL490,Logblad!$AL490)>1),\" \")","v":" "},{"$f":"IF(B490=TRUE,Logblad!AL490,\" \")","v":" "},{"$f":"IF(B490=TRUE,Logblad!O490,\" \")","v":" "},{"$f":"IF(B490=TRUE,Logblad!M490,\" \")","v":" "}]
[{"$f":"CONCATENATE(Logblad!B491,Logblad!I491,Logblad!J491)","v":""},{"$f":"IF(Logblad!$AL491>\" \",(COUNTIF(Logblad!$AL$13:$AL491,Logblad!$AL491)>1),\" \")","v":" "},{"$f":"IF(B491=TRUE,Logblad!AL491,\" \")","v":" "},{"$f":"IF(B491=TRUE,Logblad!O491,\" \")","v":" "},{"$f":"IF(B491=TRUE,Logblad!M491,\" \")","v":" "}]
[{"$f":"CONCATENATE(Logblad!B492,Logblad!I492,Logblad!J492)","v":""},{"$f":"IF(Logblad!$AL492>\" \",(COUNTIF(Logblad!$AL$13:$AL492,Logblad!$AL492)>1),\" \")","v":" "},{"$f":"IF(B492=TRUE,Logblad!AL492,\" \")","v":" "},{"$f":"IF(B492=TRUE,Logblad!O492,\" \")","v":" "},{"$f":"IF(B492=TRUE,Logblad!M492,\" \")","v":" "}]
[{"$f":"CONCATENATE(Logblad!B493,Logblad!I493,Logblad!J493)","v":""},{"$f":"IF(Logblad!$AL493>\" \",(COUNTIF(Logblad!$AL$13:$AL493,Logblad!$AL493)>1),\" \")","v":" "},{"$f":"IF(B493=TRUE,Logblad!AL493,\" \")","v":" "},{"$f":"IF(B493=TRUE,Logblad!O493,\" \")","v":" "},{"$f":"IF(B493=TRUE,Logblad!M493,\" \")","v":" "}]
[{"$f":"CONCATENATE(Logblad!B494,Logblad!I494,Logblad!J494)","v":""},{"$f":"IF(Logblad!$AL494>\" \",(COUNTIF(Logblad!$AL$13:$AL494,Logblad!$AL494)>1),\" \")","v":" "},{"$f":"IF(B494=TRUE,Logblad!AL494,\" \")","v":" "},{"$f":"IF(B494=TRUE,Logblad!O494,\" \")","v":" "},{"$f":"IF(B494=TRUE,Logblad!M494,\" \")","v":" "}]
[{"$f":"CONCATENATE(Logblad!B495,Logblad!I495,Logblad!J495)","v":""},{"$f":"IF(Logblad!$AL495>\" \",(COUNTIF(Logblad!$AL$13:$AL495,Logblad!$AL495)>1),\" \")","v":" "},{"$f":"IF(B495=TRUE,Logblad!AL495,\" \")","v":" "},{"$f":"IF(B495=TRUE,Logblad!O495,\" \")","v":" "},{"$f":"IF(B495=TRUE,Logblad!M495,\" \")","v":" "}]
[{"$f":"CONCATENATE(Logblad!B496,Logblad!I496,Logblad!J496)","v":""},{"$f":"IF(Logblad!$AL496>\" \",(COUNTIF(Logblad!$AL$13:$AL496,Logblad!$AL496)>1),\" \")","v":" "},{"$f":"IF(B496=TRUE,Logblad!AL496,\" \")","v":" "},{"$f":"IF(B496=TRUE,Logblad!O496,\" \")","v":" "},{"$f":"IF(B496=TRUE,Logblad!M496,\" \")","v":" "}]
[{"$f":"CONCATENATE(Logblad!B497,Logblad!I497,Logblad!J497)","v":""},{"$f":"IF(Logblad!$AL497>\" \",(COUNTIF(Logblad!$AL$13:$AL497,Logblad!$AL497)>1),\" \")","v":" "},{"$f":"IF(B497=TRUE,Logblad!AL497,\" \")","v":" "},{"$f":"IF(B497=TRUE,Logblad!O497,\" \")","v":" "},{"$f":"IF(B497=TRUE,Logblad!M497,\" \")","v":" "}]
[{"$f":"CONCATENATE(Logblad!B498,Logblad!I498,Logblad!J498)","v":""},{"$f":"IF(Logblad!$AL498>\" \",(COUNTIF(Logblad!$AL$13:$AL498,Logblad!$AL498)>1),\" \")","v":" "},{"$f":"IF(B498=TRUE,Logblad!AL498,\" \")","v":" "},{"$f":"IF(B498=TRUE,Logblad!O498,\" \")","v":" "},{"$f":"IF(B498=TRUE,Logblad!M498,\" \")","v":" "}]
[{"$f":"CONCATENATE(Logblad!B499,Logblad!I499,Logblad!J499)","v":""},{"$f":"IF(Logblad!$AL499>\" \",(COUNTIF(Logblad!$AL$13:$AL499,Logblad!$AL499)>1),\" \")","v":" "},{"$f":"IF(B499=TRUE,Logblad!AL499,\" \")","v":" "},{"$f":"IF(B499=TRUE,Logblad!O499,\" \")","v":" "},{"$f":"IF(B499=TRUE,Logblad!M499,\" \")","v":" "}]
[{"$f":"CONCATENATE(Logblad!B500,Logblad!I500,Logblad!J500)","v":""},{"$f":"IF(Logblad!$AL500>\" \",(COUNTIF(Logblad!$AL$13:$AL500,Logblad!$AL500)>1),\" \")","v":" "},{"$f":"IF(B500=TRUE,Logblad!AL500,\" \")","v":" "},{"$f":"IF(B500=TRUE,Logblad!O500,\" \")","v":" "},{"$f":"IF(B500=TRUE,Logblad!M500,\" \")","v":" "}]
[{"$f":"CONCATENATE(Logblad!B501,Logblad!I501,Logblad!J501)","v":""},{"$f":"IF(Logblad!$AL501>\" \",(COUNTIF(Logblad!$AL$13:$AL501,Logblad!$AL501)>1),\" \")","v":" "},{"$f":"IF(B501=TRUE,Logblad!AL501,\" \")","v":" "},{"$f":"IF(B501=TRUE,Logblad!O501,\" \")","v":" "},{"$f":"IF(B501=TRUE,Logblad!M501,\" \")","v":" "}]
[{"$f":"CONCATENATE(Logblad!B502,Logblad!I502,Logblad!J502)","v":""},{"$f":"IF(Logblad!$AL502>\" \",(COUNTIF(Logblad!$AL$13:$AL502,Logblad!$AL502)>1),\" \")","v":" "},{"$f":"IF(B502=TRUE,Logblad!AL502,\" \")","v":" "},{"$f":"IF(B502=TRUE,Logblad!O502,\" \")","v":" "},{"$f":"IF(B502=TRUE,Logblad!M502,\" \")","v":" "}]
[{"$f":"CONCATENATE(Logblad!B503,Logblad!I503,Logblad!J503)","v":""},{"$f":"IF(Logblad!$AL503>\" \",(COUNTIF(Logblad!$AL$13:$AL503,Logblad!$AL503)>1),\" \")","v":" "},{"$f":"IF(B503=TRUE,Logblad!AL503,\" \")","v":" "},{"$f":"IF(B503=TRUE,Logblad!O503,\" \")","v":" "},{"$f":"IF(B503=TRUE,Logblad!M503,\" \")","v":" "}]
[{"$f":"CONCATENATE(Logblad!B504,Logblad!I504,Logblad!J504)","v":""},{"$f":"IF(Logblad!$AL504>\" \",(COUNTIF(Logblad!$AL$13:$AL504,Logblad!$AL504)>1),\" \")","v":" "},{"$f":"IF(B504=TRUE,Logblad!AL504,\" \")","v":" "},{"$f":"IF(B504=TRUE,Logblad!O504,\" \")","v":" "},{"$f":"IF(B504=TRUE,Logblad!M504,\" \")","v":" "}]
[{"$f":"CONCATENATE(Logblad!B505,Logblad!I505,Logblad!J505)","v":""},{"$f":"IF(Logblad!$AL505>\" \",(COUNTIF(Logblad!$AL$13:$AL505,Logblad!$AL505)>1),\" \")","v":" "},{"$f":"IF(B505=TRUE,Logblad!AL505,\" \")","v":" "},{"$f":"IF(B505=TRUE,Logblad!O505,\" \")","v":" "},{"$f":"IF(B505=TRUE,Logblad!M505,\" \")","v":" "}]
[{"$f":"CONCATENATE(Logblad!B506,Logblad!I506,Logblad!J506)","v":""},{"$f":"IF(Logblad!$AL506>\" \",(COUNTIF(Logblad!$AL$13:$AL506,Logblad!$AL506)>1),\" \")","v":" "},{"$f":"IF(B506=TRUE,Logblad!AL506,\" \")","v":" "},{"$f":"IF(B506=TRUE,Logblad!O506,\" \")","v":" "},{"$f":"IF(B506=TRUE,Logblad!M506,\" \")","v":" "}]
[{"$f":"CONCATENATE(Logblad!B507,Logblad!I507,Logblad!J507)","v":""},{"$f":"IF(Logblad!$AL507>\" \",(COUNTIF(Logblad!$AL$13:$AL507,Logblad!$AL507)>1),\" \")","v":" "},{"$f":"IF(B507=TRUE,Logblad!AL507,\" \")","v":" "},{"$f":"IF(B507=TRUE,Logblad!O507,\" \")","v":" "},{"$f":"IF(B507=TRUE,Logblad!M507,\" \")","v":" "}]
[{"$f":"CONCATENATE(Logblad!B508,Logblad!I508,Logblad!J508)","v":""},{"$f":"IF(Logblad!$AL508>\" \",(COUNTIF(Logblad!$AL$13:$AL508,Logblad!$AL508)>1),\" \")","v":" "},{"$f":"IF(B508=TRUE,Logblad!AL508,\" \")","v":" "},{"$f":"IF(B508=TRUE,Logblad!O508,\" \")","v":" "},{"$f":"IF(B508=TRUE,Logblad!M508,\" \")","v":" "}]
[{"$f":"CONCATENATE(Logblad!B509,Logblad!I509,Logblad!J509)","v":""},{"$f":"IF(Logblad!$AL509>\" \",(COUNTIF(Logblad!$AL$13:$AL509,Logblad!$AL509)>1),\" \")","v":" "},{"$f":"IF(B509=TRUE,Logblad!AL509,\" \")","v":" "},{"$f":"IF(B509=TRUE,Logblad!O509,\" \")","v":" "},{"$f":"IF(B509=TRUE,Logblad!M509,\" \")","v":" "}]
[{"$f":"CONCATENATE(Logblad!B510,Logblad!I510,Logblad!J510)","v":""},{"$f":"IF(Logblad!$AL510>\" \",(COUNTIF(Logblad!$AL$13:$AL510,Logblad!$AL510)>1),\" \")","v":" "},{"$f":"IF(B510=TRUE,Logblad!AL510,\" \")","v":" "},{"$f":"IF(B510=TRUE,Logblad!O510,\" \")","v":" "},{"$f":"IF(B510=TRUE,Logblad!M510,\" \")","v":" "}]
[{"$f":"CONCATENATE(Logblad!B511,Logblad!I511,Logblad!J511)","v":""},{"$f":"IF(Logblad!$AL511>\" \",(COUNTIF(Logblad!$AL$13:$AL511,Logblad!$AL511)>1),\" \")","v":" "},{"$f":"IF(B511=TRUE,Logblad!AL511,\" \")","v":" "},{"$f":"IF(B511=TRUE,Logblad!O511,\" \")","v":" "},{"$f":"IF(B511=TRUE,Logblad!M511,\" \")","v":" "}]
[{"$f":"CONCATENATE(Logblad!B512,Logblad!I512,Logblad!J512)","v":""},{"$f":"IF(Logblad!$AL512>\" \",(COUNTIF(Logblad!$AL$13:$AL512,Logblad!$AL512)>1),\" \")","v":" "},{"$f":"IF(B512=TRUE,Logblad!AL512,\" \")","v":" "},{"$f":"IF(B512=TRUE,Logblad!O512,\" \")","v":" "},{"$f":"IF(B512=TRUE,Logblad!M512,\" \")","v":" "}]
[null,{"$f":"COUNTIF(B13:B512,\"waar\")","v":0},null,{"$f":"SUM(D13:D512)","v":0},{"$f":"SUM(E13:E512)","v":0}]

{"sheet":"Punten","index":4,"n_rows":109,"n_cols":5,"rows_kept":109,"cut":false,"hidden":true,"merged":[[0,1,0,4]]}
[null,"PUNTEN"]
[null,"Afkorting","Punten",null,"Vereniging"]
[null,"ARAC",2,null,"VRA"]
[null,"BELL",2,null,"VRA"]
[null,"BRAL",2,null,"VRA"]
[null,"DARU",1,null,"DARU"]
[null,"FOTA",2,null,"VRA"]
[null,"GTKZ",2,null,"VRA"]
[null,"HOBR",2,null,"VRA"]
[null,"LARA",2,null,"VRA"]
[null,"LIER",2,null,"VRA"]
[null,"MERA",2,null,"VRA"]
[null,"NLBR",2,null,"VRA"]
[null,"OBRA",2,null,"VRA"]
[null,"PRAC",2,null,"VRA"]
[null,"RACO",2,null,"VRA"]
[null,"UBAS",2,null,"UFRC"]
[null,"UBIN",2,null,"UFRC"]
[null,"UBOR",2,null,"UFRC"]
[null,"UCON",2,null,"UFRC"]
[null,"UFRC",2,null,"UFRC"]
[null,"URAN",2,null,"UFRC"]
[null,"UTOU",2,null,"UFRC"]
[null,"VERON",1,null,"VERON"]
[null,"VRA",4,null,"VRA"]
[null,"VRZA",2,null,"VRZA"]
[null,"XAAA",1,null,"UBA"]
[null,"XACC",1,null,"UBA"]
[null,"XALT",1,null,"UBA"]
[null,"XARA",1,null,"UBA"]
[null,"XARC",1,null,"UBA"]
[null,"XATH",1,null,"UBA"]
[null,"XATO",1,null,"UBA"]
[null,"XBDX",1,null,"UBA"]
[null,"XBLW",1,null,"UBA"]
[null,"XBRC",1,null,"UBA"]
[null,"XBSE",1,null,"UBA"]
[null,"XBTS",1,null,"UBA"]
[null,"XBXE",1,null,"UBA"]
[null,"XCDZ",1,null,"UBA"]
[null,"XCLR",1,null,"UBA"]
[null,"XCPN",1,null,"UBA"]
[null,"XCRD",1,null,"UBA"]
[null,"XDNZ",1,null,"UBA"]
[null,"XDRC",1,null,"UBA"]
[null,"XDST",1,null,"UBA"]
[null,"XEKO",1,null,"UBA"]
[null,"XERA",1,null,"UBA"]
[null,"XGBN",1,null,"UBA"]
[null,"XGBX",1,null,"UBA"]
[null,"XGDV",1,null,"UBA"]
[null,"XGNT",1,null,"UBA"]
[null,"XGTM",1,null,"UBA"]
[null,"XHAC",1,null,"UBA"]
[null,"XHCC",1,null,"UBA"]
[null,"XHOB",1,null,"UBA"]
[null,"XHRT",1,null,"UBA"]
[null,"XIPR",1,null,"UBA"]
[null,"XKSD",1,null,"UBA"]
[null,"XKTK",1,null,"UBA"]
[null,"XLGE",1,null,"UBA"]
[null,"XLIR",1,null,"UBA"]
[null,"XLLV",1,null,"UBA"]
[null,"XLUS",1,null,"UBA"]
[null,"XLVN",1,null,"UBA"]
[null,"XMCL",1,null,"UBA"]
[null,"XMLB",1,null,"UBA"]
[null,"XMNS",1,null,"UBA"]
[null,"XMTT",1,null,"UBA"]
[null,"XMWV",1,null,"UBA"]
[null,"XNBT",1,null,"UBA"]
[null,"XNLB",1,null,"UBA"]
[null,"XNMR",1,null,"UBA"]
[null,"XNNV",1,null,"UBA"]
[null,"XNOK",1,null,"UBA"]
[null,"XNOL",1,null,"UBA"]
[null,"XODE",1,null,"UBA"]
[null,"XONZ",1,null,"UBA"]
[null,"XORA",1,null,"UBA"]
[null,"XOSA",1,null,"UBA"]
[null,"XOSB",1,null,"UBA"]
[null,"XOST",1,null,"UBA"]
[null,"XPHI",1,null,"UBA"]
[null,"XRAF",1,null,"UBA"]
[null,"XRAM",1,null,"UBA"]
[null,"XRAT",1,null,"UBA"]
[null,"XRBO",1,null,"UBA"]
[null,"XRCA",1,null,"UBA"]
[null,"XRCN",1,null,"UBA"]
[null,"XREM",1,null,"UBA"]
[null,"XRST",1,null,"UBA"]
[null,"XRSX",1,null,"UBA"]
[null,"XSNW",1,null,"UBA"]
[null,"XTLS",1,null,"UBA"]
[null,"XTRA",1,null,"UBA"]
[null,"XTRC",1,null,"UBA"]
[null,"XTWS",1,null,"UBA"]
[null,"XVHF",1,null,"UBA"]
[null,"XWLD",1,null,"UBA"]
[null,"XWRA",1,null,"UBA"]
[null,"XWRC",1,null,"UBA"]
[null,"XWTN",1,null,"UBA"]
[null,"XWTO",1,null,"UBA"]
[null,"XXXX",1,null,"XXXX"]
[null,"XZLB",1,null,"UBA"]
[null,"XZLZ",1,null,"UBA"]
[null,"XZOV",1,null,"UBA"]
[null,"XZTM",1,null,"UBA"]
[null,"ZWVR",2,null,"VRA"]